{"text_format":"1","workbook":"xlsx","n_sheets":4,"sheets":["①データ登録","手動　昇順・降順","自動タイマー","手動　ランダム表示"],"not_rendered":{"charts":0,"images":0,"macros":1,"external_links":0,"defined_names":0,"comments":1,"pivot_tables":0},"unopened":[],"bounds":{"document_bytes":16777216,"sheet_cells":100000,"rows_first":2000,"rows_last":500,"rows_between":2000,"halvings":0,"cell_chars":16384,"cell_head_chars":4096},"cells_cut":0,"cells_raw":0,"read":"whole","date_system":"1900"}

{"sheet":"①データ登録","index":0,"n_rows":1005,"n_cols":3,"rows_kept":1005,"cut":false,"hidden":false,"merged":[[0,0,0,2]]}
["B列とC列にデータを入力するか、貼り付けてください。B列はカードの表、C列はカードの裏という感じに作成して下さい。"]
["番号","表","うら"]
[{"$f":"IF(B3=\"\",\"\",ROW()-2)","v":1},"information","情報"]
[{"$f":"IF(B4=\"\",\"\",ROW()-2)","v":2},"interesting","おもしろい"]
[3,"I think I can do something for others.","私もほかの人のために何かできると思うのよ。"]
[4,"understand","理解する"]
[5,"begin began （　　　　　　） beginning","はじめるの活用　begin began begun beginning"]
[6,"アウストラロピテクス","約400万年前に南アフリカに現れた人類"]
[7,"アウストラロピテクス・ジャワ原人・ペキン原人・クロマニョン人らがいた時代は？","旧石器時代"]
[8,"人類が他の動物と大きく違く点を4つ答えなさい。","①直立歩行する　②道具を使う　③火を使う　④言葉を使う"]
[9,"墾田永年私財法","奈良時代中期の聖武天皇の治世に、天平15年5月27日（743年6月23日）に発布された天皇の名による命令で、自分で新しく開墾した耕地の永年私財化を認める法令である。"]
[""]
[""]
[""]
[""]
[""]
[""]
[""]
[""]
[""]
[""]
[""]
[""]
[""]
[""]
[""]
[""]
[""]
[""]
[""]
[""]
[""]
[""]
[""]
[""]
[""]
[""]
[""]
[""]
[""]
[""]
[""]
[""]
[""]
[""]
[""]
[""]
[""]
[""]
[""]
[""]
[""]
[""]
[""]
[""]
[""]
[""]
[""]
[""]
[""]
[""]
[""]
[""]
[""]
[""]
[""]
[""]
[{"$f":"IF(B68=\"\",\"\",ROW()-2)","v":""}]
[""]
[""]
[""]
[""]
[""]
[""]
[""]
[""]
[""]
[""]
[""]
[""]
[""]
[""]
[""]
[""]
[""]
[""]
[""]
[""]
[""]
[""]
[""]
[""]
[""]
[""]
[""]
[""]
[""]
[""]
[""]
[""]
[""]
[""]
[""]
[""]
[""]
[""]
[""]
[""]
[""]
[""]
[""]
[""]
[""]
[""]
[""]
[""]
[""]
[""]
[""]
[""]
[""]
[""]
[""]
[""]
[""]
[""]
[""]
[""]
[""]
[""]
[""]
[{"$f":"IF(B132=\"\",\"\",ROW()-2)","v":""}]
[""]
[""]
[""]
[""]
[""]
[""]
[""]
[""]
[""]
[""]
[""]
[""]
[""]
[""]
[""]
[""]
[""]
[""]
[""]
[""]
[""]
[""]
[""]
[""]
[""]
[""]
[""]
[""]
[""]
[""]
[""]
[""]
[""]
[""]
[""]
[""]
[""]
[""]
[""]
[""]
[""]
[""]
[""]
[""]
[""]
[""]
[""]
[""]
[""]
[""]
[""]
[""]
[""]
[""]
[""]
[""]
[""]
[""]
[""]
[""]
[""]
[""]
[""]
[{"$f":"IF(B196=\"\",\"\",ROW()-2)","v":""}]
[""]
[""]
[""]
[""]
[""]
[""]
[""]
[""]
[""]
[""]
[""]
[""]
[""]
[""]
[""]
[""]
[""]
[""]
[""]
[""]
[""]
[""]
[""]
[""]
[""]
[""]
[""]
[""]
[""]
[""]
[""]
[""]
[""]
[""]
[""]
[""]
[""]
[""]
[""]
[""]
[""]
[""]
[""]
[""]
[""]
[""]
[""]
[""]
[""]
[""]
[""]
[""]
[""]
[""]
[""]
[""]
[""]
[""]
[""]
[""]
[""]
[""]
[""]
[{"$f":"IF(B260=\"\",\"\",ROW()-2)","v":""}]
[""]
[""]
[""]
[""]
[""]
[""]
[""]
[""]
[""]
[""]
[""]
[""]
[""]
[""]
[""]
[""]
[""]
[""]
[""]
[""]
[""]
[""]
[""]
[""]
[""]
[""]
[""]
[""]
[""]
[""]
[""]
[""]
[""]
[""]
[""]
[""]
[""]
[""]
[""]
[""]
[""]
[""]
[""]
[""]
[""]
[""]
[""]
[""]
[""]
[""]
[""]
[""]
[""]
[""]
[""]
[""]
[""]
[""]
[""]
[""]
[""]
[""]
[""]
[{"$f":"IF(B324=\"\",\"\",ROW()-2)","v":""}]
[""]
[""]
[""]
[""]
[""]
[""]
[""]
[""]
[""]
[""]
[""]
[""]
[""]
[""]
[""]
[""]
[""]
[""]
[""]
[""]
[""]
[""]
[""]
[""]
[""]
[""]
[""]
[""]
[""]
[""]
[""]
[""]
[""]
[""]
[""]
[""]
[""]
[""]
[""]
[""]
[""]
[""]
[""]
[""]
[""]
[""]
[""]
[""]
[""]
[""]
[""]
[""]
[""]
[""]
[""]
[""]
[""]
[""]
[""]
[""]
[""]
[""]
[""]
[{"$f":"IF(B388=\"\",\"\",ROW()-2)","v":""}]
[""]
[""]
[""]
[""]
[""]
[""]
[""]
[""]
[""]
[""]
[""]
[""]
[""]
[""]
[""]
[""]
[""]
[""]
[""]
[""]
[""]
[""]
[""]
[""]
[""]
[""]
[""]
[""]
[""]
[""]
[""]
[""]
[""]
[""]
[""]
[""]
[""]
[""]
[""]
[""]
[""]
[""]
[""]
[""]
[""]
[""]
[""]
[""]
[""]
[""]
[""]
[""]
[""]
[""]
[""]
[""]
[""]
[""]
[""]
[""]
[""]
[""]
[""]
[{"$f":"IF(B452=\"\",\"\",ROW()-2)","v":""}]
[""]
[""]
[""]
[""]
[""]
[""]
[""]
[""]
[""]
[""]
[""]
[""]
[""]
[""]
[""]
[""]
[""]
[""]
[""]
[""]
[""]
[""]
[""]
[""]
[""]
[""]
[""]
[""]
[""]
[""]
[""]
[""]
[""]
[""]
[""]
[""]
[""]
[""]
[""]
[""]
[""]
[""]
[""]
[""]
[""]
[""]
[""]
[""]
[""]
[""]
[""]
[""]
[""]
[""]
[""]
[""]
[""]
[""]
[""]
[""]
[""]
[""]
[""]
[{"$f":"IF(B516=\"\",\"\",ROW()-2)","v":""}]
[""]
[""]
[""]
[""]
[""]
[""]
[""]
[""]
[""]
[""]
[""]
[""]
[""]
[""]
[""]
[""]
[""]
[""]
[""]
[""]
[""]
[""]
[""]
[""]
[""]
[""]
[""]
[""]
[""]
[""]
[""]
[""]
[""]
[""]
[""]
[""]
[""]
[""]
[""]
[""]
[""]
[""]
[""]
[""]
[""]
[""]
[""]
[""]
[""]
[""]
[""]
[""]
[""]
[""]
[""]
[""]
[""]
[""]
[""]
[""]
[""]
[""]
[""]
[{"$f":"IF(B580=\"\",\"\",ROW()-2)","v":""}]
[""]
[""]
[""]
[""]
[""]
[""]
[""]
[""]
[""]
[""]
[""]
[""]
[""]
[""]
[""]
[""]
[""]
[""]
[""]
[""]
[""]
[""]
[""]
[""]
[""]
[""]
[""]
[""]
[""]
[""]
[""]
[""]
[""]
[""]
[""]
[""]
[""]
[""]
[""]
[""]
[""]
[""]
[""]
[""]
[""]
[""]
[""]
[""]
[""]
[""]
[""]
[""]
[""]
[""]
[""]
[""]
[""]
[""]
[""]
[""]
[""]
[""]
[""]
[{"$f":"IF(B644=\"\",\"\",ROW()-2)","v":""}]
[""]
[""]
[""]
[""]
[""]
[""]
[""]
[""]
[""]
[""]
[""]
[""]
[""]
[""]
[""]
[""]
[""]
[""]
[""]
[""]
[""]
[""]
[""]
[""]
[""]
[""]
[""]
[""]
[""]
[""]
[""]
[""]
[""]
[""]
[""]
[""]
[""]
[""]
[""]
[""]
[""]
[""]
[""]
[""]
[""]
[""]
[""]
[""]
[""]
[""]
[""]
[""]
[""]
[""]
[""]
[""]
[""]
[""]
[""]
[""]
[""]
[""]
[""]
[{"$f":"IF(B708=\"\",\"\",ROW()-2)","v":""}]
[""]
[""]
[""]
[""]
[""]
[""]
[""]
[""]
[""]
[""]
[""]
[""]
[""]
[""]
[""]
[""]
[""]
[""]
[""]
[""]
[""]
[""]
[""]
[""]
[""]
[""]
[""]
[""]
[""]
[""]
[""]
[""]
[""]
[""]
[""]
[""]
[""]
[""]
[""]
[""]
[""]
[""]
[""]
[""]
[""]
[""]
[""]
[""]
[""]
[""]
[""]
[""]
[""]
[""]
[""]
[""]
[""]
[""]
[""]
[""]
[""]
[""]
[""]
[{"$f":"IF(B772=\"\",\"\",ROW()-2)","v":""}]
[""]
[""]
[""]
[""]
[""]
[""]
[""]
[""]
[""]
[""]
[""]
[""]
[""]
[""]
[""]
[""]
[""]
[""]
[""]
[""]
[""]
[""]
[""]
[""]
[""]
[""]
[""]
[""]
[""]
[""]
[""]
[""]
[""]
[""]
[""]
[""]
[""]
[""]
[""]
[""]
[""]
[""]
[""]
[""]
[""]
[""]
[""]
[""]
[""]
[""]
[""]
[""]
[""]
[""]
[""]
[""]
[""]
[""]
[""]
[""]
[""]
[""]
[""]
[{"$f":"IF(B836=\"\",\"\",ROW()-2)","v":""}]
[""]
[""]
[""]
[""]
[""]
[""]
[""]
[""]
[""]
[""]
[""]
[""]
[""]
[""]
[""]
[""]
[""]
[""]
[""]
[""]
[""]
[""]
[""]
[""]
[""]
[""]
[""]
[""]
[""]
[""]
[""]
[""]
[""]
[""]
[""]
[""]
[""]
[""]
[""]
[""]
[""]
[""]
[""]
[""]
[""]
[""]
[""]
[""]
[""]
[""]
[""]
[""]
[""]
[""]
[""]
[""]
[""]
[""]
[""]
[""]
[""]
[""]
[""]
[{"$f":"IF(B900=\"\",\"\",ROW()-2)","v":""}]
[""]
[""]
[""]
[""]
[""]
[""]
[""]
[""]
[""]
[""]
[""]
[""]
[""]
[""]
[""]
[""]
[""]
[""]
[""]
[""]
[""]
[""]
[""]
[""]
[""]
[""]
[""]
[""]
[""]
[""]
[""]
[""]
[""]
[""]
[""]
[""]
[""]
[""]
[""]
[""]
[""]
[""]
[""]
[""]
[""]
[""]
[""]
[""]
[""]
[""]
[""]
[""]
[""]
[""]
[""]
[""]
[""]
[""]
[""]
[""]
[""]
[""]
[""]
[{"$f":"IF(B964=\"\",\"\",ROW()-2)","v":""}]
[""]
[""]
[""]
[""]
[""]
[""]
[""]
[""]
[""]
[""]
[""]
[""]
[""]
[""]
[""]
[""]
[""]
[""]
[""]
[""]
[""]
[""]
[""]
[""]
[""]
[""]
[""]
[""]
[""]
[""]
[""]
[""]
[""]
[""]
[""]
[""]
[""]
[""]
[""]
[""]
[""]

{"sheet":"手動　昇順・降順","index":1,"n_rows":1009,"n_cols":15,"rows_kept":1009,"cut":false,"hidden":false,"merged":[[28,0,53,9],[0,0,25,9],[32,11,33,11],[7,11,10,11],[4,10,5,10],[4,11,5,11],[32,10,33,10],[21,10,23,11],[16,10,19,11]]}
[{"$f":"VLOOKUP(K5,M2:O1001,2)","v":"墾田永年私財法"},null,null,null,null,null,null,null,null,null,"番号",null,"番号","表","うら"]
[null,null,null,null,null,null,null,null,null,null,1,"から",{"$f":"IF(①データ登録!A3=\"\",\"\",①データ登録!A3)","v":1},{"$f":"IF(①データ登録!B3=\"\",\"\",①データ登録!B3)","v":"information"},{"$f":"IF(①データ登録!C3=\"\",\"\",①データ登録!C3)","v":"情報"}]
[null,null,null,null,null,null,null,null,null,null,10,"まで",{"$f":"IF(①データ登録!A4=\"\",\"\",①データ登録!A4)","v":2},{"$f":"IF(①データ登録!B4=\"\",\"\",①データ登録!B4)","v":"interesting"},{"$f":"IF(①データ登録!C4=\"\",\"\",①データ登録!C4)","v":"おもしろい"}]
[null,null,null,null,null,null,null,null,null,null,null,null,{"$f":"IF(①データ登録!A5=\"\",\"\",①データ登録!A5)","v":3},{"$f":"IF(①データ登録!B5=\"\",\"\",①データ登録!B5)","v":"I think I can do something for others."},{"$f":"IF(①データ登録!C5=\"\",\"\",①データ登録!C5)","v":"私もほかの人のために何かできると思うのよ。"}]
[null,null,null,null,null,null,null,null,null,null,{"$f":"IF(AND(K2<=L5,L5<=K3),L5,\"\")","v":9},9,{"$f":"IF(①データ登録!A6=\"\",\"\",①データ登録!A6)","v":4},{"$f":"IF(①データ登録!B6=\"\",\"\",①データ登録!B6)","v":"understand"},{"$f":"IF(①データ登録!C6=\"\",\"\",①データ登録!C6)","v":"理解する"}]
[null,null,null,null,null,null,null,null,null,null,null,null,{"$f":"IF(①データ登録!A7=\"\",\"\",①データ登録!A7)","v":5},{"$f":"IF(①データ登録!B7=\"\",\"\",①データ登録!B7)","v":"begin began （　　　　　　） beginning"},{"$f":"IF(①データ登録!C7=\"\",\"\",①データ登録!C7)","v":"はじめるの活用　begin began begun beginning"}]
[null,null,null,null,null,null,null,null,null,null,null,null,{"$f":"IF(①データ登録!A8=\"\",\"\",①データ登録!A8)","v":6},{"$f":"IF(①データ登録!B8=\"\",\"\",①データ登録!B8)","v":"アウストラロピテクス"},{"$f":"IF(①データ登録!C8=\"\",\"\",①データ登録!C8)","v":"約400万年前に南アフリカに現れた人類"}]
[null,null,null,null,null,null,null,null,null,null,null,null,{"$f":"IF(①データ登録!A9=\"\",\"\",①データ登録!A9)","v":7},{"$f":"IF(①データ登録!B9=\"\",\"\",①データ登録!B9)","v":"アウストラロピテクス・ジャワ原人・ペキン原人・クロマニョン人らがいた時代は？"},{"$f":"IF(①データ登録!C9=\"\",\"\",①データ登録!C9)","v":"旧石器時代"}]
[null,null,null,null,null,null,null,null,null,null,null,null,{"$f":"IF(①データ登録!A10=\"\",\"\",①データ登録!A10)","v":8},{"$f":"IF(①データ登録!B10=\"\",\"\",①データ登録!B10)","v":"人類が他の動物と大きく違く点を4つ答えなさい。"},{"$f":"IF(①データ登録!C10=\"\",\"\",①データ登録!C10)","v":"①直立歩行する　②道具を使う　③火を使う　④言葉を使う"}]
[null,null,null,null,null,null,null,null,null,null,null,null,{"$f":"IF(①データ登録!A11=\"\",\"\",①データ登録!A11)","v":9},{"$f":"IF(①データ登録!B11=\"\",\"\",①データ登録!B11)","v":"墾田永年私財法"},{"$f":"IF(①データ登録!C11=\"\",\"\",①データ登録!C11)","v":"奈良時代中期の聖武天皇の治世に、天平15年5月27日（743年6月23日）に発布された天皇の名による命令で、自分で新しく開墾した耕地の永年私財化を認める法令である。"}]
[null,null,null,null,null,null,null,null,null,null,null,null,{"$f":"IF(①データ登録!A12=\"\",\"\",①データ登録!A12)","v":""},{"$f":"IF(①データ登録!B12=\"\",\"\",①データ登録!B12)","v":""},{"$f":"IF(①データ登録!C12=\"\",\"\",①データ登録!C12)","v":""}]
[null,null,null,null,null,null,null,null,null,null,null,null,{"$f":"IF(①データ登録!A13=\"\",\"\",①データ登録!A13)","v":""},{"$f":"IF(①データ登録!B13=\"\",\"\",①データ登録!B13)","v":""},{"$f":"IF(①データ登録!C13=\"\",\"\",①データ登録!C13)","v":""}]
[null,null,null,null,null,null,null,null,null,null,null,null,{"$f":"IF(①データ登録!A14=\"\",\"\",①データ登録!A14)","v":""},{"$f":"IF(①データ登録!B14=\"\",\"\",①データ登録!B14)","v":""},{"$f":"IF(①データ登録!C14=\"\",\"\",①データ登録!C14)","v":""}]
[null,null,null,null,null,null,null,null,null,null,null,null,{"$f":"IF(①データ登録!A15=\"\",\"\",①データ登録!A15)","v":""},{"$f":"IF(①データ登録!B15=\"\",\"\",①データ登録!B15)","v":""},{"$f":"IF(①データ登録!C15=\"\",\"\",①データ登録!C15)","v":""}]
[null,null,null,null,null,null,null,null,null,null,null,null,{"$f":"IF(①データ登録!A16=\"\",\"\",①データ登録!A16)","v":""},{"$f":"IF(①データ登録!B16=\"\",\"\",①データ登録!B16)","v":""},{"$f":"IF(①データ登録!C16=\"\",\"\",①データ登録!C16)","v":""}]
[null,null,null,null,null,null,null,null,null,null,null,null,{"$f":"IF(①データ登録!A17=\"\",\"\",①データ登録!A17)","v":""},{"$f":"IF(①データ登録!B17=\"\",\"\",①データ登録!B17)","v":""},{"$f":"IF(①データ登録!C17=\"\",\"\",①データ登録!C17)","v":""}]
[null,null,null,null,null,null,null,null,null,null,"Alt→W→E で全画面表示",null,{"$f":"IF(①データ登録!A18=\"\",\"\",①データ登録!A18)","v":""},{"$f":"IF(①データ登録!B18=\"\",\"\",①データ登録!B18)","v":""},{"$f":"IF(①データ登録!C18=\"\",\"\",①データ登録!C18)","v":""}]
[null,null,null,null,null,null,null,null,null,null,null,null,{"$f":"IF(①データ登録!A19=\"\",\"\",①データ登録!A19)","v":""},{"$f":"IF(①データ登録!B19=\"\",\"\",①データ登録!B19)","v":""},{"$f":"IF(①データ登録!C19=\"\",\"\",①データ登録!C19)","v":""}]
[null,null,null,null,null,null,null,null,null,null,null,null,{"$f":"IF(①データ登録!A20=\"\",\"\",①データ登録!A20)","v":""},{"$f":"IF(①データ登録!B20=\"\",\"\",①データ登録!B20)","v":""},{"$f":"IF(①データ登録!C20=\"\",\"\",①データ登録!C20)","v":""}]
[null,null,null,null,null,null,null,null,null,null,null,null,{"$f":"IF(①データ登録!A21=\"\",\"\",①データ登録!A21)","v":""},{"$f":"IF(①データ登録!B21=\"\",\"\",①データ登録!B21)","v":""},{"$f":"IF(①データ登録!C21=\"\",\"\",①データ登録!C21)","v":""}]
[null,null,null,null,null,null,null,null,null,null,null,null,{"$f":"IF(①データ登録!A22=\"\",\"\",①データ登録!A22)","v":""},{"$f":"IF(①データ登録!B22=\"\",\"\",①データ登録!B22)","v":""},{"$f":"IF(①データ登録!C22=\"\",\"\",①データ登録!C22)","v":""}]
[null,null,null,null,null,null,null,null,null,null,"Esc　で標準表示",null,{"$f":"IF(①データ登録!A23=\"\",\"\",①データ登録!A23)","v":""},{"$f":"IF(①データ登録!B23=\"\",\"\",①データ登録!B23)","v":""},{"$f":"IF(①データ登録!C23=\"\",\"\",①データ登録!C23)","v":""}]
[null,null,null,null,null,null,null,null,null,null,null,null,{"$f":"IF(①データ登録!A24=\"\",\"\",①データ登録!A24)","v":""},{"$f":"IF(①データ登録!B24=\"\",\"\",①データ登録!B24)","v":""},{"$f":"IF(①データ登録!C24=\"\",\"\",①データ登録!C24)","v":""}]
[null,null,null,null,null,null,null,null,null,null,null,null,{"$f":"IF(①データ登録!A25=\"\",\"\",①データ登録!A25)","v":""},{"$f":"IF(①データ登録!B25=\"\",\"\",①データ登録!B25)","v":""},{"$f":"IF(①データ登録!C25=\"\",\"\",①データ登録!C25)","v":""}]
[null,null,null,null,null,null,null,null,null,null,null,null,{"$f":"IF(①データ登録!A26=\"\",\"\",①データ登録!A26)","v":""},{"$f":"IF(①データ登録!B26=\"\",\"\",①データ登録!B26)","v":""},{"$f":"IF(①データ登録!C26=\"\",\"\",①データ登録!C26)","v":""}]
[null,null,null,null,null,null,null,null,null,null,null,null,{"$f":"IF(①データ登録!A27=\"\",\"\",①データ登録!A27)","v":""},{"$f":"IF(①データ登録!B27=\"\",\"\",①データ登録!B27)","v":""},{"$f":"IF(①データ登録!C27=\"\",\"\",①データ登録!C27)","v":""}]
[null,null,null,null,null,null,null,null,null,null,null,null,{"$f":"IF(①データ登録!A28=\"\",\"\",①データ登録!A28)","v":""},{"$f":"IF(①データ登録!B28=\"\",\"\",①データ登録!B28)","v":""},{"$f":"IF(①データ登録!C28=\"\",\"\",①データ登録!C28)","v":""}]
[null,null,null,null,null,null,null,null,null,null,null,null,{"$f":"IF(①データ登録!A29=\"\",\"\",①データ登録!A29)","v":""},{"$f":"IF(①データ登録!B29=\"\",\"\",①データ登録!B29)","v":""},{"$f":"IF(①データ登録!C29=\"\",\"\",①データ登録!C29)","v":""}]
[{"$f":"VLOOKUP(K5,M2:O1001,3)","v":"奈良時代中期の聖武天皇の治世に、天平15年5月27日（743年6月23日）に発布された天皇の名による命令で、自分で新しく開墾した耕地の永年私財化を認める法令である。"},null,null,null,null,null,null,null,null,null,{"$f":"K1","v":"番号"},null,{"$f":"IF(①データ登録!A30=\"\",\"\",①データ登録!A30)","v":""},{"$f":"IF(①データ登録!B30=\"\",\"\",①データ登録!B30)","v":""},{"$f":"IF(①データ登録!C30=\"\",\"\",①データ登録!C30)","v":""}]
[null,null,null,null,null,null,null,null,null,null,{"$f":"K2","v":1},{"$f":"L2","v":"から"},{"$f":"IF(①データ登録!A31=\"\",\"\",①データ登録!A31)","v":""},{"$f":"IF(①データ登録!B31=\"\",\"\",①データ登録!B31)","v":""},{"$f":"IF(①データ登録!C31=\"\",\"\",①データ登録!C31)","v":""}]
[null,null,null,null,null,null,null,null,null,null,{"$f":"K3","v":10},{"$f":"L3","v":"まで"},{"$f":"IF(①データ登録!A32=\"\",\"\",①データ登録!A32)","v":""},{"$f":"IF(①データ登録!B32=\"\",\"\",①データ登録!B32)","v":""},{"$f":"IF(①データ登録!C32=\"\",\"\",①データ登録!C32)","v":""}]
[null,null,null,null,null,null,null,null,null,null,null,null,{"$f":"IF(①データ登録!A33=\"\",\"\",①データ登録!A33)","v":""},{"$f":"IF(①データ登録!B33=\"\",\"\",①データ登録!B33)","v":""},{"$f":"IF(①データ登録!C33=\"\",\"\",①データ登録!C33)","v":""}]
[null,null,null,null,null,null,null,null,null,null,{"$f":"K5","v":9},{"$f":"L5","v":9},{"$f":"IF(①データ登録!A34=\"\",\"\",①データ登録!A34)","v":""},{"$f":"IF(①データ登録!B34=\"\",\"\",①データ登録!B34)","v":""},{"$f":"IF(①データ登録!C34=\"\",\"\",①データ登録!C34)","v":""}]
[null,null,null,null,null,null,null,null,null,null,null,null,{"$f":"IF(①データ登録!A35=\"\",\"\",①データ登録!A35)","v":""},{"$f":"IF(①データ登録!B35=\"\",\"\",①データ登録!B35)","v":""},{"$f":"IF(①データ登録!C35=\"\",\"\",①データ登録!C35)","v":""}]
[null,null,null,null,null,null,null,null,null,null,null,null,{"$f":"IF(①データ登録!A36=\"\",\"\",①データ登録!A36)","v":""},{"$f":"IF(①データ登録!B36=\"\",\"\",①データ登録!B36)","v":""},{"$f":"IF(①データ登録!C36=\"\",\"\",①データ登録!C36)","v":""}]
[null,null,null,null,null,null,null,null,null,null,null,null,{"$f":"IF(①データ登録!A37=\"\",\"\",①データ登録!A37)","v":""},{"$f":"IF(①データ登録!B37=\"\",\"\",①データ登録!B37)","v":""},{"$f":"IF(①データ登録!C37=\"\",\"\",①データ登録!C37)","v":""}]
[null,null,null,null,null,null,null,null,null,null,null,null,{"$f":"IF(①データ登録!A38=\"\",\"\",①データ登録!A38)","v":""},{"$f":"IF(①データ登録!B38=\"\",\"\",①データ登録!B38)","v":""},{"$f":"IF(①データ登録!C38=\"\",\"\",①データ登録!C38)","v":""}]
[null,null,null,null,null,null,null,null,null,null,null,null,{"$f":"IF(①データ登録!A39=\"\",\"\",①データ登録!A39)","v":""},{"$f":"IF(①データ登録!B39=\"\",\"\",①データ登録!B39)","v":""},{"$f":"IF(①データ登録!C39=\"\",\"\",①データ登録!C39)","v":""}]
[null,null,null,null,null,null,null,null,null,null,null,null,{"$f":"IF(①データ登録!A40=\"\",\"\",①データ登録!A40)","v":""},{"$f":"IF(①データ登録!B40=\"\",\"\",①データ登録!B40)","v":""},{"$f":"IF(①データ登録!C40=\"\",\"\",①データ登録!C40)","v":""}]
[null,null,null,null,null,null,null,null,null,null,null,null,{"$f":"IF(①データ登録!A41=\"\",\"\",①データ登録!A41)","v":""},{"$f":"IF(①データ登録!B41=\"\",\"\",①データ登録!B41)","v":""},{"$f":"IF(①データ登録!C41=\"\",\"\",①データ登録!C41)","v":""}]
[null,null,null,null,null,null,null,null,null,null,null,null,{"$f":"IF(①データ登録!A42=\"\",\"\",①データ登録!A42)","v":""},{"$f":"IF(①データ登録!B42=\"\",\"\",①データ登録!B42)","v":""},{"$f":"IF(①データ登録!C42=\"\",\"\",①データ登録!C42)","v":""}]
[null,null,null,null,null,null,null,null,null,null,null,null,{"$f":"IF(①データ登録!A43=\"\",\"\",①データ登録!A43)","v":""},{"$f":"IF(①データ登録!B43=\"\",\"\",①データ登録!B43)","v":""},{"$f":"IF(①データ登録!C43=\"\",\"\",①データ登録!C43)","v":""}]
[null,null,null,null,null,null,null,null,null,null,null,null,{"$f":"IF(①データ登録!A44=\"\",\"\",①データ登録!A44)","v":""},{"$f":"IF(①データ登録!B44=\"\",\"\",①データ登録!B44)","v":""},{"$f":"IF(①データ登録!C44=\"\",\"\",①データ登録!C44)","v":""}]
[null,null,null,null,null,null,null,null,null,null,null,null,{"$f":"IF(①データ登録!A45=\"\",\"\",①データ登録!A45)","v":""},{"$f":"IF(①データ登録!B45=\"\",\"\",①データ登録!B45)","v":""},{"$f":"IF(①データ登録!C45=\"\",\"\",①データ登録!C45)","v":""}]
[null,null,null,null,null,null,null,null,null,null,null,null,{"$f":"IF(①データ登録!A46=\"\",\"\",①データ登録!A46)","v":""},{"$f":"IF(①データ登録!B46=\"\",\"\",①データ登録!B46)","v":""},{"$f":"IF(①データ登録!C46=\"\",\"\",①データ登録!C46)","v":""}]
[null,null,null,null,null,null,null,null,null,null,null,null,{"$f":"IF(①データ登録!A47=\"\",\"\",①データ登録!A47)","v":""},{"$f":"IF(①データ登録!B47=\"\",\"\",①データ登録!B47)","v":""},{"$f":"IF(①データ登録!C47=\"\",\"\",①データ登録!C47)","v":""}]
[null,null,null,null,null,null,null,null,null,null,null,null,{"$f":"IF(①データ登録!A48=\"\",\"\",①データ登録!A48)","v":""},{"$f":"IF(①データ登録!B48=\"\",\"\",①データ登録!B48)","v":""},{"$f":"IF(①データ登録!C48=\"\",\"\",①データ登録!C48)","v":""}]
[null,null,null,null,null,null,null,null,null,null,null,null,{"$f":"IF(①データ登録!A49=\"\",\"\",①データ登録!A49)","v":""},{"$f":"IF(①データ登録!B49=\"\",\"\",①データ登録!B49)","v":""},{"$f":"IF(①データ登録!C49=\"\",\"\",①データ登録!C49)","v":""}]
[null,null,null,null,null,null,null,null,null,null,null,null,{"$f":"IF(①データ登録!A50=\"\",\"\",①データ登録!A50)","v":""},{"$f":"IF(①データ登録!B50=\"\",\"\",①データ登録!B50)","v":""},{"$f":"IF(①データ登録!C50=\"\",\"\",①データ登録!C50)","v":""}]
[null,null,null,null,null,null,null,null,null,null,null,null,{"$f":"IF(①データ登録!A51=\"\",\"\",①データ登録!A51)","v":""},{"$f":"IF(①データ登録!B51=\"\",\"\",①データ登録!B51)","v":""},{"$f":"IF(①データ登録!C51=\"\",\"\",①データ登録!C51)","v":""}]
[null,null,null,null,null,null,null,null,null,null,null,null,{"$f":"IF(①データ登録!A52=\"\",\"\",①データ登録!A52)","v":""},{"$f":"IF(①データ登録!B52=\"\",\"\",①データ登録!B52)","v":""},{"$f":"IF(①データ登録!C52=\"\",\"\",①データ登録!C52)","v":""}]
[null,null,null,null,null,null,null,null,null,null,null,null,{"$f":"IF(①データ登録!A53=\"\",\"\",①データ登録!A53)","v":""},{"$f":"IF(①データ登録!B53=\"\",\"\",①データ登録!B53)","v":""},{"$f":"IF(①データ登録!C53=\"\",\"\",①データ登録!C53)","v":""}]
[null,null,null,null,null,null,null,null,null,null,null,null,{"$f":"IF(①データ登録!A54=\"\",\"\",①データ登録!A54)","v":""},{"$f":"IF(①データ登録!B54=\"\",\"\",①データ登録!B54)","v":""},{"$f":"IF(①データ登録!C54=\"\",\"\",①データ登録!C54)","v":""}]
[null,null,null,null,null,null,null,null,null,null,null,null,{"$f":"IF(①データ登録!A55=\"\",\"\",①データ登録!A55)","v":""},{"$f":"IF(①データ登録!B55=\"\",\"\",①データ登録!B55)","v":""},{"$f":"IF(①データ登録!C55=\"\",\"\",①データ登録!C55)","v":""}]
[null,null,null,null,null,null,null,null,null,null,null,null,{"$f":"IF(①データ登録!A56=\"\",\"\",①データ登録!A56)","v":""},{"$f":"IF(①データ登録!B56=\"\",\"\",①データ登録!B56)","v":""},{"$f":"IF(①データ登録!C56=\"\",\"\",①データ登録!C56)","v":""}]
[null,null,null,null,null,null,null,null,null,null,null,null,{"$f":"IF(①データ登録!A57=\"\",\"\",①データ登録!A57)","v":""},{"$f":"IF(①データ登録!B57=\"\",\"\",①データ登録!B57)","v":""},{"$f":"IF(①データ登録!C57=\"\",\"\",①データ登録!C57)","v":""}]
[null,null,null,null,null,null,null,null,null,null,null,null,{"$f":"IF(①データ登録!A58=\"\",\"\",①データ登録!A58)","v":""},{"$f":"IF(①データ登録!B58=\"\",\"\",①データ登録!B58)","v":""},{"$f":"IF(①データ登録!C58=\"\",\"\",①データ登録!C58)","v":""}]
[null,null,null,null,null,null,null,null,null,null,null,null,{"$f":"IF(①データ登録!A59=\"\",\"\",①データ登録!A59)","v":""},{"$f":"IF(①データ登録!B59=\"\",\"\",①データ登録!B59)","v":""},{"$f":"IF(①データ登録!C59=\"\",\"\",①データ登録!C59)","v":""}]
[null,null,null,null,null,null,null,null,null,null,null,null,{"$f":"IF(①データ登録!A60=\"\",\"\",①データ登録!A60)","v":""},{"$f":"IF(①データ登録!B60=\"\",\"\",①データ登録!B60)","v":""},{"$f":"IF(①データ登録!C60=\"\",\"\",①データ登録!C60)","v":""}]
[null,null,null,null,null,null,null,null,null,null,null,null,{"$f":"IF(①データ登録!A61=\"\",\"\",①データ登録!A61)","v":""},{"$f":"IF(①データ登録!B61=\"\",\"\",①データ登録!B61)","v":""},{"$f":"IF(①データ登録!C61=\"\",\"\",①データ登録!C61)","v":""}]
[null,null,null,null,null,null,null,null,null,null,null,null,{"$f":"IF(①データ登録!A62=\"\",\"\",①データ登録!A62)","v":""},{"$f":"IF(①データ登録!B62=\"\",\"\",①データ登録!B62)","v":""},{"$f":"IF(①データ登録!C62=\"\",\"\",①データ登録!C62)","v":""}]
[null,null,null,null,null,null,null,null,null,null,null,null,{"$f":"IF(①データ登録!A63=\"\",\"\",①データ登録!A63)","v":""},{"$f":"IF(①データ登録!B63=\"\",\"\",①データ登録!B63)","v":""},{"$f":"IF(①データ登録!C63=\"\",\"\",①データ登録!C63)","v":""}]
[null,null,null,null,null,null,null,null,null,null,null,null,{"$f":"IF(①データ登録!A64=\"\",\"\",①データ登録!A64)","v":""},{"$f":"IF(①データ登録!B64=\"\",\"\",①データ登録!B64)","v":""},{"$f":"IF(①データ登録!C64=\"\",\"\",①データ登録!C64)","v":""}]
[null,null,null,null,null,null,null,null,null,null,null,null,{"$f":"IF(①データ登録!A65=\"\",\"\",①データ登録!A65)","v":""},{"$f":"IF(①データ登録!B65=\"\",\"\",①データ登録!B65)","v":""},{"$f":"IF(①データ登録!C65=\"\",\"\",①データ登録!C65)","v":""}]
[null,null,null,null,null,null,null,null,null,null,null,null,{"$f":"IF(①データ登録!A66=\"\",\"\",①データ登録!A66)","v":""},{"$f":"IF(①データ登録!B66=\"\",\"\",①データ登録!B66)","v":""},{"$f":"IF(①データ登録!C66=\"\",\"\",①データ登録!C66)","v":""}]
[null,null,null,null,null,null,null,null,null,null,null,null,{"$f":"IF(①データ登録!A67=\"\",\"\",①データ登録!A67)","v":""},{"$f":"IF(①データ登録!B67=\"\",\"\",①データ登録!B67)","v":""},{"$f":"IF(①データ登録!C67=\"\",\"\",①データ登録!C67)","v":""}]
[null,null,null,null,null,null,null,null,null,null,null,null,{"$f":"IF(①データ登録!A68=\"\",\"\",①データ登録!A68)","v":""},{"$f":"IF(①データ登録!B68=\"\",\"\",①データ登録!B68)","v":""},{"$f":"IF(①データ登録!C68=\"\",\"\",①データ登録!C68)","v":""}]
[null,null,null,null,null,null,null,null,null,null,null,null,{"$f":"IF(①データ登録!A69=\"\",\"\",①データ登録!A69)","v":""},{"$f":"IF(①データ登録!B69=\"\",\"\",①データ登録!B69)","v":""},{"$f":"IF(①データ登録!C69=\"\",\"\",①データ登録!C69)","v":""}]
[null,null,null,null,null,null,null,null,null,null,null,null,{"$f":"IF(①データ登録!A70=\"\",\"\",①データ登録!A70)","v":""},{"$f":"IF(①データ登録!B70=\"\",\"\",①データ登録!B70)","v":""},{"$f":"IF(①データ登録!C70=\"\",\"\",①データ登録!C70)","v":""}]
[null,null,null,null,null,null,null,null,null,null,null,null,{"$f":"IF(①データ登録!A71=\"\",\"\",①データ登録!A71)","v":""},{"$f":"IF(①データ登録!B71=\"\",\"\",①データ登録!B71)","v":""},{"$f":"IF(①データ登録!C71=\"\",\"\",①データ登録!C71)","v":""}]
[null,null,null,null,null,null,null,null,null,null,null,null,{"$f":"IF(①データ登録!A72=\"\",\"\",①データ登録!A72)","v":""},{"$f":"IF(①データ登録!B72=\"\",\"\",①データ登録!B72)","v":""},{"$f":"IF(①データ登録!C72=\"\",\"\",①データ登録!C72)","v":""}]
[null,null,null,null,null,null,null,null,null,null,null,null,{"$f":"IF(①データ登録!A73=\"\",\"\",①データ登録!A73)","v":""},{"$f":"IF(①データ登録!B73=\"\",\"\",①データ登録!B73)","v":""},{"$f":"IF(①データ登録!C73=\"\",\"\",①データ登録!C73)","v":""}]
[null,null,null,null,null,null,null,null,null,null,null,null,{"$f":"IF(①データ登録!A74=\"\",\"\",①データ登録!A74)","v":""},{"$f":"IF(①データ登録!B74=\"\",\"\",①データ登録!B74)","v":""},{"$f":"IF(①データ登録!C74=\"\",\"\",①データ登録!C74)","v":""}]
[null,null,null,null,null,null,null,null,null,null,null,null,{"$f":"IF(①データ登録!A75=\"\",\"\",①データ登録!A75)","v":""},{"$f":"IF(①データ登録!B75=\"\",\"\",①データ登録!B75)","v":""},{"$f":"IF(①データ登録!C75=\"\",\"\",①データ登録!C75)","v":""}]
[null,null,null,null,null,null,null,null,null,null,null,null,{"$f":"IF(①データ登録!A76=\"\",\"\",①データ登録!A76)","v":""},{"$f":"IF(①データ登録!B76=\"\",\"\",①データ登録!B76)","v":""},{"$f":"IF(①データ登録!C76=\"\",\"\",①データ登録!C76)","v":""}]
[null,null,null,null,null,null,null,null,null,null,null,null,{"$f":"IF(①データ登録!A77=\"\",\"\",①データ登録!A77)","v":""},{"$f":"IF(①データ登録!B77=\"\",\"\",①データ登録!B77)","v":""},{"$f":"IF(①データ登録!C77=\"\",\"\",①データ登録!C77)","v":""}]
[null,null,null,null,null,null,null,null,null,null,null,null,{"$f":"IF(①データ登録!A78=\"\",\"\",①データ登録!A78)","v":""},{"$f":"IF(①データ登録!B78=\"\",\"\",①データ登録!B78)","v":""},{"$f":"IF(①データ登録!C78=\"\",\"\",①データ登録!C78)","v":""}]
[null,null,null,null,null,null,null,null,null,null,null,null,{"$f":"IF(①データ登録!A79=\"\",\"\",①データ登録!A79)","v":""},{"$f":"IF(①データ登録!B79=\"\",\"\",①データ登録!B79)","v":""},{"$f":"IF(①データ登録!C79=\"\",\"\",①データ登録!C79)","v":""}]
[null,null,null,null,null,null,null,null,null,null,null,null,{"$f":"IF(①データ登録!A80=\"\",\"\",①データ登録!A80)","v":""},{"$f":"IF(①データ登録!B80=\"\",\"\",①データ登録!B80)","v":""},{"$f":"IF(①データ登録!C80=\"\",\"\",①データ登録!C80)","v":""}]
[null,null,null,null,null,null,null,null,null,null,null,null,{"$f":"IF(①データ登録!A81=\"\",\"\",①データ登録!A81)","v":""},{"$f":"IF(①データ登録!B81=\"\",\"\",①データ登録!B81)","v":""},{"$f":"IF(①データ登録!C81=\"\",\"\",①データ登録!C81)","v":""}]
[null,null,null,null,null,null,null,null,null,null,null,null,{"$f":"IF(①データ登録!A82=\"\",\"\",①データ登録!A82)","v":""},{"$f":"IF(①データ登録!B82=\"\",\"\",①データ登録!B82)","v":""},{"$f":"IF(①データ登録!C82=\"\",\"\",①データ登録!C82)","v":""}]
[null,null,null,null,null,null,null,null,null,null,null,null,{"$f":"IF(①データ登録!A83=\"\",\"\",①データ登録!A83)","v":""},{"$f":"IF(①データ登録!B83=\"\",\"\",①データ登録!B83)","v":""},{"$f":"IF(①データ登録!C83=\"\",\"\",①データ登録!C83)","v":""}]
[null,null,null,null,null,null,null,null,null,null,null,null,{"$f":"IF(①データ登録!A84=\"\",\"\",①データ登録!A84)","v":""},{"$f":"IF(①データ登録!B84=\"\",\"\",①データ登録!B84)","v":""},{"$f":"IF(①データ登録!C84=\"\",\"\",①データ登録!C84)","v":""}]
[null,null,null,null,null,null,null,null,null,null,null,null,{"$f":"IF(①データ登録!A85=\"\",\"\",①データ登録!A85)","v":""},{"$f":"IF(①データ登録!B85=\"\",\"\",①データ登録!B85)","v":""},{"$f":"IF(①データ登録!C85=\"\",\"\",①データ登録!C85)","v":""}]
[null,null,null,null,null,null,null,null,null,null,null,null,{"$f":"IF(①データ登録!A86=\"\",\"\",①データ登録!A86)","v":""},{"$f":"IF(①データ登録!B86=\"\",\"\",①データ登録!B86)","v":""},{"$f":"IF(①データ登録!C86=\"\",\"\",①データ登録!C86)","v":""}]
[null,null,null,null,null,null,null,null,null,null,null,null,{"$f":"IF(①データ登録!A87=\"\",\"\",①データ登録!A87)","v":""},{"$f":"IF(①データ登録!B87=\"\",\"\",①データ登録!B87)","v":""},{"$f":"IF(①データ登録!C87=\"\",\"\",①データ登録!C87)","v":""}]
[null,null,null,null,null,null,null,null,null,null,null,null,{"$f":"IF(①データ登録!A88=\"\",\"\",①データ登録!A88)","v":""},{"$f":"IF(①データ登録!B88=\"\",\"\",①データ登録!B88)","v":""},{"$f":"IF(①データ登録!C88=\"\",\"\",①データ登録!C88)","v":""}]
[null,null,null,null,null,null,null,null,null,null,null,null,{"$f":"IF(①データ登録!A89=\"\",\"\",①データ登録!A89)","v":""},{"$f":"IF(①データ登録!B89=\"\",\"\",①データ登録!B89)","v":""},{"$f":"IF(①データ登録!C89=\"\",\"\",①データ登録!C89)","v":""}]
[null,null,null,null,null,null,null,null,null,null,null,null,{"$f":"IF(①データ登録!A90=\"\",\"\",①データ登録!A90)","v":""},{"$f":"IF(①データ登録!B90=\"\",\"\",①データ登録!B90)","v":""},{"$f":"IF(①データ登録!C90=\"\",\"\",①データ登録!C90)","v":""}]
[null,null,null,null,null,null,null,null,null,null,null,null,{"$f":"IF(①データ登録!A91=\"\",\"\",①データ登録!A91)","v":""},{"$f":"IF(①データ登録!B91=\"\",\"\",①データ登録!B91)","v":""},{"$f":"IF(①データ登録!C91=\"\",\"\",①データ登録!C91)","v":""}]
[null,null,null,null,null,null,null,null,null,null,null,null,{"$f":"IF(①データ登録!A92=\"\",\"\",①データ登録!A92)","v":""},{"$f":"IF(①データ登録!B92=\"\",\"\",①データ登録!B92)","v":""},{"$f":"IF(①データ登録!C92=\"\",\"\",①データ登録!C92)","v":""}]
[null,null,null,null,null,null,null,null,null,null,null,null,{"$f":"IF(①データ登録!A93=\"\",\"\",①データ登録!A93)","v":""},{"$f":"IF(①データ登録!B93=\"\",\"\",①データ登録!B93)","v":""},{"$f":"IF(①データ登録!C93=\"\",\"\",①データ登録!C93)","v":""}]
[null,null,null,null,null,null,null,null,null,null,null,null,{"$f":"IF(①データ登録!A94=\"\",\"\",①データ登録!A94)","v":""},{"$f":"IF(①データ登録!B94=\"\",\"\",①データ登録!B94)","v":""},{"$f":"IF(①データ登録!C94=\"\",\"\",①データ登録!C94)","v":""}]
[null,null,null,null,null,null,null,null,null,null,null,null,{"$f":"IF(①データ登録!A95=\"\",\"\",①データ登録!A95)","v":""},{"$f":"IF(①データ登録!B95=\"\",\"\",①データ登録!B95)","v":""},{"$f":"IF(①データ登録!C95=\"\",\"\",①データ登録!C95)","v":""}]
[null,null,null,null,null,null,null,null,null,null,null,null,{"$f":"IF(①データ登録!A96=\"\",\"\",①データ登録!A96)","v":""},{"$f":"IF(①データ登録!B96=\"\",\"\",①データ登録!B96)","v":""},{"$f":"IF(①データ登録!C96=\"\",\"\",①データ登録!C96)","v":""}]
[null,null,null,null,null,null,null,null,null,null,null,null,{"$f":"IF(①データ登録!A97=\"\",\"\",①データ登録!A97)","v":""},{"$f":"IF(①データ登録!B97=\"\",\"\",①データ登録!B97)","v":""},{"$f":"IF(①データ登録!C97=\"\",\"\",①データ登録!C97)","v":""}]
[null,null,null,null,null,null,null,null,null,null,null,null,{"$f":"IF(①データ登録!A98=\"\",\"\",①データ登録!A98)","v":""},{"$f":"IF(①データ登録!B98=\"\",\"\",①データ登録!B98)","v":""},{"$f":"IF(①データ登録!C98=\"\",\"\",①データ登録!C98)","v":""}]
[null,null,null,null,null,null,null,null,null,null,null,null,{"$f":"IF(①データ登録!A99=\"\",\"\",①データ登録!A99)","v":""},{"$f":"IF(①データ登録!B99=\"\",\"\",①データ登録!B99)","v":""},{"$f":"IF(①データ登録!C99=\"\",\"\",①データ登録!C99)","v":""}]
[null,null,null,null,null,null,null,null,null,null,null,null,{"$f":"IF(①データ登録!A100=\"\",\"\",①データ登録!A100)","v":""},{"$f":"IF(①データ登録!B100=\"\",\"\",①データ登録!B100)","v":""},{"$f":"IF(①データ登録!C100=\"\",\"\",①データ登録!C100)","v":""}]
[null,null,null,null,null,null,null,null,null,null,null,null,{"$f":"IF(①データ登録!A101=\"\",\"\",①データ登録!A101)","v":""},{"$f":"IF(①データ登録!B101=\"\",\"\",①データ登録!B101)","v":""},{"$f":"IF(①データ登録!C101=\"\",\"\",①データ登録!C101)","v":""}]
[null,null,null,null,null,null,null,null,null,null,null,null,{"$f":"IF(①データ登録!A102=\"\",\"\",①データ登録!A102)","v":""},{"$f":"IF(①データ登録!B102=\"\",\"\",①データ登録!B102)","v":""},{"$f":"IF(①データ登録!C102=\"\",\"\",①データ登録!C102)","v":""}]
[null,null,null,null,null,null,null,null,null,null,null,null,{"$f":"IF(①データ登録!A103=\"\",\"\",①データ登録!A103)","v":""},{"$f":"IF(①データ登録!B103=\"\",\"\",①データ登録!B103)","v":""},{"$f":"IF(①データ登録!C103=\"\",\"\",①データ登録!C103)","v":""}]
[null,null,null,null,null,null,null,null,null,null,null,null,{"$f":"IF(①データ登録!A104=\"\",\"\",①データ登録!A104)","v":""},{"$f":"IF(①データ登録!B104=\"\",\"\",①データ登録!B104)","v":""},{"$f":"IF(①データ登録!C104=\"\",\"\",①データ登録!C104)","v":""}]
[null,null,null,null,null,null,null,null,null,null,null,null,{"$f":"IF(①データ登録!A105=\"\",\"\",①データ登録!A105)","v":""},{"$f":"IF(①データ登録!B105=\"\",\"\",①データ登録!B105)","v":""},{"$f":"IF(①データ登録!C105=\"\",\"\",①データ登録!C105)","v":""}]
[null,null,null,null,null,null,null,null,null,null,null,null,{"$f":"IF(①データ登録!A106=\"\",\"\",①データ登録!A106)","v":""},{"$f":"IF(①データ登録!B106=\"\",\"\",①データ登録!B106)","v":""},{"$f":"IF(①データ登録!C106=\"\",\"\",①データ登録!C106)","v":""}]
[null,null,null,null,null,null,null,null,null,null,null,null,{"$f":"IF(①データ登録!A107=\"\",\"\",①データ登録!A107)","v":""},{"$f":"IF(①データ登録!B107=\"\",\"\",①データ登録!B107)","v":""},{"$f":"IF(①データ登録!C107=\"\",\"\",①データ登録!C107)","v":""}]
[null,null,null,null,null,null,null,null,null,null,null,null,{"$f":"IF(①データ登録!A108=\"\",\"\",①データ登録!A108)","v":""},{"$f":"IF(①データ登録!B108=\"\",\"\",①データ登録!B108)","v":""},{"$f":"IF(①データ登録!C108=\"\",\"\",①データ登録!C108)","v":""}]
[null,null,null,null,null,null,null,null,null,null,null,null,{"$f":"IF(①データ登録!A109=\"\",\"\",①データ登録!A109)","v":""},{"$f":"IF(①データ登録!B109=\"\",\"\",①データ登録!B109)","v":""},{"$f":"IF(①データ登録!C109=\"\",\"\",①データ登録!C109)","v":""}]
[null,null,null,null,null,null,null,null,null,null,null,null,{"$f":"IF(①データ登録!A110=\"\",\"\",①データ登録!A110)","v":""},{"$f":"IF(①データ登録!B110=\"\",\"\",①データ登録!B110)","v":""},{"$f":"IF(①データ登録!C110=\"\",\"\",①データ登録!C110)","v":""}]
[null,null,null,null,null,null,null,null,null,null,null,null,{"$f":"IF(①データ登録!A111=\"\",\"\",①データ登録!A111)","v":""},{"$f":"IF(①データ登録!B111=\"\",\"\",①データ登録!B111)","v":""},{"$f":"IF(①データ登録!C111=\"\",\"\",①データ登録!C111)","v":""}]
[null,null,null,null,null,null,null,null,null,null,null,null,{"$f":"IF(①データ登録!A112=\"\",\"\",①データ登録!A112)","v":""},{"$f":"IF(①データ登録!B112=\"\",\"\",①データ登録!B112)","v":""},{"$f":"IF(①データ登録!C112=\"\",\"\",①データ登録!C112)","v":""}]
[null,null,null,null,null,null,null,null,null,null,null,null,{"$f":"IF(①データ登録!A113=\"\",\"\",①データ登録!A113)","v":""},{"$f":"IF(①データ登録!B113=\"\",\"\",①データ登録!B113)","v":""},{"$f":"IF(①データ登録!C113=\"\",\"\",①データ登録!C113)","v":""}]
[null,null,null,null,null,null,null,null,null,null,null,null,{"$f":"IF(①データ登録!A114=\"\",\"\",①データ登録!A114)","v":""},{"$f":"IF(①データ登録!B114=\"\",\"\",①データ登録!B114)","v":""},{"$f":"IF(①データ登録!C114=\"\",\"\",①データ登録!C114)","v":""}]
[null,null,null,null,null,null,null,null,null,null,null,null,{"$f":"IF(①データ登録!A115=\"\",\"\",①データ登録!A115)","v":""},{"$f":"IF(①データ登録!B115=\"\",\"\",①データ登録!B115)","v":""},{"$f":"IF(①データ登録!C115=\"\",\"\",①データ登録!C115)","v":""}]
[null,null,null,null,null,null,null,null,null,null,null,null,{"$f":"IF(①データ登録!A116=\"\",\"\",①データ登録!A116)","v":""},{"$f":"IF(①データ登録!B116=\"\",\"\",①データ登録!B116)","v":""},{"$f":"IF(①データ登録!C116=\"\",\"\",①データ登録!C116)","v":""}]
[null,null,null,null,null,null,null,null,null,null,null,null,{"$f":"IF(①データ登録!A117=\"\",\"\",①データ登録!A117)","v":""},{"$f":"IF(①データ登録!B117=\"\",\"\",①データ登録!B117)","v":""},{"$f":"IF(①データ登録!C117=\"\",\"\",①データ登録!C117)","v":""}]
[null,null,null,null,null,null,null,null,null,null,null,null,{"$f":"IF(①データ登録!A118=\"\",\"\",①データ登録!A118)","v":""},{"$f":"IF(①データ登録!B118=\"\",\"\",①データ登録!B118)","v":""},{"$f":"IF(①データ登録!C118=\"\",\"\",①データ登録!C118)","v":""}]
[null,null,null,null,null,null,null,null,null,null,null,null,{"$f":"IF(①データ登録!A119=\"\",\"\",①データ登録!A119)","v":""},{"$f":"IF(①データ登録!B119=\"\",\"\",①データ登録!B119)","v":""},{"$f":"IF(①データ登録!C119=\"\",\"\",①データ登録!C119)","v":""}]
[null,null,null,null,null,null,null,null,null,null,null,null,{"$f":"IF(①データ登録!A120=\"\",\"\",①データ登録!A120)","v":""},{"$f":"IF(①データ登録!B120=\"\",\"\",①データ登録!B120)","v":""},{"$f":"IF(①データ登録!C120=\"\",\"\",①データ登録!C120)","v":""}]
[null,null,null,null,null,null,null,null,null,null,null,null,{"$f":"IF(①データ登録!A121=\"\",\"\",①データ登録!A121)","v":""},{"$f":"IF(①データ登録!B121=\"\",\"\",①データ登録!B121)","v":""},{"$f":"IF(①データ登録!C121=\"\",\"\",①データ登録!C121)","v":""}]
[null,null,null,null,null,null,null,null,null,null,null,null,{"$f":"IF(①データ登録!A122=\"\",\"\",①データ登録!A122)","v":""},{"$f":"IF(①データ登録!B122=\"\",\"\",①データ登録!B122)","v":""},{"$f":"IF(①データ登録!C122=\"\",\"\",①データ登録!C122)","v":""}]
[null,null,null,null,null,null,null,null,null,null,null,null,{"$f":"IF(①データ登録!A123=\"\",\"\",①データ登録!A123)","v":""},{"$f":"IF(①データ登録!B123=\"\",\"\",①データ登録!B123)","v":""},{"$f":"IF(①データ登録!C123=\"\",\"\",①データ登録!C123)","v":""}]
[null,null,null,null,null,null,null,null,null,null,null,null,{"$f":"IF(①データ登録!A124=\"\",\"\",①データ登録!A124)","v":""},{"$f":"IF(①データ登録!B124=\"\",\"\",①データ登録!B124)","v":""},{"$f":"IF(①データ登録!C124=\"\",\"\",①データ登録!C124)","v":""}]
[null,null,null,null,null,null,null,null,null,null,null,null,{"$f":"IF(①データ登録!A125=\"\",\"\",①データ登録!A125)","v":""},{"$f":"IF(①データ登録!B125=\"\",\"\",①データ登録!B125)","v":""},{"$f":"IF(①データ登録!C125=\"\",\"\",①データ登録!C125)","v":""}]
[null,null,null,null,null,null,null,null,null,null,null,null,{"$f":"IF(①データ登録!A126=\"\",\"\",①データ登録!A126)","v":""},{"$f":"IF(①データ登録!B126=\"\",\"\",①データ登録!B126)","v":""},{"$f":"IF(①データ登録!C126=\"\",\"\",①データ登録!C126)","v":""}]
[null,null,null,null,null,null,null,null,null,null,null,null,{"$f":"IF(①データ登録!A127=\"\",\"\",①データ登録!A127)","v":""},{"$f":"IF(①データ登録!B127=\"\",\"\",①データ登録!B127)","v":""},{"$f":"IF(①データ登録!C127=\"\",\"\",①データ登録!C127)","v":""}]
[null,null,null,null,null,null,null,null,null,null,null,null,{"$f":"IF(①データ登録!A128=\"\",\"\",①データ登録!A128)","v":""},{"$f":"IF(①データ登録!B128=\"\",\"\",①データ登録!B128)","v":""},{"$f":"IF(①データ登録!C128=\"\",\"\",①データ登録!C128)","v":""}]
[null,null,null,null,null,null,null,null,null,null,null,null,{"$f":"IF(①データ登録!A129=\"\",\"\",①データ登録!A129)","v":""},{"$f":"IF(①データ登録!B129=\"\",\"\",①データ登録!B129)","v":""},{"$f":"IF(①データ登録!C129=\"\",\"\",①データ登録!C129)","v":""}]
[null,null,null,null,null,null,null,null,null,null,null,null,{"$f":"IF(①データ登録!A130=\"\",\"\",①データ登録!A130)","v":""},{"$f":"IF(①データ登録!B130=\"\",\"\",①データ登録!B130)","v":""},{"$f":"IF(①データ登録!C130=\"\",\"\",①データ登録!C130)","v":""}]
[null,null,null,null,null,null,null,null,null,null,null,null,{"$f":"IF(①データ登録!A131=\"\",\"\",①データ登録!A131)","v":""},{"$f":"IF(①データ登録!B131=\"\",\"\",①データ登録!B131)","v":""},{"$f":"IF(①データ登録!C131=\"\",\"\",①データ登録!C131)","v":""}]
[null,null,null,null,null,null,null,null,null,null,null,null,{"$f":"IF(①データ登録!A132=\"\",\"\",①データ登録!A132)","v":""},{"$f":"IF(①データ登録!B132=\"\",\"\",①データ登録!B132)","v":""},{"$f":"IF(①データ登録!C132=\"\",\"\",①データ登録!C132)","v":""}]
[null,null,null,null,null,null,null,null,null,null,null,null,{"$f":"IF(①データ登録!A133=\"\",\"\",①データ登録!A133)","v":""},{"$f":"IF(①データ登録!B133=\"\",\"\",①データ登録!B133)","v":""},{"$f":"IF(①データ登録!C133=\"\",\"\",①データ登録!C133)","v":""}]
[null,null,null,null,null,null,null,null,null,null,null,null,{"$f":"IF(①データ登録!A134=\"\",\"\",①データ登録!A134)","v":""},{"$f":"IF(①データ登録!B134=\"\",\"\",①データ登録!B134)","v":""},{"$f":"IF(①データ登録!C134=\"\",\"\",①データ登録!C134)","v":""}]
[null,null,null,null,null,null,null,null,null,null,null,null,{"$f":"IF(①データ登録!A135=\"\",\"\",①データ登録!A135)","v":""},{"$f":"IF(①データ登録!B135=\"\",\"\",①データ登録!B135)","v":""},{"$f":"IF(①データ登録!C135=\"\",\"\",①データ登録!C135)","v":""}]
[null,null,null,null,null,null,null,null,null,null,null,null,{"$f":"IF(①データ登録!A136=\"\",\"\",①データ登録!A136)","v":""},{"$f":"IF(①データ登録!B136=\"\",\"\",①データ登録!B136)","v":""},{"$f":"IF(①データ登録!C136=\"\",\"\",①データ登録!C136)","v":""}]
[null,null,null,null,null,null,null,null,null,null,null,null,{"$f":"IF(①データ登録!A137=\"\",\"\",①データ登録!A137)","v":""},{"$f":"IF(①データ登録!B137=\"\",\"\",①データ登録!B137)","v":""},{"$f":"IF(①データ登録!C137=\"\",\"\",①データ登録!C137)","v":""}]
[null,null,null,null,null,null,null,null,null,null,null,null,{"$f":"IF(①データ登録!A138=\"\",\"\",①データ登録!A138)","v":""},{"$f":"IF(①データ登録!B138=\"\",\"\",①データ登録!B138)","v":""},{"$f":"IF(①データ登録!C138=\"\",\"\",①データ登録!C138)","v":""}]
[null,null,null,null,null,null,null,null,null,null,null,null,{"$f":"IF(①データ登録!A139=\"\",\"\",①データ登録!A139)","v":""},{"$f":"IF(①データ登録!B139=\"\",\"\",①データ登録!B139)","v":""},{"$f":"IF(①データ登録!C139=\"\",\"\",①データ登録!C139)","v":""}]
[null,null,null,null,null,null,null,null,null,null,null,null,{"$f":"IF(①データ登録!A140=\"\",\"\",①データ登録!A140)","v":""},{"$f":"IF(①データ登録!B140=\"\",\"\",①データ登録!B140)","v":""},{"$f":"IF(①データ登録!C140=\"\",\"\",①データ登録!C140)","v":""}]
[null,null,null,null,null,null,null,null,null,null,null,null,{"$f":"IF(①データ登録!A141=\"\",\"\",①データ登録!A141)","v":""},{"$f":"IF(①データ登録!B141=\"\",\"\",①データ登録!B141)","v":""},{"$f":"IF(①データ登録!C141=\"\",\"\",①データ登録!C141)","v":""}]
[null,null,null,null,null,null,null,null,null,null,null,null,{"$f":"IF(①データ登録!A142=\"\",\"\",①データ登録!A142)","v":""},{"$f":"IF(①データ登録!B142=\"\",\"\",①データ登録!B142)","v":""},{"$f":"IF(①データ登録!C142=\"\",\"\",①データ登録!C142)","v":""}]
[null,null,null,null,null,null,null,null,null,null,null,null,{"$f":"IF(①データ登録!A143=\"\",\"\",①データ登録!A143)","v":""},{"$f":"IF(①データ登録!B143=\"\",\"\",①データ登録!B143)","v":""},{"$f":"IF(①データ登録!C143=\"\",\"\",①データ登録!C143)","v":""}]
[null,null,null,null,null,null,null,null,null,null,null,null,{"$f":"IF(①データ登録!A144=\"\",\"\",①データ登録!A144)","v":""},{"$f":"IF(①データ登録!B144=\"\",\"\",①データ登録!B144)","v":""},{"$f":"IF(①データ登録!C144=\"\",\"\",①データ登録!C144)","v":""}]
[null,null,null,null,null,null,null,null,null,null,null,null,{"$f":"IF(①データ登録!A145=\"\",\"\",①データ登録!A145)","v":""},{"$f":"IF(①データ登録!B145=\"\",\"\",①データ登録!B145)","v":""},{"$f":"IF(①データ登録!C145=\"\",\"\",①データ登録!C145)","v":""}]
[null,null,null,null,null,null,null,null,null,null,null,null,{"$f":"IF(①データ登録!A146=\"\",\"\",①データ登録!A146)","v":""},{"$f":"IF(①データ登録!B146=\"\",\"\",①データ登録!B146)","v":""},{"$f":"IF(①データ登録!C146=\"\",\"\",①データ登録!C146)","v":""}]
[null,null,null,null,null,null,null,null,null,null,null,null,{"$f":"IF(①データ登録!A147=\"\",\"\",①データ登録!A147)","v":""},{"$f":"IF(①データ登録!B147=\"\",\"\",①データ登録!B147)","v":""},{"$f":"IF(①データ登録!C147=\"\",\"\",①データ登録!C147)","v":""}]
[null,null,null,null,null,null,null,null,null,null,null,null,{"$f":"IF(①データ登録!A148=\"\",\"\",①データ登録!A148)","v":""},{"$f":"IF(①データ登録!B148=\"\",\"\",①データ登録!B148)","v":""},{"$f":"IF(①データ登録!C148=\"\",\"\",①データ登録!C148)","v":""}]
[null,null,null,null,null,null,null,null,null,null,null,null,{"$f":"IF(①データ登録!A149=\"\",\"\",①データ登録!A149)","v":""},{"$f":"IF(①データ登録!B149=\"\",\"\",①データ登録!B149)","v":""},{"$f":"IF(①データ登録!C149=\"\",\"\",①データ登録!C149)","v":""}]
[null,null,null,null,null,null,null,null,null,null,null,null,{"$f":"IF(①データ登録!A150=\"\",\"\",①データ登録!A150)","v":""},{"$f":"IF(①データ登録!B150=\"\",\"\",①データ登録!B150)","v":""},{"$f":"IF(①データ登録!C150=\"\",\"\",①データ登録!C150)","v":""}]
[null,null,null,null,null,null,null,null,null,null,null,null,{"$f":"IF(①データ登録!A151=\"\",\"\",①データ登録!A151)","v":""},{"$f":"IF(①データ登録!B151=\"\",\"\",①データ登録!B151)","v":""},{"$f":"IF(①データ登録!C151=\"\",\"\",①データ登録!C151)","v":""}]
[null,null,null,null,null,null,null,null,null,null,null,null,{"$f":"IF(①データ登録!A152=\"\",\"\",①データ登録!A152)","v":""},{"$f":"IF(①データ登録!B152=\"\",\"\",①データ登録!B152)","v":""},{"$f":"IF(①データ登録!C152=\"\",\"\",①データ登録!C152)","v":""}]
[null,null,null,null,null,null,null,null,null,null,null,null,{"$f":"IF(①データ登録!A153=\"\",\"\",①データ登録!A153)","v":""},{"$f":"IF(①データ登録!B153=\"\",\"\",①データ登録!B153)","v":""},{"$f":"IF(①データ登録!C153=\"\",\"\",①データ登録!C153)","v":""}]
[null,null,null,null,null,null,null,null,null,null,null,null,{"$f":"IF(①データ登録!A154=\"\",\"\",①データ登録!A154)","v":""},{"$f":"IF(①データ登録!B154=\"\",\"\",①データ登録!B154)","v":""},{"$f":"IF(①データ登録!C154=\"\",\"\",①データ登録!C154)","v":""}]
[null,null,null,null,null,null,null,null,null,null,null,null,{"$f":"IF(①データ登録!A155=\"\",\"\",①データ登録!A155)","v":""},{"$f":"IF(①データ登録!B155=\"\",\"\",①データ登録!B155)","v":""},{"$f":"IF(①データ登録!C155=\"\",\"\",①データ登録!C155)","v":""}]
[null,null,null,null,null,null,null,null,null,null,null,null,{"$f":"IF(①データ登録!A156=\"\",\"\",①データ登録!A156)","v":""},{"$f":"IF(①データ登録!B156=\"\",\"\",①データ登録!B156)","v":""},{"$f":"IF(①データ登録!C156=\"\",\"\",①データ登録!C156)","v":""}]
[null,null,null,null,null,null,null,null,null,null,null,null,{"$f":"IF(①データ登録!A157=\"\",\"\",①データ登録!A157)","v":""},{"$f":"IF(①データ登録!B157=\"\",\"\",①データ登録!B157)","v":""},{"$f":"IF(①データ登録!C157=\"\",\"\",①データ登録!C157)","v":""}]
[null,null,null,null,null,null,null,null,null,null,null,null,{"$f":"IF(①データ登録!A158=\"\",\"\",①データ登録!A158)","v":""},{"$f":"IF(①データ登録!B158=\"\",\"\",①データ登録!B158)","v":""},{"$f":"IF(①データ登録!C158=\"\",\"\",①データ登録!C158)","v":""}]
[null,null,null,null,null,null,null,null,null,null,null,null,{"$f":"IF(①データ登録!A159=\"\",\"\",①データ登録!A159)","v":""},{"$f":"IF(①データ登録!B159=\"\",\"\",①データ登録!B159)","v":""},{"$f":"IF(①データ登録!C159=\"\",\"\",①データ登録!C159)","v":""}]
[null,null,null,null,null,null,null,null,null,null,null,null,{"$f":"IF(①データ登録!A160=\"\",\"\",①データ登録!A160)","v":""},{"$f":"IF(①データ登録!B160=\"\",\"\",①データ登録!B160)","v":""},{"$f":"IF(①データ登録!C160=\"\",\"\",①データ登録!C160)","v":""}]
[null,null,null,null,null,null,null,null,null,null,null,null,{"$f":"IF(①データ登録!A161=\"\",\"\",①データ登録!A161)","v":""},{"$f":"IF(①データ登録!B161=\"\",\"\",①データ登録!B161)","v":""},{"$f":"IF(①データ登録!C161=\"\",\"\",①データ登録!C161)","v":""}]
[null,null,null,null,null,null,null,null,null,null,null,null,{"$f":"IF(①データ登録!A162=\"\",\"\",①データ登録!A162)","v":""},{"$f":"IF(①データ登録!B162=\"\",\"\",①データ登録!B162)","v":""},{"$f":"IF(①データ登録!C162=\"\",\"\",①データ登録!C162)","v":""}]
[null,null,null,null,null,null,null,null,null,null,null,null,{"$f":"IF(①データ登録!A163=\"\",\"\",①データ登録!A163)","v":""},{"$f":"IF(①データ登録!B163=\"\",\"\",①データ登録!B163)","v":""},{"$f":"IF(①データ登録!C163=\"\",\"\",①データ登録!C163)","v":""}]
[null,null,null,null,null,null,null,null,null,null,null,null,{"$f":"IF(①データ登録!A164=\"\",\"\",①データ登録!A164)","v":""},{"$f":"IF(①データ登録!B164=\"\",\"\",①データ登録!B164)","v":""},{"$f":"IF(①データ登録!C164=\"\",\"\",①データ登録!C164)","v":""}]
[null,null,null,null,null,null,null,null,null,null,null,null,{"$f":"IF(①データ登録!A165=\"\",\"\",①データ登録!A165)","v":""},{"$f":"IF(①データ登録!B165=\"\",\"\",①データ登録!B165)","v":""},{"$f":"IF(①データ登録!C165=\"\",\"\",①データ登録!C165)","v":""}]
[null,null,null,null,null,null,null,null,null,null,null,null,{"$f":"IF(①データ登録!A166=\"\",\"\",①データ登録!A166)","v":""},{"$f":"IF(①データ登録!B166=\"\",\"\",①データ登録!B166)","v":""},{"$f":"IF(①データ登録!C166=\"\",\"\",①データ登録!C166)","v":""}]
[null,null,null,null,null,null,null,null,null,null,null,null,{"$f":"IF(①データ登録!A167=\"\",\"\",①データ登録!A167)","v":""},{"$f":"IF(①データ登録!B167=\"\",\"\",①データ登録!B167)","v":""},{"$f":"IF(①データ登録!C167=\"\",\"\",①データ登録!C167)","v":""}]
[null,null,null,null,null,null,null,null,null,null,null,null,{"$f":"IF(①データ登録!A168=\"\",\"\",①データ登録!A168)","v":""},{"$f":"IF(①データ登録!B168=\"\",\"\",①データ登録!B168)","v":""},{"$f":"IF(①データ登録!C168=\"\",\"\",①データ登録!C168)","v":""}]
[null,null,null,null,null,null,null,null,null,null,null,null,{"$f":"IF(①データ登録!A169=\"\",\"\",①データ登録!A169)","v":""},{"$f":"IF(①データ登録!B169=\"\",\"\",①データ登録!B169)","v":""},{"$f":"IF(①データ登録!C169=\"\",\"\",①データ登録!C169)","v":""}]
[null,null,null,null,null,null,null,null,null,null,null,null,{"$f":"IF(①データ登録!A170=\"\",\"\",①データ登録!A170)","v":""},{"$f":"IF(①データ登録!B170=\"\",\"\",①データ登録!B170)","v":""},{"$f":"IF(①データ登録!C170=\"\",\"\",①データ登録!C170)","v":""}]
[null,null,null,null,null,null,null,null,null,null,null,null,{"$f":"IF(①データ登録!A171=\"\",\"\",①データ登録!A171)","v":""},{"$f":"IF(①データ登録!B171=\"\",\"\",①データ登録!B171)","v":""},{"$f":"IF(①データ登録!C171=\"\",\"\",①データ登録!C171)","v":""}]
[null,null,null,null,null,null,null,null,null,null,null,null,{"$f":"IF(①データ登録!A172=\"\",\"\",①データ登録!A172)","v":""},{"$f":"IF(①データ登録!B172=\"\",\"\",①データ登録!B172)","v":""},{"$f":"IF(①データ登録!C172=\"\",\"\",①データ登録!C172)","v":""}]
[null,null,null,null,null,null,null,null,null,null,null,null,{"$f":"IF(①データ登録!A173=\"\",\"\",①データ登録!A173)","v":""},{"$f":"IF(①データ登録!B173=\"\",\"\",①データ登録!B173)","v":""},{"$f":"IF(①データ登録!C173=\"\",\"\",①データ登録!C173)","v":""}]
[null,null,null,null,null,null,null,null,null,null,null,null,{"$f":"IF(①データ登録!A174=\"\",\"\",①データ登録!A174)","v":""},{"$f":"IF(①データ登録!B174=\"\",\"\",①データ登録!B174)","v":""},{"$f":"IF(①データ登録!C174=\"\",\"\",①データ登録!C174)","v":""}]
[null,null,null,null,null,null,null,null,null,null,null,null,{"$f":"IF(①データ登録!A175=\"\",\"\",①データ登録!A175)","v":""},{"$f":"IF(①データ登録!B175=\"\",\"\",①データ登録!B175)","v":""},{"$f":"IF(①データ登録!C175=\"\",\"\",①データ登録!C175)","v":""}]
[null,null,null,null,null,null,null,null,null,null,null,null,{"$f":"IF(①データ登録!A176=\"\",\"\",①データ登録!A176)","v":""},{"$f":"IF(①データ登録!B176=\"\",\"\",①データ登録!B176)","v":""},{"$f":"IF(①データ登録!C176=\"\",\"\",①データ登録!C176)","v":""}]
[null,null,null,null,null,null,null,null,null,null,null,null,{"$f":"IF(①データ登録!A177=\"\",\"\",①データ登録!A177)","v":""},{"$f":"IF(①データ登録!B177=\"\",\"\",①データ登録!B177)","v":""},{"$f":"IF(①データ登録!C177=\"\",\"\",①データ登録!C177)","v":""}]
[null,null,null,null,null,null,null,null,null,null,null,null,{"$f":"IF(①データ登録!A178=\"\",\"\",①データ登録!A178)","v":""},{"$f":"IF(①データ登録!B178=\"\",\"\",①データ登録!B178)","v":""},{"$f":"IF(①データ登録!C178=\"\",\"\",①データ登録!C178)","v":""}]
[null,null,null,null,null,null,null,null,null,null,null,null,{"$f":"IF(①データ登録!A179=\"\",\"\",①データ登録!A179)","v":""},{"$f":"IF(①データ登録!B179=\"\",\"\",①データ登録!B179)","v":""},{"$f":"IF(①データ登録!C179=\"\",\"\",①データ登録!C179)","v":""}]
[null,null,null,null,null,null,null,null,null,null,null,null,{"$f":"IF(①データ登録!A180=\"\",\"\",①データ登録!A180)","v":""},{"$f":"IF(①データ登録!B180=\"\",\"\",①データ登録!B180)","v":""},{"$f":"IF(①データ登録!C180=\"\",\"\",①データ登録!C180)","v":""}]
[null,null,null,null,null,null,null,null,null,null,null,null,{"$f":"IF(①データ登録!A181=\"\",\"\",①データ登録!A181)","v":""},{"$f":"IF(①データ登録!B181=\"\",\"\",①データ登録!B181)","v":""},{"$f":"IF(①データ登録!C181=\"\",\"\",①データ登録!C181)","v":""}]
[null,null,null,null,null,null,null,null,null,null,null,null,{"$f":"IF(①データ登録!A182=\"\",\"\",①データ登録!A182)","v":""},{"$f":"IF(①データ登録!B182=\"\",\"\",①データ登録!B182)","v":""},{"$f":"IF(①データ登録!C182=\"\",\"\",①データ登録!C182)","v":""}]
[null,null,null,null,null,null,null,null,null,null,null,null,{"$f":"IF(①データ登録!A183=\"\",\"\",①データ登録!A183)","v":""},{"$f":"IF(①データ登録!B183=\"\",\"\",①データ登録!B183)","v":""},{"$f":"IF(①データ登録!C183=\"\",\"\",①データ登録!C183)","v":""}]
[null,null,null,null,null,null,null,null,null,null,null,null,{"$f":"IF(①データ登録!A184=\"\",\"\",①データ登録!A184)","v":""},{"$f":"IF(①データ登録!B184=\"\",\"\",①データ登録!B184)","v":""},{"$f":"IF(①データ登録!C184=\"\",\"\",①データ登録!C184)","v":""}]
[null,null,null,null,null,null,null,null,null,null,null,null,{"$f":"IF(①データ登録!A185=\"\",\"\",①データ登録!A185)","v":""},{"$f":"IF(①データ登録!B185=\"\",\"\",①データ登録!B185)","v":""},{"$f":"IF(①データ登録!C185=\"\",\"\",①データ登録!C185)","v":""}]
[null,null,null,null,null,null,null,null,null,null,null,null,{"$f":"IF(①データ登録!A186=\"\",\"\",①データ登録!A186)","v":""},{"$f":"IF(①データ登録!B186=\"\",\"\",①データ登録!B186)","v":""},{"$f":"IF(①データ登録!C186=\"\",\"\",①データ登録!C186)","v":""}]
[null,null,null,null,null,null,null,null,null,null,null,null,{"$f":"IF(①データ登録!A187=\"\",\"\",①データ登録!A187)","v":""},{"$f":"IF(①データ登録!B187=\"\",\"\",①データ登録!B187)","v":""},{"$f":"IF(①データ登録!C187=\"\",\"\",①データ登録!C187)","v":""}]
[null,null,null,null,null,null,null,null,null,null,null,null,{"$f":"IF(①データ登録!A188=\"\",\"\",①データ登録!A188)","v":""},{"$f":"IF(①データ登録!B188=\"\",\"\",①データ登録!B188)","v":""},{"$f":"IF(①データ登録!C188=\"\",\"\",①データ登録!C188)","v":""}]
[null,null,null,null,null,null,null,null,null,null,null,null,{"$f":"IF(①データ登録!A189=\"\",\"\",①データ登録!A189)","v":""},{"$f":"IF(①データ登録!B189=\"\",\"\",①データ登録!B189)","v":""},{"$f":"IF(①データ登録!C189=\"\",\"\",①データ登録!C189)","v":""}]
[null,null,null,null,null,null,null,null,null,null,null,null,{"$f":"IF(①データ登録!A190=\"\",\"\",①データ登録!A190)","v":""},{"$f":"IF(①データ登録!B190=\"\",\"\",①データ登録!B190)","v":""},{"$f":"IF(①データ登録!C190=\"\",\"\",①データ登録!C190)","v":""}]
[null,null,null,null,null,null,null,null,null,null,null,null,{"$f":"IF(①データ登録!A191=\"\",\"\",①データ登録!A191)","v":""},{"$f":"IF(①データ登録!B191=\"\",\"\",①データ登録!B191)","v":""},{"$f":"IF(①データ登録!C191=\"\",\"\",①データ登録!C191)","v":""}]
[null,null,null,null,null,null,null,null,null,null,null,null,{"$f":"IF(①データ登録!A192=\"\",\"\",①データ登録!A192)","v":""},{"$f":"IF(①データ登録!B192=\"\",\"\",①データ登録!B192)","v":""},{"$f":"IF(①データ登録!C192=\"\",\"\",①データ登録!C192)","v":""}]
[null,null,null,null,null,null,null,null,null,null,null,null,{"$f":"IF(①データ登録!A193=\"\",\"\",①データ登録!A193)","v":""},{"$f":"IF(①データ登録!B193=\"\",\"\",①データ登録!B193)","v":""},{"$f":"IF(①データ登録!C193=\"\",\"\",①データ登録!C193)","v":""}]
[null,null,null,null,null,null,null,null,null,null,null,null,{"$f":"IF(①データ登録!A194=\"\",\"\",①データ登録!A194)","v":""},{"$f":"IF(①データ登録!B194=\"\",\"\",①データ登録!B194)","v":""},{"$f":"IF(①データ登録!C194=\"\",\"\",①データ登録!C194)","v":""}]
[null,null,null,null,null,null,null,null,null,null,null,null,{"$f":"IF(①データ登録!A195=\"\",\"\",①データ登録!A195)","v":""},{"$f":"IF(①データ登録!B195=\"\",\"\",①データ登録!B195)","v":""},{"$f":"IF(①データ登録!C195=\"\",\"\",①データ登録!C195)","v":""}]
[null,null,null,null,null,null,null,null,null,null,null,null,{"$f":"IF(①データ登録!A196=\"\",\"\",①データ登録!A196)","v":""},{"$f":"IF(①データ登録!B196=\"\",\"\",①データ登録!B196)","v":""},{"$f":"IF(①データ登録!C196=\"\",\"\",①データ登録!C196)","v":""}]
[null,null,null,null,null,null,null,null,null,null,null,null,{"$f":"IF(①データ登録!A197=\"\",\"\",①データ登録!A197)","v":""},{"$f":"IF(①データ登録!B197=\"\",\"\",①データ登録!B197)","v":""},{"$f":"IF(①データ登録!C197=\"\",\"\",①データ登録!C197)","v":""}]
[null,null,null,null,null,null,null,null,null,null,null,null,{"$f":"IF(①データ登録!A198=\"\",\"\",①データ登録!A198)","v":""},{"$f":"IF(①データ登録!B198=\"\",\"\",①データ登録!B198)","v":""},{"$f":"IF(①データ登録!C198=\"\",\"\",①データ登録!C198)","v":""}]
[null,null,null,null,null,null,null,null,null,null,null,null,{"$f":"IF(①データ登録!A199=\"\",\"\",①データ登録!A199)","v":""},{"$f":"IF(①データ登録!B199=\"\",\"\",①データ登録!B199)","v":""},{"$f":"IF(①データ登録!C199=\"\",\"\",①データ登録!C199)","v":""}]
[null,null,null,null,null,null,null,null,null,null,null,null,{"$f":"IF(①データ登録!A200=\"\",\"\",①データ登録!A200)","v":""},{"$f":"IF(①データ登録!B200=\"\",\"\",①データ登録!B200)","v":""},{"$f":"IF(①データ登録!C200=\"\",\"\",①データ登録!C200)","v":""}]
[null,null,null,null,null,null,null,null,null,null,null,null,{"$f":"IF(①データ登録!A201=\"\",\"\",①データ登録!A201)","v":""},{"$f":"IF(①データ登録!B201=\"\",\"\",①データ登録!B201)","v":""},{"$f":"IF(①データ登録!C201=\"\",\"\",①データ登録!C201)","v":""}]
[null,null,null,null,null,null,null,null,null,null,null,null,{"$f":"IF(①データ登録!A202=\"\",\"\",①データ登録!A202)","v":""},{"$f":"IF(①データ登録!B202=\"\",\"\",①データ登録!B202)","v":""},{"$f":"IF(①データ登録!C202=\"\",\"\",①データ登録!C202)","v":""}]
[null,null,null,null,null,null,null,null,null,null,null,null,{"$f":"IF(①データ登録!A203=\"\",\"\",①データ登録!A203)","v":""},{"$f":"IF(①データ登録!B203=\"\",\"\",①データ登録!B203)","v":""},{"$f":"IF(①データ登録!C203=\"\",\"\",①データ登録!C203)","v":""}]
[null,null,null,null,null,null,null,null,null,null,null,null,{"$f":"IF(①データ登録!A204=\"\",\"\",①データ登録!A204)","v":""},{"$f":"IF(①データ登録!B204=\"\",\"\",①データ登録!B204)","v":""},{"$f":"IF(①データ登録!C204=\"\",\"\",①データ登録!C204)","v":""}]
[null,null,null,null,null,null,null,null,null,null,null,null,{"$f":"IF(①データ登録!A205=\"\",\"\",①データ登録!A205)","v":""},{"$f":"IF(①データ登録!B205=\"\",\"\",①データ登録!B205)","v":""},{"$f":"IF(①データ登録!C205=\"\",\"\",①データ登録!C205)","v":""}]
[null,null,null,null,null,null,null,null,null,null,null,null,{"$f":"IF(①データ登録!A206=\"\",\"\",①データ登録!A206)","v":""},{"$f":"IF(①データ登録!B206=\"\",\"\",①データ登録!B206)","v":""},{"$f":"IF(①データ登録!C206=\"\",\"\",①データ登録!C206)","v":""}]
[null,null,null,null,null,null,null,null,null,null,null,null,{"$f":"IF(①データ登録!A207=\"\",\"\",①データ登録!A207)","v":""},{"$f":"IF(①データ登録!B207=\"\",\"\",①データ登録!B207)","v":""},{"$f":"IF(①データ登録!C207=\"\",\"\",①データ登録!C207)","v":""}]
[null,null,null,null,null,null,null,null,null,null,null,null,{"$f":"IF(①データ登録!A208=\"\",\"\",①データ登録!A208)","v":""},{"$f":"IF(①データ登録!B208=\"\",\"\",①データ登録!B208)","v":""},{"$f":"IF(①データ登録!C208=\"\",\"\",①データ登録!C208)","v":""}]
[null,null,null,null,null,null,null,null,null,null,null,null,{"$f":"IF(①データ登録!A209=\"\",\"\",①データ登録!A209)","v":""},{"$f":"IF(①データ登録!B209=\"\",\"\",①データ登録!B209)","v":""},{"$f":"IF(①データ登録!C209=\"\",\"\",①データ登録!C209)","v":""}]
[null,null,null,null,null,null,null,null,null,null,null,null,{"$f":"IF(①データ登録!A210=\"\",\"\",①データ登録!A210)","v":""},{"$f":"IF(①データ登録!B210=\"\",\"\",①データ登録!B210)","v":""},{"$f":"IF(①データ登録!C210=\"\",\"\",①データ登録!C210)","v":""}]
[null,null,null,null,null,null,null,null,null,null,null,null,{"$f":"IF(①データ登録!A211=\"\",\"\",①データ登録!A211)","v":""},{"$f":"IF(①データ登録!B211=\"\",\"\",①データ登録!B211)","v":""},{"$f":"IF(①データ登録!C211=\"\",\"\",①データ登録!C211)","v":""}]
[null,null,null,null,null,null,null,null,null,null,null,null,{"$f":"IF(①データ登録!A212=\"\",\"\",①データ登録!A212)","v":""},{"$f":"IF(①データ登録!B212=\"\",\"\",①データ登録!B212)","v":""},{"$f":"IF(①データ登録!C212=\"\",\"\",①データ登録!C212)","v":""}]
[null,null,null,null,null,null,null,null,null,null,null,null,{"$f":"IF(①データ登録!A213=\"\",\"\",①データ登録!A213)","v":""},{"$f":"IF(①データ登録!B213=\"\",\"\",①データ登録!B213)","v":""},{"$f":"IF(①データ登録!C213=\"\",\"\",①データ登録!C213)","v":""}]
[null,null,null,null,null,null,null,null,null,null,null,null,{"$f":"IF(①データ登録!A214=\"\",\"\",①データ登録!A214)","v":""},{"$f":"IF(①データ登録!B214=\"\",\"\",①データ登録!B214)","v":""},{"$f":"IF(①データ登録!C214=\"\",\"\",①データ登録!C214)","v":""}]
[null,null,null,null,null,null,null,null,null,null,null,null,{"$f":"IF(①データ登録!A215=\"\",\"\",①データ登録!A215)","v":""},{"$f":"IF(①データ登録!B215=\"\",\"\",①データ登録!B215)","v":""},{"$f":"IF(①データ登録!C215=\"\",\"\",①データ登録!C215)","v":""}]
[null,null,null,null,null,null,null,null,null,null,null,null,{"$f":"IF(①データ登録!A216=\"\",\"\",①データ登録!A216)","v":""},{"$f":"IF(①データ登録!B216=\"\",\"\",①データ登録!B216)","v":""},{"$f":"IF(①データ登録!C216=\"\",\"\",①データ登録!C216)","v":""}]
[null,null,null,null,null,null,null,null,null,null,null,null,{"$f":"IF(①データ登録!A217=\"\",\"\",①データ登録!A217)","v":""},{"$f":"IF(①データ登録!B217=\"\",\"\",①データ登録!B217)","v":""},{"$f":"IF(①データ登録!C217=\"\",\"\",①データ登録!C217)","v":""}]
[null,null,null,null,null,null,null,null,null,null,null,null,{"$f":"IF(①データ登録!A218=\"\",\"\",①データ登録!A218)","v":""},{"$f":"IF(①データ登録!B218=\"\",\"\",①データ登録!B218)","v":""},{"$f":"IF(①データ登録!C218=\"\",\"\",①データ登録!C218)","v":""}]
[null,null,null,null,null,null,null,null,null,null,null,null,{"$f":"IF(①データ登録!A219=\"\",\"\",①データ登録!A219)","v":""},{"$f":"IF(①データ登録!B219=\"\",\"\",①データ登録!B219)","v":""},{"$f":"IF(①データ登録!C219=\"\",\"\",①データ登録!C219)","v":""}]
[null,null,null,null,null,null,null,null,null,null,null,null,{"$f":"IF(①データ登録!A220=\"\",\"\",①データ登録!A220)","v":""},{"$f":"IF(①データ登録!B220=\"\",\"\",①データ登録!B220)","v":""},{"$f":"IF(①データ登録!C220=\"\",\"\",①データ登録!C220)","v":""}]
[null,null,null,null,null,null,null,null,null,null,null,null,{"$f":"IF(①データ登録!A221=\"\",\"\",①データ登録!A221)","v":""},{"$f":"IF(①データ登録!B221=\"\",\"\",①データ登録!B221)","v":""},{"$f":"IF(①データ登録!C221=\"\",\"\",①データ登録!C221)","v":""}]
[null,null,null,null,null,null,null,null,null,null,null,null,{"$f":"IF(①データ登録!A222=\"\",\"\",①データ登録!A222)","v":""},{"$f":"IF(①データ登録!B222=\"\",\"\",①データ登録!B222)","v":""},{"$f":"IF(①データ登録!C222=\"\",\"\",①データ登録!C222)","v":""}]
[null,null,null,null,null,null,null,null,null,null,null,null,{"$f":"IF(①データ登録!A223=\"\",\"\",①データ登録!A223)","v":""},{"$f":"IF(①データ登録!B223=\"\",\"\",①データ登録!B223)","v":""},{"$f":"IF(①データ登録!C223=\"\",\"\",①データ登録!C223)","v":""}]
[null,null,null,null,null,null,null,null,null,null,null,null,{"$f":"IF(①データ登録!A224=\"\",\"\",①データ登録!A224)","v":""},{"$f":"IF(①データ登録!B224=\"\",\"\",①データ登録!B224)","v":""},{"$f":"IF(①データ登録!C224=\"\",\"\",①データ登録!C224)","v":""}]
[null,null,null,null,null,null,null,null,null,null,null,null,{"$f":"IF(①データ登録!A225=\"\",\"\",①データ登録!A225)","v":""},{"$f":"IF(①データ登録!B225=\"\",\"\",①データ登録!B225)","v":""},{"$f":"IF(①データ登録!C225=\"\",\"\",①データ登録!C225)","v":""}]
[null,null,null,null,null,null,null,null,null,null,null,null,{"$f":"IF(①データ登録!A226=\"\",\"\",①データ登録!A226)","v":""},{"$f":"IF(①データ登録!B226=\"\",\"\",①データ登録!B226)","v":""},{"$f":"IF(①データ登録!C226=\"\",\"\",①データ登録!C226)","v":""}]
[null,null,null,null,null,null,null,null,null,null,null,null,{"$f":"IF(①データ登録!A227=\"\",\"\",①データ登録!A227)","v":""},{"$f":"IF(①データ登録!B227=\"\",\"\",①データ登録!B227)","v":""},{"$f":"IF(①データ登録!C227=\"\",\"\",①データ登録!C227)","v":""}]
[null,null,null,null,null,null,null,null,null,null,null,null,{"$f":"IF(①データ登録!A228=\"\",\"\",①データ登録!A228)","v":""},{"$f":"IF(①データ登録!B228=\"\",\"\",①データ登録!B228)","v":""},{"$f":"IF(①データ登録!C228=\"\",\"\",①データ登録!C228)","v":""}]
[null,null,null,null,null,null,null,null,null,null,null,null,{"$f":"IF(①データ登録!A229=\"\",\"\",①データ登録!A229)","v":""},{"$f":"IF(①データ登録!B229=\"\",\"\",①データ登録!B229)","v":""},{"$f":"IF(①データ登録!C229=\"\",\"\",①データ登録!C229)","v":""}]
[null,null,null,null,null,null,null,null,null,null,null,null,{"$f":"IF(①データ登録!A230=\"\",\"\",①データ登録!A230)","v":""},{"$f":"IF(①データ登録!B230=\"\",\"\",①データ登録!B230)","v":""},{"$f":"IF(①データ登録!C230=\"\",\"\",①データ登録!C230)","v":""}]
[null,null,null,null,null,null,null,null,null,null,null,null,{"$f":"IF(①データ登録!A231=\"\",\"\",①データ登録!A231)","v":""},{"$f":"IF(①データ登録!B231=\"\",\"\",①データ登録!B231)","v":""},{"$f":"IF(①データ登録!C231=\"\",\"\",①データ登録!C231)","v":""}]
[null,null,null,null,null,null,null,null,null,null,null,null,{"$f":"IF(①データ登録!A232=\"\",\"\",①データ登録!A232)","v":""},{"$f":"IF(①データ登録!B232=\"\",\"\",①データ登録!B232)","v":""},{"$f":"IF(①データ登録!C232=\"\",\"\",①データ登録!C232)","v":""}]
[null,null,null,null,null,null,null,null,null,null,null,null,{"$f":"IF(①データ登録!A233=\"\",\"\",①データ登録!A233)","v":""},{"$f":"IF(①データ登録!B233=\"\",\"\",①データ登録!B233)","v":""},{"$f":"IF(①データ登録!C233=\"\",\"\",①データ登録!C233)","v":""}]
[null,null,null,null,null,null,null,null,null,null,null,null,{"$f":"IF(①データ登録!A234=\"\",\"\",①データ登録!A234)","v":""},{"$f":"IF(①データ登録!B234=\"\",\"\",①データ登録!B234)","v":""},{"$f":"IF(①データ登録!C234=\"\",\"\",①データ登録!C234)","v":""}]
[null,null,null,null,null,null,null,null,null,null,null,null,{"$f":"IF(①データ登録!A235=\"\",\"\",①データ登録!A235)","v":""},{"$f":"IF(①データ登録!B235=\"\",\"\",①データ登録!B235)","v":""},{"$f":"IF(①データ登録!C235=\"\",\"\",①データ登録!C235)","v":""}]
[null,null,null,null,null,null,null,null,null,null,null,null,{"$f":"IF(①データ登録!A236=\"\",\"\",①データ登録!A236)","v":""},{"$f":"IF(①データ登録!B236=\"\",\"\",①データ登録!B236)","v":""},{"$f":"IF(①データ登録!C236=\"\",\"\",①データ登録!C236)","v":""}]
[null,null,null,null,null,null,null,null,null,null,null,null,{"$f":"IF(①データ登録!A237=\"\",\"\",①データ登録!A237)","v":""},{"$f":"IF(①データ登録!B237=\"\",\"\",①データ登録!B237)","v":""},{"$f":"IF(①データ登録!C237=\"\",\"\",①データ登録!C237)","v":""}]
[null,null,null,null,null,null,null,null,null,null,null,null,{"$f":"IF(①データ登録!A238=\"\",\"\",①データ登録!A238)","v":""},{"$f":"IF(①データ登録!B238=\"\",\"\",①データ登録!B238)","v":""},{"$f":"IF(①データ登録!C238=\"\",\"\",①データ登録!C238)","v":""}]
[null,null,null,null,null,null,null,null,null,null,null,null,{"$f":"IF(①データ登録!A239=\"\",\"\",①データ登録!A239)","v":""},{"$f":"IF(①データ登録!B239=\"\",\"\",①データ登録!B239)","v":""},{"$f":"IF(①データ登録!C239=\"\",\"\",①データ登録!C239)","v":""}]
[null,null,null,null,null,null,null,null,null,null,null,null,{"$f":"IF(①データ登録!A240=\"\",\"\",①データ登録!A240)","v":""},{"$f":"IF(①データ登録!B240=\"\",\"\",①データ登録!B240)","v":""},{"$f":"IF(①データ登録!C240=\"\",\"\",①データ登録!C240)","v":""}]
[null,null,null,null,null,null,null,null,null,null,null,null,{"$f":"IF(①データ登録!A241=\"\",\"\",①データ登録!A241)","v":""},{"$f":"IF(①データ登録!B241=\"\",\"\",①データ登録!B241)","v":""},{"$f":"IF(①データ登録!C241=\"\",\"\",①データ登録!C241)","v":""}]
[null,null,null,null,null,null,null,null,null,null,null,null,{"$f":"IF(①データ登録!A242=\"\",\"\",①データ登録!A242)","v":""},{"$f":"IF(①データ登録!B242=\"\",\"\",①データ登録!B242)","v":""},{"$f":"IF(①データ登録!C242=\"\",\"\",①データ登録!C242)","v":""}]
[null,null,null,null,null,null,null,null,null,null,null,null,{"$f":"IF(①データ登録!A243=\"\",\"\",①データ登録!A243)","v":""},{"$f":"IF(①データ登録!B243=\"\",\"\",①データ登録!B243)","v":""},{"$f":"IF(①データ登録!C243=\"\",\"\",①データ登録!C243)","v":""}]
[null,null,null,null,null,null,null,null,null,null,null,null,{"$f":"IF(①データ登録!A244=\"\",\"\",①データ登録!A244)","v":""},{"$f":"IF(①データ登録!B244=\"\",\"\",①データ登録!B244)","v":""},{"$f":"IF(①データ登録!C244=\"\",\"\",①データ登録!C244)","v":""}]
[null,null,null,null,null,null,null,null,null,null,null,null,{"$f":"IF(①データ登録!A245=\"\",\"\",①データ登録!A245)","v":""},{"$f":"IF(①データ登録!B245=\"\",\"\",①データ登録!B245)","v":""},{"$f":"IF(①データ登録!C245=\"\",\"\",①データ登録!C245)","v":""}]
[null,null,null,null,null,null,null,null,null,null,null,null,{"$f":"IF(①データ登録!A246=\"\",\"\",①データ登録!A246)","v":""},{"$f":"IF(①データ登録!B246=\"\",\"\",①データ登録!B246)","v":""},{"$f":"IF(①データ登録!C246=\"\",\"\",①データ登録!C246)","v":""}]
[null,null,null,null,null,null,null,null,null,null,null,null,{"$f":"IF(①データ登録!A247=\"\",\"\",①データ登録!A247)","v":""},{"$f":"IF(①データ登録!B247=\"\",\"\",①データ登録!B247)","v":""},{"$f":"IF(①データ登録!C247=\"\",\"\",①データ登録!C247)","v":""}]
[null,null,null,null,null,null,null,null,null,null,null,null,{"$f":"IF(①データ登録!A248=\"\",\"\",①データ登録!A248)","v":""},{"$f":"IF(①データ登録!B248=\"\",\"\",①データ登録!B248)","v":""},{"$f":"IF(①データ登録!C248=\"\",\"\",①データ登録!C248)","v":""}]
[null,null,null,null,null,null,null,null,null,null,null,null,{"$f":"IF(①データ登録!A249=\"\",\"\",①データ登録!A249)","v":""},{"$f":"IF(①データ登録!B249=\"\",\"\",①データ登録!B249)","v":""},{"$f":"IF(①データ登録!C249=\"\",\"\",①データ登録!C249)","v":""}]
[null,null,null,null,null,null,null,null,null,null,null,null,{"$f":"IF(①データ登録!A250=\"\",\"\",①データ登録!A250)","v":""},{"$f":"IF(①データ登録!B250=\"\",\"\",①データ登録!B250)","v":""},{"$f":"IF(①データ登録!C250=\"\",\"\",①データ登録!C250)","v":""}]
[null,null,null,null,null,null,null,null,null,null,null,null,{"$f":"IF(①データ登録!A251=\"\",\"\",①データ登録!A251)","v":""},{"$f":"IF(①データ登録!B251=\"\",\"\",①データ登録!B251)","v":""},{"$f":"IF(①データ登録!C251=\"\",\"\",①データ登録!C251)","v":""}]
[null,null,null,null,null,null,null,null,null,null,null,null,{"$f":"IF(①データ登録!A252=\"\",\"\",①データ登録!A252)","v":""},{"$f":"IF(①データ登録!B252=\"\",\"\",①データ登録!B252)","v":""},{"$f":"IF(①データ登録!C252=\"\",\"\",①データ登録!C252)","v":""}]
[null,null,null,null,null,null,null,null,null,null,null,null,{"$f":"IF(①データ登録!A253=\"\",\"\",①データ登録!A253)","v":""},{"$f":"IF(①データ登録!B253=\"\",\"\",①データ登録!B253)","v":""},{"$f":"IF(①データ登録!C253=\"\",\"\",①データ登録!C253)","v":""}]
[null,null,null,null,null,null,null,null,null,null,null,null,{"$f":"IF(①データ登録!A254=\"\",\"\",①データ登録!A254)","v":""},{"$f":"IF(①データ登録!B254=\"\",\"\",①データ登録!B254)","v":""},{"$f":"IF(①データ登録!C254=\"\",\"\",①データ登録!C254)","v":""}]
[null,null,null,null,null,null,null,null,null,null,null,null,{"$f":"IF(①データ登録!A255=\"\",\"\",①データ登録!A255)","v":""},{"$f":"IF(①データ登録!B255=\"\",\"\",①データ登録!B255)","v":""},{"$f":"IF(①データ登録!C255=\"\",\"\",①データ登録!C255)","v":""}]
[null,null,null,null,null,null,null,null,null,null,null,null,{"$f":"IF(①データ登録!A256=\"\",\"\",①データ登録!A256)","v":""},{"$f":"IF(①データ登録!B256=\"\",\"\",①データ登録!B256)","v":""},{"$f":"IF(①データ登録!C256=\"\",\"\",①データ登録!C256)","v":""}]
[null,null,null,null,null,null,null,null,null,null,null,null,{"$f":"IF(①データ登録!A257=\"\",\"\",①データ登録!A257)","v":""},{"$f":"IF(①データ登録!B257=\"\",\"\",①データ登録!B257)","v":""},{"$f":"IF(①データ登録!C257=\"\",\"\",①データ登録!C257)","v":""}]
[null,null,null,null,null,null,null,null,null,null,null,null,{"$f":"IF(①データ登録!A258=\"\",\"\",①データ登録!A258)","v":""},{"$f":"IF(①データ登録!B258=\"\",\"\",①データ登録!B258)","v":""},{"$f":"IF(①データ登録!C258=\"\",\"\",①データ登録!C258)","v":""}]
[null,null,null,null,null,null,null,null,null,null,null,null,{"$f":"IF(①データ登録!A259=\"\",\"\",①データ登録!A259)","v":""},{"$f":"IF(①データ登録!B259=\"\",\"\",①データ登録!B259)","v":""},{"$f":"IF(①データ登録!C259=\"\",\"\",①データ登録!C259)","v":""}]
[null,null,null,null,null,null,null,null,null,null,null,null,{"$f":"IF(①データ登録!A260=\"\",\"\",①データ登録!A260)","v":""},{"$f":"IF(①データ登録!B260=\"\",\"\",①データ登録!B260)","v":""},{"$f":"IF(①データ登録!C260=\"\",\"\",①データ登録!C260)","v":""}]
[null,null,null,null,null,null,null,null,null,null,null,null,{"$f":"IF(①データ登録!A261=\"\",\"\",①データ登録!A261)","v":""},{"$f":"IF(①データ登録!B261=\"\",\"\",①データ登録!B261)","v":""},{"$f":"IF(①データ登録!C261=\"\",\"\",①データ登録!C261)","v":""}]
[null,null,null,null,null,null,null,null,null,null,null,null,{"$f":"IF(①データ登録!A262=\"\",\"\",①データ登録!A262)","v":""},{"$f":"IF(①データ登録!B262=\"\",\"\",①データ登録!B262)","v":""},{"$f":"IF(①データ登録!C262=\"\",\"\",①データ登録!C262)","v":""}]
[null,null,null,null,null,null,null,null,null,null,null,null,{"$f":"IF(①データ登録!A263=\"\",\"\",①データ登録!A263)","v":""},{"$f":"IF(①データ登録!B263=\"\",\"\",①データ登録!B263)","v":""},{"$f":"IF(①データ登録!C263=\"\",\"\",①データ登録!C263)","v":""}]
[null,null,null,null,null,null,null,null,null,null,null,null,{"$f":"IF(①データ登録!A264=\"\",\"\",①データ登録!A264)","v":""},{"$f":"IF(①データ登録!B264=\"\",\"\",①データ登録!B264)","v":""},{"$f":"IF(①データ登録!C264=\"\",\"\",①データ登録!C264)","v":""}]
[null,null,null,null,null,null,null,null,null,null,null,null,{"$f":"IF(①データ登録!A265=\"\",\"\",①データ登録!A265)","v":""},{"$f":"IF(①データ登録!B265=\"\",\"\",①データ登録!B265)","v":""},{"$f":"IF(①データ登録!C265=\"\",\"\",①データ登録!C265)","v":""}]
[null,null,null,null,null,null,null,null,null,null,null,null,{"$f":"IF(①データ登録!A266=\"\",\"\",①データ登録!A266)","v":""},{"$f":"IF(①データ登録!B266=\"\",\"\",①データ登録!B266)","v":""},{"$f":"IF(①データ登録!C266=\"\",\"\",①データ登録!C266)","v":""}]
[null,null,null,null,null,null,null,null,null,null,null,null,{"$f":"IF(①データ登録!A267=\"\",\"\",①データ登録!A267)","v":""},{"$f":"IF(①データ登録!B267=\"\",\"\",①データ登録!B267)","v":""},{"$f":"IF(①データ登録!C267=\"\",\"\",①データ登録!C267)","v":""}]
[null,null,null,null,null,null,null,null,null,null,null,null,{"$f":"IF(①データ登録!A268=\"\",\"\",①データ登録!A268)","v":""},{"$f":"IF(①データ登録!B268=\"\",\"\",①データ登録!B268)","v":""},{"$f":"IF(①データ登録!C268=\"\",\"\",①データ登録!C268)","v":""}]
[null,null,null,null,null,null,null,null,null,null,null,null,{"$f":"IF(①データ登録!A269=\"\",\"\",①データ登録!A269)","v":""},{"$f":"IF(①データ登録!B269=\"\",\"\",①データ登録!B269)","v":""},{"$f":"IF(①データ登録!C269=\"\",\"\",①データ登録!C269)","v":""}]
[null,null,null,null,null,null,null,null,null,null,null,null,{"$f":"IF(①データ登録!A270=\"\",\"\",①データ登録!A270)","v":""},{"$f":"IF(①データ登録!B270=\"\",\"\",①データ登録!B270)","v":""},{"$f":"IF(①データ登録!C270=\"\",\"\",①データ登録!C270)","v":""}]
[null,null,null,null,null,null,null,null,null,null,null,null,{"$f":"IF(①データ登録!A271=\"\",\"\",①データ登録!A271)","v":""},{"$f":"IF(①データ登録!B271=\"\",\"\",①データ登録!B271)","v":""},{"$f":"IF(①データ登録!C271=\"\",\"\",①データ登録!C271)","v":""}]
[null,null,null,null,null,null,null,null,null,null,null,null,{"$f":"IF(①データ登録!A272=\"\",\"\",①データ登録!A272)","v":""},{"$f":"IF(①データ登録!B272=\"\",\"\",①データ登録!B272)","v":""},{"$f":"IF(①データ登録!C272=\"\",\"\",①データ登録!C272)","v":""}]
[null,null,null,null,null,null,null,null,null,null,null,null,{"$f":"IF(①データ登録!A273=\"\",\"\",①データ登録!A273)","v":""},{"$f":"IF(①データ登録!B273=\"\",\"\",①データ登録!B273)","v":""},{"$f":"IF(①データ登録!C273=\"\",\"\",①データ登録!C273)","v":""}]
[null,null,null,null,null,null,null,null,null,null,null,null,{"$f":"IF(①データ登録!A274=\"\",\"\",①データ登録!A274)","v":""},{"$f":"IF(①データ登録!B274=\"\",\"\",①データ登録!B274)","v":""},{"$f":"IF(①データ登録!C274=\"\",\"\",①データ登録!C274)","v":""}]
[null,null,null,null,null,null,null,null,null,null,null,null,{"$f":"IF(①データ登録!A275=\"\",\"\",①データ登録!A275)","v":""},{"$f":"IF(①データ登録!B275=\"\",\"\",①データ登録!B275)","v":""},{"$f":"IF(①データ登録!C275=\"\",\"\",①データ登録!C275)","v":""}]
[null,null,null,null,null,null,null,null,null,null,null,null,{"$f":"IF(①データ登録!A276=\"\",\"\",①データ登録!A276)","v":""},{"$f":"IF(①データ登録!B276=\"\",\"\",①データ登録!B276)","v":""},{"$f":"IF(①データ登録!C276=\"\",\"\",①データ登録!C276)","v":""}]
[null,null,null,null,null,null,null,null,null,null,null,null,{"$f":"IF(①データ登録!A277=\"\",\"\",①データ登録!A277)","v":""},{"$f":"IF(①データ登録!B277=\"\",\"\",①データ登録!B277)","v":""},{"$f":"IF(①データ登録!C277=\"\",\"\",①データ登録!C277)","v":""}]
[null,null,null,null,null,null,null,null,null,null,null,null,{"$f":"IF(①データ登録!A278=\"\",\"\",①データ登録!A278)","v":""},{"$f":"IF(①データ登録!B278=\"\",\"\",①データ登録!B278)","v":""},{"$f":"IF(①データ登録!C278=\"\",\"\",①データ登録!C278)","v":""}]
[null,null,null,null,null,null,null,null,null,null,null,null,{"$f":"IF(①データ登録!A279=\"\",\"\",①データ登録!A279)","v":""},{"$f":"IF(①データ登録!B279=\"\",\"\",①データ登録!B279)","v":""},{"$f":"IF(①データ登録!C279=\"\",\"\",①データ登録!C279)","v":""}]
[null,null,null,null,null,null,null,null,null,null,null,null,{"$f":"IF(①データ登録!A280=\"\",\"\",①データ登録!A280)","v":""},{"$f":"IF(①データ登録!B280=\"\",\"\",①データ登録!B280)","v":""},{"$f":"IF(①データ登録!C280=\"\",\"\",①データ登録!C280)","v":""}]
[null,null,null,null,null,null,null,null,null,null,null,null,{"$f":"IF(①データ登録!A281=\"\",\"\",①データ登録!A281)","v":""},{"$f":"IF(①データ登録!B281=\"\",\"\",①データ登録!B281)","v":""},{"$f":"IF(①データ登録!C281=\"\",\"\",①データ登録!C281)","v":""}]
[null,null,null,null,null,null,null,null,null,null,null,null,{"$f":"IF(①データ登録!A282=\"\",\"\",①データ登録!A282)","v":""},{"$f":"IF(①データ登録!B282=\"\",\"\",①データ登録!B282)","v":""},{"$f":"IF(①データ登録!C282=\"\",\"\",①データ登録!C282)","v":""}]
[null,null,null,null,null,null,null,null,null,null,null,null,{"$f":"IF(①データ登録!A283=\"\",\"\",①データ登録!A283)","v":""},{"$f":"IF(①データ登録!B283=\"\",\"\",①データ登録!B283)","v":""},{"$f":"IF(①データ登録!C283=\"\",\"\",①データ登録!C283)","v":""}]
[null,null,null,null,null,null,null,null,null,null,null,null,{"$f":"IF(①データ登録!A284=\"\",\"\",①データ登録!A284)","v":""},{"$f":"IF(①データ登録!B284=\"\",\"\",①データ登録!B284)","v":""},{"$f":"IF(①データ登録!C284=\"\",\"\",①データ登録!C284)","v":""}]
[null,null,null,null,null,null,null,null,null,null,null,null,{"$f":"IF(①データ登録!A285=\"\",\"\",①データ登録!A285)","v":""},{"$f":"IF(①データ登録!B285=\"\",\"\",①データ登録!B285)","v":""},{"$f":"IF(①データ登録!C285=\"\",\"\",①データ登録!C285)","v":""}]
[null,null,null,null,null,null,null,null,null,null,null,null,{"$f":"IF(①データ登録!A286=\"\",\"\",①データ登録!A286)","v":""},{"$f":"IF(①データ登録!B286=\"\",\"\",①データ登録!B286)","v":""},{"$f":"IF(①データ登録!C286=\"\",\"\",①データ登録!C286)","v":""}]
[null,null,null,null,null,null,null,null,null,null,null,null,{"$f":"IF(①データ登録!A287=\"\",\"\",①データ登録!A287)","v":""},{"$f":"IF(①データ登録!B287=\"\",\"\",①データ登録!B287)","v":""},{"$f":"IF(①データ登録!C287=\"\",\"\",①データ登録!C287)","v":""}]
[null,null,null,null,null,null,null,null,null,null,null,null,{"$f":"IF(①データ登録!A288=\"\",\"\",①データ登録!A288)","v":""},{"$f":"IF(①データ登録!B288=\"\",\"\",①データ登録!B288)","v":""},{"$f":"IF(①データ登録!C288=\"\",\"\",①データ登録!C288)","v":""}]
[null,null,null,null,null,null,null,null,null,null,null,null,{"$f":"IF(①データ登録!A289=\"\",\"\",①データ登録!A289)","v":""},{"$f":"IF(①データ登録!B289=\"\",\"\",①データ登録!B289)","v":""},{"$f":"IF(①データ登録!C289=\"\",\"\",①データ登録!C289)","v":""}]
[null,null,null,null,null,null,null,null,null,null,null,null,{"$f":"IF(①データ登録!A290=\"\",\"\",①データ登録!A290)","v":""},{"$f":"IF(①データ登録!B290=\"\",\"\",①データ登録!B290)","v":""},{"$f":"IF(①データ登録!C290=\"\",\"\",①データ登録!C290)","v":""}]
[null,null,null,null,null,null,null,null,null,null,null,null,{"$f":"IF(①データ登録!A291=\"\",\"\",①データ登録!A291)","v":""},{"$f":"IF(①データ登録!B291=\"\",\"\",①データ登録!B291)","v":""},{"$f":"IF(①データ登録!C291=\"\",\"\",①データ登録!C291)","v":""}]
[null,null,null,null,null,null,null,null,null,null,null,null,{"$f":"IF(①データ登録!A292=\"\",\"\",①データ登録!A292)","v":""},{"$f":"IF(①データ登録!B292=\"\",\"\",①データ登録!B292)","v":""},{"$f":"IF(①データ登録!C292=\"\",\"\",①データ登録!C292)","v":""}]
[null,null,null,null,null,null,null,null,null,null,null,null,{"$f":"IF(①データ登録!A293=\"\",\"\",①データ登録!A293)","v":""},{"$f":"IF(①データ登録!B293=\"\",\"\",①データ登録!B293)","v":""},{"$f":"IF(①データ登録!C293=\"\",\"\",①データ登録!C293)","v":""}]
[null,null,null,null,null,null,null,null,null,null,null,null,{"$f":"IF(①データ登録!A294=\"\",\"\",①データ登録!A294)","v":""},{"$f":"IF(①データ登録!B294=\"\",\"\",①データ登録!B294)","v":""},{"$f":"IF(①データ登録!C294=\"\",\"\",①データ登録!C294)","v":""}]
[null,null,null,null,null,null,null,null,null,null,null,null,{"$f":"IF(①データ登録!A295=\"\",\"\",①データ登録!A295)","v":""},{"$f":"IF(①データ登録!B295=\"\",\"\",①データ登録!B295)","v":""},{"$f":"IF(①データ登録!C295=\"\",\"\",①データ登録!C295)","v":""}]
[null,null,null,null,null,null,null,null,null,null,null,null,{"$f":"IF(①データ登録!A296=\"\",\"\",①データ登録!A296)","v":""},{"$f":"IF(①データ登録!B296=\"\",\"\",①データ登録!B296)","v":""},{"$f":"IF(①データ登録!C296=\"\",\"\",①データ登録!C296)","v":""}]
[null,null,null,null,null,null,null,null,null,null,null,null,{"$f":"IF(①データ登録!A297=\"\",\"\",①データ登録!A297)","v":""},{"$f":"IF(①データ登録!B297=\"\",\"\",①データ登録!B297)","v":""},{"$f":"IF(①データ登録!C297=\"\",\"\",①データ登録!C297)","v":""}]
[null,null,null,null,null,null,null,null,null,null,null,null,{"$f":"IF(①データ登録!A298=\"\",\"\",①データ登録!A298)","v":""},{"$f":"IF(①データ登録!B298=\"\",\"\",①データ登録!B298)","v":""},{"$f":"IF(①データ登録!C298=\"\",\"\",①データ登録!C298)","v":""}]
[null,null,null,null,null,null,null,null,null,null,null,null,{"$f":"IF(①データ登録!A299=\"\",\"\",①データ登録!A299)","v":""},{"$f":"IF(①データ登録!B299=\"\",\"\",①データ登録!B299)","v":""},{"$f":"IF(①データ登録!C299=\"\",\"\",①データ登録!C299)","v":""}]
[null,null,null,null,null,null,null,null,null,null,null,null,{"$f":"IF(①データ登録!A300=\"\",\"\",①データ登録!A300)","v":""},{"$f":"IF(①データ登録!B300=\"\",\"\",①データ登録!B300)","v":""},{"$f":"IF(①データ登録!C300=\"\",\"\",①データ登録!C300)","v":""}]
[null,null,null,null,null,null,null,null,null,null,null,null,{"$f":"IF(①データ登録!A301=\"\",\"\",①データ登録!A301)","v":""},{"$f":"IF(①データ登録!B301=\"\",\"\",①データ登録!B301)","v":""},{"$f":"IF(①データ登録!C301=\"\",\"\",①データ登録!C301)","v":""}]
[null,null,null,null,null,null,null,null,null,null,null,null,{"$f":"IF(①データ登録!A302=\"\",\"\",①データ登録!A302)","v":""},{"$f":"IF(①データ登録!B302=\"\",\"\",①データ登録!B302)","v":""},{"$f":"IF(①データ登録!C302=\"\",\"\",①データ登録!C302)","v":""}]
[null,null,null,null,null,null,null,null,null,null,null,null,{"$f":"IF(①データ登録!A303=\"\",\"\",①データ登録!A303)","v":""},{"$f":"IF(①データ登録!B303=\"\",\"\",①データ登録!B303)","v":""},{"$f":"IF(①データ登録!C303=\"\",\"\",①データ登録!C303)","v":""}]
[null,null,null,null,null,null,null,null,null,null,null,null,{"$f":"IF(①データ登録!A304=\"\",\"\",①データ登録!A304)","v":""},{"$f":"IF(①データ登録!B304=\"\",\"\",①データ登録!B304)","v":""},{"$f":"IF(①データ登録!C304=\"\",\"\",①データ登録!C304)","v":""}]
[null,null,null,null,null,null,null,null,null,null,null,null,{"$f":"IF(①データ登録!A305=\"\",\"\",①データ登録!A305)","v":""},{"$f":"IF(①データ登録!B305=\"\",\"\",①データ登録!B305)","v":""},{"$f":"IF(①データ登録!C305=\"\",\"\",①データ登録!C305)","v":""}]
[null,null,null,null,null,null,null,null,null,null,null,null,{"$f":"IF(①データ登録!A306=\"\",\"\",①データ登録!A306)","v":""},{"$f":"IF(①データ登録!B306=\"\",\"\",①データ登録!B306)","v":""},{"$f":"IF(①データ登録!C306=\"\",\"\",①データ登録!C306)","v":""}]
[null,null,null,null,null,null,null,null,null,null,null,null,{"$f":"IF(①データ登録!A307=\"\",\"\",①データ登録!A307)","v":""},{"$f":"IF(①データ登録!B307=\"\",\"\",①データ登録!B307)","v":""},{"$f":"IF(①データ登録!C307=\"\",\"\",①データ登録!C307)","v":""}]
[null,null,null,null,null,null,null,null,null,null,null,null,{"$f":"IF(①データ登録!A308=\"\",\"\",①データ登録!A308)","v":""},{"$f":"IF(①データ登録!B308=\"\",\"\",①データ登録!B308)","v":""},{"$f":"IF(①データ登録!C308=\"\",\"\",①データ登録!C308)","v":""}]
[null,null,null,null,null,null,null,null,null,null,null,null,{"$f":"IF(①データ登録!A309=\"\",\"\",①データ登録!A309)","v":""},{"$f":"IF(①データ登録!B309=\"\",\"\",①データ登録!B309)","v":""},{"$f":"IF(①データ登録!C309=\"\",\"\",①データ登録!C309)","v":""}]
[null,null,null,null,null,null,null,null,null,null,null,null,{"$f":"IF(①データ登録!A310=\"\",\"\",①データ登録!A310)","v":""},{"$f":"IF(①データ登録!B310=\"\",\"\",①データ登録!B310)","v":""},{"$f":"IF(①データ登録!C310=\"\",\"\",①データ登録!C310)","v":""}]
[null,null,null,null,null,null,null,null,null,null,null,null,{"$f":"IF(①データ登録!A311=\"\",\"\",①データ登録!A311)","v":""},{"$f":"IF(①データ登録!B311=\"\",\"\",①データ登録!B311)","v":""},{"$f":"IF(①データ登録!C311=\"\",\"\",①データ登録!C311)","v":""}]
[null,null,null,null,null,null,null,null,null,null,null,null,{"$f":"IF(①データ登録!A312=\"\",\"\",①データ登録!A312)","v":""},{"$f":"IF(①データ登録!B312=\"\",\"\",①データ登録!B312)","v":""},{"$f":"IF(①データ登録!C312=\"\",\"\",①データ登録!C312)","v":""}]
[null,null,null,null,null,null,null,null,null,null,null,null,{"$f":"IF(①データ登録!A313=\"\",\"\",①データ登録!A313)","v":""},{"$f":"IF(①データ登録!B313=\"\",\"\",①データ登録!B313)","v":""},{"$f":"IF(①データ登録!C313=\"\",\"\",①データ登録!C313)","v":""}]
[null,null,null,null,null,null,null,null,null,null,null,null,{"$f":"IF(①データ登録!A314=\"\",\"\",①データ登録!A314)","v":""},{"$f":"IF(①データ登録!B314=\"\",\"\",①データ登録!B314)","v":""},{"$f":"IF(①データ登録!C314=\"\",\"\",①データ登録!C314)","v":""}]
[null,null,null,null,null,null,null,null,null,null,null,null,{"$f":"IF(①データ登録!A315=\"\",\"\",①データ登録!A315)","v":""},{"$f":"IF(①データ登録!B315=\"\",\"\",①データ登録!B315)","v":""},{"$f":"IF(①データ登録!C315=\"\",\"\",①データ登録!C315)","v":""}]
[null,null,null,null,null,null,null,null,null,null,null,null,{"$f":"IF(①データ登録!A316=\"\",\"\",①データ登録!A316)","v":""},{"$f":"IF(①データ登録!B316=\"\",\"\",①データ登録!B316)","v":""},{"$f":"IF(①データ登録!C316=\"\",\"\",①データ登録!C316)","v":""}]
[null,null,null,null,null,null,null,null,null,null,null,null,{"$f":"IF(①データ登録!A317=\"\",\"\",①データ登録!A317)","v":""},{"$f":"IF(①データ登録!B317=\"\",\"\",①データ登録!B317)","v":""},{"$f":"IF(①データ登録!C317=\"\",\"\",①データ登録!C317)","v":""}]
[null,null,null,null,null,null,null,null,null,null,null,null,{"$f":"IF(①データ登録!A318=\"\",\"\",①データ登録!A318)","v":""},{"$f":"IF(①データ登録!B318=\"\",\"\",①データ登録!B318)","v":""},{"$f":"IF(①データ登録!C318=\"\",\"\",①データ登録!C318)","v":""}]
[null,null,null,null,null,null,null,null,null,null,null,null,{"$f":"IF(①データ登録!A319=\"\",\"\",①データ登録!A319)","v":""},{"$f":"IF(①データ登録!B319=\"\",\"\",①データ登録!B319)","v":""},{"$f":"IF(①データ登録!C319=\"\",\"\",①データ登録!C319)","v":""}]
[null,null,null,null,null,null,null,null,null,null,null,null,{"$f":"IF(①データ登録!A320=\"\",\"\",①データ登録!A320)","v":""},{"$f":"IF(①データ登録!B320=\"\",\"\",①データ登録!B320)","v":""},{"$f":"IF(①データ登録!C320=\"\",\"\",①データ登録!C320)","v":""}]
[null,null,null,null,null,null,null,null,null,null,null,null,{"$f":"IF(①データ登録!A321=\"\",\"\",①データ登録!A321)","v":""},{"$f":"IF(①データ登録!B321=\"\",\"\",①データ登録!B321)","v":""},{"$f":"IF(①データ登録!C321=\"\",\"\",①データ登録!C321)","v":""}]
[null,null,null,null,null,null,null,null,null,null,null,null,{"$f":"IF(①データ登録!A322=\"\",\"\",①データ登録!A322)","v":""},{"$f":"IF(①データ登録!B322=\"\",\"\",①データ登録!B322)","v":""},{"$f":"IF(①データ登録!C322=\"\",\"\",①データ登録!C322)","v":""}]
[null,null,null,null,null,null,null,null,null,null,null,null,{"$f":"IF(①データ登録!A323=\"\",\"\",①データ登録!A323)","v":""},{"$f":"IF(①データ登録!B323=\"\",\"\",①データ登録!B323)","v":""},{"$f":"IF(①データ登録!C323=\"\",\"\",①データ登録!C323)","v":""}]
[null,null,null,null,null,null,null,null,null,null,null,null,{"$f":"IF(①データ登録!A324=\"\",\"\",①データ登録!A324)","v":""},{"$f":"IF(①データ登録!B324=\"\",\"\",①データ登録!B324)","v":""},{"$f":"IF(①データ登録!C324=\"\",\"\",①データ登録!C324)","v":""}]
[null,null,null,null,null,null,null,null,null,null,null,null,{"$f":"IF(①データ登録!A325=\"\",\"\",①データ登録!A325)","v":""},{"$f":"IF(①データ登録!B325=\"\",\"\",①データ登録!B325)","v":""},{"$f":"IF(①データ登録!C325=\"\",\"\",①データ登録!C325)","v":""}]
[null,null,null,null,null,null,null,null,null,null,null,null,{"$f":"IF(①データ登録!A326=\"\",\"\",①データ登録!A326)","v":""},{"$f":"IF(①データ登録!B326=\"\",\"\",①データ登録!B326)","v":""},{"$f":"IF(①データ登録!C326=\"\",\"\",①データ登録!C326)","v":""}]
[null,null,null,null,null,null,null,null,null,null,null,null,{"$f":"IF(①データ登録!A327=\"\",\"\",①データ登録!A327)","v":""},{"$f":"IF(①データ登録!B327=\"\",\"\",①データ登録!B327)","v":""},{"$f":"IF(①データ登録!C327=\"\",\"\",①データ登録!C327)","v":""}]
[null,null,null,null,null,null,null,null,null,null,null,null,{"$f":"IF(①データ登録!A328=\"\",\"\",①データ登録!A328)","v":""},{"$f":"IF(①データ登録!B328=\"\",\"\",①データ登録!B328)","v":""},{"$f":"IF(①データ登録!C328=\"\",\"\",①データ登録!C328)","v":""}]
[null,null,null,null,null,null,null,null,null,null,null,null,{"$f":"IF(①データ登録!A329=\"\",\"\",①データ登録!A329)","v":""},{"$f":"IF(①データ登録!B329=\"\",\"\",①データ登録!B329)","v":""},{"$f":"IF(①データ登録!C329=\"\",\"\",①データ登録!C329)","v":""}]
[null,null,null,null,null,null,null,null,null,null,null,null,{"$f":"IF(①データ登録!A330=\"\",\"\",①データ登録!A330)","v":""},{"$f":"IF(①データ登録!B330=\"\",\"\",①データ登録!B330)","v":""},{"$f":"IF(①データ登録!C330=\"\",\"\",①データ登録!C330)","v":""}]
[null,null,null,null,null,null,null,null,null,null,null,null,{"$f":"IF(①データ登録!A331=\"\",\"\",①データ登録!A331)","v":""},{"$f":"IF(①データ登録!B331=\"\",\"\",①データ登録!B331)","v":""},{"$f":"IF(①データ登録!C331=\"\",\"\",①データ登録!C331)","v":""}]
[null,null,null,null,null,null,null,null,null,null,null,null,{"$f":"IF(①データ登録!A332=\"\",\"\",①データ登録!A332)","v":""},{"$f":"IF(①データ登録!B332=\"\",\"\",①データ登録!B332)","v":""},{"$f":"IF(①データ登録!C332=\"\",\"\",①データ登録!C332)","v":""}]
[null,null,null,null,null,null,null,null,null,null,null,null,{"$f":"IF(①データ登録!A333=\"\",\"\",①データ登録!A333)","v":""},{"$f":"IF(①データ登録!B333=\"\",\"\",①データ登録!B333)","v":""},{"$f":"IF(①データ登録!C333=\"\",\"\",①データ登録!C333)","v":""}]
[null,null,null,null,null,null,null,null,null,null,null,null,{"$f":"IF(①データ登録!A334=\"\",\"\",①データ登録!A334)","v":""},{"$f":"IF(①データ登録!B334=\"\",\"\",①データ登録!B334)","v":""},{"$f":"IF(①データ登録!C334=\"\",\"\",①データ登録!C334)","v":""}]
[null,null,null,null,null,null,null,null,null,null,null,null,{"$f":"IF(①データ登録!A335=\"\",\"\",①データ登録!A335)","v":""},{"$f":"IF(①データ登録!B335=\"\",\"\",①データ登録!B335)","v":""},{"$f":"IF(①データ登録!C335=\"\",\"\",①データ登録!C335)","v":""}]
[null,null,null,null,null,null,null,null,null,null,null,null,{"$f":"IF(①データ登録!A336=\"\",\"\",①データ登録!A336)","v":""},{"$f":"IF(①データ登録!B336=\"\",\"\",①データ登録!B336)","v":""},{"$f":"IF(①データ登録!C336=\"\",\"\",①データ登録!C336)","v":""}]
[null,null,null,null,null,null,null,null,null,null,null,null,{"$f":"IF(①データ登録!A337=\"\",\"\",①データ登録!A337)","v":""},{"$f":"IF(①データ登録!B337=\"\",\"\",①データ登録!B337)","v":""},{"$f":"IF(①データ登録!C337=\"\",\"\",①データ登録!C337)","v":""}]
[null,null,null,null,null,null,null,null,null,null,null,null,{"$f":"IF(①データ登録!A338=\"\",\"\",①データ登録!A338)","v":""},{"$f":"IF(①データ登録!B338=\"\",\"\",①データ登録!B338)","v":""},{"$f":"IF(①データ登録!C338=\"\",\"\",①データ登録!C338)","v":""}]
[null,null,null,null,null,null,null,null,null,null,null,null,{"$f":"IF(①データ登録!A339=\"\",\"\",①データ登録!A339)","v":""},{"$f":"IF(①データ登録!B339=\"\",\"\",①データ登録!B339)","v":""},{"$f":"IF(①データ登録!C339=\"\",\"\",①データ登録!C339)","v":""}]
[null,null,null,null,null,null,null,null,null,null,null,null,{"$f":"IF(①データ登録!A340=\"\",\"\",①データ登録!A340)","v":""},{"$f":"IF(①データ登録!B340=\"\",\"\",①データ登録!B340)","v":""},{"$f":"IF(①データ登録!C340=\"\",\"\",①データ登録!C340)","v":""}]
[null,null,null,null,null,null,null,null,null,null,null,null,{"$f":"IF(①データ登録!A341=\"\",\"\",①データ登録!A341)","v":""},{"$f":"IF(①データ登録!B341=\"\",\"\",①データ登録!B341)","v":""},{"$f":"IF(①データ登録!C341=\"\",\"\",①データ登録!C341)","v":""}]
[null,null,null,null,null,null,null,null,null,null,null,null,{"$f":"IF(①データ登録!A342=\"\",\"\",①データ登録!A342)","v":""},{"$f":"IF(①データ登録!B342=\"\",\"\",①データ登録!B342)","v":""},{"$f":"IF(①データ登録!C342=\"\",\"\",①データ登録!C342)","v":""}]
[null,null,null,null,null,null,null,null,null,null,null,null,{"$f":"IF(①データ登録!A343=\"\",\"\",①データ登録!A343)","v":""},{"$f":"IF(①データ登録!B343=\"\",\"\",①データ登録!B343)","v":""},{"$f":"IF(①データ登録!C343=\"\",\"\",①データ登録!C343)","v":""}]
[null,null,null,null,null,null,null,null,null,null,null,null,{"$f":"IF(①データ登録!A344=\"\",\"\",①データ登録!A344)","v":""},{"$f":"IF(①データ登録!B344=\"\",\"\",①データ登録!B344)","v":""},{"$f":"IF(①データ登録!C344=\"\",\"\",①データ登録!C344)","v":""}]
[null,null,null,null,null,null,null,null,null,null,null,null,{"$f":"IF(①データ登録!A345=\"\",\"\",①データ登録!A345)","v":""},{"$f":"IF(①データ登録!B345=\"\",\"\",①データ登録!B345)","v":""},{"$f":"IF(①データ登録!C345=\"\",\"\",①データ登録!C345)","v":""}]
[null,null,null,null,null,null,null,null,null,null,null,null,{"$f":"IF(①データ登録!A346=\"\",\"\",①データ登録!A346)","v":""},{"$f":"IF(①データ登録!B346=\"\",\"\",①データ登録!B346)","v":""},{"$f":"IF(①データ登録!C346=\"\",\"\",①データ登録!C346)","v":""}]
[null,null,null,null,null,null,null,null,null,null,null,null,{"$f":"IF(①データ登録!A347=\"\",\"\",①データ登録!A347)","v":""},{"$f":"IF(①データ登録!B347=\"\",\"\",①データ登録!B347)","v":""},{"$f":"IF(①データ登録!C347=\"\",\"\",①データ登録!C347)","v":""}]
[null,null,null,null,null,null,null,null,null,null,null,null,{"$f":"IF(①データ登録!A348=\"\",\"\",①データ登録!A348)","v":""},{"$f":"IF(①データ登録!B348=\"\",\"\",①データ登録!B348)","v":""},{"$f":"IF(①データ登録!C348=\"\",\"\",①データ登録!C348)","v":""}]
[null,null,null,null,null,null,null,null,null,null,null,null,{"$f":"IF(①データ登録!A349=\"\",\"\",①データ登録!A349)","v":""},{"$f":"IF(①データ登録!B349=\"\",\"\",①データ登録!B349)","v":""},{"$f":"IF(①データ登録!C349=\"\",\"\",①データ登録!C349)","v":""}]
[null,null,null,null,null,null,null,null,null,null,null,null,{"$f":"IF(①データ登録!A350=\"\",\"\",①データ登録!A350)","v":""},{"$f":"IF(①データ登録!B350=\"\",\"\",①データ登録!B350)","v":""},{"$f":"IF(①データ登録!C350=\"\",\"\",①データ登録!C350)","v":""}]
[null,null,null,null,null,null,null,null,null,null,null,null,{"$f":"IF(①データ登録!A351=\"\",\"\",①データ登録!A351)","v":""},{"$f":"IF(①データ登録!B351=\"\",\"\",①データ登録!B351)","v":""},{"$f":"IF(①データ登録!C351=\"\",\"\",①データ登録!C351)","v":""}]
[null,null,null,null,null,null,null,null,null,null,null,null,{"$f":"IF(①データ登録!A352=\"\",\"\",①データ登録!A352)","v":""},{"$f":"IF(①データ登録!B352=\"\",\"\",①データ登録!B352)","v":""},{"$f":"IF(①データ登録!C352=\"\",\"\",①データ登録!C352)","v":""}]
[null,null,null,null,null,null,null,null,null,null,null,null,{"$f":"IF(①データ登録!A353=\"\",\"\",①データ登録!A353)","v":""},{"$f":"IF(①データ登録!B353=\"\",\"\",①データ登録!B353)","v":""},{"$f":"IF(①データ登録!C353=\"\",\"\",①データ登録!C353)","v":""}]
[null,null,null,null,null,null,null,null,null,null,null,null,{"$f":"IF(①データ登録!A354=\"\",\"\",①データ登録!A354)","v":""},{"$f":"IF(①データ登録!B354=\"\",\"\",①データ登録!B354)","v":""},{"$f":"IF(①データ登録!C354=\"\",\"\",①データ登録!C354)","v":""}]
[null,null,null,null,null,null,null,null,null,null,null,null,{"$f":"IF(①データ登録!A355=\"\",\"\",①データ登録!A355)","v":""},{"$f":"IF(①データ登録!B355=\"\",\"\",①データ登録!B355)","v":""},{"$f":"IF(①データ登録!C355=\"\",\"\",①データ登録!C355)","v":""}]
[null,null,null,null,null,null,null,null,null,null,null,null,{"$f":"IF(①データ登録!A356=\"\",\"\",①データ登録!A356)","v":""},{"$f":"IF(①データ登録!B356=\"\",\"\",①データ登録!B356)","v":""},{"$f":"IF(①データ登録!C356=\"\",\"\",①データ登録!C356)","v":""}]
[null,null,null,null,null,null,null,null,null,null,null,null,{"$f":"IF(①データ登録!A357=\"\",\"\",①データ登録!A357)","v":""},{"$f":"IF(①データ登録!B357=\"\",\"\",①データ登録!B357)","v":""},{"$f":"IF(①データ登録!C357=\"\",\"\",①データ登録!C357)","v":""}]
[null,null,null,null,null,null,null,null,null,null,null,null,{"$f":"IF(①データ登録!A358=\"\",\"\",①データ登録!A358)","v":""},{"$f":"IF(①データ登録!B358=\"\",\"\",①データ登録!B358)","v":""},{"$f":"IF(①データ登録!C358=\"\",\"\",①データ登録!C358)","v":""}]
[null,null,null,null,null,null,null,null,null,null,null,null,{"$f":"IF(①データ登録!A359=\"\",\"\",①データ登録!A359)","v":""},{"$f":"IF(①データ登録!B359=\"\",\"\",①データ登録!B359)","v":""},{"$f":"IF(①データ登録!C359=\"\",\"\",①データ登録!C359)","v":""}]
[null,null,null,null,null,null,null,null,null,null,null,null,{"$f":"IF(①データ登録!A360=\"\",\"\",①データ登録!A360)","v":""},{"$f":"IF(①データ登録!B360=\"\",\"\",①データ登録!B360)","v":""},{"$f":"IF(①データ登録!C360=\"\",\"\",①データ登録!C360)","v":""}]
[null,null,null,null,null,null,null,null,null,null,null,null,{"$f":"IF(①データ登録!A361=\"\",\"\",①データ登録!A361)","v":""},{"$f":"IF(①データ登録!B361=\"\",\"\",①データ登録!B361)","v":""},{"$f":"IF(①データ登録!C361=\"\",\"\",①データ登録!C361)","v":""}]
[null,null,null,null,null,null,null,null,null,null,null,null,{"$f":"IF(①データ登録!A362=\"\",\"\",①データ登録!A362)","v":""},{"$f":"IF(①データ登録!B362=\"\",\"\",①データ登録!B362)","v":""},{"$f":"IF(①データ登録!C362=\"\",\"\",①データ登録!C362)","v":""}]
[null,null,null,null,null,null,null,null,null,null,null,null,{"$f":"IF(①データ登録!A363=\"\",\"\",①データ登録!A363)","v":""},{"$f":"IF(①データ登録!B363=\"\",\"\",①データ登録!B363)","v":""},{"$f":"IF(①データ登録!C363=\"\",\"\",①データ登録!C363)","v":""}]
[null,null,null,null,null,null,null,null,null,null,null,null,{"$f":"IF(①データ登録!A364=\"\",\"\",①データ登録!A364)","v":""},{"$f":"IF(①データ登録!B364=\"\",\"\",①データ登録!B364)","v":""},{"$f":"IF(①データ登録!C364=\"\",\"\",①データ登録!C364)","v":""}]
[null,null,null,null,null,null,null,null,null,null,null,null,{"$f":"IF(①データ登録!A365=\"\",\"\",①データ登録!A365)","v":""},{"$f":"IF(①データ登録!B365=\"\",\"\",①データ登録!B365)","v":""},{"$f":"IF(①データ登録!C365=\"\",\"\",①データ登録!C365)","v":""}]
[null,null,null,null,null,null,null,null,null,null,null,null,{"$f":"IF(①データ登録!A366=\"\",\"\",①データ登録!A366)","v":""},{"$f":"IF(①データ登録!B366=\"\",\"\",①データ登録!B366)","v":""},{"$f":"IF(①データ登録!C366=\"\",\"\",①データ登録!C366)","v":""}]
[null,null,null,null,null,null,null,null,null,null,null,null,{"$f":"IF(①データ登録!A367=\"\",\"\",①データ登録!A367)","v":""},{"$f":"IF(①データ登録!B367=\"\",\"\",①データ登録!B367)","v":""},{"$f":"IF(①データ登録!C367=\"\",\"\",①データ登録!C367)","v":""}]
[null,null,null,null,null,null,null,null,null,null,null,null,{"$f":"IF(①データ登録!A368=\"\",\"\",①データ登録!A368)","v":""},{"$f":"IF(①データ登録!B368=\"\",\"\",①データ登録!B368)","v":""},{"$f":"IF(①データ登録!C368=\"\",\"\",①データ登録!C368)","v":""}]
[null,null,null,null,null,null,null,null,null,null,null,null,{"$f":"IF(①データ登録!A369=\"\",\"\",①データ登録!A369)","v":""},{"$f":"IF(①データ登録!B369=\"\",\"\",①データ登録!B369)","v":""},{"$f":"IF(①データ登録!C369=\"\",\"\",①データ登録!C369)","v":""}]
[null,null,null,null,null,null,null,null,null,null,null,null,{"$f":"IF(①データ登録!A370=\"\",\"\",①データ登録!A370)","v":""},{"$f":"IF(①データ登録!B370=\"\",\"\",①データ登録!B370)","v":""},{"$f":"IF(①データ登録!C370=\"\",\"\",①データ登録!C370)","v":""}]
[null,null,null,null,null,null,null,null,null,null,null,null,{"$f":"IF(①データ登録!A371=\"\",\"\",①データ登録!A371)","v":""},{"$f":"IF(①データ登録!B371=\"\",\"\",①データ登録!B371)","v":""},{"$f":"IF(①データ登録!C371=\"\",\"\",①データ登録!C371)","v":""}]
[null,null,null,null,null,null,null,null,null,null,null,null,{"$f":"IF(①データ登録!A372=\"\",\"\",①データ登録!A372)","v":""},{"$f":"IF(①データ登録!B372=\"\",\"\",①データ登録!B372)","v":""},{"$f":"IF(①データ登録!C372=\"\",\"\",①データ登録!C372)","v":""}]
[null,null,null,null,null,null,null,null,null,null,null,null,{"$f":"IF(①データ登録!A373=\"\",\"\",①データ登録!A373)","v":""},{"$f":"IF(①データ登録!B373=\"\",\"\",①データ登録!B373)","v":""},{"$f":"IF(①データ登録!C373=\"\",\"\",①データ登録!C373)","v":""}]
[null,null,null,null,null,null,null,null,null,null,null,null,{"$f":"IF(①データ登録!A374=\"\",\"\",①データ登録!A374)","v":""},{"$f":"IF(①データ登録!B374=\"\",\"\",①データ登録!B374)","v":""},{"$f":"IF(①データ登録!C374=\"\",\"\",①データ登録!C374)","v":""}]
[null,null,null,null,null,null,null,null,null,null,null,null,{"$f":"IF(①データ登録!A375=\"\",\"\",①データ登録!A375)","v":""},{"$f":"IF(①データ登録!B375=\"\",\"\",①データ登録!B375)","v":""},{"$f":"IF(①データ登録!C375=\"\",\"\",①データ登録!C375)","v":""}]
[null,null,null,null,null,null,null,null,null,null,null,null,{"$f":"IF(①データ登録!A376=\"\",\"\",①データ登録!A376)","v":""},{"$f":"IF(①データ登録!B376=\"\",\"\",①データ登録!B376)","v":""},{"$f":"IF(①データ登録!C376=\"\",\"\",①データ登録!C376)","v":""}]
[null,null,null,null,null,null,null,null,null,null,null,null,{"$f":"IF(①データ登録!A377=\"\",\"\",①データ登録!A377)","v":""},{"$f":"IF(①データ登録!B377=\"\",\"\",①データ登録!B377)","v":""},{"$f":"IF(①データ登録!C377=\"\",\"\",①データ登録!C377)","v":""}]
[null,null,null,null,null,null,null,null,null,null,null,null,{"$f":"IF(①データ登録!A378=\"\",\"\",①データ登録!A378)","v":""},{"$f":"IF(①データ登録!B378=\"\",\"\",①データ登録!B378)","v":""},{"$f":"IF(①データ登録!C378=\"\",\"\",①データ登録!C378)","v":""}]
[null,null,null,null,null,null,null,null,null,null,null,null,{"$f":"IF(①データ登録!A379=\"\",\"\",①データ登録!A379)","v":""},{"$f":"IF(①データ登録!B379=\"\",\"\",①データ登録!B379)","v":""},{"$f":"IF(①データ登録!C379=\"\",\"\",①データ登録!C379)","v":""}]
[null,null,null,null,null,null,null,null,null,null,null,null,{"$f":"IF(①データ登録!A380=\"\",\"\",①データ登録!A380)","v":""},{"$f":"IF(①データ登録!B380=\"\",\"\",①データ登録!B380)","v":""},{"$f":"IF(①データ登録!C380=\"\",\"\",①データ登録!C380)","v":""}]
[null,null,null,null,null,null,null,null,null,null,null,null,{"$f":"IF(①データ登録!A381=\"\",\"\",①データ登録!A381)","v":""},{"$f":"IF(①データ登録!B381=\"\",\"\",①データ登録!B381)","v":""},{"$f":"IF(①データ登録!C381=\"\",\"\",①データ登録!C381)","v":""}]
[null,null,null,null,null,null,null,null,null,null,null,null,{"$f":"IF(①データ登録!A382=\"\",\"\",①データ登録!A382)","v":""},{"$f":"IF(①データ登録!B382=\"\",\"\",①データ登録!B382)","v":""},{"$f":"IF(①データ登録!C382=\"\",\"\",①データ登録!C382)","v":""}]
[null,null,null,null,null,null,null,null,null,null,null,null,{"$f":"IF(①データ登録!A383=\"\",\"\",①データ登録!A383)","v":""},{"$f":"IF(①データ登録!B383=\"\",\"\",①データ登録!B383)","v":""},{"$f":"IF(①データ登録!C383=\"\",\"\",①データ登録!C383)","v":""}]
[null,null,null,null,null,null,null,null,null,null,null,null,{"$f":"IF(①データ登録!A384=\"\",\"\",①データ登録!A384)","v":""},{"$f":"IF(①データ登録!B384=\"\",\"\",①データ登録!B384)","v":""},{"$f":"IF(①データ登録!C384=\"\",\"\",①データ登録!C384)","v":""}]
[null,null,null,null,null,null,null,null,null,null,null,null,{"$f":"IF(①データ登録!A385=\"\",\"\",①データ登録!A385)","v":""},{"$f":"IF(①データ登録!B385=\"\",\"\",①データ登録!B385)","v":""},{"$f":"IF(①データ登録!C385=\"\",\"\",①データ登録!C385)","v":""}]
[null,null,null,null,null,null,null,null,null,null,null,null,{"$f":"IF(①データ登録!A386=\"\",\"\",①データ登録!A386)","v":""},{"$f":"IF(①データ登録!B386=\"\",\"\",①データ登録!B386)","v":""},{"$f":"IF(①データ登録!C386=\"\",\"\",①データ登録!C386)","v":""}]
[null,null,null,null,null,null,null,null,null,null,null,null,{"$f":"IF(①データ登録!A387=\"\",\"\",①データ登録!A387)","v":""},{"$f":"IF(①データ登録!B387=\"\",\"\",①データ登録!B387)","v":""},{"$f":"IF(①データ登録!C387=\"\",\"\",①データ登録!C387)","v":""}]
[null,null,null,null,null,null,null,null,null,null,null,null,{"$f":"IF(①データ登録!A388=\"\",\"\",①データ登録!A388)","v":""},{"$f":"IF(①データ登録!B388=\"\",\"\",①データ登録!B388)","v":""},{"$f":"IF(①データ登録!C388=\"\",\"\",①データ登録!C388)","v":""}]
[null,null,null,null,null,null,null,null,null,null,null,null,{"$f":"IF(①データ登録!A389=\"\",\"\",①データ登録!A389)","v":""},{"$f":"IF(①データ登録!B389=\"\",\"\",①データ登録!B389)","v":""},{"$f":"IF(①データ登録!C389=\"\",\"\",①データ登録!C389)","v":""}]
[null,null,null,null,null,null,null,null,null,null,null,null,{"$f":"IF(①データ登録!A390=\"\",\"\",①データ登録!A390)","v":""},{"$f":"IF(①データ登録!B390=\"\",\"\",①データ登録!B390)","v":""},{"$f":"IF(①データ登録!C390=\"\",\"\",①データ登録!C390)","v":""}]
[null,null,null,null,null,null,null,null,null,null,null,null,{"$f":"IF(①データ登録!A391=\"\",\"\",①データ登録!A391)","v":""},{"$f":"IF(①データ登録!B391=\"\",\"\",①データ登録!B391)","v":""},{"$f":"IF(①データ登録!C391=\"\",\"\",①データ登録!C391)","v":""}]
[null,null,null,null,null,null,null,null,null,null,null,null,{"$f":"IF(①データ登録!A392=\"\",\"\",①データ登録!A392)","v":""},{"$f":"IF(①データ登録!B392=\"\",\"\",①データ登録!B392)","v":""},{"$f":"IF(①データ登録!C392=\"\",\"\",①データ登録!C392)","v":""}]
[null,null,null,null,null,null,null,null,null,null,null,null,{"$f":"IF(①データ登録!A393=\"\",\"\",①データ登録!A393)","v":""},{"$f":"IF(①データ登録!B393=\"\",\"\",①データ登録!B393)","v":""},{"$f":"IF(①データ登録!C393=\"\",\"\",①データ登録!C393)","v":""}]
[null,null,null,null,null,null,null,null,null,null,null,null,{"$f":"IF(①データ登録!A394=\"\",\"\",①データ登録!A394)","v":""},{"$f":"IF(①データ登録!B394=\"\",\"\",①データ登録!B394)","v":""},{"$f":"IF(①データ登録!C394=\"\",\"\",①データ登録!C394)","v":""}]
[null,null,null,null,null,null,null,null,null,null,null,null,{"$f":"IF(①データ登録!A395=\"\",\"\",①データ登録!A395)","v":""},{"$f":"IF(①データ登録!B395=\"\",\"\",①データ登録!B395)","v":""},{"$f":"IF(①データ登録!C395=\"\",\"\",①データ登録!C395)","v":""}]
[null,null,null,null,null,null,null,null,null,null,null,null,{"$f":"IF(①データ登録!A396=\"\",\"\",①データ登録!A396)","v":""},{"$f":"IF(①データ登録!B396=\"\",\"\",①データ登録!B396)","v":""},{"$f":"IF(①データ登録!C396=\"\",\"\",①データ登録!C396)","v":""}]
[null,null,null,null,null,null,null,null,null,null,null,null,{"$f":"IF(①データ登録!A397=\"\",\"\",①データ登録!A397)","v":""},{"$f":"IF(①データ登録!B397=\"\",\"\",①データ登録!B397)","v":""},{"$f":"IF(①データ登録!C397=\"\",\"\",①データ登録!C397)","v":""}]
[null,null,null,null,null,null,null,null,null,null,null,null,{"$f":"IF(①データ登録!A398=\"\",\"\",①データ登録!A398)","v":""},{"$f":"IF(①データ登録!B398=\"\",\"\",①データ登録!B398)","v":""},{"$f":"IF(①データ登録!C398=\"\",\"\",①データ登録!C398)","v":""}]
[null,null,null,null,null,null,null,null,null,null,null,null,{"$f":"IF(①データ登録!A399=\"\",\"\",①データ登録!A399)","v":""},{"$f":"IF(①データ登録!B399=\"\",\"\",①データ登録!B399)","v":""},{"$f":"IF(①データ登録!C399=\"\",\"\",①データ登録!C399)","v":""}]
[null,null,null,null,null,null,null,null,null,null,null,null,{"$f":"IF(①データ登録!A400=\"\",\"\",①データ登録!A400)","v":""},{"$f":"IF(①データ登録!B400=\"\",\"\",①データ登録!B400)","v":""},{"$f":"IF(①データ登録!C400=\"\",\"\",①データ登録!C400)","v":""}]
[null,null,null,null,null,null,null,null,null,null,null,null,{"$f":"IF(①データ登録!A401=\"\",\"\",①データ登録!A401)","v":""},{"$f":"IF(①データ登録!B401=\"\",\"\",①データ登録!B401)","v":""},{"$f":"IF(①データ登録!C401=\"\",\"\",①データ登録!C401)","v":""}]
[null,null,null,null,null,null,null,null,null,null,null,null,{"$f":"IF(①データ登録!A402=\"\",\"\",①データ登録!A402)","v":""},{"$f":"IF(①データ登録!B402=\"\",\"\",①データ登録!B402)","v":""},{"$f":"IF(①データ登録!C402=\"\",\"\",①データ登録!C402)","v":""}]
[null,null,null,null,null,null,null,null,null,null,null,null,{"$f":"IF(①データ登録!A403=\"\",\"\",①データ登録!A403)","v":""},{"$f":"IF(①データ登録!B403=\"\",\"\",①データ登録!B403)","v":""},{"$f":"IF(①データ登録!C403=\"\",\"\",①データ登録!C403)","v":""}]
[null,null,null,null,null,null,null,null,null,null,null,null,{"$f":"IF(①データ登録!A404=\"\",\"\",①データ登録!A404)","v":""},{"$f":"IF(①データ登録!B404=\"\",\"\",①データ登録!B404)","v":""},{"$f":"IF(①データ登録!C404=\"\",\"\",①データ登録!C404)","v":""}]
[null,null,null,null,null,null,null,null,null,null,null,null,{"$f":"IF(①データ登録!A405=\"\",\"\",①データ登録!A405)","v":""},{"$f":"IF(①データ登録!B405=\"\",\"\",①データ登録!B405)","v":""},{"$f":"IF(①データ登録!C405=\"\",\"\",①データ登録!C405)","v":""}]
[null,null,null,null,null,null,null,null,null,null,null,null,{"$f":"IF(①データ登録!A406=\"\",\"\",①データ登録!A406)","v":""},{"$f":"IF(①データ登録!B406=\"\",\"\",①データ登録!B406)","v":""},{"$f":"IF(①データ登録!C406=\"\",\"\",①データ登録!C406)","v":""}]
[null,null,null,null,null,null,null,null,null,null,null,null,{"$f":"IF(①データ登録!A407=\"\",\"\",①データ登録!A407)","v":""},{"$f":"IF(①データ登録!B407=\"\",\"\",①データ登録!B407)","v":""},{"$f":"IF(①データ登録!C407=\"\",\"\",①データ登録!C407)","v":""}]
[null,null,null,null,null,null,null,null,null,null,null,null,{"$f":"IF(①データ登録!A408=\"\",\"\",①データ登録!A408)","v":""},{"$f":"IF(①データ登録!B408=\"\",\"\",①データ登録!B408)","v":""},{"$f":"IF(①データ登録!C408=\"\",\"\",①データ登録!C408)","v":""}]
[null,null,null,null,null,null,null,null,null,null,null,null,{"$f":"IF(①データ登録!A409=\"\",\"\",①データ登録!A409)","v":""},{"$f":"IF(①データ登録!B409=\"\",\"\",①データ登録!B409)","v":""},{"$f":"IF(①データ登録!C409=\"\",\"\",①データ登録!C409)","v":""}]
[null,null,null,null,null,null,null,null,null,null,null,null,{"$f":"IF(①データ登録!A410=\"\",\"\",①データ登録!A410)","v":""},{"$f":"IF(①データ登録!B410=\"\",\"\",①データ登録!B410)","v":""},{"$f":"IF(①データ登録!C410=\"\",\"\",①データ登録!C410)","v":""}]
[null,null,null,null,null,null,null,null,null,null,null,null,{"$f":"IF(①データ登録!A411=\"\",\"\",①データ登録!A411)","v":""},{"$f":"IF(①データ登録!B411=\"\",\"\",①データ登録!B411)","v":""},{"$f":"IF(①データ登録!C411=\"\",\"\",①データ登録!C411)","v":""}]
[null,null,null,null,null,null,null,null,null,null,null,null,{"$f":"IF(①データ登録!A412=\"\",\"\",①データ登録!A412)","v":""},{"$f":"IF(①データ登録!B412=\"\",\"\",①データ登録!B412)","v":""},{"$f":"IF(①データ登録!C412=\"\",\"\",①データ登録!C412)","v":""}]
[null,null,null,null,null,null,null,null,null,null,null,null,{"$f":"IF(①データ登録!A413=\"\",\"\",①データ登録!A413)","v":""},{"$f":"IF(①データ登録!B413=\"\",\"\",①データ登録!B413)","v":""},{"$f":"IF(①データ登録!C413=\"\",\"\",①データ登録!C413)","v":""}]
[null,null,null,null,null,null,null,null,null,null,null,null,{"$f":"IF(①データ登録!A414=\"\",\"\",①データ登録!A414)","v":""},{"$f":"IF(①データ登録!B414=\"\",\"\",①データ登録!B414)","v":""},{"$f":"IF(①データ登録!C414=\"\",\"\",①データ登録!C414)","v":""}]
[null,null,null,null,null,null,null,null,null,null,null,null,{"$f":"IF(①データ登録!A415=\"\",\"\",①データ登録!A415)","v":""},{"$f":"IF(①データ登録!B415=\"\",\"\",①データ登録!B415)","v":""},{"$f":"IF(①データ登録!C415=\"\",\"\",①データ登録!C415)","v":""}]
[null,null,null,null,null,null,null,null,null,null,null,null,{"$f":"IF(①データ登録!A416=\"\",\"\",①データ登録!A416)","v":""},{"$f":"IF(①データ登録!B416=\"\",\"\",①データ登録!B416)","v":""},{"$f":"IF(①データ登録!C416=\"\",\"\",①データ登録!C416)","v":""}]
[null,null,null,null,null,null,null,null,null,null,null,null,{"$f":"IF(①データ登録!A417=\"\",\"\",①データ登録!A417)","v":""},{"$f":"IF(①データ登録!B417=\"\",\"\",①データ登録!B417)","v":""},{"$f":"IF(①データ登録!C417=\"\",\"\",①データ登録!C417)","v":""}]
[null,null,null,null,null,null,null,null,null,null,null,null,{"$f":"IF(①データ登録!A418=\"\",\"\",①データ登録!A418)","v":""},{"$f":"IF(①データ登録!B418=\"\",\"\",①データ登録!B418)","v":""},{"$f":"IF(①データ登録!C418=\"\",\"\",①データ登録!C418)","v":""}]
[null,null,null,null,null,null,null,null,null,null,null,null,{"$f":"IF(①データ登録!A419=\"\",\"\",①データ登録!A419)","v":""},{"$f":"IF(①データ登録!B419=\"\",\"\",①データ登録!B419)","v":""},{"$f":"IF(①データ登録!C419=\"\",\"\",①データ登録!C419)","v":""}]
[null,null,null,null,null,null,null,null,null,null,null,null,{"$f":"IF(①データ登録!A420=\"\",\"\",①データ登録!A420)","v":""},{"$f":"IF(①データ登録!B420=\"\",\"\",①データ登録!B420)","v":""},{"$f":"IF(①データ登録!C420=\"\",\"\",①データ登録!C420)","v":""}]
[null,null,null,null,null,null,null,null,null,null,null,null,{"$f":"IF(①データ登録!A421=\"\",\"\",①データ登録!A421)","v":""},{"$f":"IF(①データ登録!B421=\"\",\"\",①データ登録!B421)","v":""},{"$f":"IF(①データ登録!C421=\"\",\"\",①データ登録!C421)","v":""}]
[null,null,null,null,null,null,null,null,null,null,null,null,{"$f":"IF(①データ登録!A422=\"\",\"\",①データ登録!A422)","v":""},{"$f":"IF(①データ登録!B422=\"\",\"\",①データ登録!B422)","v":""},{"$f":"IF(①データ登録!C422=\"\",\"\",①データ登録!C422)","v":""}]
[null,null,null,null,null,null,null,null,null,null,null,null,{"$f":"IF(①データ登録!A423=\"\",\"\",①データ登録!A423)","v":""},{"$f":"IF(①データ登録!B423=\"\",\"\",①データ登録!B423)","v":""},{"$f":"IF(①データ登録!C423=\"\",\"\",①データ登録!C423)","v":""}]
[null,null,null,null,null,null,null,null,null,null,null,null,{"$f":"IF(①データ登録!A424=\"\",\"\",①データ登録!A424)","v":""},{"$f":"IF(①データ登録!B424=\"\",\"\",①データ登録!B424)","v":""},{"$f":"IF(①データ登録!C424=\"\",\"\",①データ登録!C424)","v":""}]
[null,null,null,null,null,null,null,null,null,null,null,null,{"$f":"IF(①データ登録!A425=\"\",\"\",①データ登録!A425)","v":""},{"$f":"IF(①データ登録!B425=\"\",\"\",①データ登録!B425)","v":""},{"$f":"IF(①データ登録!C425=\"\",\"\",①データ登録!C425)","v":""}]
[null,null,null,null,null,null,null,null,null,null,null,null,{"$f":"IF(①データ登録!A426=\"\",\"\",①データ登録!A426)","v":""},{"$f":"IF(①データ登録!B426=\"\",\"\",①データ登録!B426)","v":""},{"$f":"IF(①データ登録!C426=\"\",\"\",①データ登録!C426)","v":""}]
[null,null,null,null,null,null,null,null,null,null,null,null,{"$f":"IF(①データ登録!A427=\"\",\"\",①データ登録!A427)","v":""},{"$f":"IF(①データ登録!B427=\"\",\"\",①データ登録!B427)","v":""},{"$f":"IF(①データ登録!C427=\"\",\"\",①データ登録!C427)","v":""}]
[null,null,null,null,null,null,null,null,null,null,null,null,{"$f":"IF(①データ登録!A428=\"\",\"\",①データ登録!A428)","v":""},{"$f":"IF(①データ登録!B428=\"\",\"\",①データ登録!B428)","v":""},{"$f":"IF(①データ登録!C428=\"\",\"\",①データ登録!C428)","v":""}]
[null,null,null,null,null,null,null,null,null,null,null,null,{"$f":"IF(①データ登録!A429=\"\",\"\",①データ登録!A429)","v":""},{"$f":"IF(①データ登録!B429=\"\",\"\",①データ登録!B429)","v":""},{"$f":"IF(①データ登録!C429=\"\",\"\",①データ登録!C429)","v":""}]
[null,null,null,null,null,null,null,null,null,null,null,null,{"$f":"IF(①データ登録!A430=\"\",\"\",①データ登録!A430)","v":""},{"$f":"IF(①データ登録!B430=\"\",\"\",①データ登録!B430)","v":""},{"$f":"IF(①データ登録!C430=\"\",\"\",①データ登録!C430)","v":""}]
[null,null,null,null,null,null,null,null,null,null,null,null,{"$f":"IF(①データ登録!A431=\"\",\"\",①データ登録!A431)","v":""},{"$f":"IF(①データ登録!B431=\"\",\"\",①データ登録!B431)","v":""},{"$f":"IF(①データ登録!C431=\"\",\"\",①データ登録!C431)","v":""}]
[null,null,null,null,null,null,null,null,null,null,null,null,{"$f":"IF(①データ登録!A432=\"\",\"\",①データ登録!A432)","v":""},{"$f":"IF(①データ登録!B432=\"\",\"\",①データ登録!B432)","v":""},{"$f":"IF(①データ登録!C432=\"\",\"\",①データ登録!C432)","v":""}]
[null,null,null,null,null,null,null,null,null,null,null,null,{"$f":"IF(①データ登録!A433=\"\",\"\",①データ登録!A433)","v":""},{"$f":"IF(①データ登録!B433=\"\",\"\",①データ登録!B433)","v":""},{"$f":"IF(①データ登録!C433=\"\",\"\",①データ登録!C433)","v":""}]
[null,null,null,null,null,null,null,null,null,null,null,null,{"$f":"IF(①データ登録!A434=\"\",\"\",①データ登録!A434)","v":""},{"$f":"IF(①データ登録!B434=\"\",\"\",①データ登録!B434)","v":""},{"$f":"IF(①データ登録!C434=\"\",\"\",①データ登録!C434)","v":""}]
[null,null,null,null,null,null,null,null,null,null,null,null,{"$f":"IF(①データ登録!A435=\"\",\"\",①データ登録!A435)","v":""},{"$f":"IF(①データ登録!B435=\"\",\"\",①データ登録!B435)","v":""},{"$f":"IF(①データ登録!C435=\"\",\"\",①データ登録!C435)","v":""}]
[null,null,null,null,null,null,null,null,null,null,null,null,{"$f":"IF(①データ登録!A436=\"\",\"\",①データ登録!A436)","v":""},{"$f":"IF(①データ登録!B436=\"\",\"\",①データ登録!B436)","v":""},{"$f":"IF(①データ登録!C436=\"\",\"\",①データ登録!C436)","v":""}]
[null,null,null,null,null,null,null,null,null,null,null,null,{"$f":"IF(①データ登録!A437=\"\",\"\",①データ登録!A437)","v":""},{"$f":"IF(①データ登録!B437=\"\",\"\",①データ登録!B437)","v":""},{"$f":"IF(①データ登録!C437=\"\",\"\",①データ登録!C437)","v":""}]
[null,null,null,null,null,null,null,null,null,null,null,null,{"$f":"IF(①データ登録!A438=\"\",\"\",①データ登録!A438)","v":""},{"$f":"IF(①データ登録!B438=\"\",\"\",①データ登録!B438)","v":""},{"$f":"IF(①データ登録!C438=\"\",\"\",①データ登録!C438)","v":""}]
[null,null,null,null,null,null,null,null,null,null,null,null,{"$f":"IF(①データ登録!A439=\"\",\"\",①データ登録!A439)","v":""},{"$f":"IF(①データ登録!B439=\"\",\"\",①データ登録!B439)","v":""},{"$f":"IF(①データ登録!C439=\"\",\"\",①データ登録!C439)","v":""}]
[null,null,null,null,null,null,null,null,null,null,null,null,{"$f":"IF(①データ登録!A440=\"\",\"\",①データ登録!A440)","v":""},{"$f":"IF(①データ登録!B440=\"\",\"\",①データ登録!B440)","v":""},{"$f":"IF(①データ登録!C440=\"\",\"\",①データ登録!C440)","v":""}]
[null,null,null,null,null,null,null,null,null,null,null,null,{"$f":"IF(①データ登録!A441=\"\",\"\",①データ登録!A441)","v":""},{"$f":"IF(①データ登録!B441=\"\",\"\",①データ登録!B441)","v":""},{"$f":"IF(①データ登録!C441=\"\",\"\",①データ登録!C441)","v":""}]
[null,null,null,null,null,null,null,null,null,null,null,null,{"$f":"IF(①データ登録!A442=\"\",\"\",①データ登録!A442)","v":""},{"$f":"IF(①データ登録!B442=\"\",\"\",①データ登録!B442)","v":""},{"$f":"IF(①データ登録!C442=\"\",\"\",①データ登録!C442)","v":""}]
[null,null,null,null,null,null,null,null,null,null,null,null,{"$f":"IF(①データ登録!A443=\"\",\"\",①データ登録!A443)","v":""},{"$f":"IF(①データ登録!B443=\"\",\"\",①データ登録!B443)","v":""},{"$f":"IF(①データ登録!C443=\"\",\"\",①データ登録!C443)","v":""}]
[null,null,null,null,null,null,null,null,null,null,null,null,{"$f":"IF(①データ登録!A444=\"\",\"\",①データ登録!A444)","v":""},{"$f":"IF(①データ登録!B444=\"\",\"\",①データ登録!B444)","v":""},{"$f":"IF(①データ登録!C444=\"\",\"\",①データ登録!C444)","v":""}]
[null,null,null,null,null,null,null,null,null,null,null,null,{"$f":"IF(①データ登録!A445=\"\",\"\",①データ登録!A445)","v":""},{"$f":"IF(①データ登録!B445=\"\",\"\",①データ登録!B445)","v":""},{"$f":"IF(①データ登録!C445=\"\",\"\",①データ登録!C445)","v":""}]
[null,null,null,null,null,null,null,null,null,null,null,null,{"$f":"IF(①データ登録!A446=\"\",\"\",①データ登録!A446)","v":""},{"$f":"IF(①データ登録!B446=\"\",\"\",①データ登録!B446)","v":""},{"$f":"IF(①データ登録!C446=\"\",\"\",①データ登録!C446)","v":""}]
[null,null,null,null,null,null,null,null,null,null,null,null,{"$f":"IF(①データ登録!A447=\"\",\"\",①データ登録!A447)","v":""},{"$f":"IF(①データ登録!B447=\"\",\"\",①データ登録!B447)","v":""},{"$f":"IF(①データ登録!C447=\"\",\"\",①データ登録!C447)","v":""}]
[null,null,null,null,null,null,null,null,null,null,null,null,{"$f":"IF(①データ登録!A448=\"\",\"\",①データ登録!A448)","v":""},{"$f":"IF(①データ登録!B448=\"\",\"\",①データ登録!B448)","v":""},{"$f":"IF(①データ登録!C448=\"\",\"\",①データ登録!C448)","v":""}]
[null,null,null,null,null,null,null,null,null,null,null,null,{"$f":"IF(①データ登録!A449=\"\",\"\",①データ登録!A449)","v":""},{"$f":"IF(①データ登録!B449=\"\",\"\",①データ登録!B449)","v":""},{"$f":"IF(①データ登録!C449=\"\",\"\",①データ登録!C449)","v":""}]
[null,null,null,null,null,null,null,null,null,null,null,null,{"$f":"IF(①データ登録!A450=\"\",\"\",①データ登録!A450)","v":""},{"$f":"IF(①データ登録!B450=\"\",\"\",①データ登録!B450)","v":""},{"$f":"IF(①データ登録!C450=\"\",\"\",①データ登録!C450)","v":""}]
[null,null,null,null,null,null,null,null,null,null,null,null,{"$f":"IF(①データ登録!A451=\"\",\"\",①データ登録!A451)","v":""},{"$f":"IF(①データ登録!B451=\"\",\"\",①データ登録!B451)","v":""},{"$f":"IF(①データ登録!C451=\"\",\"\",①データ登録!C451)","v":""}]
[null,null,null,null,null,null,null,null,null,null,null,null,{"$f":"IF(①データ登録!A452=\"\",\"\",①データ登録!A452)","v":""},{"$f":"IF(①データ登録!B452=\"\",\"\",①データ登録!B452)","v":""},{"$f":"IF(①データ登録!C452=\"\",\"\",①データ登録!C452)","v":""}]
[null,null,null,null,null,null,null,null,null,null,null,null,{"$f":"IF(①データ登録!A453=\"\",\"\",①データ登録!A453)","v":""},{"$f":"IF(①データ登録!B453=\"\",\"\",①データ登録!B453)","v":""},{"$f":"IF(①データ登録!C453=\"\",\"\",①データ登録!C453)","v":""}]
[null,null,null,null,null,null,null,null,null,null,null,null,{"$f":"IF(①データ登録!A454=\"\",\"\",①データ登録!A454)","v":""},{"$f":"IF(①データ登録!B454=\"\",\"\",①データ登録!B454)","v":""},{"$f":"IF(①データ登録!C454=\"\",\"\",①データ登録!C454)","v":""}]
[null,null,null,null,null,null,null,null,null,null,null,null,{"$f":"IF(①データ登録!A455=\"\",\"\",①データ登録!A455)","v":""},{"$f":"IF(①データ登録!B455=\"\",\"\",①データ登録!B455)","v":""},{"$f":"IF(①データ登録!C455=\"\",\"\",①データ登録!C455)","v":""}]
[null,null,null,null,null,null,null,null,null,null,null,null,{"$f":"IF(①データ登録!A456=\"\",\"\",①データ登録!A456)","v":""},{"$f":"IF(①データ登録!B456=\"\",\"\",①データ登録!B456)","v":""},{"$f":"IF(①データ登録!C456=\"\",\"\",①データ登録!C456)","v":""}]
[null,null,null,null,null,null,null,null,null,null,null,null,{"$f":"IF(①データ登録!A457=\"\",\"\",①データ登録!A457)","v":""},{"$f":"IF(①データ登録!B457=\"\",\"\",①データ登録!B457)","v":""},{"$f":"IF(①データ登録!C457=\"\",\"\",①データ登録!C457)","v":""}]
[null,null,null,null,null,null,null,null,null,null,null,null,{"$f":"IF(①データ登録!A458=\"\",\"\",①データ登録!A458)","v":""},{"$f":"IF(①データ登録!B458=\"\",\"\",①データ登録!B458)","v":""},{"$f":"IF(①データ登録!C458=\"\",\"\",①データ登録!C458)","v":""}]
[null,null,null,null,null,null,null,null,null,null,null,null,{"$f":"IF(①データ登録!A459=\"\",\"\",①データ登録!A459)","v":""},{"$f":"IF(①データ登録!B459=\"\",\"\",①データ登録!B459)","v":""},{"$f":"IF(①データ登録!C459=\"\",\"\",①データ登録!C459)","v":""}]
[null,null,null,null,null,null,null,null,null,null,null,null,{"$f":"IF(①データ登録!A460=\"\",\"\",①データ登録!A460)","v":""},{"$f":"IF(①データ登録!B460=\"\",\"\",①データ登録!B460)","v":""},{"$f":"IF(①データ登録!C460=\"\",\"\",①データ登録!C460)","v":""}]
[null,null,null,null,null,null,null,null,null,null,null,null,{"$f":"IF(①データ登録!A461=\"\",\"\",①データ登録!A461)","v":""},{"$f":"IF(①データ登録!B461=\"\",\"\",①データ登録!B461)","v":""},{"$f":"IF(①データ登録!C461=\"\",\"\",①データ登録!C461)","v":""}]
[null,null,null,null,null,null,null,null,null,null,null,null,{"$f":"IF(①データ登録!A462=\"\",\"\",①データ登録!A462)","v":""},{"$f":"IF(①データ登録!B462=\"\",\"\",①データ登録!B462)","v":""},{"$f":"IF(①データ登録!C462=\"\",\"\",①データ登録!C462)","v":""}]
[null,null,null,null,null,null,null,null,null,null,null,null,{"$f":"IF(①データ登録!A463=\"\",\"\",①データ登録!A463)","v":""},{"$f":"IF(①データ登録!B463=\"\",\"\",①データ登録!B463)","v":""},{"$f":"IF(①データ登録!C463=\"\",\"\",①データ登録!C463)","v":""}]
[null,null,null,null,null,null,null,null,null,null,null,null,{"$f":"IF(①データ登録!A464=\"\",\"\",①データ登録!A464)","v":""},{"$f":"IF(①データ登録!B464=\"\",\"\",①データ登録!B464)","v":""},{"$f":"IF(①データ登録!C464=\"\",\"\",①データ登録!C464)","v":""}]
[null,null,null,null,null,null,null,null,null,null,null,null,{"$f":"IF(①データ登録!A465=\"\",\"\",①データ登録!A465)","v":""},{"$f":"IF(①データ登録!B465=\"\",\"\",①データ登録!B465)","v":""},{"$f":"IF(①データ登録!C465=\"\",\"\",①データ登録!C465)","v":""}]
[null,null,null,null,null,null,null,null,null,null,null,null,{"$f":"IF(①データ登録!A466=\"\",\"\",①データ登録!A466)","v":""},{"$f":"IF(①データ登録!B466=\"\",\"\",①データ登録!B466)","v":""},{"$f":"IF(①データ登録!C466=\"\",\"\",①データ登録!C466)","v":""}]
[null,null,null,null,null,null,null,null,null,null,null,null,{"$f":"IF(①データ登録!A467=\"\",\"\",①データ登録!A467)","v":""},{"$f":"IF(①データ登録!B467=\"\",\"\",①データ登録!B467)","v":""},{"$f":"IF(①データ登録!C467=\"\",\"\",①データ登録!C467)","v":""}]
[null,null,null,null,null,null,null,null,null,null,null,null,{"$f":"IF(①データ登録!A468=\"\",\"\",①データ登録!A468)","v":""},{"$f":"IF(①データ登録!B468=\"\",\"\",①データ登録!B468)","v":""},{"$f":"IF(①データ登録!C468=\"\",\"\",①データ登録!C468)","v":""}]
[null,null,null,null,null,null,null,null,null,null,null,null,{"$f":"IF(①データ登録!A469=\"\",\"\",①データ登録!A469)","v":""},{"$f":"IF(①データ登録!B469=\"\",\"\",①データ登録!B469)","v":""},{"$f":"IF(①データ登録!C469=\"\",\"\",①データ登録!C469)","v":""}]
[null,null,null,null,null,null,null,null,null,null,null,null,{"$f":"IF(①データ登録!A470=\"\",\"\",①データ登録!A470)","v":""},{"$f":"IF(①データ登録!B470=\"\",\"\",①データ登録!B470)","v":""},{"$f":"IF(①データ登録!C470=\"\",\"\",①データ登録!C470)","v":""}]
[null,null,null,null,null,null,null,null,null,null,null,null,{"$f":"IF(①データ登録!A471=\"\",\"\",①データ登録!A471)","v":""},{"$f":"IF(①データ登録!B471=\"\",\"\",①データ登録!B471)","v":""},{"$f":"IF(①データ登録!C471=\"\",\"\",①データ登録!C471)","v":""}]
[null,null,null,null,null,null,null,null,null,null,null,null,{"$f":"IF(①データ登録!A472=\"\",\"\",①データ登録!A472)","v":""},{"$f":"IF(①データ登録!B472=\"\",\"\",①データ登録!B472)","v":""},{"$f":"IF(①データ登録!C472=\"\",\"\",①データ登録!C472)","v":""}]
[null,null,null,null,null,null,null,null,null,null,null,null,{"$f":"IF(①データ登録!A473=\"\",\"\",①データ登録!A473)","v":""},{"$f":"IF(①データ登録!B473=\"\",\"\",①データ登録!B473)","v":""},{"$f":"IF(①データ登録!C473=\"\",\"\",①データ登録!C473)","v":""}]
[null,null,null,null,null,null,null,null,null,null,null,null,{"$f":"IF(①データ登録!A474=\"\",\"\",①データ登録!A474)","v":""},{"$f":"IF(①データ登録!B474=\"\",\"\",①データ登録!B474)","v":""},{"$f":"IF(①データ登録!C474=\"\",\"\",①データ登録!C474)","v":""}]
[null,null,null,null,null,null,null,null,null,null,null,null,{"$f":"IF(①データ登録!A475=\"\",\"\",①データ登録!A475)","v":""},{"$f":"IF(①データ登録!B475=\"\",\"\",①データ登録!B475)","v":""},{"$f":"IF(①データ登録!C475=\"\",\"\",①データ登録!C475)","v":""}]
[null,null,null,null,null,null,null,null,null,null,null,null,{"$f":"IF(①データ登録!A476=\"\",\"\",①データ登録!A476)","v":""},{"$f":"IF(①データ登録!B476=\"\",\"\",①データ登録!B476)","v":""},{"$f":"IF(①データ登録!C476=\"\",\"\",①データ登録!C476)","v":""}]
[null,null,null,null,null,null,null,null,null,null,null,null,{"$f":"IF(①データ登録!A477=\"\",\"\",①データ登録!A477)","v":""},{"$f":"IF(①データ登録!B477=\"\",\"\",①データ登録!B477)","v":""},{"$f":"IF(①データ登録!C477=\"\",\"\",①データ登録!C477)","v":""}]
[null,null,null,null,null,null,null,null,null,null,null,null,{"$f":"IF(①データ登録!A478=\"\",\"\",①データ登録!A478)","v":""},{"$f":"IF(①データ登録!B478=\"\",\"\",①データ登録!B478)","v":""},{"$f":"IF(①データ登録!C478=\"\",\"\",①データ登録!C478)","v":""}]
[null,null,null,null,null,null,null,null,null,null,null,null,{"$f":"IF(①データ登録!A479=\"\",\"\",①データ登録!A479)","v":""},{"$f":"IF(①データ登録!B479=\"\",\"\",①データ登録!B479)","v":""},{"$f":"IF(①データ登録!C479=\"\",\"\",①データ登録!C479)","v":""}]
[null,null,null,null,null,null,null,null,null,null,null,null,{"$f":"IF(①データ登録!A480=\"\",\"\",①データ登録!A480)","v":""},{"$f":"IF(①データ登録!B480=\"\",\"\",①データ登録!B480)","v":""},{"$f":"IF(①データ登録!C480=\"\",\"\",①データ登録!C480)","v":""}]
[null,null,null,null,null,null,null,null,null,null,null,null,{"$f":"IF(①データ登録!A481=\"\",\"\",①データ登録!A481)","v":""},{"$f":"IF(①データ登録!B481=\"\",\"\",①データ登録!B481)","v":""},{"$f":"IF(①データ登録!C481=\"\",\"\",①データ登録!C481)","v":""}]
[null,null,null,null,null,null,null,null,null,null,null,null,{"$f":"IF(①データ登録!A482=\"\",\"\",①データ登録!A482)","v":""},{"$f":"IF(①データ登録!B482=\"\",\"\",①データ登録!B482)","v":""},{"$f":"IF(①データ登録!C482=\"\",\"\",①データ登録!C482)","v":""}]
[null,null,null,null,null,null,null,null,null,null,null,null,{"$f":"IF(①データ登録!A483=\"\",\"\",①データ登録!A483)","v":""},{"$f":"IF(①データ登録!B483=\"\",\"\",①データ登録!B483)","v":""},{"$f":"IF(①データ登録!C483=\"\",\"\",①データ登録!C483)","v":""}]
[null,null,null,null,null,null,null,null,null,null,null,null,{"$f":"IF(①データ登録!A484=\"\",\"\",①データ登録!A484)","v":""},{"$f":"IF(①データ登録!B484=\"\",\"\",①データ登録!B484)","v":""},{"$f":"IF(①データ登録!C484=\"\",\"\",①データ登録!C484)","v":""}]
[null,null,null,null,null,null,null,null,null,null,null,null,{"$f":"IF(①データ登録!A485=\"\",\"\",①データ登録!A485)","v":""},{"$f":"IF(①データ登録!B485=\"\",\"\",①データ登録!B485)","v":""},{"$f":"IF(①データ登録!C485=\"\",\"\",①データ登録!C485)","v":""}]
[null,null,null,null,null,null,null,null,null,null,null,null,{"$f":"IF(①データ登録!A486=\"\",\"\",①データ登録!A486)","v":""},{"$f":"IF(①データ登録!B486=\"\",\"\",①データ登録!B486)","v":""},{"$f":"IF(①データ登録!C486=\"\",\"\",①データ登録!C486)","v":""}]
[null,null,null,null,null,null,null,null,null,null,null,null,{"$f":"IF(①データ登録!A487=\"\",\"\",①データ登録!A487)","v":""},{"$f":"IF(①データ登録!B487=\"\",\"\",①データ登録!B487)","v":""},{"$f":"IF(①データ登録!C487=\"\",\"\",①データ登録!C487)","v":""}]
[null,null,null,null,null,null,null,null,null,null,null,null,{"$f":"IF(①データ登録!A488=\"\",\"\",①データ登録!A488)","v":""},{"$f":"IF(①データ登録!B488=\"\",\"\",①データ登録!B488)","v":""},{"$f":"IF(①データ登録!C488=\"\",\"\",①データ登録!C488)","v":""}]
[null,null,null,null,null,null,null,null,null,null,null,null,{"$f":"IF(①データ登録!A489=\"\",\"\",①データ登録!A489)","v":""},{"$f":"IF(①データ登録!B489=\"\",\"\",①データ登録!B489)","v":""},{"$f":"IF(①データ登録!C489=\"\",\"\",①データ登録!C489)","v":""}]
[null,null,null,null,null,null,null,null,null,null,null,null,{"$f":"IF(①データ登録!A490=\"\",\"\",①データ登録!A490)","v":""},{"$f":"IF(①データ登録!B490=\"\",\"\",①データ登録!B490)","v":""},{"$f":"IF(①データ登録!C490=\"\",\"\",①データ登録!C490)","v":""}]
[null,null,null,null,null,null,null,null,null,null,null,null,{"$f":"IF(①データ登録!A491=\"\",\"\",①データ登録!A491)","v":""},{"$f":"IF(①データ登録!B491=\"\",\"\",①データ登録!B491)","v":""},{"$f":"IF(①データ登録!C491=\"\",\"\",①データ登録!C491)","v":""}]
[null,null,null,null,null,null,null,null,null,null,null,null,{"$f":"IF(①データ登録!A492=\"\",\"\",①データ登録!A492)","v":""},{"$f":"IF(①データ登録!B492=\"\",\"\",①データ登録!B492)","v":""},{"$f":"IF(①データ登録!C492=\"\",\"\",①データ登録!C492)","v":""}]
[null,null,null,null,null,null,null,null,null,null,null,null,{"$f":"IF(①データ登録!A493=\"\",\"\",①データ登録!A493)","v":""},{"$f":"IF(①データ登録!B493=\"\",\"\",①データ登録!B493)","v":""},{"$f":"IF(①データ登録!C493=\"\",\"\",①データ登録!C493)","v":""}]
[null,null,null,null,null,null,null,null,null,null,null,null,{"$f":"IF(①データ登録!A494=\"\",\"\",①データ登録!A494)","v":""},{"$f":"IF(①データ登録!B494=\"\",\"\",①データ登録!B494)","v":""},{"$f":"IF(①データ登録!C494=\"\",\"\",①データ登録!C494)","v":""}]
[null,null,null,null,null,null,null,null,null,null,null,null,{"$f":"IF(①データ登録!A495=\"\",\"\",①データ登録!A495)","v":""},{"$f":"IF(①データ登録!B495=\"\",\"\",①データ登録!B495)","v":""},{"$f":"IF(①データ登録!C495=\"\",\"\",①データ登録!C495)","v":""}]
[null,null,null,null,null,null,null,null,null,null,null,null,{"$f":"IF(①データ登録!A496=\"\",\"\",①データ登録!A496)","v":""},{"$f":"IF(①データ登録!B496=\"\",\"\",①データ登録!B496)","v":""},{"$f":"IF(①データ登録!C496=\"\",\"\",①データ登録!C496)","v":""}]
[null,null,null,null,null,null,null,null,null,null,null,null,{"$f":"IF(①データ登録!A497=\"\",\"\",①データ登録!A497)","v":""},{"$f":"IF(①データ登録!B497=\"\",\"\",①データ登録!B497)","v":""},{"$f":"IF(①データ登録!C497=\"\",\"\",①データ登録!C497)","v":""}]
[null,null,null,null,null,null,null,null,null,null,null,null,{"$f":"IF(①データ登録!A498=\"\",\"\",①データ登録!A498)","v":""},{"$f":"IF(①データ登録!B498=\"\",\"\",①データ登録!B498)","v":""},{"$f":"IF(①データ登録!C498=\"\",\"\",①データ登録!C498)","v":""}]
[null,null,null,null,null,null,null,null,null,null,null,null,{"$f":"IF(①データ登録!A499=\"\",\"\",①データ登録!A499)","v":""},{"$f":"IF(①データ登録!B499=\"\",\"\",①データ登録!B499)","v":""},{"$f":"IF(①データ登録!C499=\"\",\"\",①データ登録!C499)","v":""}]
[null,null,null,null,null,null,null,null,null,null,null,null,{"$f":"IF(①データ登録!A500=\"\",\"\",①データ登録!A500)","v":""},{"$f":"IF(①データ登録!B500=\"\",\"\",①データ登録!B500)","v":""},{"$f":"IF(①データ登録!C500=\"\",\"\",①データ登録!C500)","v":""}]
[null,null,null,null,null,null,null,null,null,null,null,null,{"$f":"IF(①データ登録!A501=\"\",\"\",①データ登録!A501)","v":""},{"$f":"IF(①データ登録!B501=\"\",\"\",①データ登録!B501)","v":""},{"$f":"IF(①データ登録!C501=\"\",\"\",①データ登録!C501)","v":""}]
[null,null,null,null,null,null,null,null,null,null,null,null,{"$f":"IF(①データ登録!A502=\"\",\"\",①データ登録!A502)","v":""},{"$f":"IF(①データ登録!B502=\"\",\"\",①データ登録!B502)","v":""},{"$f":"IF(①データ登録!C502=\"\",\"\",①データ登録!C502)","v":""}]
[null,null,null,null,null,null,null,null,null,null,null,null,{"$f":"IF(①データ登録!A503=\"\",\"\",①データ登録!A503)","v":""},{"$f":"IF(①データ登録!B503=\"\",\"\",①データ登録!B503)","v":""},{"$f":"IF(①データ登録!C503=\"\",\"\",①データ登録!C503)","v":""}]
[null,null,null,null,null,null,null,null,null,null,null,null,{"$f":"IF(①データ登録!A504=\"\",\"\",①データ登録!A504)","v":""},{"$f":"IF(①データ登録!B504=\"\",\"\",①データ登録!B504)","v":""},{"$f":"IF(①データ登録!C504=\"\",\"\",①データ登録!C504)","v":""}]
[null,null,null,null,null,null,null,null,null,null,null,null,{"$f":"IF(①データ登録!A505=\"\",\"\",①データ登録!A505)","v":""},{"$f":"IF(①データ登録!B505=\"\",\"\",①データ登録!B505)","v":""},{"$f":"IF(①データ登録!C505=\"\",\"\",①データ登録!C505)","v":""}]
[null,null,null,null,null,null,null,null,null,null,null,null,{"$f":"IF(①データ登録!A506=\"\",\"\",①データ登録!A506)","v":""},{"$f":"IF(①データ登録!B506=\"\",\"\",①データ登録!B506)","v":""},{"$f":"IF(①データ登録!C506=\"\",\"\",①データ登録!C506)","v":""}]
[null,null,null,null,null,null,null,null,null,null,null,null,{"$f":"IF(①データ登録!A507=\"\",\"\",①データ登録!A507)","v":""},{"$f":"IF(①データ登録!B507=\"\",\"\",①データ登録!B507)","v":""},{"$f":"IF(①データ登録!C507=\"\",\"\",①データ登録!C507)","v":""}]
[null,null,null,null,null,null,null,null,null,null,null,null,{"$f":"IF(①データ登録!A508=\"\",\"\",①データ登録!A508)","v":""},{"$f":"IF(①データ登録!B508=\"\",\"\",①データ登録!B508)","v":""},{"$f":"IF(①データ登録!C508=\"\",\"\",①データ登録!C508)","v":""}]
[null,null,null,null,null,null,null,null,null,null,null,null,{"$f":"IF(①データ登録!A509=\"\",\"\",①データ登録!A509)","v":""},{"$f":"IF(①データ登録!B509=\"\",\"\",①データ登録!B509)","v":""},{"$f":"IF(①データ登録!C509=\"\",\"\",①データ登録!C509)","v":""}]
[null,null,null,null,null,null,null,null,null,null,null,null,{"$f":"IF(①データ登録!A510=\"\",\"\",①データ登録!A510)","v":""},{"$f":"IF(①データ登録!B510=\"\",\"\",①データ登録!B510)","v":""},{"$f":"IF(①データ登録!C510=\"\",\"\",①データ登録!C510)","v":""}]
[null,null,null,null,null,null,null,null,null,null,null,null,{"$f":"IF(①データ登録!A511=\"\",\"\",①データ登録!A511)","v":""},{"$f":"IF(①データ登録!B511=\"\",\"\",①データ登録!B511)","v":""},{"$f":"IF(①データ登録!C511=\"\",\"\",①データ登録!C511)","v":""}]
[null,null,null,null,null,null,null,null,null,null,null,null,{"$f":"IF(①データ登録!A512=\"\",\"\",①データ登録!A512)","v":""},{"$f":"IF(①データ登録!B512=\"\",\"\",①データ登録!B512)","v":""},{"$f":"IF(①データ登録!C512=\"\",\"\",①データ登録!C512)","v":""}]
[null,null,null,null,null,null,null,null,null,null,null,null,{"$f":"IF(①データ登録!A513=\"\",\"\",①データ登録!A513)","v":""},{"$f":"IF(①データ登録!B513=\"\",\"\",①データ登録!B513)","v":""},{"$f":"IF(①データ登録!C513=\"\",\"\",①データ登録!C513)","v":""}]
[null,null,null,null,null,null,null,null,null,null,null,null,{"$f":"IF(①データ登録!A514=\"\",\"\",①データ登録!A514)","v":""},{"$f":"IF(①データ登録!B514=\"\",\"\",①データ登録!B514)","v":""},{"$f":"IF(①データ登録!C514=\"\",\"\",①データ登録!C514)","v":""}]
[null,null,null,null,null,null,null,null,null,null,null,null,{"$f":"IF(①データ登録!A515=\"\",\"\",①データ登録!A515)","v":""},{"$f":"IF(①データ登録!B515=\"\",\"\",①データ登録!B515)","v":""},{"$f":"IF(①データ登録!C515=\"\",\"\",①データ登録!C515)","v":""}]
[null,null,null,null,null,null,null,null,null,null,null,null,{"$f":"IF(①データ登録!A516=\"\",\"\",①データ登録!A516)","v":""},{"$f":"IF(①データ登録!B516=\"\",\"\",①データ登録!B516)","v":""},{"$f":"IF(①データ登録!C516=\"\",\"\",①データ登録!C516)","v":""}]
[null,null,null,null,null,null,null,null,null,null,null,null,{"$f":"IF(①データ登録!A517=\"\",\"\",①データ登録!A517)","v":""},{"$f":"IF(①データ登録!B517=\"\",\"\",①データ登録!B517)","v":""},{"$f":"IF(①データ登録!C517=\"\",\"\",①データ登録!C517)","v":""}]
[null,null,null,null,null,null,null,null,null,null,null,null,{"$f":"IF(①データ登録!A518=\"\",\"\",①データ登録!A518)","v":""},{"$f":"IF(①データ登録!B518=\"\",\"\",①データ登録!B518)","v":""},{"$f":"IF(①データ登録!C518=\"\",\"\",①データ登録!C518)","v":""}]
[null,null,null,null,null,null,null,null,null,null,null,null,{"$f":"IF(①データ登録!A519=\"\",\"\",①データ登録!A519)","v":""},{"$f":"IF(①データ登録!B519=\"\",\"\",①データ登録!B519)","v":""},{"$f":"IF(①データ登録!C519=\"\",\"\",①データ登録!C519)","v":""}]
[null,null,null,null,null,null,null,null,null,null,null,null,{"$f":"IF(①データ登録!A520=\"\",\"\",①データ登録!A520)","v":""},{"$f":"IF(①データ登録!B520=\"\",\"\",①データ登録!B520)","v":""},{"$f":"IF(①データ登録!C520=\"\",\"\",①データ登録!C520)","v":""}]
[null,null,null,null,null,null,null,null,null,null,null,null,{"$f":"IF(①データ登録!A521=\"\",\"\",①データ登録!A521)","v":""},{"$f":"IF(①データ登録!B521=\"\",\"\",①データ登録!B521)","v":""},{"$f":"IF(①データ登録!C521=\"\",\"\",①データ登録!C521)","v":""}]
[null,null,null,null,null,null,null,null,null,null,null,null,{"$f":"IF(①データ登録!A522=\"\",\"\",①データ登録!A522)","v":""},{"$f":"IF(①データ登録!B522=\"\",\"\",①データ登録!B522)","v":""},{"$f":"IF(①データ登録!C522=\"\",\"\",①データ登録!C522)","v":""}]
[null,null,null,null,null,null,null,null,null,null,null,null,{"$f":"IF(①データ登録!A523=\"\",\"\",①データ登録!A523)","v":""},{"$f":"IF(①データ登録!B523=\"\",\"\",①データ登録!B523)","v":""},{"$f":"IF(①データ登録!C523=\"\",\"\",①データ登録!C523)","v":""}]
[null,null,null,null,null,null,null,null,null,null,null,null,{"$f":"IF(①データ登録!A524=\"\",\"\",①データ登録!A524)","v":""},{"$f":"IF(①データ登録!B524=\"\",\"\",①データ登録!B524)","v":""},{"$f":"IF(①データ登録!C524=\"\",\"\",①データ登録!C524)","v":""}]
[null,null,null,null,null,null,null,null,null,null,null,null,{"$f":"IF(①データ登録!A525=\"\",\"\",①データ登録!A525)","v":""},{"$f":"IF(①データ登録!B525=\"\",\"\",①データ登録!B525)","v":""},{"$f":"IF(①データ登録!C525=\"\",\"\",①データ登録!C525)","v":""}]
[null,null,null,null,null,null,null,null,null,null,null,null,{"$f":"IF(①データ登録!A526=\"\",\"\",①データ登録!A526)","v":""},{"$f":"IF(①データ登録!B526=\"\",\"\",①データ登録!B526)","v":""},{"$f":"IF(①データ登録!C526=\"\",\"\",①データ登録!C526)","v":""}]
[null,null,null,null,null,null,null,null,null,null,null,null,{"$f":"IF(①データ登録!A527=\"\",\"\",①データ登録!A527)","v":""},{"$f":"IF(①データ登録!B527=\"\",\"\",①データ登録!B527)","v":""},{"$f":"IF(①データ登録!C527=\"\",\"\",①データ登録!C527)","v":""}]
[null,null,null,null,null,null,null,null,null,null,null,null,{"$f":"IF(①データ登録!A528=\"\",\"\",①データ登録!A528)","v":""},{"$f":"IF(①データ登録!B528=\"\",\"\",①データ登録!B528)","v":""},{"$f":"IF(①データ登録!C528=\"\",\"\",①データ登録!C528)","v":""}]
[null,null,null,null,null,null,null,null,null,null,null,null,{"$f":"IF(①データ登録!A529=\"\",\"\",①データ登録!A529)","v":""},{"$f":"IF(①データ登録!B529=\"\",\"\",①データ登録!B529)","v":""},{"$f":"IF(①データ登録!C529=\"\",\"\",①データ登録!C529)","v":""}]
[null,null,null,null,null,null,null,null,null,null,null,null,{"$f":"IF(①データ登録!A530=\"\",\"\",①データ登録!A530)","v":""},{"$f":"IF(①データ登録!B530=\"\",\"\",①データ登録!B530)","v":""},{"$f":"IF(①データ登録!C530=\"\",\"\",①データ登録!C530)","v":""}]
[null,null,null,null,null,null,null,null,null,null,null,null,{"$f":"IF(①データ登録!A531=\"\",\"\",①データ登録!A531)","v":""},{"$f":"IF(①データ登録!B531=\"\",\"\",①データ登録!B531)","v":""},{"$f":"IF(①データ登録!C531=\"\",\"\",①データ登録!C531)","v":""}]
[null,null,null,null,null,null,null,null,null,null,null,null,{"$f":"IF(①データ登録!A532=\"\",\"\",①データ登録!A532)","v":""},{"$f":"IF(①データ登録!B532=\"\",\"\",①データ登録!B532)","v":""},{"$f":"IF(①データ登録!C532=\"\",\"\",①データ登録!C532)","v":""}]
[null,null,null,null,null,null,null,null,null,null,null,null,{"$f":"IF(①データ登録!A533=\"\",\"\",①データ登録!A533)","v":""},{"$f":"IF(①データ登録!B533=\"\",\"\",①データ登録!B533)","v":""},{"$f":"IF(①データ登録!C533=\"\",\"\",①データ登録!C533)","v":""}]
[null,null,null,null,null,null,null,null,null,null,null,null,{"$f":"IF(①データ登録!A534=\"\",\"\",①データ登録!A534)","v":""},{"$f":"IF(①データ登録!B534=\"\",\"\",①データ登録!B534)","v":""},{"$f":"IF(①データ登録!C534=\"\",\"\",①データ登録!C534)","v":""}]
[null,null,null,null,null,null,null,null,null,null,null,null,{"$f":"IF(①データ登録!A535=\"\",\"\",①データ登録!A535)","v":""},{"$f":"IF(①データ登録!B535=\"\",\"\",①データ登録!B535)","v":""},{"$f":"IF(①データ登録!C535=\"\",\"\",①データ登録!C535)","v":""}]
[null,null,null,null,null,null,null,null,null,null,null,null,{"$f":"IF(①データ登録!A536=\"\",\"\",①データ登録!A536)","v":""},{"$f":"IF(①データ登録!B536=\"\",\"\",①データ登録!B536)","v":""},{"$f":"IF(①データ登録!C536=\"\",\"\",①データ登録!C536)","v":""}]
[null,null,null,null,null,null,null,null,null,null,null,null,{"$f":"IF(①データ登録!A537=\"\",\"\",①データ登録!A537)","v":""},{"$f":"IF(①データ登録!B537=\"\",\"\",①データ登録!B537)","v":""},{"$f":"IF(①データ登録!C537=\"\",\"\",①データ登録!C537)","v":""}]
[null,null,null,null,null,null,null,null,null,null,null,null,{"$f":"IF(①データ登録!A538=\"\",\"\",①データ登録!A538)","v":""},{"$f":"IF(①データ登録!B538=\"\",\"\",①データ登録!B538)","v":""},{"$f":"IF(①データ登録!C538=\"\",\"\",①データ登録!C538)","v":""}]
[null,null,null,null,null,null,null,null,null,null,null,null,{"$f":"IF(①データ登録!A539=\"\",\"\",①データ登録!A539)","v":""},{"$f":"IF(①データ登録!B539=\"\",\"\",①データ登録!B539)","v":""},{"$f":"IF(①データ登録!C539=\"\",\"\",①データ登録!C539)","v":""}]
[null,null,null,null,null,null,null,null,null,null,null,null,{"$f":"IF(①データ登録!A540=\"\",\"\",①データ登録!A540)","v":""},{"$f":"IF(①データ登録!B540=\"\",\"\",①データ登録!B540)","v":""},{"$f":"IF(①データ登録!C540=\"\",\"\",①データ登録!C540)","v":""}]
[null,null,null,null,null,null,null,null,null,null,null,null,{"$f":"IF(①データ登録!A541=\"\",\"\",①データ登録!A541)","v":""},{"$f":"IF(①データ登録!B541=\"\",\"\",①データ登録!B541)","v":""},{"$f":"IF(①データ登録!C541=\"\",\"\",①データ登録!C541)","v":""}]
[null,null,null,null,null,null,null,null,null,null,null,null,{"$f":"IF(①データ登録!A542=\"\",\"\",①データ登録!A542)","v":""},{"$f":"IF(①データ登録!B542=\"\",\"\",①データ登録!B542)","v":""},{"$f":"IF(①データ登録!C542=\"\",\"\",①データ登録!C542)","v":""}]
[null,null,null,null,null,null,null,null,null,null,null,null,{"$f":"IF(①データ登録!A543=\"\",\"\",①データ登録!A543)","v":""},{"$f":"IF(①データ登録!B543=\"\",\"\",①データ登録!B543)","v":""},{"$f":"IF(①データ登録!C543=\"\",\"\",①データ登録!C543)","v":""}]
[null,null,null,null,null,null,null,null,null,null,null,null,{"$f":"IF(①データ登録!A544=\"\",\"\",①データ登録!A544)","v":""},{"$f":"IF(①データ登録!B544=\"\",\"\",①データ登録!B544)","v":""},{"$f":"IF(①データ登録!C544=\"\",\"\",①データ登録!C544)","v":""}]
[null,null,null,null,null,null,null,null,null,null,null,null,{"$f":"IF(①データ登録!A545=\"\",\"\",①データ登録!A545)","v":""},{"$f":"IF(①データ登録!B545=\"\",\"\",①データ登録!B545)","v":""},{"$f":"IF(①データ登録!C545=\"\",\"\",①データ登録!C545)","v":""}]
[null,null,null,null,null,null,null,null,null,null,null,null,{"$f":"IF(①データ登録!A546=\"\",\"\",①データ登録!A546)","v":""},{"$f":"IF(①データ登録!B546=\"\",\"\",①データ登録!B546)","v":""},{"$f":"IF(①データ登録!C546=\"\",\"\",①データ登録!C546)","v":""}]
[null,null,null,null,null,null,null,null,null,null,null,null,{"$f":"IF(①データ登録!A547=\"\",\"\",①データ登録!A547)","v":""},{"$f":"IF(①データ登録!B547=\"\",\"\",①データ登録!B547)","v":""},{"$f":"IF(①データ登録!C547=\"\",\"\",①データ登録!C547)","v":""}]
[null,null,null,null,null,null,null,null,null,null,null,null,{"$f":"IF(①データ登録!A548=\"\",\"\",①データ登録!A548)","v":""},{"$f":"IF(①データ登録!B548=\"\",\"\",①データ登録!B548)","v":""},{"$f":"IF(①データ登録!C548=\"\",\"\",①データ登録!C548)","v":""}]
[null,null,null,null,null,null,null,null,null,null,null,null,{"$f":"IF(①データ登録!A549=\"\",\"\",①データ登録!A549)","v":""},{"$f":"IF(①データ登録!B549=\"\",\"\",①データ登録!B549)","v":""},{"$f":"IF(①データ登録!C549=\"\",\"\",①データ登録!C549)","v":""}]
[null,null,null,null,null,null,null,null,null,null,null,null,{"$f":"IF(①データ登録!A550=\"\",\"\",①データ登録!A550)","v":""},{"$f":"IF(①データ登録!B550=\"\",\"\",①データ登録!B550)","v":""},{"$f":"IF(①データ登録!C550=\"\",\"\",①データ登録!C550)","v":""}]
[null,null,null,null,null,null,null,null,null,null,null,null,{"$f":"IF(①データ登録!A551=\"\",\"\",①データ登録!A551)","v":""},{"$f":"IF(①データ登録!B551=\"\",\"\",①データ登録!B551)","v":""},{"$f":"IF(①データ登録!C551=\"\",\"\",①データ登録!C551)","v":""}]
[null,null,null,null,null,null,null,null,null,null,null,null,{"$f":"IF(①データ登録!A552=\"\",\"\",①データ登録!A552)","v":""},{"$f":"IF(①データ登録!B552=\"\",\"\",①データ登録!B552)","v":""},{"$f":"IF(①データ登録!C552=\"\",\"\",①データ登録!C552)","v":""}]
[null,null,null,null,null,null,null,null,null,null,null,null,{"$f":"IF(①データ登録!A553=\"\",\"\",①データ登録!A553)","v":""},{"$f":"IF(①データ登録!B553=\"\",\"\",①データ登録!B553)","v":""},{"$f":"IF(①データ登録!C553=\"\",\"\",①データ登録!C553)","v":""}]
[null,null,null,null,null,null,null,null,null,null,null,null,{"$f":"IF(①データ登録!A554=\"\",\"\",①データ登録!A554)","v":""},{"$f":"IF(①データ登録!B554=\"\",\"\",①データ登録!B554)","v":""},{"$f":"IF(①データ登録!C554=\"\",\"\",①データ登録!C554)","v":""}]
[null,null,null,null,null,null,null,null,null,null,null,null,{"$f":"IF(①データ登録!A555=\"\",\"\",①データ登録!A555)","v":""},{"$f":"IF(①データ登録!B555=\"\",\"\",①データ登録!B555)","v":""},{"$f":"IF(①データ登録!C555=\"\",\"\",①データ登録!C555)","v":""}]
[null,null,null,null,null,null,null,null,null,null,null,null,{"$f":"IF(①データ登録!A556=\"\",\"\",①データ登録!A556)","v":""},{"$f":"IF(①データ登録!B556=\"\",\"\",①データ登録!B556)","v":""},{"$f":"IF(①データ登録!C556=\"\",\"\",①データ登録!C556)","v":""}]
[null,null,null,null,null,null,null,null,null,null,null,null,{"$f":"IF(①データ登録!A557=\"\",\"\",①データ登録!A557)","v":""},{"$f":"IF(①データ登録!B557=\"\",\"\",①データ登録!B557)","v":""},{"$f":"IF(①データ登録!C557=\"\",\"\",①データ登録!C557)","v":""}]
[null,null,null,null,null,null,null,null,null,null,null,null,{"$f":"IF(①データ登録!A558=\"\",\"\",①データ登録!A558)","v":""},{"$f":"IF(①データ登録!B558=\"\",\"\",①データ登録!B558)","v":""},{"$f":"IF(①データ登録!C558=\"\",\"\",①データ登録!C558)","v":""}]
[null,null,null,null,null,null,null,null,null,null,null,null,{"$f":"IF(①データ登録!A559=\"\",\"\",①データ登録!A559)","v":""},{"$f":"IF(①データ登録!B559=\"\",\"\",①データ登録!B559)","v":""},{"$f":"IF(①データ登録!C559=\"\",\"\",①データ登録!C559)","v":""}]
[null,null,null,null,null,null,null,null,null,null,null,null,{"$f":"IF(①データ登録!A560=\"\",\"\",①データ登録!A560)","v":""},{"$f":"IF(①データ登録!B560=\"\",\"\",①データ登録!B560)","v":""},{"$f":"IF(①データ登録!C560=\"\",\"\",①データ登録!C560)","v":""}]
[null,null,null,null,null,null,null,null,null,null,null,null,{"$f":"IF(①データ登録!A561=\"\",\"\",①データ登録!A561)","v":""},{"$f":"IF(①データ登録!B561=\"\",\"\",①データ登録!B561)","v":""},{"$f":"IF(①データ登録!C561=\"\",\"\",①データ登録!C561)","v":""}]
[null,null,null,null,null,null,null,null,null,null,null,null,{"$f":"IF(①データ登録!A562=\"\",\"\",①データ登録!A562)","v":""},{"$f":"IF(①データ登録!B562=\"\",\"\",①データ登録!B562)","v":""},{"$f":"IF(①データ登録!C562=\"\",\"\",①データ登録!C562)","v":""}]
[null,null,null,null,null,null,null,null,null,null,null,null,{"$f":"IF(①データ登録!A563=\"\",\"\",①データ登録!A563)","v":""},{"$f":"IF(①データ登録!B563=\"\",\"\",①データ登録!B563)","v":""},{"$f":"IF(①データ登録!C563=\"\",\"\",①データ登録!C563)","v":""}]
[null,null,null,null,null,null,null,null,null,null,null,null,{"$f":"IF(①データ登録!A564=\"\",\"\",①データ登録!A564)","v":""},{"$f":"IF(①データ登録!B564=\"\",\"\",①データ登録!B564)","v":""},{"$f":"IF(①データ登録!C564=\"\",\"\",①データ登録!C564)","v":""}]
[null,null,null,null,null,null,null,null,null,null,null,null,{"$f":"IF(①データ登録!A565=\"\",\"\",①データ登録!A565)","v":""},{"$f":"IF(①データ登録!B565=\"\",\"\",①データ登録!B565)","v":""},{"$f":"IF(①データ登録!C565=\"\",\"\",①データ登録!C565)","v":""}]
[null,null,null,null,null,null,null,null,null,null,null,null,{"$f":"IF(①データ登録!A566=\"\",\"\",①データ登録!A566)","v":""},{"$f":"IF(①データ登録!B566=\"\",\"\",①データ登録!B566)","v":""},{"$f":"IF(①データ登録!C566=\"\",\"\",①データ登録!C566)","v":""}]
[null,null,null,null,null,null,null,null,null,null,null,null,{"$f":"IF(①データ登録!A567=\"\",\"\",①データ登録!A567)","v":""},{"$f":"IF(①データ登録!B567=\"\",\"\",①データ登録!B567)","v":""},{"$f":"IF(①データ登録!C567=\"\",\"\",①データ登録!C567)","v":""}]
[null,null,null,null,null,null,null,null,null,null,null,null,{"$f":"IF(①データ登録!A568=\"\",\"\",①データ登録!A568)","v":""},{"$f":"IF(①データ登録!B568=\"\",\"\",①データ登録!B568)","v":""},{"$f":"IF(①データ登録!C568=\"\",\"\",①データ登録!C568)","v":""}]
[null,null,null,null,null,null,null,null,null,null,null,null,{"$f":"IF(①データ登録!A569=\"\",\"\",①データ登録!A569)","v":""},{"$f":"IF(①データ登録!B569=\"\",\"\",①データ登録!B569)","v":""},{"$f":"IF(①データ登録!C569=\"\",\"\",①データ登録!C569)","v":""}]
[null,null,null,null,null,null,null,null,null,null,null,null,{"$f":"IF(①データ登録!A570=\"\",\"\",①データ登録!A570)","v":""},{"$f":"IF(①データ登録!B570=\"\",\"\",①データ登録!B570)","v":""},{"$f":"IF(①データ登録!C570=\"\",\"\",①データ登録!C570)","v":""}]
[null,null,null,null,null,null,null,null,null,null,null,null,{"$f":"IF(①データ登録!A571=\"\",\"\",①データ登録!A571)","v":""},{"$f":"IF(①データ登録!B571=\"\",\"\",①データ登録!B571)","v":""},{"$f":"IF(①データ登録!C571=\"\",\"\",①データ登録!C571)","v":""}]
[null,null,null,null,null,null,null,null,null,null,null,null,{"$f":"IF(①データ登録!A572=\"\",\"\",①データ登録!A572)","v":""},{"$f":"IF(①データ登録!B572=\"\",\"\",①データ登録!B572)","v":""},{"$f":"IF(①データ登録!C572=\"\",\"\",①データ登録!C572)","v":""}]
[null,null,null,null,null,null,null,null,null,null,null,null,{"$f":"IF(①データ登録!A573=\"\",\"\",①データ登録!A573)","v":""},{"$f":"IF(①データ登録!B573=\"\",\"\",①データ登録!B573)","v":""},{"$f":"IF(①データ登録!C573=\"\",\"\",①データ登録!C573)","v":""}]
[null,null,null,null,null,null,null,null,null,null,null,null,{"$f":"IF(①データ登録!A574=\"\",\"\",①データ登録!A574)","v":""},{"$f":"IF(①データ登録!B574=\"\",\"\",①データ登録!B574)","v":""},{"$f":"IF(①データ登録!C574=\"\",\"\",①データ登録!C574)","v":""}]
[null,null,null,null,null,null,null,null,null,null,null,null,{"$f":"IF(①データ登録!A575=\"\",\"\",①データ登録!A575)","v":""},{"$f":"IF(①データ登録!B575=\"\",\"\",①データ登録!B575)","v":""},{"$f":"IF(①データ登録!C575=\"\",\"\",①データ登録!C575)","v":""}]
[null,null,null,null,null,null,null,null,null,null,null,null,{"$f":"IF(①データ登録!A576=\"\",\"\",①データ登録!A576)","v":""},{"$f":"IF(①データ登録!B576=\"\",\"\",①データ登録!B576)","v":""},{"$f":"IF(①データ登録!C576=\"\",\"\",①データ登録!C576)","v":""}]
[null,null,null,null,null,null,null,null,null,null,null,null,{"$f":"IF(①データ登録!A577=\"\",\"\",①データ登録!A577)","v":""},{"$f":"IF(①データ登録!B577=\"\",\"\",①データ登録!B577)","v":""},{"$f":"IF(①データ登録!C577=\"\",\"\",①データ登録!C577)","v":""}]
[null,null,null,null,null,null,null,null,null,null,null,null,{"$f":"IF(①データ登録!A578=\"\",\"\",①データ登録!A578)","v":""},{"$f":"IF(①データ登録!B578=\"\",\"\",①データ登録!B578)","v":""},{"$f":"IF(①データ登録!C578=\"\",\"\",①データ登録!C578)","v":""}]
[null,null,null,null,null,null,null,null,null,null,null,null,{"$f":"IF(①データ登録!A579=\"\",\"\",①データ登録!A579)","v":""},{"$f":"IF(①データ登録!B579=\"\",\"\",①データ登録!B579)","v":""},{"$f":"IF(①データ登録!C579=\"\",\"\",①データ登録!C579)","v":""}]
[null,null,null,null,null,null,null,null,null,null,null,null,{"$f":"IF(①データ登録!A580=\"\",\"\",①データ登録!A580)","v":""},{"$f":"IF(①データ登録!B580=\"\",\"\",①データ登録!B580)","v":""},{"$f":"IF(①データ登録!C580=\"\",\"\",①データ登録!C580)","v":""}]
[null,null,null,null,null,null,null,null,null,null,null,null,{"$f":"IF(①データ登録!A581=\"\",\"\",①データ登録!A581)","v":""},{"$f":"IF(①データ登録!B581=\"\",\"\",①データ登録!B581)","v":""},{"$f":"IF(①データ登録!C581=\"\",\"\",①データ登録!C581)","v":""}]
[null,null,null,null,null,null,null,null,null,null,null,null,{"$f":"IF(①データ登録!A582=\"\",\"\",①データ登録!A582)","v":""},{"$f":"IF(①データ登録!B582=\"\",\"\",①データ登録!B582)","v":""},{"$f":"IF(①データ登録!C582=\"\",\"\",①データ登録!C582)","v":""}]
[null,null,null,null,null,null,null,null,null,null,null,null,{"$f":"IF(①データ登録!A583=\"\",\"\",①データ登録!A583)","v":""},{"$f":"IF(①データ登録!B583=\"\",\"\",①データ登録!B583)","v":""},{"$f":"IF(①データ登録!C583=\"\",\"\",①データ登録!C583)","v":""}]
[null,null,null,null,null,null,null,null,null,null,null,null,{"$f":"IF(①データ登録!A584=\"\",\"\",①データ登録!A584)","v":""},{"$f":"IF(①データ登録!B584=\"\",\"\",①データ登録!B584)","v":""},{"$f":"IF(①データ登録!C584=\"\",\"\",①データ登録!C584)","v":""}]
[null,null,null,null,null,null,null,null,null,null,null,null,{"$f":"IF(①データ登録!A585=\"\",\"\",①データ登録!A585)","v":""},{"$f":"IF(①データ登録!B585=\"\",\"\",①データ登録!B585)","v":""},{"$f":"IF(①データ登録!C585=\"\",\"\",①データ登録!C585)","v":""}]
[null,null,null,null,null,null,null,null,null,null,null,null,{"$f":"IF(①データ登録!A586=\"\",\"\",①データ登録!A586)","v":""},{"$f":"IF(①データ登録!B586=\"\",\"\",①データ登録!B586)","v":""},{"$f":"IF(①データ登録!C586=\"\",\"\",①データ登録!C586)","v":""}]
[null,null,null,null,null,null,null,null,null,null,null,null,{"$f":"IF(①データ登録!A587=\"\",\"\",①データ登録!A587)","v":""},{"$f":"IF(①データ登録!B587=\"\",\"\",①データ登録!B587)","v":""},{"$f":"IF(①データ登録!C587=\"\",\"\",①データ登録!C587)","v":""}]
[null,null,null,null,null,null,null,null,null,null,null,null,{"$f":"IF(①データ登録!A588=\"\",\"\",①データ登録!A588)","v":""},{"$f":"IF(①データ登録!B588=\"\",\"\",①データ登録!B588)","v":""},{"$f":"IF(①データ登録!C588=\"\",\"\",①データ登録!C588)","v":""}]
[null,null,null,null,null,null,null,null,null,null,null,null,{"$f":"IF(①データ登録!A589=\"\",\"\",①データ登録!A589)","v":""},{"$f":"IF(①データ登録!B589=\"\",\"\",①データ登録!B589)","v":""},{"$f":"IF(①データ登録!C589=\"\",\"\",①データ登録!C589)","v":""}]
[null,null,null,null,null,null,null,null,null,null,null,null,{"$f":"IF(①データ登録!A590=\"\",\"\",①データ登録!A590)","v":""},{"$f":"IF(①データ登録!B590=\"\",\"\",①データ登録!B590)","v":""},{"$f":"IF(①データ登録!C590=\"\",\"\",①データ登録!C590)","v":""}]
[null,null,null,null,null,null,null,null,null,null,null,null,{"$f":"IF(①データ登録!A591=\"\",\"\",①データ登録!A591)","v":""},{"$f":"IF(①データ登録!B591=\"\",\"\",①データ登録!B591)","v":""},{"$f":"IF(①データ登録!C591=\"\",\"\",①データ登録!C591)","v":""}]
[null,null,null,null,null,null,null,null,null,null,null,null,{"$f":"IF(①データ登録!A592=\"\",\"\",①データ登録!A592)","v":""},{"$f":"IF(①データ登録!B592=\"\",\"\",①データ登録!B592)","v":""},{"$f":"IF(①データ登録!C592=\"\",\"\",①データ登録!C592)","v":""}]
[null,null,null,null,null,null,null,null,null,null,null,null,{"$f":"IF(①データ登録!A593=\"\",\"\",①データ登録!A593)","v":""},{"$f":"IF(①データ登録!B593=\"\",\"\",①データ登録!B593)","v":""},{"$f":"IF(①データ登録!C593=\"\",\"\",①データ登録!C593)","v":""}]
[null,null,null,null,null,null,null,null,null,null,null,null,{"$f":"IF(①データ登録!A594=\"\",\"\",①データ登録!A594)","v":""},{"$f":"IF(①データ登録!B594=\"\",\"\",①データ登録!B594)","v":""},{"$f":"IF(①データ登録!C594=\"\",\"\",①データ登録!C594)","v":""}]
[null,null,null,null,null,null,null,null,null,null,null,null,{"$f":"IF(①データ登録!A595=\"\",\"\",①データ登録!A595)","v":""},{"$f":"IF(①データ登録!B595=\"\",\"\",①データ登録!B595)","v":""},{"$f":"IF(①データ登録!C595=\"\",\"\",①データ登録!C595)","v":""}]
[null,null,null,null,null,null,null,null,null,null,null,null,{"$f":"IF(①データ登録!A596=\"\",\"\",①データ登録!A596)","v":""},{"$f":"IF(①データ登録!B596=\"\",\"\",①データ登録!B596)","v":""},{"$f":"IF(①データ登録!C596=\"\",\"\",①データ登録!C596)","v":""}]
[null,null,null,null,null,null,null,null,null,null,null,null,{"$f":"IF(①データ登録!A597=\"\",\"\",①データ登録!A597)","v":""},{"$f":"IF(①データ登録!B597=\"\",\"\",①データ登録!B597)","v":""},{"$f":"IF(①データ登録!C597=\"\",\"\",①データ登録!C597)","v":""}]
[null,null,null,null,null,null,null,null,null,null,null,null,{"$f":"IF(①データ登録!A598=\"\",\"\",①データ登録!A598)","v":""},{"$f":"IF(①データ登録!B598=\"\",\"\",①データ登録!B598)","v":""},{"$f":"IF(①データ登録!C598=\"\",\"\",①データ登録!C598)","v":""}]
[null,null,null,null,null,null,null,null,null,null,null,null,{"$f":"IF(①データ登録!A599=\"\",\"\",①データ登録!A599)","v":""},{"$f":"IF(①データ登録!B599=\"\",\"\",①データ登録!B599)","v":""},{"$f":"IF(①データ登録!C599=\"\",\"\",①データ登録!C599)","v":""}]
[null,null,null,null,null,null,null,null,null,null,null,null,{"$f":"IF(①データ登録!A600=\"\",\"\",①データ登録!A600)","v":""},{"$f":"IF(①データ登録!B600=\"\",\"\",①データ登録!B600)","v":""},{"$f":"IF(①データ登録!C600=\"\",\"\",①データ登録!C600)","v":""}]
[null,null,null,null,null,null,null,null,null,null,null,null,{"$f":"IF(①データ登録!A601=\"\",\"\",①データ登録!A601)","v":""},{"$f":"IF(①データ登録!B601=\"\",\"\",①データ登録!B601)","v":""},{"$f":"IF(①データ登録!C601=\"\",\"\",①データ登録!C601)","v":""}]
[null,null,null,null,null,null,null,null,null,null,null,null,{"$f":"IF(①データ登録!A602=\"\",\"\",①データ登録!A602)","v":""},{"$f":"IF(①データ登録!B602=\"\",\"\",①データ登録!B602)","v":""},{"$f":"IF(①データ登録!C602=\"\",\"\",①データ登録!C602)","v":""}]
[null,null,null,null,null,null,null,null,null,null,null,null,{"$f":"IF(①データ登録!A603=\"\",\"\",①データ登録!A603)","v":""},{"$f":"IF(①データ登録!B603=\"\",\"\",①データ登録!B603)","v":""},{"$f":"IF(①データ登録!C603=\"\",\"\",①データ登録!C603)","v":""}]
[null,null,null,null,null,null,null,null,null,null,null,null,{"$f":"IF(①データ登録!A604=\"\",\"\",①データ登録!A604)","v":""},{"$f":"IF(①データ登録!B604=\"\",\"\",①データ登録!B604)","v":""},{"$f":"IF(①データ登録!C604=\"\",\"\",①データ登録!C604)","v":""}]
[null,null,null,null,null,null,null,null,null,null,null,null,{"$f":"IF(①データ登録!A605=\"\",\"\",①データ登録!A605)","v":""},{"$f":"IF(①データ登録!B605=\"\",\"\",①データ登録!B605)","v":""},{"$f":"IF(①データ登録!C605=\"\",\"\",①データ登録!C605)","v":""}]
[null,null,null,null,null,null,null,null,null,null,null,null,{"$f":"IF(①データ登録!A606=\"\",\"\",①データ登録!A606)","v":""},{"$f":"IF(①データ登録!B606=\"\",\"\",①データ登録!B606)","v":""},{"$f":"IF(①データ登録!C606=\"\",\"\",①データ登録!C606)","v":""}]
[null,null,null,null,null,null,null,null,null,null,null,null,{"$f":"IF(①データ登録!A607=\"\",\"\",①データ登録!A607)","v":""},{"$f":"IF(①データ登録!B607=\"\",\"\",①データ登録!B607)","v":""},{"$f":"IF(①データ登録!C607=\"\",\"\",①データ登録!C607)","v":""}]
[null,null,null,null,null,null,null,null,null,null,null,null,{"$f":"IF(①データ登録!A608=\"\",\"\",①データ登録!A608)","v":""},{"$f":"IF(①データ登録!B608=\"\",\"\",①データ登録!B608)","v":""},{"$f":"IF(①データ登録!C608=\"\",\"\",①データ登録!C608)","v":""}]
[null,null,null,null,null,null,null,null,null,null,null,null,{"$f":"IF(①データ登録!A609=\"\",\"\",①データ登録!A609)","v":""},{"$f":"IF(①データ登録!B609=\"\",\"\",①データ登録!B609)","v":""},{"$f":"IF(①データ登録!C609=\"\",\"\",①データ登録!C609)","v":""}]
[null,null,null,null,null,null,null,null,null,null,null,null,{"$f":"IF(①データ登録!A610=\"\",\"\",①データ登録!A610)","v":""},{"$f":"IF(①データ登録!B610=\"\",\"\",①データ登録!B610)","v":""},{"$f":"IF(①データ登録!C610=\"\",\"\",①データ登録!C610)","v":""}]
[null,null,null,null,null,null,null,null,null,null,null,null,{"$f":"IF(①データ登録!A611=\"\",\"\",①データ登録!A611)","v":""},{"$f":"IF(①データ登録!B611=\"\",\"\",①データ登録!B611)","v":""},{"$f":"IF(①データ登録!C611=\"\",\"\",①データ登録!C611)","v":""}]
[null,null,null,null,null,null,null,null,null,null,null,null,{"$f":"IF(①データ登録!A612=\"\",\"\",①データ登録!A612)","v":""},{"$f":"IF(①データ登録!B612=\"\",\"\",①データ登録!B612)","v":""},{"$f":"IF(①データ登録!C612=\"\",\"\",①データ登録!C612)","v":""}]
[null,null,null,null,null,null,null,null,null,null,null,null,{"$f":"IF(①データ登録!A613=\"\",\"\",①データ登録!A613)","v":""},{"$f":"IF(①データ登録!B613=\"\",\"\",①データ登録!B613)","v":""},{"$f":"IF(①データ登録!C613=\"\",\"\",①データ登録!C613)","v":""}]
[null,null,null,null,null,null,null,null,null,null,null,null,{"$f":"IF(①データ登録!A614=\"\",\"\",①データ登録!A614)","v":""},{"$f":"IF(①データ登録!B614=\"\",\"\",①データ登録!B614)","v":""},{"$f":"IF(①データ登録!C614=\"\",\"\",①データ登録!C614)","v":""}]
[null,null,null,null,null,null,null,null,null,null,null,null,{"$f":"IF(①データ登録!A615=\"\",\"\",①データ登録!A615)","v":""},{"$f":"IF(①データ登録!B615=\"\",\"\",①データ登録!B615)","v":""},{"$f":"IF(①データ登録!C615=\"\",\"\",①データ登録!C615)","v":""}]
[null,null,null,null,null,null,null,null,null,null,null,null,{"$f":"IF(①データ登録!A616=\"\",\"\",①データ登録!A616)","v":""},{"$f":"IF(①データ登録!B616=\"\",\"\",①データ登録!B616)","v":""},{"$f":"IF(①データ登録!C616=\"\",\"\",①データ登録!C616)","v":""}]
[null,null,null,null,null,null,null,null,null,null,null,null,{"$f":"IF(①データ登録!A617=\"\",\"\",①データ登録!A617)","v":""},{"$f":"IF(①データ登録!B617=\"\",\"\",①データ登録!B617)","v":""},{"$f":"IF(①データ登録!C617=\"\",\"\",①データ登録!C617)","v":""}]
[null,null,null,null,null,null,null,null,null,null,null,null,{"$f":"IF(①データ登録!A618=\"\",\"\",①データ登録!A618)","v":""},{"$f":"IF(①データ登録!B618=\"\",\"\",①データ登録!B618)","v":""},{"$f":"IF(①データ登録!C618=\"\",\"\",①データ登録!C618)","v":""}]
[null,null,null,null,null,null,null,null,null,null,null,null,{"$f":"IF(①データ登録!A619=\"\",\"\",①データ登録!A619)","v":""},{"$f":"IF(①データ登録!B619=\"\",\"\",①データ登録!B619)","v":""},{"$f":"IF(①データ登録!C619=\"\",\"\",①データ登録!C619)","v":""}]
[null,null,null,null,null,null,null,null,null,null,null,null,{"$f":"IF(①データ登録!A620=\"\",\"\",①データ登録!A620)","v":""},{"$f":"IF(①データ登録!B620=\"\",\"\",①データ登録!B620)","v":""},{"$f":"IF(①データ登録!C620=\"\",\"\",①データ登録!C620)","v":""}]
[null,null,null,null,null,null,null,null,null,null,null,null,{"$f":"IF(①データ登録!A621=\"\",\"\",①データ登録!A621)","v":""},{"$f":"IF(①データ登録!B621=\"\",\"\",①データ登録!B621)","v":""},{"$f":"IF(①データ登録!C621=\"\",\"\",①データ登録!C621)","v":""}]
[null,null,null,null,null,null,null,null,null,null,null,null,{"$f":"IF(①データ登録!A622=\"\",\"\",①データ登録!A622)","v":""},{"$f":"IF(①データ登録!B622=\"\",\"\",①データ登録!B622)","v":""},{"$f":"IF(①データ登録!C622=\"\",\"\",①データ登録!C622)","v":""}]
[null,null,null,null,null,null,null,null,null,null,null,null,{"$f":"IF(①データ登録!A623=\"\",\"\",①データ登録!A623)","v":""},{"$f":"IF(①データ登録!B623=\"\",\"\",①データ登録!B623)","v":""},{"$f":"IF(①データ登録!C623=\"\",\"\",①データ登録!C623)","v":""}]
[null,null,null,null,null,null,null,null,null,null,null,null,{"$f":"IF(①データ登録!A624=\"\",\"\",①データ登録!A624)","v":""},{"$f":"IF(①データ登録!B624=\"\",\"\",①データ登録!B624)","v":""},{"$f":"IF(①データ登録!C624=\"\",\"\",①データ登録!C624)","v":""}]
[null,null,null,null,null,null,null,null,null,null,null,null,{"$f":"IF(①データ登録!A625=\"\",\"\",①データ登録!A625)","v":""},{"$f":"IF(①データ登録!B625=\"\",\"\",①データ登録!B625)","v":""},{"$f":"IF(①データ登録!C625=\"\",\"\",①データ登録!C625)","v":""}]
[null,null,null,null,null,null,null,null,null,null,null,null,{"$f":"IF(①データ登録!A626=\"\",\"\",①データ登録!A626)","v":""},{"$f":"IF(①データ登録!B626=\"\",\"\",①データ登録!B626)","v":""},{"$f":"IF(①データ登録!C626=\"\",\"\",①データ登録!C626)","v":""}]
[null,null,null,null,null,null,null,null,null,null,null,null,{"$f":"IF(①データ登録!A627=\"\",\"\",①データ登録!A627)","v":""},{"$f":"IF(①データ登録!B627=\"\",\"\",①データ登録!B627)","v":""},{"$f":"IF(①データ登録!C627=\"\",\"\",①データ登録!C627)","v":""}]
[null,null,null,null,null,null,null,null,null,null,null,null,{"$f":"IF(①データ登録!A628=\"\",\"\",①データ登録!A628)","v":""},{"$f":"IF(①データ登録!B628=\"\",\"\",①データ登録!B628)","v":""},{"$f":"IF(①データ登録!C628=\"\",\"\",①データ登録!C628)","v":""}]
[null,null,null,null,null,null,null,null,null,null,null,null,{"$f":"IF(①データ登録!A629=\"\",\"\",①データ登録!A629)","v":""},{"$f":"IF(①データ登録!B629=\"\",\"\",①データ登録!B629)","v":""},{"$f":"IF(①データ登録!C629=\"\",\"\",①データ登録!C629)","v":""}]
[null,null,null,null,null,null,null,null,null,null,null,null,{"$f":"IF(①データ登録!A630=\"\",\"\",①データ登録!A630)","v":""},{"$f":"IF(①データ登録!B630=\"\",\"\",①データ登録!B630)","v":""},{"$f":"IF(①データ登録!C630=\"\",\"\",①データ登録!C630)","v":""}]
[null,null,null,null,null,null,null,null,null,null,null,null,{"$f":"IF(①データ登録!A631=\"\",\"\",①データ登録!A631)","v":""},{"$f":"IF(①データ登録!B631=\"\",\"\",①データ登録!B631)","v":""},{"$f":"IF(①データ登録!C631=\"\",\"\",①データ登録!C631)","v":""}]
[null,null,null,null,null,null,null,null,null,null,null,null,{"$f":"IF(①データ登録!A632=\"\",\"\",①データ登録!A632)","v":""},{"$f":"IF(①データ登録!B632=\"\",\"\",①データ登録!B632)","v":""},{"$f":"IF(①データ登録!C632=\"\",\"\",①データ登録!C632)","v":""}]
[null,null,null,null,null,null,null,null,null,null,null,null,{"$f":"IF(①データ登録!A633=\"\",\"\",①データ登録!A633)","v":""},{"$f":"IF(①データ登録!B633=\"\",\"\",①データ登録!B633)","v":""},{"$f":"IF(①データ登録!C633=\"\",\"\",①データ登録!C633)","v":""}]
[null,null,null,null,null,null,null,null,null,null,null,null,{"$f":"IF(①データ登録!A634=\"\",\"\",①データ登録!A634)","v":""},{"$f":"IF(①データ登録!B634=\"\",\"\",①データ登録!B634)","v":""},{"$f":"IF(①データ登録!C634=\"\",\"\",①データ登録!C634)","v":""}]
[null,null,null,null,null,null,null,null,null,null,null,null,{"$f":"IF(①データ登録!A635=\"\",\"\",①データ登録!A635)","v":""},{"$f":"IF(①データ登録!B635=\"\",\"\",①データ登録!B635)","v":""},{"$f":"IF(①データ登録!C635=\"\",\"\",①データ登録!C635)","v":""}]
[null,null,null,null,null,null,null,null,null,null,null,null,{"$f":"IF(①データ登録!A636=\"\",\"\",①データ登録!A636)","v":""},{"$f":"IF(①データ登録!B636=\"\",\"\",①データ登録!B636)","v":""},{"$f":"IF(①データ登録!C636=\"\",\"\",①データ登録!C636)","v":""}]
[null,null,null,null,null,null,null,null,null,null,null,null,{"$f":"IF(①データ登録!A637=\"\",\"\",①データ登録!A637)","v":""},{"$f":"IF(①データ登録!B637=\"\",\"\",①データ登録!B637)","v":""},{"$f":"IF(①データ登録!C637=\"\",\"\",①データ登録!C637)","v":""}]
[null,null,null,null,null,null,null,null,null,null,null,null,{"$f":"IF(①データ登録!A638=\"\",\"\",①データ登録!A638)","v":""},{"$f":"IF(①データ登録!B638=\"\",\"\",①データ登録!B638)","v":""},{"$f":"IF(①データ登録!C638=\"\",\"\",①データ登録!C638)","v":""}]
[null,null,null,null,null,null,null,null,null,null,null,null,{"$f":"IF(①データ登録!A639=\"\",\"\",①データ登録!A639)","v":""},{"$f":"IF(①データ登録!B639=\"\",\"\",①データ登録!B639)","v":""},{"$f":"IF(①データ登録!C639=\"\",\"\",①データ登録!C639)","v":""}]
[null,null,null,null,null,null,null,null,null,null,null,null,{"$f":"IF(①データ登録!A640=\"\",\"\",①データ登録!A640)","v":""},{"$f":"IF(①データ登録!B640=\"\",\"\",①データ登録!B640)","v":""},{"$f":"IF(①データ登録!C640=\"\",\"\",①データ登録!C640)","v":""}]
[null,null,null,null,null,null,null,null,null,null,null,null,{"$f":"IF(①データ登録!A641=\"\",\"\",①データ登録!A641)","v":""},{"$f":"IF(①データ登録!B641=\"\",\"\",①データ登録!B641)","v":""},{"$f":"IF(①データ登録!C641=\"\",\"\",①データ登録!C641)","v":""}]
[null,null,null,null,null,null,null,null,null,null,null,null,{"$f":"IF(①データ登録!A642=\"\",\"\",①データ登録!A642)","v":""},{"$f":"IF(①データ登録!B642=\"\",\"\",①データ登録!B642)","v":""},{"$f":"IF(①データ登録!C642=\"\",\"\",①データ登録!C642)","v":""}]
[null,null,null,null,null,null,null,null,null,null,null,null,{"$f":"IF(①データ登録!A643=\"\",\"\",①データ登録!A643)","v":""},{"$f":"IF(①データ登録!B643=\"\",\"\",①データ登録!B643)","v":""},{"$f":"IF(①データ登録!C643=\"\",\"\",①データ登録!C643)","v":""}]
[null,null,null,null,null,null,null,null,null,null,null,null,{"$f":"IF(①データ登録!A644=\"\",\"\",①データ登録!A644)","v":""},{"$f":"IF(①データ登録!B644=\"\",\"\",①データ登録!B644)","v":""},{"$f":"IF(①データ登録!C644=\"\",\"\",①データ登録!C644)","v":""}]
[null,null,null,null,null,null,null,null,null,null,null,null,{"$f":"IF(①データ登録!A645=\"\",\"\",①データ登録!A645)","v":""},{"$f":"IF(①データ登録!B645=\"\",\"\",①データ登録!B645)","v":""},{"$f":"IF(①データ登録!C645=\"\",\"\",①データ登録!C645)","v":""}]
[null,null,null,null,null,null,null,null,null,null,null,null,{"$f":"IF(①データ登録!A646=\"\",\"\",①データ登録!A646)","v":""},{"$f":"IF(①データ登録!B646=\"\",\"\",①データ登録!B646)","v":""},{"$f":"IF(①データ登録!C646=\"\",\"\",①データ登録!C646)","v":""}]
[null,null,null,null,null,null,null,null,null,null,null,null,{"$f":"IF(①データ登録!A647=\"\",\"\",①データ登録!A647)","v":""},{"$f":"IF(①データ登録!B647=\"\",\"\",①データ登録!B647)","v":""},{"$f":"IF(①データ登録!C647=\"\",\"\",①データ登録!C647)","v":""}]
[null,null,null,null,null,null,null,null,null,null,null,null,{"$f":"IF(①データ登録!A648=\"\",\"\",①データ登録!A648)","v":""},{"$f":"IF(①データ登録!B648=\"\",\"\",①データ登録!B648)","v":""},{"$f":"IF(①データ登録!C648=\"\",\"\",①データ登録!C648)","v":""}]
[null,null,null,null,null,null,null,null,null,null,null,null,{"$f":"IF(①データ登録!A649=\"\",\"\",①データ登録!A649)","v":""},{"$f":"IF(①データ登録!B649=\"\",\"\",①データ登録!B649)","v":""},{"$f":"IF(①データ登録!C649=\"\",\"\",①データ登録!C649)","v":""}]
[null,null,null,null,null,null,null,null,null,null,null,null,{"$f":"IF(①データ登録!A650=\"\",\"\",①データ登録!A650)","v":""},{"$f":"IF(①データ登録!B650=\"\",\"\",①データ登録!B650)","v":""},{"$f":"IF(①データ登録!C650=\"\",\"\",①データ登録!C650)","v":""}]
[null,null,null,null,null,null,null,null,null,null,null,null,{"$f":"IF(①データ登録!A651=\"\",\"\",①データ登録!A651)","v":""},{"$f":"IF(①データ登録!B651=\"\",\"\",①データ登録!B651)","v":""},{"$f":"IF(①データ登録!C651=\"\",\"\",①データ登録!C651)","v":""}]
[null,null,null,null,null,null,null,null,null,null,null,null,{"$f":"IF(①データ登録!A652=\"\",\"\",①データ登録!A652)","v":""},{"$f":"IF(①データ登録!B652=\"\",\"\",①データ登録!B652)","v":""},{"$f":"IF(①データ登録!C652=\"\",\"\",①データ登録!C652)","v":""}]
[null,null,null,null,null,null,null,null,null,null,null,null,{"$f":"IF(①データ登録!A653=\"\",\"\",①データ登録!A653)","v":""},{"$f":"IF(①データ登録!B653=\"\",\"\",①データ登録!B653)","v":""},{"$f":"IF(①データ登録!C653=\"\",\"\",①データ登録!C653)","v":""}]
[null,null,null,null,null,null,null,null,null,null,null,null,{"$f":"IF(①データ登録!A654=\"\",\"\",①データ登録!A654)","v":""},{"$f":"IF(①データ登録!B654=\"\",\"\",①データ登録!B654)","v":""},{"$f":"IF(①データ登録!C654=\"\",\"\",①データ登録!C654)","v":""}]
[null,null,null,null,null,null,null,null,null,null,null,null,{"$f":"IF(①データ登録!A655=\"\",\"\",①データ登録!A655)","v":""},{"$f":"IF(①データ登録!B655=\"\",\"\",①データ登録!B655)","v":""},{"$f":"IF(①データ登録!C655=\"\",\"\",①データ登録!C655)","v":""}]
[null,null,null,null,null,null,null,null,null,null,null,null,{"$f":"IF(①データ登録!A656=\"\",\"\",①データ登録!A656)","v":""},{"$f":"IF(①データ登録!B656=\"\",\"\",①データ登録!B656)","v":""},{"$f":"IF(①データ登録!C656=\"\",\"\",①データ登録!C656)","v":""}]
[null,null,null,null,null,null,null,null,null,null,null,null,{"$f":"IF(①データ登録!A657=\"\",\"\",①データ登録!A657)","v":""},{"$f":"IF(①データ登録!B657=\"\",\"\",①データ登録!B657)","v":""},{"$f":"IF(①データ登録!C657=\"\",\"\",①データ登録!C657)","v":""}]
[null,null,null,null,null,null,null,null,null,null,null,null,{"$f":"IF(①データ登録!A658=\"\",\"\",①データ登録!A658)","v":""},{"$f":"IF(①データ登録!B658=\"\",\"\",①データ登録!B658)","v":""},{"$f":"IF(①データ登録!C658=\"\",\"\",①データ登録!C658)","v":""}]
[null,null,null,null,null,null,null,null,null,null,null,null,{"$f":"IF(①データ登録!A659=\"\",\"\",①データ登録!A659)","v":""},{"$f":"IF(①データ登録!B659=\"\",\"\",①データ登録!B659)","v":""},{"$f":"IF(①データ登録!C659=\"\",\"\",①データ登録!C659)","v":""}]
[null,null,null,null,null,null,null,null,null,null,null,null,{"$f":"IF(①データ登録!A660=\"\",\"\",①データ登録!A660)","v":""},{"$f":"IF(①データ登録!B660=\"\",\"\",①データ登録!B660)","v":""},{"$f":"IF(①データ登録!C660=\"\",\"\",①データ登録!C660)","v":""}]
[null,null,null,null,null,null,null,null,null,null,null,null,{"$f":"IF(①データ登録!A661=\"\",\"\",①データ登録!A661)","v":""},{"$f":"IF(①データ登録!B661=\"\",\"\",①データ登録!B661)","v":""},{"$f":"IF(①データ登録!C661=\"\",\"\",①データ登録!C661)","v":""}]
[null,null,null,null,null,null,null,null,null,null,null,null,{"$f":"IF(①データ登録!A662=\"\",\"\",①データ登録!A662)","v":""},{"$f":"IF(①データ登録!B662=\"\",\"\",①データ登録!B662)","v":""},{"$f":"IF(①データ登録!C662=\"\",\"\",①データ登録!C662)","v":""}]
[null,null,null,null,null,null,null,null,null,null,null,null,{"$f":"IF(①データ登録!A663=\"\",\"\",①データ登録!A663)","v":""},{"$f":"IF(①データ登録!B663=\"\",\"\",①データ登録!B663)","v":""},{"$f":"IF(①データ登録!C663=\"\",\"\",①データ登録!C663)","v":""}]
[null,null,null,null,null,null,null,null,null,null,null,null,{"$f":"IF(①データ登録!A664=\"\",\"\",①データ登録!A664)","v":""},{"$f":"IF(①データ登録!B664=\"\",\"\",①データ登録!B664)","v":""},{"$f":"IF(①データ登録!C664=\"\",\"\",①データ登録!C664)","v":""}]
[null,null,null,null,null,null,null,null,null,null,null,null,{"$f":"IF(①データ登録!A665=\"\",\"\",①データ登録!A665)","v":""},{"$f":"IF(①データ登録!B665=\"\",\"\",①データ登録!B665)","v":""},{"$f":"IF(①データ登録!C665=\"\",\"\",①データ登録!C665)","v":""}]
[null,null,null,null,null,null,null,null,null,null,null,null,{"$f":"IF(①データ登録!A666=\"\",\"\",①データ登録!A666)","v":""},{"$f":"IF(①データ登録!B666=\"\",\"\",①データ登録!B666)","v":""},{"$f":"IF(①データ登録!C666=\"\",\"\",①データ登録!C666)","v":""}]
[null,null,null,null,null,null,null,null,null,null,null,null,{"$f":"IF(①データ登録!A667=\"\",\"\",①データ登録!A667)","v":""},{"$f":"IF(①データ登録!B667=\"\",\"\",①データ登録!B667)","v":""},{"$f":"IF(①データ登録!C667=\"\",\"\",①データ登録!C667)","v":""}]
[null,null,null,null,null,null,null,null,null,null,null,null,{"$f":"IF(①データ登録!A668=\"\",\"\",①データ登録!A668)","v":""},{"$f":"IF(①データ登録!B668=\"\",\"\",①データ登録!B668)","v":""},{"$f":"IF(①データ登録!C668=\"\",\"\",①データ登録!C668)","v":""}]
[null,null,null,null,null,null,null,null,null,null,null,null,{"$f":"IF(①データ登録!A669=\"\",\"\",①データ登録!A669)","v":""},{"$f":"IF(①データ登録!B669=\"\",\"\",①データ登録!B669)","v":""},{"$f":"IF(①データ登録!C669=\"\",\"\",①データ登録!C669)","v":""}]
[null,null,null,null,null,null,null,null,null,null,null,null,{"$f":"IF(①データ登録!A670=\"\",\"\",①データ登録!A670)","v":""},{"$f":"IF(①データ登録!B670=\"\",\"\",①データ登録!B670)","v":""},{"$f":"IF(①データ登録!C670=\"\",\"\",①データ登録!C670)","v":""}]
[null,null,null,null,null,null,null,null,null,null,null,null,{"$f":"IF(①データ登録!A671=\"\",\"\",①データ登録!A671)","v":""},{"$f":"IF(①データ登録!B671=\"\",\"\",①データ登録!B671)","v":""},{"$f":"IF(①データ登録!C671=\"\",\"\",①データ登録!C671)","v":""}]
[null,null,null,null,null,null,null,null,null,null,null,null,{"$f":"IF(①データ登録!A672=\"\",\"\",①データ登録!A672)","v":""},{"$f":"IF(①データ登録!B672=\"\",\"\",①データ登録!B672)","v":""},{"$f":"IF(①データ登録!C672=\"\",\"\",①データ登録!C672)","v":""}]
[null,null,null,null,null,null,null,null,null,null,null,null,{"$f":"IF(①データ登録!A673=\"\",\"\",①データ登録!A673)","v":""},{"$f":"IF(①データ登録!B673=\"\",\"\",①データ登録!B673)","v":""},{"$f":"IF(①データ登録!C673=\"\",\"\",①データ登録!C673)","v":""}]
[null,null,null,null,null,null,null,null,null,null,null,null,{"$f":"IF(①データ登録!A674=\"\",\"\",①データ登録!A674)","v":""},{"$f":"IF(①データ登録!B674=\"\",\"\",①データ登録!B674)","v":""},{"$f":"IF(①データ登録!C674=\"\",\"\",①データ登録!C674)","v":""}]
[null,null,null,null,null,null,null,null,null,null,null,null,{"$f":"IF(①データ登録!A675=\"\",\"\",①データ登録!A675)","v":""},{"$f":"IF(①データ登録!B675=\"\",\"\",①データ登録!B675)","v":""},{"$f":"IF(①データ登録!C675=\"\",\"\",①データ登録!C675)","v":""}]
[null,null,null,null,null,null,null,null,null,null,null,null,{"$f":"IF(①データ登録!A676=\"\",\"\",①データ登録!A676)","v":""},{"$f":"IF(①データ登録!B676=\"\",\"\",①データ登録!B676)","v":""},{"$f":"IF(①データ登録!C676=\"\",\"\",①データ登録!C676)","v":""}]
[null,null,null,null,null,null,null,null,null,null,null,null,{"$f":"IF(①データ登録!A677=\"\",\"\",①データ登録!A677)","v":""},{"$f":"IF(①データ登録!B677=\"\",\"\",①データ登録!B677)","v":""},{"$f":"IF(①データ登録!C677=\"\",\"\",①データ登録!C677)","v":""}]
[null,null,null,null,null,null,null,null,null,null,null,null,{"$f":"IF(①データ登録!A678=\"\",\"\",①データ登録!A678)","v":""},{"$f":"IF(①データ登録!B678=\"\",\"\",①データ登録!B678)","v":""},{"$f":"IF(①データ登録!C678=\"\",\"\",①データ登録!C678)","v":""}]
[null,null,null,null,null,null,null,null,null,null,null,null,{"$f":"IF(①データ登録!A679=\"\",\"\",①データ登録!A679)","v":""},{"$f":"IF(①データ登録!B679=\"\",\"\",①データ登録!B679)","v":""},{"$f":"IF(①データ登録!C679=\"\",\"\",①データ登録!C679)","v":""}]
[null,null,null,null,null,null,null,null,null,null,null,null,{"$f":"IF(①データ登録!A680=\"\",\"\",①データ登録!A680)","v":""},{"$f":"IF(①データ登録!B680=\"\",\"\",①データ登録!B680)","v":""},{"$f":"IF(①データ登録!C680=\"\",\"\",①データ登録!C680)","v":""}]
[null,null,null,null,null,null,null,null,null,null,null,null,{"$f":"IF(①データ登録!A681=\"\",\"\",①データ登録!A681)","v":""},{"$f":"IF(①データ登録!B681=\"\",\"\",①データ登録!B681)","v":""},{"$f":"IF(①データ登録!C681=\"\",\"\",①データ登録!C681)","v":""}]
[null,null,null,null,null,null,null,null,null,null,null,null,{"$f":"IF(①データ登録!A682=\"\",\"\",①データ登録!A682)","v":""},{"$f":"IF(①データ登録!B682=\"\",\"\",①データ登録!B682)","v":""},{"$f":"IF(①データ登録!C682=\"\",\"\",①データ登録!C682)","v":""}]
[null,null,null,null,null,null,null,null,null,null,null,null,{"$f":"IF(①データ登録!A683=\"\",\"\",①データ登録!A683)","v":""},{"$f":"IF(①データ登録!B683=\"\",\"\",①データ登録!B683)","v":""},{"$f":"IF(①データ登録!C683=\"\",\"\",①データ登録!C683)","v":""}]
[null,null,null,null,null,null,null,null,null,null,null,null,{"$f":"IF(①データ登録!A684=\"\",\"\",①データ登録!A684)","v":""},{"$f":"IF(①データ登録!B684=\"\",\"\",①データ登録!B684)","v":""},{"$f":"IF(①データ登録!C684=\"\",\"\",①データ登録!C684)","v":""}]
[null,null,null,null,null,null,null,null,null,null,null,null,{"$f":"IF(①データ登録!A685=\"\",\"\",①データ登録!A685)","v":""},{"$f":"IF(①データ登録!B685=\"\",\"\",①データ登録!B685)","v":""},{"$f":"IF(①データ登録!C685=\"\",\"\",①データ登録!C685)","v":""}]
[null,null,null,null,null,null,null,null,null,null,null,null,{"$f":"IF(①データ登録!A686=\"\",\"\",①データ登録!A686)","v":""},{"$f":"IF(①データ登録!B686=\"\",\"\",①データ登録!B686)","v":""},{"$f":"IF(①データ登録!C686=\"\",\"\",①データ登録!C686)","v":""}]
[null,null,null,null,null,null,null,null,null,null,null,null,{"$f":"IF(①データ登録!A687=\"\",\"\",①データ登録!A687)","v":""},{"$f":"IF(①データ登録!B687=\"\",\"\",①データ登録!B687)","v":""},{"$f":"IF(①データ登録!C687=\"\",\"\",①データ登録!C687)","v":""}]
[null,null,null,null,null,null,null,null,null,null,null,null,{"$f":"IF(①データ登録!A688=\"\",\"\",①データ登録!A688)","v":""},{"$f":"IF(①データ登録!B688=\"\",\"\",①データ登録!B688)","v":""},{"$f":"IF(①データ登録!C688=\"\",\"\",①データ登録!C688)","v":""}]
[null,null,null,null,null,null,null,null,null,null,null,null,{"$f":"IF(①データ登録!A689=\"\",\"\",①データ登録!A689)","v":""},{"$f":"IF(①データ登録!B689=\"\",\"\",①データ登録!B689)","v":""},{"$f":"IF(①データ登録!C689=\"\",\"\",①データ登録!C689)","v":""}]
[null,null,null,null,null,null,null,null,null,null,null,null,{"$f":"IF(①データ登録!A690=\"\",\"\",①データ登録!A690)","v":""},{"$f":"IF(①データ登録!B690=\"\",\"\",①データ登録!B690)","v":""},{"$f":"IF(①データ登録!C690=\"\",\"\",①データ登録!C690)","v":""}]
[null,null,null,null,null,null,null,null,null,null,null,null,{"$f":"IF(①データ登録!A691=\"\",\"\",①データ登録!A691)","v":""},{"$f":"IF(①データ登録!B691=\"\",\"\",①データ登録!B691)","v":""},{"$f":"IF(①データ登録!C691=\"\",\"\",①データ登録!C691)","v":""}]
[null,null,null,null,null,null,null,null,null,null,null,null,{"$f":"IF(①データ登録!A692=\"\",\"\",①データ登録!A692)","v":""},{"$f":"IF(①データ登録!B692=\"\",\"\",①データ登録!B692)","v":""},{"$f":"IF(①データ登録!C692=\"\",\"\",①データ登録!C692)","v":""}]
[null,null,null,null,null,null,null,null,null,null,null,null,{"$f":"IF(①データ登録!A693=\"\",\"\",①データ登録!A693)","v":""},{"$f":"IF(①データ登録!B693=\"\",\"\",①データ登録!B693)","v":""},{"$f":"IF(①データ登録!C693=\"\",\"\",①データ登録!C693)","v":""}]
[null,null,null,null,null,null,null,null,null,null,null,null,{"$f":"IF(①データ登録!A694=\"\",\"\",①データ登録!A694)","v":""},{"$f":"IF(①データ登録!B694=\"\",\"\",①データ登録!B694)","v":""},{"$f":"IF(①データ登録!C694=\"\",\"\",①データ登録!C694)","v":""}]
[null,null,null,null,null,null,null,null,null,null,null,null,{"$f":"IF(①データ登録!A695=\"\",\"\",①データ登録!A695)","v":""},{"$f":"IF(①データ登録!B695=\"\",\"\",①データ登録!B695)","v":""},{"$f":"IF(①データ登録!C695=\"\",\"\",①データ登録!C695)","v":""}]
[null,null,null,null,null,null,null,null,null,null,null,null,{"$f":"IF(①データ登録!A696=\"\",\"\",①データ登録!A696)","v":""},{"$f":"IF(①データ登録!B696=\"\",\"\",①データ登録!B696)","v":""},{"$f":"IF(①データ登録!C696=\"\",\"\",①データ登録!C696)","v":""}]
[null,null,null,null,null,null,null,null,null,null,null,null,{"$f":"IF(①データ登録!A697=\"\",\"\",①データ登録!A697)","v":""},{"$f":"IF(①データ登録!B697=\"\",\"\",①データ登録!B697)","v":""},{"$f":"IF(①データ登録!C697=\"\",\"\",①データ登録!C697)","v":""}]
[null,null,null,null,null,null,null,null,null,null,null,null,{"$f":"IF(①データ登録!A698=\"\",\"\",①データ登録!A698)","v":""},{"$f":"IF(①データ登録!B698=\"\",\"\",①データ登録!B698)","v":""},{"$f":"IF(①データ登録!C698=\"\",\"\",①データ登録!C698)","v":""}]
[null,null,null,null,null,null,null,null,null,null,null,null,{"$f":"IF(①データ登録!A699=\"\",\"\",①データ登録!A699)","v":""},{"$f":"IF(①データ登録!B699=\"\",\"\",①データ登録!B699)","v":""},{"$f":"IF(①データ登録!C699=\"\",\"\",①データ登録!C699)","v":""}]
[null,null,null,null,null,null,null,null,null,null,null,null,{"$f":"IF(①データ登録!A700=\"\",\"\",①データ登録!A700)","v":""},{"$f":"IF(①データ登録!B700=\"\",\"\",①データ登録!B700)","v":""},{"$f":"IF(①データ登録!C700=\"\",\"\",①データ登録!C700)","v":""}]
[null,null,null,null,null,null,null,null,null,null,null,null,{"$f":"IF(①データ登録!A701=\"\",\"\",①データ登録!A701)","v":""},{"$f":"IF(①データ登録!B701=\"\",\"\",①データ登録!B701)","v":""},{"$f":"IF(①データ登録!C701=\"\",\"\",①データ登録!C701)","v":""}]
[null,null,null,null,null,null,null,null,null,null,null,null,{"$f":"IF(①データ登録!A702=\"\",\"\",①データ登録!A702)","v":""},{"$f":"IF(①データ登録!B702=\"\",\"\",①データ登録!B702)","v":""},{"$f":"IF(①データ登録!C702=\"\",\"\",①データ登録!C702)","v":""}]
[null,null,null,null,null,null,null,null,null,null,null,null,{"$f":"IF(①データ登録!A703=\"\",\"\",①データ登録!A703)","v":""},{"$f":"IF(①データ登録!B703=\"\",\"\",①データ登録!B703)","v":""},{"$f":"IF(①データ登録!C703=\"\",\"\",①データ登録!C703)","v":""}]
[null,null,null,null,null,null,null,null,null,null,null,null,{"$f":"IF(①データ登録!A704=\"\",\"\",①データ登録!A704)","v":""},{"$f":"IF(①データ登録!B704=\"\",\"\",①データ登録!B704)","v":""},{"$f":"IF(①データ登録!C704=\"\",\"\",①データ登録!C704)","v":""}]
[null,null,null,null,null,null,null,null,null,null,null,null,{"$f":"IF(①データ登録!A705=\"\",\"\",①データ登録!A705)","v":""},{"$f":"IF(①データ登録!B705=\"\",\"\",①データ登録!B705)","v":""},{"$f":"IF(①データ登録!C705=\"\",\"\",①データ登録!C705)","v":""}]
[null,null,null,null,null,null,null,null,null,null,null,null,{"$f":"IF(①データ登録!A706=\"\",\"\",①データ登録!A706)","v":""},{"$f":"IF(①データ登録!B706=\"\",\"\",①データ登録!B706)","v":""},{"$f":"IF(①データ登録!C706=\"\",\"\",①データ登録!C706)","v":""}]
[null,null,null,null,null,null,null,null,null,null,null,null,{"$f":"IF(①データ登録!A707=\"\",\"\",①データ登録!A707)","v":""},{"$f":"IF(①データ登録!B707=\"\",\"\",①データ登録!B707)","v":""},{"$f":"IF(①データ登録!C707=\"\",\"\",①データ登録!C707)","v":""}]
[null,null,null,null,null,null,null,null,null,null,null,null,{"$f":"IF(①データ登録!A708=\"\",\"\",①データ登録!A708)","v":""},{"$f":"IF(①データ登録!B708=\"\",\"\",①データ登録!B708)","v":""},{"$f":"IF(①データ登録!C708=\"\",\"\",①データ登録!C708)","v":""}]
[null,null,null,null,null,null,null,null,null,null,null,null,{"$f":"IF(①データ登録!A709=\"\",\"\",①データ登録!A709)","v":""},{"$f":"IF(①データ登録!B709=\"\",\"\",①データ登録!B709)","v":""},{"$f":"IF(①データ登録!C709=\"\",\"\",①データ登録!C709)","v":""}]
[null,null,null,null,null,null,null,null,null,null,null,null,{"$f":"IF(①データ登録!A710=\"\",\"\",①データ登録!A710)","v":""},{"$f":"IF(①データ登録!B710=\"\",\"\",①データ登録!B710)","v":""},{"$f":"IF(①データ登録!C710=\"\",\"\",①データ登録!C710)","v":""}]
[null,null,null,null,null,null,null,null,null,null,null,null,{"$f":"IF(①データ登録!A711=\"\",\"\",①データ登録!A711)","v":""},{"$f":"IF(①データ登録!B711=\"\",\"\",①データ登録!B711)","v":""},{"$f":"IF(①データ登録!C711=\"\",\"\",①データ登録!C711)","v":""}]
[null,null,null,null,null,null,null,null,null,null,null,null,{"$f":"IF(①データ登録!A712=\"\",\"\",①データ登録!A712)","v":""},{"$f":"IF(①データ登録!B712=\"\",\"\",①データ登録!B712)","v":""},{"$f":"IF(①データ登録!C712=\"\",\"\",①データ登録!C712)","v":""}]
[null,null,null,null,null,null,null,null,null,null,null,null,{"$f":"IF(①データ登録!A713=\"\",\"\",①データ登録!A713)","v":""},{"$f":"IF(①データ登録!B713=\"\",\"\",①データ登録!B713)","v":""},{"$f":"IF(①データ登録!C713=\"\",\"\",①データ登録!C713)","v":""}]
[null,null,null,null,null,null,null,null,null,null,null,null,{"$f":"IF(①データ登録!A714=\"\",\"\",①データ登録!A714)","v":""},{"$f":"IF(①データ登録!B714=\"\",\"\",①データ登録!B714)","v":""},{"$f":"IF(①データ登録!C714=\"\",\"\",①データ登録!C714)","v":""}]
[null,null,null,null,null,null,null,null,null,null,null,null,{"$f":"IF(①データ登録!A715=\"\",\"\",①データ登録!A715)","v":""},{"$f":"IF(①データ登録!B715=\"\",\"\",①データ登録!B715)","v":""},{"$f":"IF(①データ登録!C715=\"\",\"\",①データ登録!C715)","v":""}]
[null,null,null,null,null,null,null,null,null,null,null,null,{"$f":"IF(①データ登録!A716=\"\",\"\",①データ登録!A716)","v":""},{"$f":"IF(①データ登録!B716=\"\",\"\",①データ登録!B716)","v":""},{"$f":"IF(①データ登録!C716=\"\",\"\",①データ登録!C716)","v":""}]
[null,null,null,null,null,null,null,null,null,null,null,null,{"$f":"IF(①データ登録!A717=\"\",\"\",①データ登録!A717)","v":""},{"$f":"IF(①データ登録!B717=\"\",\"\",①データ登録!B717)","v":""},{"$f":"IF(①データ登録!C717=\"\",\"\",①データ登録!C717)","v":""}]
[null,null,null,null,null,null,null,null,null,null,null,null,{"$f":"IF(①データ登録!A718=\"\",\"\",①データ登録!A718)","v":""},{"$f":"IF(①データ登録!B718=\"\",\"\",①データ登録!B718)","v":""},{"$f":"IF(①データ登録!C718=\"\",\"\",①データ登録!C718)","v":""}]
[null,null,null,null,null,null,null,null,null,null,null,null,{"$f":"IF(①データ登録!A719=\"\",\"\",①データ登録!A719)","v":""},{"$f":"IF(①データ登録!B719=\"\",\"\",①データ登録!B719)","v":""},{"$f":"IF(①データ登録!C719=\"\",\"\",①データ登録!C719)","v":""}]
[null,null,null,null,null,null,null,null,null,null,null,null,{"$f":"IF(①データ登録!A720=\"\",\"\",①データ登録!A720)","v":""},{"$f":"IF(①データ登録!B720=\"\",\"\",①データ登録!B720)","v":""},{"$f":"IF(①データ登録!C720=\"\",\"\",①データ登録!C720)","v":""}]
[null,null,null,null,null,null,null,null,null,null,null,null,{"$f":"IF(①データ登録!A721=\"\",\"\",①データ登録!A721)","v":""},{"$f":"IF(①データ登録!B721=\"\",\"\",①データ登録!B721)","v":""},{"$f":"IF(①データ登録!C721=\"\",\"\",①データ登録!C721)","v":""}]
[null,null,null,null,null,null,null,null,null,null,null,null,{"$f":"IF(①データ登録!A722=\"\",\"\",①データ登録!A722)","v":""},{"$f":"IF(①データ登録!B722=\"\",\"\",①データ登録!B722)","v":""},{"$f":"IF(①データ登録!C722=\"\",\"\",①データ登録!C722)","v":""}]
[null,null,null,null,null,null,null,null,null,null,null,null,{"$f":"IF(①データ登録!A723=\"\",\"\",①データ登録!A723)","v":""},{"$f":"IF(①データ登録!B723=\"\",\"\",①データ登録!B723)","v":""},{"$f":"IF(①データ登録!C723=\"\",\"\",①データ登録!C723)","v":""}]
[null,null,null,null,null,null,null,null,null,null,null,null,{"$f":"IF(①データ登録!A724=\"\",\"\",①データ登録!A724)","v":""},{"$f":"IF(①データ登録!B724=\"\",\"\",①データ登録!B724)","v":""},{"$f":"IF(①データ登録!C724=\"\",\"\",①データ登録!C724)","v":""}]
[null,null,null,null,null,null,null,null,null,null,null,null,{"$f":"IF(①データ登録!A725=\"\",\"\",①データ登録!A725)","v":""},{"$f":"IF(①データ登録!B725=\"\",\"\",①データ登録!B725)","v":""},{"$f":"IF(①データ登録!C725=\"\",\"\",①データ登録!C725)","v":""}]
[null,null,null,null,null,null,null,null,null,null,null,null,{"$f":"IF(①データ登録!A726=\"\",\"\",①データ登録!A726)","v":""},{"$f":"IF(①データ登録!B726=\"\",\"\",①データ登録!B726)","v":""},{"$f":"IF(①データ登録!C726=\"\",\"\",①データ登録!C726)","v":""}]
[null,null,null,null,null,null,null,null,null,null,null,null,{"$f":"IF(①データ登録!A727=\"\",\"\",①データ登録!A727)","v":""},{"$f":"IF(①データ登録!B727=\"\",\"\",①データ登録!B727)","v":""},{"$f":"IF(①データ登録!C727=\"\",\"\",①データ登録!C727)","v":""}]
[null,null,null,null,null,null,null,null,null,null,null,null,{"$f":"IF(①データ登録!A728=\"\",\"\",①データ登録!A728)","v":""},{"$f":"IF(①データ登録!B728=\"\",\"\",①データ登録!B728)","v":""},{"$f":"IF(①データ登録!C728=\"\",\"\",①データ登録!C728)","v":""}]
[null,null,null,null,null,null,null,null,null,null,null,null,{"$f":"IF(①データ登録!A729=\"\",\"\",①データ登録!A729)","v":""},{"$f":"IF(①データ登録!B729=\"\",\"\",①データ登録!B729)","v":""},{"$f":"IF(①データ登録!C729=\"\",\"\",①データ登録!C729)","v":""}]
[null,null,null,null,null,null,null,null,null,null,null,null,{"$f":"IF(①データ登録!A730=\"\",\"\",①データ登録!A730)","v":""},{"$f":"IF(①データ登録!B730=\"\",\"\",①データ登録!B730)","v":""},{"$f":"IF(①データ登録!C730=\"\",\"\",①データ登録!C730)","v":""}]
[null,null,null,null,null,null,null,null,null,null,null,null,{"$f":"IF(①データ登録!A731=\"\",\"\",①データ登録!A731)","v":""},{"$f":"IF(①データ登録!B731=\"\",\"\",①データ登録!B731)","v":""},{"$f":"IF(①データ登録!C731=\"\",\"\",①データ登録!C731)","v":""}]
[null,null,null,null,null,null,null,null,null,null,null,null,{"$f":"IF(①データ登録!A732=\"\",\"\",①データ登録!A732)","v":""},{"$f":"IF(①データ登録!B732=\"\",\"\",①データ登録!B732)","v":""},{"$f":"IF(①データ登録!C732=\"\",\"\",①データ登録!C732)","v":""}]
[null,null,null,null,null,null,null,null,null,null,null,null,{"$f":"IF(①データ登録!A733=\"\",\"\",①データ登録!A733)","v":""},{"$f":"IF(①データ登録!B733=\"\",\"\",①データ登録!B733)","v":""},{"$f":"IF(①データ登録!C733=\"\",\"\",①データ登録!C733)","v":""}]
[null,null,null,null,null,null,null,null,null,null,null,null,{"$f":"IF(①データ登録!A734=\"\",\"\",①データ登録!A734)","v":""},{"$f":"IF(①データ登録!B734=\"\",\"\",①データ登録!B734)","v":""},{"$f":"IF(①データ登録!C734=\"\",\"\",①データ登録!C734)","v":""}]
[null,null,null,null,null,null,null,null,null,null,null,null,{"$f":"IF(①データ登録!A735=\"\",\"\",①データ登録!A735)","v":""},{"$f":"IF(①データ登録!B735=\"\",\"\",①データ登録!B735)","v":""},{"$f":"IF(①データ登録!C735=\"\",\"\",①データ登録!C735)","v":""}]
[null,null,null,null,null,null,null,null,null,null,null,null,{"$f":"IF(①データ登録!A736=\"\",\"\",①データ登録!A736)","v":""},{"$f":"IF(①データ登録!B736=\"\",\"\",①データ登録!B736)","v":""},{"$f":"IF(①データ登録!C736=\"\",\"\",①データ登録!C736)","v":""}]
[null,null,null,null,null,null,null,null,null,null,null,null,{"$f":"IF(①データ登録!A737=\"\",\"\",①データ登録!A737)","v":""},{"$f":"IF(①データ登録!B737=\"\",\"\",①データ登録!B737)","v":""},{"$f":"IF(①データ登録!C737=\"\",\"\",①データ登録!C737)","v":""}]
[null,null,null,null,null,null,null,null,null,null,null,null,{"$f":"IF(①データ登録!A738=\"\",\"\",①データ登録!A738)","v":""},{"$f":"IF(①データ登録!B738=\"\",\"\",①データ登録!B738)","v":""},{"$f":"IF(①データ登録!C738=\"\",\"\",①データ登録!C738)","v":""}]
[null,null,null,null,null,null,null,null,null,null,null,null,{"$f":"IF(①データ登録!A739=\"\",\"\",①データ登録!A739)","v":""},{"$f":"IF(①データ登録!B739=\"\",\"\",①データ登録!B739)","v":""},{"$f":"IF(①データ登録!C739=\"\",\"\",①データ登録!C739)","v":""}]
[null,null,null,null,null,null,null,null,null,null,null,null,{"$f":"IF(①データ登録!A740=\"\",\"\",①データ登録!A740)","v":""},{"$f":"IF(①データ登録!B740=\"\",\"\",①データ登録!B740)","v":""},{"$f":"IF(①データ登録!C740=\"\",\"\",①データ登録!C740)","v":""}]
[null,null,null,null,null,null,null,null,null,null,null,null,{"$f":"IF(①データ登録!A741=\"\",\"\",①データ登録!A741)","v":""},{"$f":"IF(①データ登録!B741=\"\",\"\",①データ登録!B741)","v":""},{"$f":"IF(①データ登録!C741=\"\",\"\",①データ登録!C741)","v":""}]
[null,null,null,null,null,null,null,null,null,null,null,null,{"$f":"IF(①データ登録!A742=\"\",\"\",①データ登録!A742)","v":""},{"$f":"IF(①データ登録!B742=\"\",\"\",①データ登録!B742)","v":""},{"$f":"IF(①データ登録!C742=\"\",\"\",①データ登録!C742)","v":""}]
[null,null,null,null,null,null,null,null,null,null,null,null,{"$f":"IF(①データ登録!A743=\"\",\"\",①データ登録!A743)","v":""},{"$f":"IF(①データ登録!B743=\"\",\"\",①データ登録!B743)","v":""},{"$f":"IF(①データ登録!C743=\"\",\"\",①データ登録!C743)","v":""}]
[null,null,null,null,null,null,null,null,null,null,null,null,{"$f":"IF(①データ登録!A744=\"\",\"\",①データ登録!A744)","v":""},{"$f":"IF(①データ登録!B744=\"\",\"\",①データ登録!B744)","v":""},{"$f":"IF(①データ登録!C744=\"\",\"\",①データ登録!C744)","v":""}]
[null,null,null,null,null,null,null,null,null,null,null,null,{"$f":"IF(①データ登録!A745=\"\",\"\",①データ登録!A745)","v":""},{"$f":"IF(①データ登録!B745=\"\",\"\",①データ登録!B745)","v":""},{"$f":"IF(①データ登録!C745=\"\",\"\",①データ登録!C745)","v":""}]
[null,null,null,null,null,null,null,null,null,null,null,null,{"$f":"IF(①データ登録!A746=\"\",\"\",①データ登録!A746)","v":""},{"$f":"IF(①データ登録!B746=\"\",\"\",①データ登録!B746)","v":""},{"$f":"IF(①データ登録!C746=\"\",\"\",①データ登録!C746)","v":""}]
[null,null,null,null,null,null,null,null,null,null,null,null,{"$f":"IF(①データ登録!A747=\"\",\"\",①データ登録!A747)","v":""},{"$f":"IF(①データ登録!B747=\"\",\"\",①データ登録!B747)","v":""},{"$f":"IF(①データ登録!C747=\"\",\"\",①データ登録!C747)","v":""}]
[null,null,null,null,null,null,null,null,null,null,null,null,{"$f":"IF(①データ登録!A748=\"\",\"\",①データ登録!A748)","v":""},{"$f":"IF(①データ登録!B748=\"\",\"\",①データ登録!B748)","v":""},{"$f":"IF(①データ登録!C748=\"\",\"\",①データ登録!C748)","v":""}]
[null,null,null,null,null,null,null,null,null,null,null,null,{"$f":"IF(①データ登録!A749=\"\",\"\",①データ登録!A749)","v":""},{"$f":"IF(①データ登録!B749=\"\",\"\",①データ登録!B749)","v":""},{"$f":"IF(①データ登録!C749=\"\",\"\",①データ登録!C749)","v":""}]
[null,null,null,null,null,null,null,null,null,null,null,null,{"$f":"IF(①データ登録!A750=\"\",\"\",①データ登録!A750)","v":""},{"$f":"IF(①データ登録!B750=\"\",\"\",①データ登録!B750)","v":""},{"$f":"IF(①データ登録!C750=\"\",\"\",①データ登録!C750)","v":""}]
[null,null,null,null,null,null,null,null,null,null,null,null,{"$f":"IF(①データ登録!A751=\"\",\"\",①データ登録!A751)","v":""},{"$f":"IF(①データ登録!B751=\"\",\"\",①データ登録!B751)","v":""},{"$f":"IF(①データ登録!C751=\"\",\"\",①データ登録!C751)","v":""}]
[null,null,null,null,null,null,null,null,null,null,null,null,{"$f":"IF(①データ登録!A752=\"\",\"\",①データ登録!A752)","v":""},{"$f":"IF(①データ登録!B752=\"\",\"\",①データ登録!B752)","v":""},{"$f":"IF(①データ登録!C752=\"\",\"\",①データ登録!C752)","v":""}]
[null,null,null,null,null,null,null,null,null,null,null,null,{"$f":"IF(①データ登録!A753=\"\",\"\",①データ登録!A753)","v":""},{"$f":"IF(①データ登録!B753=\"\",\"\",①データ登録!B753)","v":""},{"$f":"IF(①データ登録!C753=\"\",\"\",①データ登録!C753)","v":""}]
[null,null,null,null,null,null,null,null,null,null,null,null,{"$f":"IF(①データ登録!A754=\"\",\"\",①データ登録!A754)","v":""},{"$f":"IF(①データ登録!B754=\"\",\"\",①データ登録!B754)","v":""},{"$f":"IF(①データ登録!C754=\"\",\"\",①データ登録!C754)","v":""}]
[null,null,null,null,null,null,null,null,null,null,null,null,{"$f":"IF(①データ登録!A755=\"\",\"\",①データ登録!A755)","v":""},{"$f":"IF(①データ登録!B755=\"\",\"\",①データ登録!B755)","v":""},{"$f":"IF(①データ登録!C755=\"\",\"\",①データ登録!C755)","v":""}]
[null,null,null,null,null,null,null,null,null,null,null,null,{"$f":"IF(①データ登録!A756=\"\",\"\",①データ登録!A756)","v":""},{"$f":"IF(①データ登録!B756=\"\",\"\",①データ登録!B756)","v":""},{"$f":"IF(①データ登録!C756=\"\",\"\",①データ登録!C756)","v":""}]
[null,null,null,null,null,null,null,null,null,null,null,null,{"$f":"IF(①データ登録!A757=\"\",\"\",①データ登録!A757)","v":""},{"$f":"IF(①データ登録!B757=\"\",\"\",①データ登録!B757)","v":""},{"$f":"IF(①データ登録!C757=\"\",\"\",①データ登録!C757)","v":""}]
[null,null,null,null,null,null,null,null,null,null,null,null,{"$f":"IF(①データ登録!A758=\"\",\"\",①データ登録!A758)","v":""},{"$f":"IF(①データ登録!B758=\"\",\"\",①データ登録!B758)","v":""},{"$f":"IF(①データ登録!C758=\"\",\"\",①データ登録!C758)","v":""}]
[null,null,null,null,null,null,null,null,null,null,null,null,{"$f":"IF(①データ登録!A759=\"\",\"\",①データ登録!A759)","v":""},{"$f":"IF(①データ登録!B759=\"\",\"\",①データ登録!B759)","v":""},{"$f":"IF(①データ登録!C759=\"\",\"\",①データ登録!C759)","v":""}]
[null,null,null,null,null,null,null,null,null,null,null,null,{"$f":"IF(①データ登録!A760=\"\",\"\",①データ登録!A760)","v":""},{"$f":"IF(①データ登録!B760=\"\",\"\",①データ登録!B760)","v":""},{"$f":"IF(①データ登録!C760=\"\",\"\",①データ登録!C760)","v":""}]
[null,null,null,null,null,null,null,null,null,null,null,null,{"$f":"IF(①データ登録!A761=\"\",\"\",①データ登録!A761)","v":""},{"$f":"IF(①データ登録!B761=\"\",\"\",①データ登録!B761)","v":""},{"$f":"IF(①データ登録!C761=\"\",\"\",①データ登録!C761)","v":""}]
[null,null,null,null,null,null,null,null,null,null,null,null,{"$f":"IF(①データ登録!A762=\"\",\"\",①データ登録!A762)","v":""},{"$f":"IF(①データ登録!B762=\"\",\"\",①データ登録!B762)","v":""},{"$f":"IF(①データ登録!C762=\"\",\"\",①データ登録!C762)","v":""}]
[null,null,null,null,null,null,null,null,null,null,null,null,{"$f":"IF(①データ登録!A763=\"\",\"\",①データ登録!A763)","v":""},{"$f":"IF(①データ登録!B763=\"\",\"\",①データ登録!B763)","v":""},{"$f":"IF(①データ登録!C763=\"\",\"\",①データ登録!C763)","v":""}]
[null,null,null,null,null,null,null,null,null,null,null,null,{"$f":"IF(①データ登録!A764=\"\",\"\",①データ登録!A764)","v":""},{"$f":"IF(①データ登録!B764=\"\",\"\",①データ登録!B764)","v":""},{"$f":"IF(①データ登録!C764=\"\",\"\",①データ登録!C764)","v":""}]
[null,null,null,null,null,null,null,null,null,null,null,null,{"$f":"IF(①データ登録!A765=\"\",\"\",①データ登録!A765)","v":""},{"$f":"IF(①データ登録!B765=\"\",\"\",①データ登録!B765)","v":""},{"$f":"IF(①データ登録!C765=\"\",\"\",①データ登録!C765)","v":""}]
[null,null,null,null,null,null,null,null,null,null,null,null,{"$f":"IF(①データ登録!A766=\"\",\"\",①データ登録!A766)","v":""},{"$f":"IF(①データ登録!B766=\"\",\"\",①データ登録!B766)","v":""},{"$f":"IF(①データ登録!C766=\"\",\"\",①データ登録!C766)","v":""}]
[null,null,null,null,null,null,null,null,null,null,null,null,{"$f":"IF(①データ登録!A767=\"\",\"\",①データ登録!A767)","v":""},{"$f":"IF(①データ登録!B767=\"\",\"\",①データ登録!B767)","v":""},{"$f":"IF(①データ登録!C767=\"\",\"\",①データ登録!C767)","v":""}]
[null,null,null,null,null,null,null,null,null,null,null,null,{"$f":"IF(①データ登録!A768=\"\",\"\",①データ登録!A768)","v":""},{"$f":"IF(①データ登録!B768=\"\",\"\",①データ登録!B768)","v":""},{"$f":"IF(①データ登録!C768=\"\",\"\",①データ登録!C768)","v":""}]
[null,null,null,null,null,null,null,null,null,null,null,null,{"$f":"IF(①データ登録!A769=\"\",\"\",①データ登録!A769)","v":""},{"$f":"IF(①データ登録!B769=\"\",\"\",①データ登録!B769)","v":""},{"$f":"IF(①データ登録!C769=\"\",\"\",①データ登録!C769)","v":""}]
[null,null,null,null,null,null,null,null,null,null,null,null,{"$f":"IF(①データ登録!A770=\"\",\"\",①データ登録!A770)","v":""},{"$f":"IF(①データ登録!B770=\"\",\"\",①データ登録!B770)","v":""},{"$f":"IF(①データ登録!C770=\"\",\"\",①データ登録!C770)","v":""}]
[null,null,null,null,null,null,null,null,null,null,null,null,{"$f":"IF(①データ登録!A771=\"\",\"\",①データ登録!A771)","v":""},{"$f":"IF(①データ登録!B771=\"\",\"\",①データ登録!B771)","v":""},{"$f":"IF(①データ登録!C771=\"\",\"\",①データ登録!C771)","v":""}]
[null,null,null,null,null,null,null,null,null,null,null,null,{"$f":"IF(①データ登録!A772=\"\",\"\",①データ登録!A772)","v":""},{"$f":"IF(①データ登録!B772=\"\",\"\",①データ登録!B772)","v":""},{"$f":"IF(①データ登録!C772=\"\",\"\",①データ登録!C772)","v":""}]
[null,null,null,null,null,null,null,null,null,null,null,null,{"$f":"IF(①データ登録!A773=\"\",\"\",①データ登録!A773)","v":""},{"$f":"IF(①データ登録!B773=\"\",\"\",①データ登録!B773)","v":""},{"$f":"IF(①データ登録!C773=\"\",\"\",①データ登録!C773)","v":""}]
[null,null,null,null,null,null,null,null,null,null,null,null,{"$f":"IF(①データ登録!A774=\"\",\"\",①データ登録!A774)","v":""},{"$f":"IF(①データ登録!B774=\"\",\"\",①データ登録!B774)","v":""},{"$f":"IF(①データ登録!C774=\"\",\"\",①データ登録!C774)","v":""}]
[null,null,null,null,null,null,null,null,null,null,null,null,{"$f":"IF(①データ登録!A775=\"\",\"\",①データ登録!A775)","v":""},{"$f":"IF(①データ登録!B775=\"\",\"\",①データ登録!B775)","v":""},{"$f":"IF(①データ登録!C775=\"\",\"\",①データ登録!C775)","v":""}]
[null,null,null,null,null,null,null,null,null,null,null,null,{"$f":"IF(①データ登録!A776=\"\",\"\",①データ登録!A776)","v":""},{"$f":"IF(①データ登録!B776=\"\",\"\",①データ登録!B776)","v":""},{"$f":"IF(①データ登録!C776=\"\",\"\",①データ登録!C776)","v":""}]
[null,null,null,null,null,null,null,null,null,null,null,null,{"$f":"IF(①データ登録!A777=\"\",\"\",①データ登録!A777)","v":""},{"$f":"IF(①データ登録!B777=\"\",\"\",①データ登録!B777)","v":""},{"$f":"IF(①データ登録!C777=\"\",\"\",①データ登録!C777)","v":""}]
[null,null,null,null,null,null,null,null,null,null,null,null,{"$f":"IF(①データ登録!A778=\"\",\"\",①データ登録!A778)","v":""},{"$f":"IF(①データ登録!B778=\"\",\"\",①データ登録!B778)","v":""},{"$f":"IF(①データ登録!C778=\"\",\"\",①データ登録!C778)","v":""}]
[null,null,null,null,null,null,null,null,null,null,null,null,{"$f":"IF(①データ登録!A779=\"\",\"\",①データ登録!A779)","v":""},{"$f":"IF(①データ登録!B779=\"\",\"\",①データ登録!B779)","v":""},{"$f":"IF(①データ登録!C779=\"\",\"\",①データ登録!C779)","v":""}]
[null,null,null,null,null,null,null,null,null,null,null,null,{"$f":"IF(①データ登録!A780=\"\",\"\",①データ登録!A780)","v":""},{"$f":"IF(①データ登録!B780=\"\",\"\",①データ登録!B780)","v":""},{"$f":"IF(①データ登録!C780=\"\",\"\",①データ登録!C780)","v":""}]
[null,null,null,null,null,null,null,null,null,null,null,null,{"$f":"IF(①データ登録!A781=\"\",\"\",①データ登録!A781)","v":""},{"$f":"IF(①データ登録!B781=\"\",\"\",①データ登録!B781)","v":""},{"$f":"IF(①データ登録!C781=\"\",\"\",①データ登録!C781)","v":""}]
[null,null,null,null,null,null,null,null,null,null,null,null,{"$f":"IF(①データ登録!A782=\"\",\"\",①データ登録!A782)","v":""},{"$f":"IF(①データ登録!B782=\"\",\"\",①データ登録!B782)","v":""},{"$f":"IF(①データ登録!C782=\"\",\"\",①データ登録!C782)","v":""}]
[null,null,null,null,null,null,null,null,null,null,null,null,{"$f":"IF(①データ登録!A783=\"\",\"\",①データ登録!A783)","v":""},{"$f":"IF(①データ登録!B783=\"\",\"\",①データ登録!B783)","v":""},{"$f":"IF(①データ登録!C783=\"\",\"\",①データ登録!C783)","v":""}]
[null,null,null,null,null,null,null,null,null,null,null,null,{"$f":"IF(①データ登録!A784=\"\",\"\",①データ登録!A784)","v":""},{"$f":"IF(①データ登録!B784=\"\",\"\",①データ登録!B784)","v":""},{"$f":"IF(①データ登録!C784=\"\",\"\",①データ登録!C784)","v":""}]
[null,null,null,null,null,null,null,null,null,null,null,null,{"$f":"IF(①データ登録!A785=\"\",\"\",①データ登録!A785)","v":""},{"$f":"IF(①データ登録!B785=\"\",\"\",①データ登録!B785)","v":""},{"$f":"IF(①データ登録!C785=\"\",\"\",①データ登録!C785)","v":""}]
[null,null,null,null,null,null,null,null,null,null,null,null,{"$f":"IF(①データ登録!A786=\"\",\"\",①データ登録!A786)","v":""},{"$f":"IF(①データ登録!B786=\"\",\"\",①データ登録!B786)","v":""},{"$f":"IF(①データ登録!C786=\"\",\"\",①データ登録!C786)","v":""}]
[null,null,null,null,null,null,null,null,null,null,null,null,{"$f":"IF(①データ登録!A787=\"\",\"\",①データ登録!A787)","v":""},{"$f":"IF(①データ登録!B787=\"\",\"\",①データ登録!B787)","v":""},{"$f":"IF(①データ登録!C787=\"\",\"\",①データ登録!C787)","v":""}]
[null,null,null,null,null,null,null,null,null,null,null,null,{"$f":"IF(①データ登録!A788=\"\",\"\",①データ登録!A788)","v":""},{"$f":"IF(①データ登録!B788=\"\",\"\",①データ登録!B788)","v":""},{"$f":"IF(①データ登録!C788=\"\",\"\",①データ登録!C788)","v":""}]
[null,null,null,null,null,null,null,null,null,null,null,null,{"$f":"IF(①データ登録!A789=\"\",\"\",①データ登録!A789)","v":""},{"$f":"IF(①データ登録!B789=\"\",\"\",①データ登録!B789)","v":""},{"$f":"IF(①データ登録!C789=\"\",\"\",①データ登録!C789)","v":""}]
[null,null,null,null,null,null,null,null,null,null,null,null,{"$f":"IF(①データ登録!A790=\"\",\"\",①データ登録!A790)","v":""},{"$f":"IF(①データ登録!B790=\"\",\"\",①データ登録!B790)","v":""},{"$f":"IF(①データ登録!C790=\"\",\"\",①データ登録!C790)","v":""}]
[null,null,null,null,null,null,null,null,null,null,null,null,{"$f":"IF(①データ登録!A791=\"\",\"\",①データ登録!A791)","v":""},{"$f":"IF(①データ登録!B791=\"\",\"\",①データ登録!B791)","v":""},{"$f":"IF(①データ登録!C791=\"\",\"\",①データ登録!C791)","v":""}]
[null,null,null,null,null,null,null,null,null,null,null,null,{"$f":"IF(①データ登録!A792=\"\",\"\",①データ登録!A792)","v":""},{"$f":"IF(①データ登録!B792=\"\",\"\",①データ登録!B792)","v":""},{"$f":"IF(①データ登録!C792=\"\",\"\",①データ登録!C792)","v":""}]
[null,null,null,null,null,null,null,null,null,null,null,null,{"$f":"IF(①データ登録!A793=\"\",\"\",①データ登録!A793)","v":""},{"$f":"IF(①データ登録!B793=\"\",\"\",①データ登録!B793)","v":""},{"$f":"IF(①データ登録!C793=\"\",\"\",①データ登録!C793)","v":""}]
[null,null,null,null,null,null,null,null,null,null,null,null,{"$f":"IF(①データ登録!A794=\"\",\"\",①データ登録!A794)","v":""},{"$f":"IF(①データ登録!B794=\"\",\"\",①データ登録!B794)","v":""},{"$f":"IF(①データ登録!C794=\"\",\"\",①データ登録!C794)","v":""}]
[null,null,null,null,null,null,null,null,null,null,null,null,{"$f":"IF(①データ登録!A795=\"\",\"\",①データ登録!A795)","v":""},{"$f":"IF(①データ登録!B795=\"\",\"\",①データ登録!B795)","v":""},{"$f":"IF(①データ登録!C795=\"\",\"\",①データ登録!C795)","v":""}]
[null,null,null,null,null,null,null,null,null,null,null,null,{"$f":"IF(①データ登録!A796=\"\",\"\",①データ登録!A796)","v":""},{"$f":"IF(①データ登録!B796=\"\",\"\",①データ登録!B796)","v":""},{"$f":"IF(①データ登録!C796=\"\",\"\",①データ登録!C796)","v":""}]
[null,null,null,null,null,null,null,null,null,null,null,null,{"$f":"IF(①データ登録!A797=\"\",\"\",①データ登録!A797)","v":""},{"$f":"IF(①データ登録!B797=\"\",\"\",①データ登録!B797)","v":""},{"$f":"IF(①データ登録!C797=\"\",\"\",①データ登録!C797)","v":""}]
[null,null,null,null,null,null,null,null,null,null,null,null,{"$f":"IF(①データ登録!A798=\"\",\"\",①データ登録!A798)","v":""},{"$f":"IF(①データ登録!B798=\"\",\"\",①データ登録!B798)","v":""},{"$f":"IF(①データ登録!C798=\"\",\"\",①データ登録!C798)","v":""}]
[null,null,null,null,null,null,null,null,null,null,null,null,{"$f":"IF(①データ登録!A799=\"\",\"\",①データ登録!A799)","v":""},{"$f":"IF(①データ登録!B799=\"\",\"\",①データ登録!B799)","v":""},{"$f":"IF(①データ登録!C799=\"\",\"\",①データ登録!C799)","v":""}]
[null,null,null,null,null,null,null,null,null,null,null,null,{"$f":"IF(①データ登録!A800=\"\",\"\",①データ登録!A800)","v":""},{"$f":"IF(①データ登録!B800=\"\",\"\",①データ登録!B800)","v":""},{"$f":"IF(①データ登録!C800=\"\",\"\",①データ登録!C800)","v":""}]
[null,null,null,null,null,null,null,null,null,null,null,null,{"$f":"IF(①データ登録!A801=\"\",\"\",①データ登録!A801)","v":""},{"$f":"IF(①データ登録!B801=\"\",\"\",①データ登録!B801)","v":""},{"$f":"IF(①データ登録!C801=\"\",\"\",①データ登録!C801)","v":""}]
[null,null,null,null,null,null,null,null,null,null,null,null,{"$f":"IF(①データ登録!A802=\"\",\"\",①データ登録!A802)","v":""},{"$f":"IF(①データ登録!B802=\"\",\"\",①データ登録!B802)","v":""},{"$f":"IF(①データ登録!C802=\"\",\"\",①データ登録!C802)","v":""}]
[null,null,null,null,null,null,null,null,null,null,null,null,{"$f":"IF(①データ登録!A803=\"\",\"\",①データ登録!A803)","v":""},{"$f":"IF(①データ登録!B803=\"\",\"\",①データ登録!B803)","v":""},{"$f":"IF(①データ登録!C803=\"\",\"\",①データ登録!C803)","v":""}]
[null,null,null,null,null,null,null,null,null,null,null,null,{"$f":"IF(①データ登録!A804=\"\",\"\",①データ登録!A804)","v":""},{"$f":"IF(①データ登録!B804=\"\",\"\",①データ登録!B804)","v":""},{"$f":"IF(①データ登録!C804=\"\",\"\",①データ登録!C804)","v":""}]
[null,null,null,null,null,null,null,null,null,null,null,null,{"$f":"IF(①データ登録!A805=\"\",\"\",①データ登録!A805)","v":""},{"$f":"IF(①データ登録!B805=\"\",\"\",①データ登録!B805)","v":""},{"$f":"IF(①データ登録!C805=\"\",\"\",①データ登録!C805)","v":""}]
[null,null,null,null,null,null,null,null,null,null,null,null,{"$f":"IF(①データ登録!A806=\"\",\"\",①データ登録!A806)","v":""},{"$f":"IF(①データ登録!B806=\"\",\"\",①データ登録!B806)","v":""},{"$f":"IF(①データ登録!C806=\"\",\"\",①データ登録!C806)","v":""}]
[null,null,null,null,null,null,null,null,null,null,null,null,{"$f":"IF(①データ登録!A807=\"\",\"\",①データ登録!A807)","v":""},{"$f":"IF(①データ登録!B807=\"\",\"\",①データ登録!B807)","v":""},{"$f":"IF(①データ登録!C807=\"\",\"\",①データ登録!C807)","v":""}]
[null,null,null,null,null,null,null,null,null,null,null,null,{"$f":"IF(①データ登録!A808=\"\",\"\",①データ登録!A808)","v":""},{"$f":"IF(①データ登録!B808=\"\",\"\",①データ登録!B808)","v":""},{"$f":"IF(①データ登録!C808=\"\",\"\",①データ登録!C808)","v":""}]
[null,null,null,null,null,null,null,null,null,null,null,null,{"$f":"IF(①データ登録!A809=\"\",\"\",①データ登録!A809)","v":""},{"$f":"IF(①データ登録!B809=\"\",\"\",①データ登録!B809)","v":""},{"$f":"IF(①データ登録!C809=\"\",\"\",①データ登録!C809)","v":""}]
[null,null,null,null,null,null,null,null,null,null,null,null,{"$f":"IF(①データ登録!A810=\"\",\"\",①データ登録!A810)","v":""},{"$f":"IF(①データ登録!B810=\"\",\"\",①データ登録!B810)","v":""},{"$f":"IF(①データ登録!C810=\"\",\"\",①データ登録!C810)","v":""}]
[null,null,null,null,null,null,null,null,null,null,null,null,{"$f":"IF(①データ登録!A811=\"\",\"\",①データ登録!A811)","v":""},{"$f":"IF(①データ登録!B811=\"\",\"\",①データ登録!B811)","v":""},{"$f":"IF(①データ登録!C811=\"\",\"\",①データ登録!C811)","v":""}]
[null,null,null,null,null,null,null,null,null,null,null,null,{"$f":"IF(①データ登録!A812=\"\",\"\",①データ登録!A812)","v":""},{"$f":"IF(①データ登録!B812=\"\",\"\",①データ登録!B812)","v":""},{"$f":"IF(①データ登録!C812=\"\",\"\",①データ登録!C812)","v":""}]
[null,null,null,null,null,null,null,null,null,null,null,null,{"$f":"IF(①データ登録!A813=\"\",\"\",①データ登録!A813)","v":""},{"$f":"IF(①データ登録!B813=\"\",\"\",①データ登録!B813)","v":""},{"$f":"IF(①データ登録!C813=\"\",\"\",①データ登録!C813)","v":""}]
[null,null,null,null,null,null,null,null,null,null,null,null,{"$f":"IF(①データ登録!A814=\"\",\"\",①データ登録!A814)","v":""},{"$f":"IF(①データ登録!B814=\"\",\"\",①データ登録!B814)","v":""},{"$f":"IF(①データ登録!C814=\"\",\"\",①データ登録!C814)","v":""}]
[null,null,null,null,null,null,null,null,null,null,null,null,{"$f":"IF(①データ登録!A815=\"\",\"\",①データ登録!A815)","v":""},{"$f":"IF(①データ登録!B815=\"\",\"\",①データ登録!B815)","v":""},{"$f":"IF(①データ登録!C815=\"\",\"\",①データ登録!C815)","v":""}]
[null,null,null,null,null,null,null,null,null,null,null,null,{"$f":"IF(①データ登録!A816=\"\",\"\",①データ登録!A816)","v":""},{"$f":"IF(①データ登録!B816=\"\",\"\",①データ登録!B816)","v":""},{"$f":"IF(①データ登録!C816=\"\",\"\",①データ登録!C816)","v":""}]
[null,null,null,null,null,null,null,null,null,null,null,null,{"$f":"IF(①データ登録!A817=\"\",\"\",①データ登録!A817)","v":""},{"$f":"IF(①データ登録!B817=\"\",\"\",①データ登録!B817)","v":""},{"$f":"IF(①データ登録!C817=\"\",\"\",①データ登録!C817)","v":""}]
[null,null,null,null,null,null,null,null,null,null,null,null,{"$f":"IF(①データ登録!A818=\"\",\"\",①データ登録!A818)","v":""},{"$f":"IF(①データ登録!B818=\"\",\"\",①データ登録!B818)","v":""},{"$f":"IF(①データ登録!C818=\"\",\"\",①データ登録!C818)","v":""}]
[null,null,null,null,null,null,null,null,null,null,null,null,{"$f":"IF(①データ登録!A819=\"\",\"\",①データ登録!A819)","v":""},{"$f":"IF(①データ登録!B819=\"\",\"\",①データ登録!B819)","v":""},{"$f":"IF(①データ登録!C819=\"\",\"\",①データ登録!C819)","v":""}]
[null,null,null,null,null,null,null,null,null,null,null,null,{"$f":"IF(①データ登録!A820=\"\",\"\",①データ登録!A820)","v":""},{"$f":"IF(①データ登録!B820=\"\",\"\",①データ登録!B820)","v":""},{"$f":"IF(①データ登録!C820=\"\",\"\",①データ登録!C820)","v":""}]
[null,null,null,null,null,null,null,null,null,null,null,null,{"$f":"IF(①データ登録!A821=\"\",\"\",①データ登録!A821)","v":""},{"$f":"IF(①データ登録!B821=\"\",\"\",①データ登録!B821)","v":""},{"$f":"IF(①データ登録!C821=\"\",\"\",①データ登録!C821)","v":""}]
[null,null,null,null,null,null,null,null,null,null,null,null,{"$f":"IF(①データ登録!A822=\"\",\"\",①データ登録!A822)","v":""},{"$f":"IF(①データ登録!B822=\"\",\"\",①データ登録!B822)","v":""},{"$f":"IF(①データ登録!C822=\"\",\"\",①データ登録!C822)","v":""}]
[null,null,null,null,null,null,null,null,null,null,null,null,{"$f":"IF(①データ登録!A823=\"\",\"\",①データ登録!A823)","v":""},{"$f":"IF(①データ登録!B823=\"\",\"\",①データ登録!B823)","v":""},{"$f":"IF(①データ登録!C823=\"\",\"\",①データ登録!C823)","v":""}]
[null,null,null,null,null,null,null,null,null,null,null,null,{"$f":"IF(①データ登録!A824=\"\",\"\",①データ登録!A824)","v":""},{"$f":"IF(①データ登録!B824=\"\",\"\",①データ登録!B824)","v":""},{"$f":"IF(①データ登録!C824=\"\",\"\",①データ登録!C824)","v":""}]
[null,null,null,null,null,null,null,null,null,null,null,null,{"$f":"IF(①データ登録!A825=\"\",\"\",①データ登録!A825)","v":""},{"$f":"IF(①データ登録!B825=\"\",\"\",①データ登録!B825)","v":""},{"$f":"IF(①データ登録!C825=\"\",\"\",①データ登録!C825)","v":""}]
[null,null,null,null,null,null,null,null,null,null,null,null,{"$f":"IF(①データ登録!A826=\"\",\"\",①データ登録!A826)","v":""},{"$f":"IF(①データ登録!B826=\"\",\"\",①データ登録!B826)","v":""},{"$f":"IF(①データ登録!C826=\"\",\"\",①データ登録!C826)","v":""}]
[null,null,null,null,null,null,null,null,null,null,null,null,{"$f":"IF(①データ登録!A827=\"\",\"\",①データ登録!A827)","v":""},{"$f":"IF(①データ登録!B827=\"\",\"\",①データ登録!B827)","v":""},{"$f":"IF(①データ登録!C827=\"\",\"\",①データ登録!C827)","v":""}]
[null,null,null,null,null,null,null,null,null,null,null,null,{"$f":"IF(①データ登録!A828=\"\",\"\",①データ登録!A828)","v":""},{"$f":"IF(①データ登録!B828=\"\",\"\",①データ登録!B828)","v":""},{"$f":"IF(①データ登録!C828=\"\",\"\",①データ登録!C828)","v":""}]
[null,null,null,null,null,null,null,null,null,null,null,null,{"$f":"IF(①データ登録!A829=\"\",\"\",①データ登録!A829)","v":""},{"$f":"IF(①データ登録!B829=\"\",\"\",①データ登録!B829)","v":""},{"$f":"IF(①データ登録!C829=\"\",\"\",①データ登録!C829)","v":""}]
[null,null,null,null,null,null,null,null,null,null,null,null,{"$f":"IF(①データ登録!A830=\"\",\"\",①データ登録!A830)","v":""},{"$f":"IF(①データ登録!B830=\"\",\"\",①データ登録!B830)","v":""},{"$f":"IF(①データ登録!C830=\"\",\"\",①データ登録!C830)","v":""}]
[null,null,null,null,null,null,null,null,null,null,null,null,{"$f":"IF(①データ登録!A831=\"\",\"\",①データ登録!A831)","v":""},{"$f":"IF(①データ登録!B831=\"\",\"\",①データ登録!B831)","v":""},{"$f":"IF(①データ登録!C831=\"\",\"\",①データ登録!C831)","v":""}]
[null,null,null,null,null,null,null,null,null,null,null,null,{"$f":"IF(①データ登録!A832=\"\",\"\",①データ登録!A832)","v":""},{"$f":"IF(①データ登録!B832=\"\",\"\",①データ登録!B832)","v":""},{"$f":"IF(①データ登録!C832=\"\",\"\",①データ登録!C832)","v":""}]
[null,null,null,null,null,null,null,null,null,null,null,null,{"$f":"IF(①データ登録!A833=\"\",\"\",①データ登録!A833)","v":""},{"$f":"IF(①データ登録!B833=\"\",\"\",①データ登録!B833)","v":""},{"$f":"IF(①データ登録!C833=\"\",\"\",①データ登録!C833)","v":""}]
[null,null,null,null,null,null,null,null,null,null,null,null,{"$f":"IF(①データ登録!A834=\"\",\"\",①データ登録!A834)","v":""},{"$f":"IF(①データ登録!B834=\"\",\"\",①データ登録!B834)","v":""},{"$f":"IF(①データ登録!C834=\"\",\"\",①データ登録!C834)","v":""}]
[null,null,null,null,null,null,null,null,null,null,null,null,{"$f":"IF(①データ登録!A835=\"\",\"\",①データ登録!A835)","v":""},{"$f":"IF(①データ登録!B835=\"\",\"\",①データ登録!B835)","v":""},{"$f":"IF(①データ登録!C835=\"\",\"\",①データ登録!C835)","v":""}]
[null,null,null,null,null,null,null,null,null,null,null,null,{"$f":"IF(①データ登録!A836=\"\",\"\",①データ登録!A836)","v":""},{"$f":"IF(①データ登録!B836=\"\",\"\",①データ登録!B836)","v":""},{"$f":"IF(①データ登録!C836=\"\",\"\",①データ登録!C836)","v":""}]
[null,null,null,null,null,null,null,null,null,null,null,null,{"$f":"IF(①データ登録!A837=\"\",\"\",①データ登録!A837)","v":""},{"$f":"IF(①データ登録!B837=\"\",\"\",①データ登録!B837)","v":""},{"$f":"IF(①データ登録!C837=\"\",\"\",①データ登録!C837)","v":""}]
[null,null,null,null,null,null,null,null,null,null,null,null,{"$f":"IF(①データ登録!A838=\"\",\"\",①データ登録!A838)","v":""},{"$f":"IF(①データ登録!B838=\"\",\"\",①データ登録!B838)","v":""},{"$f":"IF(①データ登録!C838=\"\",\"\",①データ登録!C838)","v":""}]
[null,null,null,null,null,null,null,null,null,null,null,null,{"$f":"IF(①データ登録!A839=\"\",\"\",①データ登録!A839)","v":""},{"$f":"IF(①データ登録!B839=\"\",\"\",①データ登録!B839)","v":""},{"$f":"IF(①データ登録!C839=\"\",\"\",①データ登録!C839)","v":""}]
[null,null,null,null,null,null,null,null,null,null,null,null,{"$f":"IF(①データ登録!A840=\"\",\"\",①データ登録!A840)","v":""},{"$f":"IF(①データ登録!B840=\"\",\"\",①データ登録!B840)","v":""},{"$f":"IF(①データ登録!C840=\"\",\"\",①データ登録!C840)","v":""}]
[null,null,null,null,null,null,null,null,null,null,null,null,{"$f":"IF(①データ登録!A841=\"\",\"\",①データ登録!A841)","v":""},{"$f":"IF(①データ登録!B841=\"\",\"\",①データ登録!B841)","v":""},{"$f":"IF(①データ登録!C841=\"\",\"\",①データ登録!C841)","v":""}]
[null,null,null,null,null,null,null,null,null,null,null,null,{"$f":"IF(①データ登録!A842=\"\",\"\",①データ登録!A842)","v":""},{"$f":"IF(①データ登録!B842=\"\",\"\",①データ登録!B842)","v":""},{"$f":"IF(①データ登録!C842=\"\",\"\",①データ登録!C842)","v":""}]
[null,null,null,null,null,null,null,null,null,null,null,null,{"$f":"IF(①データ登録!A843=\"\",\"\",①データ登録!A843)","v":""},{"$f":"IF(①データ登録!B843=\"\",\"\",①データ登録!B843)","v":""},{"$f":"IF(①データ登録!C843=\"\",\"\",①データ登録!C843)","v":""}]
[null,null,null,null,null,null,null,null,null,null,null,null,{"$f":"IF(①データ登録!A844=\"\",\"\",①データ登録!A844)","v":""},{"$f":"IF(①データ登録!B844=\"\",\"\",①データ登録!B844)","v":""},{"$f":"IF(①データ登録!C844=\"\",\"\",①データ登録!C844)","v":""}]
[null,null,null,null,null,null,null,null,null,null,null,null,{"$f":"IF(①データ登録!A845=\"\",\"\",①データ登録!A845)","v":""},{"$f":"IF(①データ登録!B845=\"\",\"\",①データ登録!B845)","v":""},{"$f":"IF(①データ登録!C845=\"\",\"\",①データ登録!C845)","v":""}]
[null,null,null,null,null,null,null,null,null,null,null,null,{"$f":"IF(①データ登録!A846=\"\",\"\",①データ登録!A846)","v":""},{"$f":"IF(①データ登録!B846=\"\",\"\",①データ登録!B846)","v":""},{"$f":"IF(①データ登録!C846=\"\",\"\",①データ登録!C846)","v":""}]
[null,null,null,null,null,null,null,null,null,null,null,null,{"$f":"IF(①データ登録!A847=\"\",\"\",①データ登録!A847)","v":""},{"$f":"IF(①データ登録!B847=\"\",\"\",①データ登録!B847)","v":""},{"$f":"IF(①データ登録!C847=\"\",\"\",①データ登録!C847)","v":""}]
[null,null,null,null,null,null,null,null,null,null,null,null,{"$f":"IF(①データ登録!A848=\"\",\"\",①データ登録!A848)","v":""},{"$f":"IF(①データ登録!B848=\"\",\"\",①データ登録!B848)","v":""},{"$f":"IF(①データ登録!C848=\"\",\"\",①データ登録!C848)","v":""}]
[null,null,null,null,null,null,null,null,null,null,null,null,{"$f":"IF(①データ登録!A849=\"\",\"\",①データ登録!A849)","v":""},{"$f":"IF(①データ登録!B849=\"\",\"\",①データ登録!B849)","v":""},{"$f":"IF(①データ登録!C849=\"\",\"\",①データ登録!C849)","v":""}]
[null,null,null,null,null,null,null,null,null,null,null,null,{"$f":"IF(①データ登録!A850=\"\",\"\",①データ登録!A850)","v":""},{"$f":"IF(①データ登録!B850=\"\",\"\",①データ登録!B850)","v":""},{"$f":"IF(①データ登録!C850=\"\",\"\",①データ登録!C850)","v":""}]
[null,null,null,null,null,null,null,null,null,null,null,null,{"$f":"IF(①データ登録!A851=\"\",\"\",①データ登録!A851)","v":""},{"$f":"IF(①データ登録!B851=\"\",\"\",①データ登録!B851)","v":""},{"$f":"IF(①データ登録!C851=\"\",\"\",①データ登録!C851)","v":""}]
[null,null,null,null,null,null,null,null,null,null,null,null,{"$f":"IF(①データ登録!A852=\"\",\"\",①データ登録!A852)","v":""},{"$f":"IF(①データ登録!B852=\"\",\"\",①データ登録!B852)","v":""},{"$f":"IF(①データ登録!C852=\"\",\"\",①データ登録!C852)","v":""}]
[null,null,null,null,null,null,null,null,null,null,null,null,{"$f":"IF(①データ登録!A853=\"\",\"\",①データ登録!A853)","v":""},{"$f":"IF(①データ登録!B853=\"\",\"\",①データ登録!B853)","v":""},{"$f":"IF(①データ登録!C853=\"\",\"\",①データ登録!C853)","v":""}]
[null,null,null,null,null,null,null,null,null,null,null,null,{"$f":"IF(①データ登録!A854=\"\",\"\",①データ登録!A854)","v":""},{"$f":"IF(①データ登録!B854=\"\",\"\",①データ登録!B854)","v":""},{"$f":"IF(①データ登録!C854=\"\",\"\",①データ登録!C854)","v":""}]
[null,null,null,null,null,null,null,null,null,null,null,null,{"$f":"IF(①データ登録!A855=\"\",\"\",①データ登録!A855)","v":""},{"$f":"IF(①データ登録!B855=\"\",\"\",①データ登録!B855)","v":""},{"$f":"IF(①データ登録!C855=\"\",\"\",①データ登録!C855)","v":""}]
[null,null,null,null,null,null,null,null,null,null,null,null,{"$f":"IF(①データ登録!A856=\"\",\"\",①データ登録!A856)","v":""},{"$f":"IF(①データ登録!B856=\"\",\"\",①データ登録!B856)","v":""},{"$f":"IF(①データ登録!C856=\"\",\"\",①データ登録!C856)","v":""}]
[null,null,null,null,null,null,null,null,null,null,null,null,{"$f":"IF(①データ登録!A857=\"\",\"\",①データ登録!A857)","v":""},{"$f":"IF(①データ登録!B857=\"\",\"\",①データ登録!B857)","v":""},{"$f":"IF(①データ登録!C857=\"\",\"\",①データ登録!C857)","v":""}]
[null,null,null,null,null,null,null,null,null,null,null,null,{"$f":"IF(①データ登録!A858=\"\",\"\",①データ登録!A858)","v":""},{"$f":"IF(①データ登録!B858=\"\",\"\",①データ登録!B858)","v":""},{"$f":"IF(①データ登録!C858=\"\",\"\",①データ登録!C858)","v":""}]
[null,null,null,null,null,null,null,null,null,null,null,null,{"$f":"IF(①データ登録!A859=\"\",\"\",①データ登録!A859)","v":""},{"$f":"IF(①データ登録!B859=\"\",\"\",①データ登録!B859)","v":""},{"$f":"IF(①データ登録!C859=\"\",\"\",①データ登録!C859)","v":""}]
[null,null,null,null,null,null,null,null,null,null,null,null,{"$f":"IF(①データ登録!A860=\"\",\"\",①データ登録!A860)","v":""},{"$f":"IF(①データ登録!B860=\"\",\"\",①データ登録!B860)","v":""},{"$f":"IF(①データ登録!C860=\"\",\"\",①データ登録!C860)","v":""}]
[null,null,null,null,null,null,null,null,null,null,null,null,{"$f":"IF(①データ登録!A861=\"\",\"\",①データ登録!A861)","v":""},{"$f":"IF(①データ登録!B861=\"\",\"\",①データ登録!B861)","v":""},{"$f":"IF(①データ登録!C861=\"\",\"\",①データ登録!C861)","v":""}]
[null,null,null,null,null,null,null,null,null,null,null,null,{"$f":"IF(①データ登録!A862=\"\",\"\",①データ登録!A862)","v":""},{"$f":"IF(①データ登録!B862=\"\",\"\",①データ登録!B862)","v":""},{"$f":"IF(①データ登録!C862=\"\",\"\",①データ登録!C862)","v":""}]
[null,null,null,null,null,null,null,null,null,null,null,null,{"$f":"IF(①データ登録!A863=\"\",\"\",①データ登録!A863)","v":""},{"$f":"IF(①データ登録!B863=\"\",\"\",①データ登録!B863)","v":""},{"$f":"IF(①データ登録!C863=\"\",\"\",①データ登録!C863)","v":""}]
[null,null,null,null,null,null,null,null,null,null,null,null,{"$f":"IF(①データ登録!A864=\"\",\"\",①データ登録!A864)","v":""},{"$f":"IF(①データ登録!B864=\"\",\"\",①データ登録!B864)","v":""},{"$f":"IF(①データ登録!C864=\"\",\"\",①データ登録!C864)","v":""}]
[null,null,null,null,null,null,null,null,null,null,null,null,{"$f":"IF(①データ登録!A865=\"\",\"\",①データ登録!A865)","v":""},{"$f":"IF(①データ登録!B865=\"\",\"\",①データ登録!B865)","v":""},{"$f":"IF(①データ登録!C865=\"\",\"\",①データ登録!C865)","v":""}]
[null,null,null,null,null,null,null,null,null,null,null,null,{"$f":"IF(①データ登録!A866=\"\",\"\",①データ登録!A866)","v":""},{"$f":"IF(①データ登録!B866=\"\",\"\",①データ登録!B866)","v":""},{"$f":"IF(①データ登録!C866=\"\",\"\",①データ登録!C866)","v":""}]
[null,null,null,null,null,null,null,null,null,null,null,null,{"$f":"IF(①データ登録!A867=\"\",\"\",①データ登録!A867)","v":""},{"$f":"IF(①データ登録!B867=\"\",\"\",①データ登録!B867)","v":""},{"$f":"IF(①データ登録!C867=\"\",\"\",①データ登録!C867)","v":""}]
[null,null,null,null,null,null,null,null,null,null,null,null,{"$f":"IF(①データ登録!A868=\"\",\"\",①データ登録!A868)","v":""},{"$f":"IF(①データ登録!B868=\"\",\"\",①データ登録!B868)","v":""},{"$f":"IF(①データ登録!C868=\"\",\"\",①データ登録!C868)","v":""}]
[null,null,null,null,null,null,null,null,null,null,null,null,{"$f":"IF(①データ登録!A869=\"\",\"\",①データ登録!A869)","v":""},{"$f":"IF(①データ登録!B869=\"\",\"\",①データ登録!B869)","v":""},{"$f":"IF(①データ登録!C869=\"\",\"\",①データ登録!C869)","v":""}]
[null,null,null,null,null,null,null,null,null,null,null,null,{"$f":"IF(①データ登録!A870=\"\",\"\",①データ登録!A870)","v":""},{"$f":"IF(①データ登録!B870=\"\",\"\",①データ登録!B870)","v":""},{"$f":"IF(①データ登録!C870=\"\",\"\",①データ登録!C870)","v":""}]
[null,null,null,null,null,null,null,null,null,null,null,null,{"$f":"IF(①データ登録!A871=\"\",\"\",①データ登録!A871)","v":""},{"$f":"IF(①データ登録!B871=\"\",\"\",①データ登録!B871)","v":""},{"$f":"IF(①データ登録!C871=\"\",\"\",①データ登録!C871)","v":""}]
[null,null,null,null,null,null,null,null,null,null,null,null,{"$f":"IF(①データ登録!A872=\"\",\"\",①データ登録!A872)","v":""},{"$f":"IF(①データ登録!B872=\"\",\"\",①データ登録!B872)","v":""},{"$f":"IF(①データ登録!C872=\"\",\"\",①データ登録!C872)","v":""}]
[null,null,null,null,null,null,null,null,null,null,null,null,{"$f":"IF(①データ登録!A873=\"\",\"\",①データ登録!A873)","v":""},{"$f":"IF(①データ登録!B873=\"\",\"\",①データ登録!B873)","v":""},{"$f":"IF(①データ登録!C873=\"\",\"\",①データ登録!C873)","v":""}]
[null,null,null,null,null,null,null,null,null,null,null,null,{"$f":"IF(①データ登録!A874=\"\",\"\",①データ登録!A874)","v":""},{"$f":"IF(①データ登録!B874=\"\",\"\",①データ登録!B874)","v":""},{"$f":"IF(①データ登録!C874=\"\",\"\",①データ登録!C874)","v":""}]
[null,null,null,null,null,null,null,null,null,null,null,null,{"$f":"IF(①データ登録!A875=\"\",\"\",①データ登録!A875)","v":""},{"$f":"IF(①データ登録!B875=\"\",\"\",①データ登録!B875)","v":""},{"$f":"IF(①データ登録!C875=\"\",\"\",①データ登録!C875)","v":""}]
[null,null,null,null,null,null,null,null,null,null,null,null,{"$f":"IF(①データ登録!A876=\"\",\"\",①データ登録!A876)","v":""},{"$f":"IF(①データ登録!B876=\"\",\"\",①データ登録!B876)","v":""},{"$f":"IF(①データ登録!C876=\"\",\"\",①データ登録!C876)","v":""}]
[null,null,null,null,null,null,null,null,null,null,null,null,{"$f":"IF(①データ登録!A877=\"\",\"\",①データ登録!A877)","v":""},{"$f":"IF(①データ登録!B877=\"\",\"\",①データ登録!B877)","v":""},{"$f":"IF(①データ登録!C877=\"\",\"\",①データ登録!C877)","v":""}]
[null,null,null,null,null,null,null,null,null,null,null,null,{"$f":"IF(①データ登録!A878=\"\",\"\",①データ登録!A878)","v":""},{"$f":"IF(①データ登録!B878=\"\",\"\",①データ登録!B878)","v":""},{"$f":"IF(①データ登録!C878=\"\",\"\",①データ登録!C878)","v":""}]
[null,null,null,null,null,null,null,null,null,null,null,null,{"$f":"IF(①データ登録!A879=\"\",\"\",①データ登録!A879)","v":""},{"$f":"IF(①データ登録!B879=\"\",\"\",①データ登録!B879)","v":""},{"$f":"IF(①データ登録!C879=\"\",\"\",①データ登録!C879)","v":""}]
[null,null,null,null,null,null,null,null,null,null,null,null,{"$f":"IF(①データ登録!A880=\"\",\"\",①データ登録!A880)","v":""},{"$f":"IF(①データ登録!B880=\"\",\"\",①データ登録!B880)","v":""},{"$f":"IF(①データ登録!C880=\"\",\"\",①データ登録!C880)","v":""}]
[null,null,null,null,null,null,null,null,null,null,null,null,{"$f":"IF(①データ登録!A881=\"\",\"\",①データ登録!A881)","v":""},{"$f":"IF(①データ登録!B881=\"\",\"\",①データ登録!B881)","v":""},{"$f":"IF(①データ登録!C881=\"\",\"\",①データ登録!C881)","v":""}]
[null,null,null,null,null,null,null,null,null,null,null,null,{"$f":"IF(①データ登録!A882=\"\",\"\",①データ登録!A882)","v":""},{"$f":"IF(①データ登録!B882=\"\",\"\",①データ登録!B882)","v":""},{"$f":"IF(①データ登録!C882=\"\",\"\",①データ登録!C882)","v":""}]
[null,null,null,null,null,null,null,null,null,null,null,null,{"$f":"IF(①データ登録!A883=\"\",\"\",①データ登録!A883)","v":""},{"$f":"IF(①データ登録!B883=\"\",\"\",①データ登録!B883)","v":""},{"$f":"IF(①データ登録!C883=\"\",\"\",①データ登録!C883)","v":""}]
[null,null,null,null,null,null,null,null,null,null,null,null,{"$f":"IF(①データ登録!A884=\"\",\"\",①データ登録!A884)","v":""},{"$f":"IF(①データ登録!B884=\"\",\"\",①データ登録!B884)","v":""},{"$f":"IF(①データ登録!C884=\"\",\"\",①データ登録!C884)","v":""}]
[null,null,null,null,null,null,null,null,null,null,null,null,{"$f":"IF(①データ登録!A885=\"\",\"\",①データ登録!A885)","v":""},{"$f":"IF(①データ登録!B885=\"\",\"\",①データ登録!B885)","v":""},{"$f":"IF(①データ登録!C885=\"\",\"\",①データ登録!C885)","v":""}]
[null,null,null,null,null,null,null,null,null,null,null,null,{"$f":"IF(①データ登録!A886=\"\",\"\",①データ登録!A886)","v":""},{"$f":"IF(①データ登録!B886=\"\",\"\",①データ登録!B886)","v":""},{"$f":"IF(①データ登録!C886=\"\",\"\",①データ登録!C886)","v":""}]
[null,null,null,null,null,null,null,null,null,null,null,null,{"$f":"IF(①データ登録!A887=\"\",\"\",①データ登録!A887)","v":""},{"$f":"IF(①データ登録!B887=\"\",\"\",①データ登録!B887)","v":""},{"$f":"IF(①データ登録!C887=\"\",\"\",①データ登録!C887)","v":""}]
[null,null,null,null,null,null,null,null,null,null,null,null,{"$f":"IF(①データ登録!A888=\"\",\"\",①データ登録!A888)","v":""},{"$f":"IF(①データ登録!B888=\"\",\"\",①データ登録!B888)","v":""},{"$f":"IF(①データ登録!C888=\"\",\"\",①データ登録!C888)","v":""}]
[null,null,null,null,null,null,null,null,null,null,null,null,{"$f":"IF(①データ登録!A889=\"\",\"\",①データ登録!A889)","v":""},{"$f":"IF(①データ登録!B889=\"\",\"\",①データ登録!B889)","v":""},{"$f":"IF(①データ登録!C889=\"\",\"\",①データ登録!C889)","v":""}]
[null,null,null,null,null,null,null,null,null,null,null,null,{"$f":"IF(①データ登録!A890=\"\",\"\",①データ登録!A890)","v":""},{"$f":"IF(①データ登録!B890=\"\",\"\",①データ登録!B890)","v":""},{"$f":"IF(①データ登録!C890=\"\",\"\",①データ登録!C890)","v":""}]
[null,null,null,null,null,null,null,null,null,null,null,null,{"$f":"IF(①データ登録!A891=\"\",\"\",①データ登録!A891)","v":""},{"$f":"IF(①データ登録!B891=\"\",\"\",①データ登録!B891)","v":""},{"$f":"IF(①データ登録!C891=\"\",\"\",①データ登録!C891)","v":""}]
[null,null,null,null,null,null,null,null,null,null,null,null,{"$f":"IF(①データ登録!A892=\"\",\"\",①データ登録!A892)","v":""},{"$f":"IF(①データ登録!B892=\"\",\"\",①データ登録!B892)","v":""},{"$f":"IF(①データ登録!C892=\"\",\"\",①データ登録!C892)","v":""}]
[null,null,null,null,null,null,null,null,null,null,null,null,{"$f":"IF(①データ登録!A893=\"\",\"\",①データ登録!A893)","v":""},{"$f":"IF(①データ登録!B893=\"\",\"\",①データ登録!B893)","v":""},{"$f":"IF(①データ登録!C893=\"\",\"\",①データ登録!C893)","v":""}]
[null,null,null,null,null,null,null,null,null,null,null,null,{"$f":"IF(①データ登録!A894=\"\",\"\",①データ登録!A894)","v":""},{"$f":"IF(①データ登録!B894=\"\",\"\",①データ登録!B894)","v":""},{"$f":"IF(①データ登録!C894=\"\",\"\",①データ登録!C894)","v":""}]
[null,null,null,null,null,null,null,null,null,null,null,null,{"$f":"IF(①データ登録!A895=\"\",\"\",①データ登録!A895)","v":""},{"$f":"IF(①データ登録!B895=\"\",\"\",①データ登録!B895)","v":""},{"$f":"IF(①データ登録!C895=\"\",\"\",①データ登録!C895)","v":""}]
[null,null,null,null,null,null,null,null,null,null,null,null,{"$f":"IF(①データ登録!A896=\"\",\"\",①データ登録!A896)","v":""},{"$f":"IF(①データ登録!B896=\"\",\"\",①データ登録!B896)","v":""},{"$f":"IF(①データ登録!C896=\"\",\"\",①データ登録!C896)","v":""}]
[null,null,null,null,null,null,null,null,null,null,null,null,{"$f":"IF(①データ登録!A897=\"\",\"\",①データ登録!A897)","v":""},{"$f":"IF(①データ登録!B897=\"\",\"\",①データ登録!B897)","v":""},{"$f":"IF(①データ登録!C897=\"\",\"\",①データ登録!C897)","v":""}]
[null,null,null,null,null,null,null,null,null,null,null,null,{"$f":"IF(①データ登録!A898=\"\",\"\",①データ登録!A898)","v":""},{"$f":"IF(①データ登録!B898=\"\",\"\",①データ登録!B898)","v":""},{"$f":"IF(①データ登録!C898=\"\",\"\",①データ登録!C898)","v":""}]
[null,null,null,null,null,null,null,null,null,null,null,null,{"$f":"IF(①データ登録!A899=\"\",\"\",①データ登録!A899)","v":""},{"$f":"IF(①データ登録!B899=\"\",\"\",①データ登録!B899)","v":""},{"$f":"IF(①データ登録!C899=\"\",\"\",①データ登録!C899)","v":""}]
[null,null,null,null,null,null,null,null,null,null,null,null,{"$f":"IF(①データ登録!A900=\"\",\"\",①データ登録!A900)","v":""},{"$f":"IF(①データ登録!B900=\"\",\"\",①データ登録!B900)","v":""},{"$f":"IF(①データ登録!C900=\"\",\"\",①データ登録!C900)","v":""}]
[null,null,null,null,null,null,null,null,null,null,null,null,{"$f":"IF(①データ登録!A901=\"\",\"\",①データ登録!A901)","v":""},{"$f":"IF(①データ登録!B901=\"\",\"\",①データ登録!B901)","v":""},{"$f":"IF(①データ登録!C901=\"\",\"\",①データ登録!C901)","v":""}]
[null,null,null,null,null,null,null,null,null,null,null,null,{"$f":"IF(①データ登録!A902=\"\",\"\",①データ登録!A902)","v":""},{"$f":"IF(①データ登録!B902=\"\",\"\",①データ登録!B902)","v":""},{"$f":"IF(①データ登録!C902=\"\",\"\",①データ登録!C902)","v":""}]
[null,null,null,null,null,null,null,null,null,null,null,null,{"$f":"IF(①データ登録!A903=\"\",\"\",①データ登録!A903)","v":""},{"$f":"IF(①データ登録!B903=\"\",\"\",①データ登録!B903)","v":""},{"$f":"IF(①データ登録!C903=\"\",\"\",①データ登録!C903)","v":""}]
[null,null,null,null,null,null,null,null,null,null,null,null,{"$f":"IF(①データ登録!A904=\"\",\"\",①データ登録!A904)","v":""},{"$f":"IF(①データ登録!B904=\"\",\"\",①データ登録!B904)","v":""},{"$f":"IF(①データ登録!C904=\"\",\"\",①データ登録!C904)","v":""}]
[null,null,null,null,null,null,null,null,null,null,null,null,{"$f":"IF(①データ登録!A905=\"\",\"\",①データ登録!A905)","v":""},{"$f":"IF(①データ登録!B905=\"\",\"\",①データ登録!B905)","v":""},{"$f":"IF(①データ登録!C905=\"\",\"\",①データ登録!C905)","v":""}]
[null,null,null,null,null,null,null,null,null,null,null,null,{"$f":"IF(①データ登録!A906=\"\",\"\",①データ登録!A906)","v":""},{"$f":"IF(①データ登録!B906=\"\",\"\",①データ登録!B906)","v":""},{"$f":"IF(①データ登録!C906=\"\",\"\",①データ登録!C906)","v":""}]
[null,null,null,null,null,null,null,null,null,null,null,null,{"$f":"IF(①データ登録!A907=\"\",\"\",①データ登録!A907)","v":""},{"$f":"IF(①データ登録!B907=\"\",\"\",①データ登録!B907)","v":""},{"$f":"IF(①データ登録!C907=\"\",\"\",①データ登録!C907)","v":""}]
[null,null,null,null,null,null,null,null,null,null,null,null,{"$f":"IF(①データ登録!A908=\"\",\"\",①データ登録!A908)","v":""},{"$f":"IF(①データ登録!B908=\"\",\"\",①データ登録!B908)","v":""},{"$f":"IF(①データ登録!C908=\"\",\"\",①データ登録!C908)","v":""}]
[null,null,null,null,null,null,null,null,null,null,null,null,{"$f":"IF(①データ登録!A909=\"\",\"\",①データ登録!A909)","v":""},{"$f":"IF(①データ登録!B909=\"\",\"\",①データ登録!B909)","v":""},{"$f":"IF(①データ登録!C909=\"\",\"\",①データ登録!C909)","v":""}]
[null,null,null,null,null,null,null,null,null,null,null,null,{"$f":"IF(①データ登録!A910=\"\",\"\",①データ登録!A910)","v":""},{"$f":"IF(①データ登録!B910=\"\",\"\",①データ登録!B910)","v":""},{"$f":"IF(①データ登録!C910=\"\",\"\",①データ登録!C910)","v":""}]
[null,null,null,null,null,null,null,null,null,null,null,null,{"$f":"IF(①データ登録!A911=\"\",\"\",①データ登録!A911)","v":""},{"$f":"IF(①データ登録!B911=\"\",\"\",①データ登録!B911)","v":""},{"$f":"IF(①データ登録!C911=\"\",\"\",①データ登録!C911)","v":""}]
[null,null,null,null,null,null,null,null,null,null,null,null,{"$f":"IF(①データ登録!A912=\"\",\"\",①データ登録!A912)","v":""},{"$f":"IF(①データ登録!B912=\"\",\"\",①データ登録!B912)","v":""},{"$f":"IF(①データ登録!C912=\"\",\"\",①データ登録!C912)","v":""}]
[null,null,null,null,null,null,null,null,null,null,null,null,{"$f":"IF(①データ登録!A913=\"\",\"\",①データ登録!A913)","v":""},{"$f":"IF(①データ登録!B913=\"\",\"\",①データ登録!B913)","v":""},{"$f":"IF(①データ登録!C913=\"\",\"\",①データ登録!C913)","v":""}]
[null,null,null,null,null,null,null,null,null,null,null,null,{"$f":"IF(①データ登録!A914=\"\",\"\",①データ登録!A914)","v":""},{"$f":"IF(①データ登録!B914=\"\",\"\",①データ登録!B914)","v":""},{"$f":"IF(①データ登録!C914=\"\",\"\",①データ登録!C914)","v":""}]
[null,null,null,null,null,null,null,null,null,null,null,null,{"$f":"IF(①データ登録!A915=\"\",\"\",①データ登録!A915)","v":""},{"$f":"IF(①データ登録!B915=\"\",\"\",①データ登録!B915)","v":""},{"$f":"IF(①データ登録!C915=\"\",\"\",①データ登録!C915)","v":""}]
[null,null,null,null,null,null,null,null,null,null,null,null,{"$f":"IF(①データ登録!A916=\"\",\"\",①データ登録!A916)","v":""},{"$f":"IF(①データ登録!B916=\"\",\"\",①データ登録!B916)","v":""},{"$f":"IF(①データ登録!C916=\"\",\"\",①データ登録!C916)","v":""}]
[null,null,null,null,null,null,null,null,null,null,null,null,{"$f":"IF(①データ登録!A917=\"\",\"\",①データ登録!A917)","v":""},{"$f":"IF(①データ登録!B917=\"\",\"\",①データ登録!B917)","v":""},{"$f":"IF(①データ登録!C917=\"\",\"\",①データ登録!C917)","v":""}]
[null,null,null,null,null,null,null,null,null,null,null,null,{"$f":"IF(①データ登録!A918=\"\",\"\",①データ登録!A918)","v":""},{"$f":"IF(①データ登録!B918=\"\",\"\",①データ登録!B918)","v":""},{"$f":"IF(①データ登録!C918=\"\",\"\",①データ登録!C918)","v":""}]
[null,null,null,null,null,null,null,null,null,null,null,null,{"$f":"IF(①データ登録!A919=\"\",\"\",①データ登録!A919)","v":""},{"$f":"IF(①データ登録!B919=\"\",\"\",①データ登録!B919)","v":""},{"$f":"IF(①データ登録!C919=\"\",\"\",①データ登録!C919)","v":""}]
[null,null,null,null,null,null,null,null,null,null,null,null,{"$f":"IF(①データ登録!A920=\"\",\"\",①データ登録!A920)","v":""},{"$f":"IF(①データ登録!B920=\"\",\"\",①データ登録!B920)","v":""},{"$f":"IF(①データ登録!C920=\"\",\"\",①データ登録!C920)","v":""}]
[null,null,null,null,null,null,null,null,null,null,null,null,{"$f":"IF(①データ登録!A921=\"\",\"\",①データ登録!A921)","v":""},{"$f":"IF(①データ登録!B921=\"\",\"\",①データ登録!B921)","v":""},{"$f":"IF(①データ登録!C921=\"\",\"\",①データ登録!C921)","v":""}]
[null,null,null,null,null,null,null,null,null,null,null,null,{"$f":"IF(①データ登録!A922=\"\",\"\",①データ登録!A922)","v":""},{"$f":"IF(①データ登録!B922=\"\",\"\",①データ登録!B922)","v":""},{"$f":"IF(①データ登録!C922=\"\",\"\",①データ登録!C922)","v":""}]
[null,null,null,null,null,null,null,null,null,null,null,null,{"$f":"IF(①データ登録!A923=\"\",\"\",①データ登録!A923)","v":""},{"$f":"IF(①データ登録!B923=\"\",\"\",①データ登録!B923)","v":""},{"$f":"IF(①データ登録!C923=\"\",\"\",①データ登録!C923)","v":""}]
[null,null,null,null,null,null,null,null,null,null,null,null,{"$f":"IF(①データ登録!A924=\"\",\"\",①データ登録!A924)","v":""},{"$f":"IF(①データ登録!B924=\"\",\"\",①データ登録!B924)","v":""},{"$f":"IF(①データ登録!C924=\"\",\"\",①データ登録!C924)","v":""}]
[null,null,null,null,null,null,null,null,null,null,null,null,{"$f":"IF(①データ登録!A925=\"\",\"\",①データ登録!A925)","v":""},{"$f":"IF(①データ登録!B925=\"\",\"\",①データ登録!B925)","v":""},{"$f":"IF(①データ登録!C925=\"\",\"\",①データ登録!C925)","v":""}]
[null,null,null,null,null,null,null,null,null,null,null,null,{"$f":"IF(①データ登録!A926=\"\",\"\",①データ登録!A926)","v":""},{"$f":"IF(①データ登録!B926=\"\",\"\",①データ登録!B926)","v":""},{"$f":"IF(①データ登録!C926=\"\",\"\",①データ登録!C926)","v":""}]
[null,null,null,null,null,null,null,null,null,null,null,null,{"$f":"IF(①データ登録!A927=\"\",\"\",①データ登録!A927)","v":""},{"$f":"IF(①データ登録!B927=\"\",\"\",①データ登録!B927)","v":""},{"$f":"IF(①データ登録!C927=\"\",\"\",①データ登録!C927)","v":""}]
[null,null,null,null,null,null,null,null,null,null,null,null,{"$f":"IF(①データ登録!A928=\"\",\"\",①データ登録!A928)","v":""},{"$f":"IF(①データ登録!B928=\"\",\"\",①データ登録!B928)","v":""},{"$f":"IF(①データ登録!C928=\"\",\"\",①データ登録!C928)","v":""}]
[null,null,null,null,null,null,null,null,null,null,null,null,{"$f":"IF(①データ登録!A929=\"\",\"\",①データ登録!A929)","v":""},{"$f":"IF(①データ登録!B929=\"\",\"\",①データ登録!B929)","v":""},{"$f":"IF(①データ登録!C929=\"\",\"\",①データ登録!C929)","v":""}]
[null,null,null,null,null,null,null,null,null,null,null,null,{"$f":"IF(①データ登録!A930=\"\",\"\",①データ登録!A930)","v":""},{"$f":"IF(①データ登録!B930=\"\",\"\",①データ登録!B930)","v":""},{"$f":"IF(①データ登録!C930=\"\",\"\",①データ登録!C930)","v":""}]
[null,null,null,null,null,null,null,null,null,null,null,null,{"$f":"IF(①データ登録!A931=\"\",\"\",①データ登録!A931)","v":""},{"$f":"IF(①データ登録!B931=\"\",\"\",①データ登録!B931)","v":""},{"$f":"IF(①データ登録!C931=\"\",\"\",①データ登録!C931)","v":""}]
[null,null,null,null,null,null,null,null,null,null,null,null,{"$f":"IF(①データ登録!A932=\"\",\"\",①データ登録!A932)","v":""},{"$f":"IF(①データ登録!B932=\"\",\"\",①データ登録!B932)","v":""},{"$f":"IF(①データ登録!C932=\"\",\"\",①データ登録!C932)","v":""}]
[null,null,null,null,null,null,null,null,null,null,null,null,{"$f":"IF(①データ登録!A933=\"\",\"\",①データ登録!A933)","v":""},{"$f":"IF(①データ登録!B933=\"\",\"\",①データ登録!B933)","v":""},{"$f":"IF(①データ登録!C933=\"\",\"\",①データ登録!C933)","v":""}]
[null,null,null,null,null,null,null,null,null,null,null,null,{"$f":"IF(①データ登録!A934=\"\",\"\",①データ登録!A934)","v":""},{"$f":"IF(①データ登録!B934=\"\",\"\",①データ登録!B934)","v":""},{"$f":"IF(①データ登録!C934=\"\",\"\",①データ登録!C934)","v":""}]
[null,null,null,null,null,null,null,null,null,null,null,null,{"$f":"IF(①データ登録!A935=\"\",\"\",①データ登録!A935)","v":""},{"$f":"IF(①データ登録!B935=\"\",\"\",①データ登録!B935)","v":""},{"$f":"IF(①データ登録!C935=\"\",\"\",①データ登録!C935)","v":""}]
[null,null,null,null,null,null,null,null,null,null,null,null,{"$f":"IF(①データ登録!A936=\"\",\"\",①データ登録!A936)","v":""},{"$f":"IF(①データ登録!B936=\"\",\"\",①データ登録!B936)","v":""},{"$f":"IF(①データ登録!C936=\"\",\"\",①データ登録!C936)","v":""}]
[null,null,null,null,null,null,null,null,null,null,null,null,{"$f":"IF(①データ登録!A937=\"\",\"\",①データ登録!A937)","v":""},{"$f":"IF(①データ登録!B937=\"\",\"\",①データ登録!B937)","v":""},{"$f":"IF(①データ登録!C937=\"\",\"\",①データ登録!C937)","v":""}]
[null,null,null,null,null,null,null,null,null,null,null,null,{"$f":"IF(①データ登録!A938=\"\",\"\",①データ登録!A938)","v":""},{"$f":"IF(①データ登録!B938=\"\",\"\",①データ登録!B938)","v":""},{"$f":"IF(①データ登録!C938=\"\",\"\",①データ登録!C938)","v":""}]
[null,null,null,null,null,null,null,null,null,null,null,null,{"$f":"IF(①データ登録!A939=\"\",\"\",①データ登録!A939)","v":""},{"$f":"IF(①データ登録!B939=\"\",\"\",①データ登録!B939)","v":""},{"$f":"IF(①データ登録!C939=\"\",\"\",①データ登録!C939)","v":""}]
[null,null,null,null,null,null,null,null,null,null,null,null,{"$f":"IF(①データ登録!A940=\"\",\"\",①データ登録!A940)","v":""},{"$f":"IF(①データ登録!B940=\"\",\"\",①データ登録!B940)","v":""},{"$f":"IF(①データ登録!C940=\"\",\"\",①データ登録!C940)","v":""}]
[null,null,null,null,null,null,null,null,null,null,null,null,{"$f":"IF(①データ登録!A941=\"\",\"\",①データ登録!A941)","v":""},{"$f":"IF(①データ登録!B941=\"\",\"\",①データ登録!B941)","v":""},{"$f":"IF(①データ登録!C941=\"\",\"\",①データ登録!C941)","v":""}]
[null,null,null,null,null,null,null,null,null,null,null,null,{"$f":"IF(①データ登録!A942=\"\",\"\",①データ登録!A942)","v":""},{"$f":"IF(①データ登録!B942=\"\",\"\",①データ登録!B942)","v":""},{"$f":"IF(①データ登録!C942=\"\",\"\",①データ登録!C942)","v":""}]
[null,null,null,null,null,null,null,null,null,null,null,null,{"$f":"IF(①データ登録!A943=\"\",\"\",①データ登録!A943)","v":""},{"$f":"IF(①データ登録!B943=\"\",\"\",①データ登録!B943)","v":""},{"$f":"IF(①データ登録!C943=\"\",\"\",①データ登録!C943)","v":""}]
[null,null,null,null,null,null,null,null,null,null,null,null,{"$f":"IF(①データ登録!A944=\"\",\"\",①データ登録!A944)","v":""},{"$f":"IF(①データ登録!B944=\"\",\"\",①データ登録!B944)","v":""},{"$f":"IF(①データ登録!C944=\"\",\"\",①データ登録!C944)","v":""}]
[null,null,null,null,null,null,null,null,null,null,null,null,{"$f":"IF(①データ登録!A945=\"\",\"\",①データ登録!A945)","v":""},{"$f":"IF(①データ登録!B945=\"\",\"\",①データ登録!B945)","v":""},{"$f":"IF(①データ登録!C945=\"\",\"\",①データ登録!C945)","v":""}]
[null,null,null,null,null,null,null,null,null,null,null,null,{"$f":"IF(①データ登録!A946=\"\",\"\",①データ登録!A946)","v":""},{"$f":"IF(①データ登録!B946=\"\",\"\",①データ登録!B946)","v":""},{"$f":"IF(①データ登録!C946=\"\",\"\",①データ登録!C946)","v":""}]
[null,null,null,null,null,null,null,null,null,null,null,null,{"$f":"IF(①データ登録!A947=\"\",\"\",①データ登録!A947)","v":""},{"$f":"IF(①データ登録!B947=\"\",\"\",①データ登録!B947)","v":""},{"$f":"IF(①データ登録!C947=\"\",\"\",①データ登録!C947)","v":""}]
[null,null,null,null,null,null,null,null,null,null,null,null,{"$f":"IF(①データ登録!A948=\"\",\"\",①データ登録!A948)","v":""},{"$f":"IF(①データ登録!B948=\"\",\"\",①データ登録!B948)","v":""},{"$f":"IF(①データ登録!C948=\"\",\"\",①データ登録!C948)","v":""}]
[null,null,null,null,null,null,null,null,null,null,null,null,{"$f":"IF(①データ登録!A949=\"\",\"\",①データ登録!A949)","v":""},{"$f":"IF(①データ登録!B949=\"\",\"\",①データ登録!B949)","v":""},{"$f":"IF(①データ登録!C949=\"\",\"\",①データ登録!C949)","v":""}]
[null,null,null,null,null,null,null,null,null,null,null,null,{"$f":"IF(①データ登録!A950=\"\",\"\",①データ登録!A950)","v":""},{"$f":"IF(①データ登録!B950=\"\",\"\",①データ登録!B950)","v":""},{"$f":"IF(①データ登録!C950=\"\",\"\",①データ登録!C950)","v":""}]
[null,null,null,null,null,null,null,null,null,null,null,null,{"$f":"IF(①データ登録!A951=\"\",\"\",①データ登録!A951)","v":""},{"$f":"IF(①データ登録!B951=\"\",\"\",①データ登録!B951)","v":""},{"$f":"IF(①データ登録!C951=\"\",\"\",①データ登録!C951)","v":""}]
[null,null,null,null,null,null,null,null,null,null,null,null,{"$f":"IF(①データ登録!A952=\"\",\"\",①データ登録!A952)","v":""},{"$f":"IF(①データ登録!B952=\"\",\"\",①データ登録!B952)","v":""},{"$f":"IF(①データ登録!C952=\"\",\"\",①データ登録!C952)","v":""}]
[null,null,null,null,null,null,null,null,null,null,null,null,{"$f":"IF(①データ登録!A953=\"\",\"\",①データ登録!A953)","v":""},{"$f":"IF(①データ登録!B953=\"\",\"\",①データ登録!B953)","v":""},{"$f":"IF(①データ登録!C953=\"\",\"\",①データ登録!C953)","v":""}]
[null,null,null,null,null,null,null,null,null,null,null,null,{"$f":"IF(①データ登録!A954=\"\",\"\",①データ登録!A954)","v":""},{"$f":"IF(①データ登録!B954=\"\",\"\",①データ登録!B954)","v":""},{"$f":"IF(①データ登録!C954=\"\",\"\",①データ登録!C954)","v":""}]
[null,null,null,null,null,null,null,null,null,null,null,null,{"$f":"IF(①データ登録!A955=\"\",\"\",①データ登録!A955)","v":""},{"$f":"IF(①データ登録!B955=\"\",\"\",①データ登録!B955)","v":""},{"$f":"IF(①データ登録!C955=\"\",\"\",①データ登録!C955)","v":""}]
[null,null,null,null,null,null,null,null,null,null,null,null,{"$f":"IF(①データ登録!A956=\"\",\"\",①データ登録!A956)","v":""},{"$f":"IF(①データ登録!B956=\"\",\"\",①データ登録!B956)","v":""},{"$f":"IF(①データ登録!C956=\"\",\"\",①データ登録!C956)","v":""}]
[null,null,null,null,null,null,null,null,null,null,null,null,{"$f":"IF(①データ登録!A957=\"\",\"\",①データ登録!A957)","v":""},{"$f":"IF(①データ登録!B957=\"\",\"\",①データ登録!B957)","v":""},{"$f":"IF(①データ登録!C957=\"\",\"\",①データ登録!C957)","v":""}]
[null,null,null,null,null,null,null,null,null,null,null,null,{"$f":"IF(①データ登録!A958=\"\",\"\",①データ登録!A958)","v":""},{"$f":"IF(①データ登録!B958=\"\",\"\",①データ登録!B958)","v":""},{"$f":"IF(①データ登録!C958=\"\",\"\",①データ登録!C958)","v":""}]
[null,null,null,null,null,null,null,null,null,null,null,null,{"$f":"IF(①データ登録!A959=\"\",\"\",①データ登録!A959)","v":""},{"$f":"IF(①データ登録!B959=\"\",\"\",①データ登録!B959)","v":""},{"$f":"IF(①データ登録!C959=\"\",\"\",①データ登録!C959)","v":""}]
[null,null,null,null,null,null,null,null,null,null,null,null,{"$f":"IF(①データ登録!A960=\"\",\"\",①データ登録!A960)","v":""},{"$f":"IF(①データ登録!B960=\"\",\"\",①データ登録!B960)","v":""},{"$f":"IF(①データ登録!C960=\"\",\"\",①データ登録!C960)","v":""}]
[null,null,null,null,null,null,null,null,null,null,null,null,{"$f":"IF(①データ登録!A961=\"\",\"\",①データ登録!A961)","v":""},{"$f":"IF(①データ登録!B961=\"\",\"\",①データ登録!B961)","v":""},{"$f":"IF(①データ登録!C961=\"\",\"\",①データ登録!C961)","v":""}]
[null,null,null,null,null,null,null,null,null,null,null,null,{"$f":"IF(①データ登録!A962=\"\",\"\",①データ登録!A962)","v":""},{"$f":"IF(①データ登録!B962=\"\",\"\",①データ登録!B962)","v":""},{"$f":"IF(①データ登録!C962=\"\",\"\",①データ登録!C962)","v":""}]
[null,null,null,null,null,null,null,null,null,null,null,null,{"$f":"IF(①データ登録!A963=\"\",\"\",①データ登録!A963)","v":""},{"$f":"IF(①データ登録!B963=\"\",\"\",①データ登録!B963)","v":""},{"$f":"IF(①データ登録!C963=\"\",\"\",①データ登録!C963)","v":""}]
[null,null,null,null,null,null,null,null,null,null,null,null,{"$f":"IF(①データ登録!A964=\"\",\"\",①データ登録!A964)","v":""},{"$f":"IF(①データ登録!B964=\"\",\"\",①データ登録!B964)","v":""},{"$f":"IF(①データ登録!C964=\"\",\"\",①データ登録!C964)","v":""}]
[null,null,null,null,null,null,null,null,null,null,null,null,{"$f":"IF(①データ登録!A965=\"\",\"\",①データ登録!A965)","v":""},{"$f":"IF(①データ登録!B965=\"\",\"\",①データ登録!B965)","v":""},{"$f":"IF(①データ登録!C965=\"\",\"\",①データ登録!C965)","v":""}]
[null,null,null,null,null,null,null,null,null,null,null,null,{"$f":"IF(①データ登録!A966=\"\",\"\",①データ登録!A966)","v":""},{"$f":"IF(①データ登録!B966=\"\",\"\",①データ登録!B966)","v":""},{"$f":"IF(①データ登録!C966=\"\",\"\",①データ登録!C966)","v":""}]
[null,null,null,null,null,null,null,null,null,null,null,null,{"$f":"IF(①データ登録!A967=\"\",\"\",①データ登録!A967)","v":""},{"$f":"IF(①データ登録!B967=\"\",\"\",①データ登録!B967)","v":""},{"$f":"IF(①データ登録!C967=\"\",\"\",①データ登録!C967)","v":""}]
[null,null,null,null,null,null,null,null,null,null,null,null,{"$f":"IF(①データ登録!A968=\"\",\"\",①データ登録!A968)","v":""},{"$f":"IF(①データ登録!B968=\"\",\"\",①データ登録!B968)","v":""},{"$f":"IF(①データ登録!C968=\"\",\"\",①データ登録!C968)","v":""}]
[null,null,null,null,null,null,null,null,null,null,null,null,{"$f":"IF(①データ登録!A969=\"\",\"\",①データ登録!A969)","v":""},{"$f":"IF(①データ登録!B969=\"\",\"\",①データ登録!B969)","v":""},{"$f":"IF(①データ登録!C969=\"\",\"\",①データ登録!C969)","v":""}]
[null,null,null,null,null,null,null,null,null,null,null,null,{"$f":"IF(①データ登録!A970=\"\",\"\",①データ登録!A970)","v":""},{"$f":"IF(①データ登録!B970=\"\",\"\",①データ登録!B970)","v":""},{"$f":"IF(①データ登録!C970=\"\",\"\",①データ登録!C970)","v":""}]
[null,null,null,null,null,null,null,null,null,null,null,null,{"$f":"IF(①データ登録!A971=\"\",\"\",①データ登録!A971)","v":""},{"$f":"IF(①データ登録!B971=\"\",\"\",①データ登録!B971)","v":""},{"$f":"IF(①データ登録!C971=\"\",\"\",①データ登録!C971)","v":""}]
[null,null,null,null,null,null,null,null,null,null,null,null,{"$f":"IF(①データ登録!A972=\"\",\"\",①データ登録!A972)","v":""},{"$f":"IF(①データ登録!B972=\"\",\"\",①データ登録!B972)","v":""},{"$f":"IF(①データ登録!C972=\"\",\"\",①データ登録!C972)","v":""}]
[null,null,null,null,null,null,null,null,null,null,null,null,{"$f":"IF(①データ登録!A973=\"\",\"\",①データ登録!A973)","v":""},{"$f":"IF(①データ登録!B973=\"\",\"\",①データ登録!B973)","v":""},{"$f":"IF(①データ登録!C973=\"\",\"\",①データ登録!C973)","v":""}]
[null,null,null,null,null,null,null,null,null,null,null,null,{"$f":"IF(①データ登録!A974=\"\",\"\",①データ登録!A974)","v":""},{"$f":"IF(①データ登録!B974=\"\",\"\",①データ登録!B974)","v":""},{"$f":"IF(①データ登録!C974=\"\",\"\",①データ登録!C974)","v":""}]
[null,null,null,null,null,null,null,null,null,null,null,null,{"$f":"IF(①データ登録!A975=\"\",\"\",①データ登録!A975)","v":""},{"$f":"IF(①データ登録!B975=\"\",\"\",①データ登録!B975)","v":""},{"$f":"IF(①データ登録!C975=\"\",\"\",①データ登録!C975)","v":""}]
[null,null,null,null,null,null,null,null,null,null,null,null,{"$f":"IF(①データ登録!A976=\"\",\"\",①データ登録!A976)","v":""},{"$f":"IF(①データ登録!B976=\"\",\"\",①データ登録!B976)","v":""},{"$f":"IF(①データ登録!C976=\"\",\"\",①データ登録!C976)","v":""}]
[null,null,null,null,null,null,null,null,null,null,null,null,{"$f":"IF(①データ登録!A977=\"\",\"\",①データ登録!A977)","v":""},{"$f":"IF(①データ登録!B977=\"\",\"\",①データ登録!B977)","v":""},{"$f":"IF(①データ登録!C977=\"\",\"\",①データ登録!C977)","v":""}]
[null,null,null,null,null,null,null,null,null,null,null,null,{"$f":"IF(①データ登録!A978=\"\",\"\",①データ登録!A978)","v":""},{"$f":"IF(①データ登録!B978=\"\",\"\",①データ登録!B978)","v":""},{"$f":"IF(①データ登録!C978=\"\",\"\",①データ登録!C978)","v":""}]
[null,null,null,null,null,null,null,null,null,null,null,null,{"$f":"IF(①データ登録!A979=\"\",\"\",①データ登録!A979)","v":""},{"$f":"IF(①データ登録!B979=\"\",\"\",①データ登録!B979)","v":""},{"$f":"IF(①データ登録!C979=\"\",\"\",①データ登録!C979)","v":""}]
[null,null,null,null,null,null,null,null,null,null,null,null,{"$f":"IF(①データ登録!A980=\"\",\"\",①データ登録!A980)","v":""},{"$f":"IF(①データ登録!B980=\"\",\"\",①データ登録!B980)","v":""},{"$f":"IF(①データ登録!C980=\"\",\"\",①データ登録!C980)","v":""}]
[null,null,null,null,null,null,null,null,null,null,null,null,{"$f":"IF(①データ登録!A981=\"\",\"\",①データ登録!A981)","v":""},{"$f":"IF(①データ登録!B981=\"\",\"\",①データ登録!B981)","v":""},{"$f":"IF(①データ登録!C981=\"\",\"\",①データ登録!C981)","v":""}]
[null,null,null,null,null,null,null,null,null,null,null,null,{"$f":"IF(①データ登録!A982=\"\",\"\",①データ登録!A982)","v":""},{"$f":"IF(①データ登録!B982=\"\",\"\",①データ登録!B982)","v":""},{"$f":"IF(①データ登録!C982=\"\",\"\",①データ登録!C982)","v":""}]
[null,null,null,null,null,null,null,null,null,null,null,null,{"$f":"IF(①データ登録!A983=\"\",\"\",①データ登録!A983)","v":""},{"$f":"IF(①データ登録!B983=\"\",\"\",①データ登録!B983)","v":""},{"$f":"IF(①データ登録!C983=\"\",\"\",①データ登録!C983)","v":""}]
[null,null,null,null,null,null,null,null,null,null,null,null,{"$f":"IF(①データ登録!A984=\"\",\"\",①データ登録!A984)","v":""},{"$f":"IF(①データ登録!B984=\"\",\"\",①データ登録!B984)","v":""},{"$f":"IF(①データ登録!C984=\"\",\"\",①データ登録!C984)","v":""}]
[null,null,null,null,null,null,null,null,null,null,null,null,{"$f":"IF(①データ登録!A985=\"\",\"\",①データ登録!A985)","v":""},{"$f":"IF(①データ登録!B985=\"\",\"\",①データ登録!B985)","v":""},{"$f":"IF(①データ登録!C985=\"\",\"\",①データ登録!C985)","v":""}]
[null,null,null,null,null,null,null,null,null,null,null,null,{"$f":"IF(①データ登録!A986=\"\",\"\",①データ登録!A986)","v":""},{"$f":"IF(①データ登録!B986=\"\",\"\",①データ登録!B986)","v":""},{"$f":"IF(①データ登録!C986=\"\",\"\",①データ登録!C986)","v":""}]
[null,null,null,null,null,null,null,null,null,null,null,null,{"$f":"IF(①データ登録!A987=\"\",\"\",①データ登録!A987)","v":""},{"$f":"IF(①データ登録!B987=\"\",\"\",①データ登録!B987)","v":""},{"$f":"IF(①データ登録!C987=\"\",\"\",①データ登録!C987)","v":""}]
[null,null,null,null,null,null,null,null,null,null,null,null,{"$f":"IF(①データ登録!A988=\"\",\"\",①データ登録!A988)","v":""},{"$f":"IF(①データ登録!B988=\"\",\"\",①データ登録!B988)","v":""},{"$f":"IF(①データ登録!C988=\"\",\"\",①データ登録!C988)","v":""}]
[null,null,null,null,null,null,null,null,null,null,null,null,{"$f":"IF(①データ登録!A989=\"\",\"\",①データ登録!A989)","v":""},{"$f":"IF(①データ登録!B989=\"\",\"\",①データ登録!B989)","v":""},{"$f":"IF(①データ登録!C989=\"\",\"\",①データ登録!C989)","v":""}]
[null,null,null,null,null,null,null,null,null,null,null,null,{"$f":"IF(①データ登録!A990=\"\",\"\",①データ登録!A990)","v":""},{"$f":"IF(①データ登録!B990=\"\",\"\",①データ登録!B990)","v":""},{"$f":"IF(①データ登録!C990=\"\",\"\",①データ登録!C990)","v":""}]
[null,null,null,null,null,null,null,null,null,null,null,null,{"$f":"IF(①データ登録!A991=\"\",\"\",①データ登録!A991)","v":""},{"$f":"IF(①データ登録!B991=\"\",\"\",①データ登録!B991)","v":""},{"$f":"IF(①データ登録!C991=\"\",\"\",①データ登録!C991)","v":""}]
[null,null,null,null,null,null,null,null,null,null,null,null,{"$f":"IF(①データ登録!A992=\"\",\"\",①データ登録!A992)","v":""},{"$f":"IF(①データ登録!B992=\"\",\"\",①データ登録!B992)","v":""},{"$f":"IF(①データ登録!C992=\"\",\"\",①データ登録!C992)","v":""}]
[null,null,null,null,null,null,null,null,null,null,null,null,{"$f":"IF(①データ登録!A993=\"\",\"\",①データ登録!A993)","v":""},{"$f":"IF(①データ登録!B993=\"\",\"\",①データ登録!B993)","v":""},{"$f":"IF(①データ登録!C993=\"\",\"\",①データ登録!C993)","v":""}]
[null,null,null,null,null,null,null,null,null,null,null,null,{"$f":"IF(①データ登録!A994=\"\",\"\",①データ登録!A994)","v":""},{"$f":"IF(①データ登録!B994=\"\",\"\",①データ登録!B994)","v":""},{"$f":"IF(①データ登録!C994=\"\",\"\",①データ登録!C994)","v":""}]
[null,null,null,null,null,null,null,null,null,null,null,null,{"$f":"IF(①データ登録!A995=\"\",\"\",①データ登録!A995)","v":""},{"$f":"IF(①データ登録!B995=\"\",\"\",①データ登録!B995)","v":""},{"$f":"IF(①データ登録!C995=\"\",\"\",①データ登録!C995)","v":""}]
[null,null,null,null,null,null,null,null,null,null,null,null,{"$f":"IF(①データ登録!A996=\"\",\"\",①データ登録!A996)","v":""},{"$f":"IF(①データ登録!B996=\"\",\"\",①データ登録!B996)","v":""},{"$f":"IF(①データ登録!C996=\"\",\"\",①データ登録!C996)","v":""}]
[null,null,null,null,null,null,null,null,null,null,null,null,{"$f":"IF(①データ登録!A997=\"\",\"\",①データ登録!A997)","v":""},{"$f":"IF(①データ登録!B997=\"\",\"\",①データ登録!B997)","v":""},{"$f":"IF(①データ登録!C997=\"\",\"\",①データ登録!C997)","v":""}]
[null,null,null,null,null,null,null,null,null,null,null,null,{"$f":"IF(①データ登録!A998=\"\",\"\",①データ登録!A998)","v":""},{"$f":"IF(①データ登録!B998=\"\",\"\",①データ登録!B998)","v":""},{"$f":"IF(①データ登録!C998=\"\",\"\",①データ登録!C998)","v":""}]
[null,null,null,null,null,null,null,null,null,null,null,null,{"$f":"IF(①データ登録!A999=\"\",\"\",①データ登録!A999)","v":""},{"$f":"IF(①データ登録!B999=\"\",\"\",①データ登録!B999)","v":""},{"$f":"IF(①データ登録!C999=\"\",\"\",①データ登録!C999)","v":""}]
[null,null,null,null,null,null,null,null,null,null,null,null,{"$f":"IF(①データ登録!A1000=\"\",\"\",①データ登録!A1000)","v":""},{"$f":"IF(①データ登録!B1000=\"\",\"\",①データ登録!B1000)","v":""},{"$f":"IF(①データ登録!C1000=\"\",\"\",①データ登録!C1000)","v":""}]
[null,null,null,null,null,null,null,null,null,null,null,null,{"$f":"IF(①データ登録!A1001=\"\",\"\",①データ登録!A1001)","v":""},{"$f":"IF(①データ登録!B1001=\"\",\"\",①データ登録!B1001)","v":""},{"$f":"IF(①データ登録!C1001=\"\",\"\",①データ登録!C1001)","v":""}]
[null,null,null,null,null,null,null,null,null,null,null,null,{"$f":"IF(①データ登録!A1002=\"\",\"\",①データ登録!A1002)","v":""},{"$f":"IF(①データ登録!B1002=\"\",\"\",①データ登録!B1002)","v":""},{"$f":"IF(①データ登録!C1002=\"\",\"\",①データ登録!C1002)","v":""}]
[null,null,null,null,null,null,null,null,null,null,null,null,{"$f":"IF(①データ登録!A1003=\"\",\"\",①データ登録!A1003)","v":""},{"$f":"IF(①データ登録!B1003=\"\",\"\",①データ登録!B1003)","v":""},{"$f":"IF(①データ登録!C1003=\"\",\"\",①データ登録!C1003)","v":""}]
[null,null,null,null,null,null,null,null,null,null,null,null,{"$f":"IF(①データ登録!A1004=\"\",\"\",①データ登録!A1004)","v":""},{"$f":"IF(①データ登録!B1004=\"\",\"\",①データ登録!B1004)","v":""},{"$f":"IF(①データ登録!C1004=\"\",\"\",①データ登録!C1004)","v":""}]
[null,null,null,null,null,null,null,null,null,null,null,null,{"$f":"IF(①データ登録!A1005=\"\",\"\",①データ登録!A1005)","v":""},{"$f":"IF(①データ登録!B1005=\"\",\"\",①データ登録!B1005)","v":""},{"$f":"IF(①データ登録!C1005=\"\",\"\",①データ登録!C1005)","v":""}]
[null,null,null,null,null,null,null,null,null,null,null,null,{"$f":"IF(①データ登録!A1006=\"\",\"\",①データ登録!A1006)","v":""},{"$f":"IF(①データ登録!B1006=\"\",\"\",①データ登録!B1006)","v":""},{"$f":"IF(①データ登録!C1006=\"\",\"\",①データ登録!C1006)","v":""}]
[null,null,null,null,null,null,null,null,null,null,null,null,{"$f":"IF(①データ登録!A1007=\"\",\"\",①データ登録!A1007)","v":""},{"$f":"IF(①データ登録!B1007=\"\",\"\",①データ登録!B1007)","v":""},{"$f":"IF(①データ登録!C1007=\"\",\"\",①データ登録!C1007)","v":""}]
[null,null,null,null,null,null,null,null,null,null,null,null,{"$f":"IF(①データ登録!A1008=\"\",\"\",①データ登録!A1008)","v":""},{"$f":"IF(①データ登録!B1008=\"\",\"\",①データ登録!B1008)","v":""},{"$f":"IF(①データ登録!C1008=\"\",\"\",①データ登録!C1008)","v":""}]
[null,null,null,null,null,null,null,null,null,null,null,null,{"$f":"IF(①データ登録!A1009=\"\",\"\",①データ登録!A1009)","v":""},{"$f":"IF(①データ登録!B1009=\"\",\"\",①データ登録!B1009)","v":""},{"$f":"IF(①データ登録!C1009=\"\",\"\",①データ登録!C1009)","v":""}]
[null,null,null,null,null,null,null,null,null,null,null,null,{"$f":"IF(①データ登録!A1010=\"\",\"\",①データ登録!A1010)","v":""},{"$f":"IF(①データ登録!B1010=\"\",\"\",①データ登録!B1010)","v":""},{"$f":"IF(①データ登録!C1010=\"\",\"\",①データ登録!C1010)","v":""}]

{"sheet":"自動タイマー","index":2,"n_rows":998,"n_cols":15,"rows_kept":998,"cut":false,"hidden":false,"merged":[[0,0,25,9],[28,0,53,9]]}
[{"$f":"VLOOKUP(K15,M2:O21,2)","v":"人類が他の動物と大きく違く点を4つ答えなさい。"},null,null,null,null,null,null,null,null,null,null,null,"番号","表","うら"]
[null,null,null,null,null,null,null,null,null,null,null,null,{"$f":"IF(①データ登録!A3=\"\",\"\",①データ登録!A3)","v":1},{"$f":"IF(①データ登録!B3=\"\",\"\",①データ登録!B3)","v":"information"},{"$f":"IF(①データ登録!C3=\"\",\"\",①データ登録!C3)","v":"情報"}]
[null,null,null,null,null,null,null,null,null,null,1,"から",{"$f":"IF(①データ登録!A4=\"\",\"\",①データ登録!A4)","v":2},{"$f":"IF(①データ登録!B4=\"\",\"\",①データ登録!B4)","v":"interesting"},{"$f":"IF(①データ登録!C4=\"\",\"\",①データ登録!C4)","v":"おもしろい"}]
[null,null,null,null,null,null,null,null,null,null,9,"まで",{"$f":"IF(①データ登録!A5=\"\",\"\",①データ登録!A5)","v":3},{"$f":"IF(①データ登録!B5=\"\",\"\",①データ登録!B5)","v":"I think I can do something for others."},{"$f":"IF(①データ登録!C5=\"\",\"\",①データ登録!C5)","v":"私もほかの人のために何かできると思うのよ。"}]
[null,null,null,null,null,null,null,null,null,null,null,null,{"$f":"IF(①データ登録!A6=\"\",\"\",①データ登録!A6)","v":4},{"$f":"IF(①データ登録!B6=\"\",\"\",①データ登録!B6)","v":"understand"},{"$f":"IF(①データ登録!C6=\"\",\"\",①データ登録!C6)","v":"理解する"}]
[null,null,null,null,null,null,null,null,null,null,null,null,{"$f":"IF(①データ登録!A7=\"\",\"\",①データ登録!A7)","v":5},{"$f":"IF(①データ登録!B7=\"\",\"\",①データ登録!B7)","v":"begin began （　　　　　　） beginning"},{"$f":"IF(①データ登録!C7=\"\",\"\",①データ登録!C7)","v":"はじめるの活用　begin began begun beginning"}]
[null,null,null,null,null,null,null,null,null,null,null,null,{"$f":"IF(①データ登録!A8=\"\",\"\",①データ登録!A8)","v":6},{"$f":"IF(①データ登録!B8=\"\",\"\",①データ登録!B8)","v":"アウストラロピテクス"},{"$f":"IF(①データ登録!C8=\"\",\"\",①データ登録!C8)","v":"約400万年前に南アフリカに現れた人類"}]
[null,null,null,null,null,null,null,null,null,null,10,"秒間",{"$f":"IF(①データ登録!A9=\"\",\"\",①データ登録!A9)","v":7},{"$f":"IF(①データ登録!B9=\"\",\"\",①データ登録!B9)","v":"アウストラロピテクス・ジャワ原人・ペキン原人・クロマニョン人らがいた時代は？"},{"$f":"IF(①データ登録!C9=\"\",\"\",①データ登録!C9)","v":"旧石器時代"}]
[null,null,null,null,null,null,null,null,null,null,1,"秒ごと",{"$f":"IF(①データ登録!A10=\"\",\"\",①データ登録!A10)","v":8},{"$f":"IF(①データ登録!B10=\"\",\"\",①データ登録!B10)","v":"人類が他の動物と大きく違く点を4つ答えなさい。"},{"$f":"IF(①データ登録!C10=\"\",\"\",①データ登録!C10)","v":"①直立歩行する　②道具を使う　③火を使う　④言葉を使う"}]
[null,null,null,null,null,null,null,null,null,null,null,null,{"$f":"IF(①データ登録!A11=\"\",\"\",①データ登録!A11)","v":9},{"$f":"IF(①データ登録!B11=\"\",\"\",①データ登録!B11)","v":"墾田永年私財法"},{"$f":"IF(①データ登録!C11=\"\",\"\",①データ登録!C11)","v":"奈良時代中期の聖武天皇の治世に、天平15年5月27日（743年6月23日）に発布された天皇の名による命令で、自分で新しく開墾した耕地の永年私財化を認める法令である。"}]
[null,null,null,null,null,null,null,null,null,null,null,null,{"$f":"IF(①データ登録!A12=\"\",\"\",①データ登録!A12)","v":""},{"$f":"IF(①データ登録!B12=\"\",\"\",①データ登録!B12)","v":""},{"$f":"IF(①データ登録!C12=\"\",\"\",①データ登録!C12)","v":""}]
[null,null,null,null,null,null,null,null,null,null,null,null,{"$f":"IF(①データ登録!A13=\"\",\"\",①データ登録!A13)","v":""},{"$f":"IF(①データ登録!B13=\"\",\"\",①データ登録!B13)","v":""},{"$f":"IF(①データ登録!C13=\"\",\"\",①データ登録!C13)","v":""}]
[null,null,null,null,null,null,null,null,null,null,null,null,{"$f":"IF(①データ登録!A14=\"\",\"\",①データ登録!A14)","v":""},{"$f":"IF(①データ登録!B14=\"\",\"\",①データ登録!B14)","v":""},{"$f":"IF(①データ登録!C14=\"\",\"\",①データ登録!C14)","v":""}]
[null,null,null,null,null,null,null,null,null,null,0,null,{"$f":"IF(①データ登録!A15=\"\",\"\",①データ登録!A15)","v":""},{"$f":"IF(①データ登録!B15=\"\",\"\",①データ登録!B15)","v":""},{"$f":"IF(①データ登録!C15=\"\",\"\",①データ登録!C15)","v":""}]
[null,null,null,null,null,null,null,null,null,null,{"$f":"RANDBETWEEN(K3,K4)","v":8},null,{"$f":"IF(①データ登録!A16=\"\",\"\",①データ登録!A16)","v":""},{"$f":"IF(①データ登録!B16=\"\",\"\",①データ登録!B16)","v":""},{"$f":"IF(①データ登録!C16=\"\",\"\",①データ登録!C16)","v":""}]
[null,null,null,null,null,null,null,null,null,null,{"$f":"NORMINV(RAND(),0,1)","v":0.30744155499528458},{"$f":"NOW()","v":41222.558360416668},{"$f":"IF(①データ登録!A17=\"\",\"\",①データ登録!A17)","v":""},{"$f":"IF(①データ登録!B17=\"\",\"\",①データ登録!B17)","v":""},{"$f":"IF(①データ登録!C17=\"\",\"\",①データ登録!C17)","v":""}]
[null,null,null,null,null,null,null,null,null,null,null,null,{"$f":"IF(①データ登録!A18=\"\",\"\",①データ登録!A18)","v":""},{"$f":"IF(①データ登録!B18=\"\",\"\",①データ登録!B18)","v":""},{"$f":"IF(①データ登録!C18=\"\",\"\",①データ登録!C18)","v":""}]
[null,null,null,null,null,null,null,null,null,null,null,null,{"$f":"IF(①データ登録!A19=\"\",\"\",①データ登録!A19)","v":""},{"$f":"IF(①データ登録!B19=\"\",\"\",①データ登録!B19)","v":""},{"$f":"IF(①データ登録!C19=\"\",\"\",①データ登録!C19)","v":""}]
[null,null,null,null,null,null,null,null,null,null,null,null,{"$f":"IF(①データ登録!A20=\"\",\"\",①データ登録!A20)","v":""},{"$f":"IF(①データ登録!B20=\"\",\"\",①データ登録!B20)","v":""},{"$f":"IF(①データ登録!C20=\"\",\"\",①データ登録!C20)","v":""}]
[null,null,null,null,null,null,null,null,null,null,null,null,{"$f":"IF(①データ登録!A21=\"\",\"\",①データ登録!A21)","v":""},{"$f":"IF(①データ登録!B21=\"\",\"\",①データ登録!B21)","v":""},{"$f":"IF(①データ登録!C21=\"\",\"\",①データ登録!C21)","v":""}]
[null,null,null,null,null,null,null,null,null,null,null,null,{"$f":"IF(①データ登録!A22=\"\",\"\",①データ登録!A22)","v":""},{"$f":"IF(①データ登録!B22=\"\",\"\",①データ登録!B22)","v":""},{"$f":"IF(①データ登録!C22=\"\",\"\",①データ登録!C22)","v":""}]
[null,null,null,null,null,null,null,null,null,null,null,null,{"$f":"IF(①データ登録!A23=\"\",\"\",①データ登録!A23)","v":""},{"$f":"IF(①データ登録!B23=\"\",\"\",①データ登録!B23)","v":""},{"$f":"IF(①データ登録!C23=\"\",\"\",①データ登録!C23)","v":""}]
[null,null,null,null,null,null,null,null,null,null,null,null,{"$f":"IF(①データ登録!A24=\"\",\"\",①データ登録!A24)","v":""},{"$f":"IF(①データ登録!B24=\"\",\"\",①データ登録!B24)","v":""},{"$f":"IF(①データ登録!C24=\"\",\"\",①データ登録!C24)","v":""}]
[null,null,null,null,null,null,null,null,null,null,null,null,{"$f":"IF(①データ登録!A25=\"\",\"\",①データ登録!A25)","v":""},{"$f":"IF(①データ登録!B25=\"\",\"\",①データ登録!B25)","v":""},{"$f":"IF(①データ登録!C25=\"\",\"\",①データ登録!C25)","v":""}]
[null,null,null,null,null,null,null,null,null,null,null,null,{"$f":"IF(①データ登録!A26=\"\",\"\",①データ登録!A26)","v":""},{"$f":"IF(①データ登録!B26=\"\",\"\",①データ登録!B26)","v":""},{"$f":"IF(①データ登録!C26=\"\",\"\",①データ登録!C26)","v":""}]
[null,null,null,null,null,null,null,null,null,null,null,null,{"$f":"IF(①データ登録!A27=\"\",\"\",①データ登録!A27)","v":""},{"$f":"IF(①データ登録!B27=\"\",\"\",①データ登録!B27)","v":""},{"$f":"IF(①データ登録!C27=\"\",\"\",①データ登録!C27)","v":""}]
[null,null,null,null,null,null,null,null,null,null,null,null,{"$f":"IF(①データ登録!A28=\"\",\"\",①データ登録!A28)","v":""},{"$f":"IF(①データ登録!B28=\"\",\"\",①データ登録!B28)","v":""},{"$f":"IF(①データ登録!C28=\"\",\"\",①データ登録!C28)","v":""}]
[null,null,null,null,null,null,null,null,null,null,null,null,{"$f":"IF(①データ登録!A29=\"\",\"\",①データ登録!A29)","v":""},{"$f":"IF(①データ登録!B29=\"\",\"\",①データ登録!B29)","v":""},{"$f":"IF(①データ登録!C29=\"\",\"\",①データ登録!C29)","v":""}]
[{"$f":"VLOOKUP(K15,M2:O21,3)","v":"①直立歩行する　②道具を使う　③火を使う　④言葉を使う"},null,null,null,null,null,null,null,null,null,null,null,{"$f":"IF(①データ登録!A41=\"\",\"\",①データ登録!A41)","v":""},{"$f":"IF(①データ登録!B41=\"\",\"\",①データ登録!B41)","v":""},{"$f":"IF(①データ登録!C41=\"\",\"\",①データ登録!C41)","v":""}]
[null,null,null,null,null,null,null,null,null,null,null,null,{"$f":"IF(①データ登録!A42=\"\",\"\",①データ登録!A42)","v":""},{"$f":"IF(①データ登録!B42=\"\",\"\",①データ登録!B42)","v":""},{"$f":"IF(①データ登録!C42=\"\",\"\",①データ登録!C42)","v":""}]
[null,null,null,null,null,null,null,null,null,null,null,null,{"$f":"IF(①データ登録!A43=\"\",\"\",①データ登録!A43)","v":""},{"$f":"IF(①データ登録!B43=\"\",\"\",①データ登録!B43)","v":""},{"$f":"IF(①データ登録!C43=\"\",\"\",①データ登録!C43)","v":""}]
[null,null,null,null,null,null,null,null,null,null,null,null,{"$f":"IF(①データ登録!A44=\"\",\"\",①データ登録!A44)","v":""},{"$f":"IF(①データ登録!B44=\"\",\"\",①データ登録!B44)","v":""},{"$f":"IF(①データ登録!C44=\"\",\"\",①データ登録!C44)","v":""}]
[null,null,null,null,null,null,null,null,null,null,null,null,{"$f":"IF(①データ登録!A45=\"\",\"\",①データ登録!A45)","v":""},{"$f":"IF(①データ登録!B45=\"\",\"\",①データ登録!B45)","v":""},{"$f":"IF(①データ登録!C45=\"\",\"\",①データ登録!C45)","v":""}]
[null,null,null,null,null,null,null,null,null,null,null,null,{"$f":"IF(①データ登録!A46=\"\",\"\",①データ登録!A46)","v":""},{"$f":"IF(①データ登録!B46=\"\",\"\",①データ登録!B46)","v":""},{"$f":"IF(①データ登録!C46=\"\",\"\",①データ登録!C46)","v":""}]
[null,null,null,null,null,null,null,null,null,null,null,null,{"$f":"IF(①データ登録!A47=\"\",\"\",①データ登録!A47)","v":""},{"$f":"IF(①データ登録!B47=\"\",\"\",①データ登録!B47)","v":""},{"$f":"IF(①データ登録!C47=\"\",\"\",①データ登録!C47)","v":""}]
[null,null,null,null,null,null,null,null,null,null,null,null,{"$f":"IF(①データ登録!A48=\"\",\"\",①データ登録!A48)","v":""},{"$f":"IF(①データ登録!B48=\"\",\"\",①データ登録!B48)","v":""},{"$f":"IF(①データ登録!C48=\"\",\"\",①データ登録!C48)","v":""}]
[null,null,null,null,null,null,null,null,null,null,null,null,{"$f":"IF(①データ登録!A49=\"\",\"\",①データ登録!A49)","v":""},{"$f":"IF(①データ登録!B49=\"\",\"\",①データ登録!B49)","v":""},{"$f":"IF(①データ登録!C49=\"\",\"\",①データ登録!C49)","v":""}]
[null,null,null,null,null,null,null,null,null,null,null,null,{"$f":"IF(①データ登録!A50=\"\",\"\",①データ登録!A50)","v":""},{"$f":"IF(①データ登録!B50=\"\",\"\",①データ登録!B50)","v":""},{"$f":"IF(①データ登録!C50=\"\",\"\",①データ登録!C50)","v":""}]
[null,null,null,null,null,null,null,null,null,null,null,null,{"$f":"IF(①データ登録!A51=\"\",\"\",①データ登録!A51)","v":""},{"$f":"IF(①データ登録!B51=\"\",\"\",①データ登録!B51)","v":""},{"$f":"IF(①データ登録!C51=\"\",\"\",①データ登録!C51)","v":""}]
[null,null,null,null,null,null,null,null,null,null,null,null,{"$f":"IF(①データ登録!A52=\"\",\"\",①データ登録!A52)","v":""},{"$f":"IF(①データ登録!B52=\"\",\"\",①データ登録!B52)","v":""},{"$f":"IF(①データ登録!C52=\"\",\"\",①データ登録!C52)","v":""}]
[null,null,null,null,null,null,null,null,null,null,null,null,{"$f":"IF(①データ登録!A53=\"\",\"\",①データ登録!A53)","v":""},{"$f":"IF(①データ登録!B53=\"\",\"\",①データ登録!B53)","v":""},{"$f":"IF(①データ登録!C53=\"\",\"\",①データ登録!C53)","v":""}]
[null,null,null,null,null,null,null,null,null,null,null,null,{"$f":"IF(①データ登録!A54=\"\",\"\",①データ登録!A54)","v":""},{"$f":"IF(①データ登録!B54=\"\",\"\",①データ登録!B54)","v":""},{"$f":"IF(①データ登録!C54=\"\",\"\",①データ登録!C54)","v":""}]
[null,null,null,null,null,null,null,null,null,null,null,null,{"$f":"IF(①データ登録!A55=\"\",\"\",①データ登録!A55)","v":""},{"$f":"IF(①データ登録!B55=\"\",\"\",①データ登録!B55)","v":""},{"$f":"IF(①データ登録!C55=\"\",\"\",①データ登録!C55)","v":""}]
[null,null,null,null,null,null,null,null,null,null,null,null,{"$f":"IF(①データ登録!A56=\"\",\"\",①データ登録!A56)","v":""},{"$f":"IF(①データ登録!B56=\"\",\"\",①データ登録!B56)","v":""},{"$f":"IF(①データ登録!C56=\"\",\"\",①データ登録!C56)","v":""}]
[null,null,null,null,null,null,null,null,null,null,null,null,{"$f":"IF(①データ登録!A57=\"\",\"\",①データ登録!A57)","v":""},{"$f":"IF(①データ登録!B57=\"\",\"\",①データ登録!B57)","v":""},{"$f":"IF(①データ登録!C57=\"\",\"\",①データ登録!C57)","v":""}]
[null,null,null,null,null,null,null,null,null,null,null,null,{"$f":"IF(①データ登録!A58=\"\",\"\",①データ登録!A58)","v":""},{"$f":"IF(①データ登録!B58=\"\",\"\",①データ登録!B58)","v":""},{"$f":"IF(①データ登録!C58=\"\",\"\",①データ登録!C58)","v":""}]
[null,null,null,null,null,null,null,null,null,null,null,null,{"$f":"IF(①データ登録!A59=\"\",\"\",①データ登録!A59)","v":""},{"$f":"IF(①データ登録!B59=\"\",\"\",①データ登録!B59)","v":""},{"$f":"IF(①データ登録!C59=\"\",\"\",①データ登録!C59)","v":""}]
[null,null,null,null,null,null,null,null,null,null,null,null,{"$f":"IF(①データ登録!A60=\"\",\"\",①データ登録!A60)","v":""},{"$f":"IF(①データ登録!B60=\"\",\"\",①データ登録!B60)","v":""},{"$f":"IF(①データ登録!C60=\"\",\"\",①データ登録!C60)","v":""}]
[null,null,null,null,null,null,null,null,null,null,null,null,{"$f":"IF(①データ登録!A61=\"\",\"\",①データ登録!A61)","v":""},{"$f":"IF(①データ登録!B61=\"\",\"\",①データ登録!B61)","v":""},{"$f":"IF(①データ登録!C61=\"\",\"\",①データ登録!C61)","v":""}]
[null,null,null,null,null,null,null,null,null,null,null,null,{"$f":"IF(①データ登録!A62=\"\",\"\",①データ登録!A62)","v":""},{"$f":"IF(①データ登録!B62=\"\",\"\",①データ登録!B62)","v":""},{"$f":"IF(①データ登録!C62=\"\",\"\",①データ登録!C62)","v":""}]
[null,null,null,null,null,null,null,null,null,null,null,null,{"$f":"IF(①データ登録!A63=\"\",\"\",①データ登録!A63)","v":""},{"$f":"IF(①データ登録!B63=\"\",\"\",①データ登録!B63)","v":""},{"$f":"IF(①データ登録!C63=\"\",\"\",①データ登録!C63)","v":""}]
[null,null,null,null,null,null,null,null,null,null,null,null,{"$f":"IF(①データ登録!A64=\"\",\"\",①データ登録!A64)","v":""},{"$f":"IF(①データ登録!B64=\"\",\"\",①データ登録!B64)","v":""},{"$f":"IF(①データ登録!C64=\"\",\"\",①データ登録!C64)","v":""}]
[null,null,null,null,null,null,null,null,null,null,null,null,{"$f":"IF(①データ登録!A65=\"\",\"\",①データ登録!A65)","v":""},{"$f":"IF(①データ登録!B65=\"\",\"\",①データ登録!B65)","v":""},{"$f":"IF(①データ登録!C65=\"\",\"\",①データ登録!C65)","v":""}]
[null,null,null,null,null,null,null,null,null,null,null,null,{"$f":"IF(①データ登録!A66=\"\",\"\",①データ登録!A66)","v":""},{"$f":"IF(①データ登録!B66=\"\",\"\",①データ登録!B66)","v":""},{"$f":"IF(①データ登録!C66=\"\",\"\",①データ登録!C66)","v":""}]
[null,null,null,null,null,null,null,null,null,null,null,null,{"$f":"IF(①データ登録!A67=\"\",\"\",①データ登録!A67)","v":""},{"$f":"IF(①データ登録!B67=\"\",\"\",①データ登録!B67)","v":""},{"$f":"IF(①データ登録!C67=\"\",\"\",①データ登録!C67)","v":""}]
[null,null,null,null,null,null,null,null,null,null,null,null,{"$f":"IF(①データ登録!A68=\"\",\"\",①データ登録!A68)","v":""},{"$f":"IF(①データ登録!B68=\"\",\"\",①データ登録!B68)","v":""},{"$f":"IF(①データ登録!C68=\"\",\"\",①データ登録!C68)","v":""}]
[null,null,null,null,null,null,null,null,null,null,null,null,{"$f":"IF(①データ登録!A69=\"\",\"\",①データ登録!A69)","v":""},{"$f":"IF(①データ登録!B69=\"\",\"\",①データ登録!B69)","v":""},{"$f":"IF(①データ登録!C69=\"\",\"\",①データ登録!C69)","v":""}]
[null,null,null,null,null,null,null,null,null,null,null,null,{"$f":"IF(①データ登録!A70=\"\",\"\",①データ登録!A70)","v":""},{"$f":"IF(①データ登録!B70=\"\",\"\",①データ登録!B70)","v":""},{"$f":"IF(①データ登録!C70=\"\",\"\",①データ登録!C70)","v":""}]
[null,null,null,null,null,null,null,null,null,null,null,null,{"$f":"IF(①データ登録!A71=\"\",\"\",①データ登録!A71)","v":""},{"$f":"IF(①データ登録!B71=\"\",\"\",①データ登録!B71)","v":""},{"$f":"IF(①データ登録!C71=\"\",\"\",①データ登録!C71)","v":""}]
[null,null,null,null,null,null,null,null,null,null,null,null,{"$f":"IF(①データ登録!A72=\"\",\"\",①データ登録!A72)","v":""},{"$f":"IF(①データ登録!B72=\"\",\"\",①データ登録!B72)","v":""},{"$f":"IF(①データ登録!C72=\"\",\"\",①データ登録!C72)","v":""}]
[null,null,null,null,null,null,null,null,null,null,null,null,{"$f":"IF(①データ登録!A73=\"\",\"\",①データ登録!A73)","v":""},{"$f":"IF(①データ登録!B73=\"\",\"\",①データ登録!B73)","v":""},{"$f":"IF(①データ登録!C73=\"\",\"\",①データ登録!C73)","v":""}]
[null,null,null,null,null,null,null,null,null,null,null,null,{"$f":"IF(①データ登録!A74=\"\",\"\",①データ登録!A74)","v":""},{"$f":"IF(①データ登録!B74=\"\",\"\",①データ登録!B74)","v":""},{"$f":"IF(①データ登録!C74=\"\",\"\",①データ登録!C74)","v":""}]
[null,null,null,null,null,null,null,null,null,null,null,null,{"$f":"IF(①データ登録!A75=\"\",\"\",①データ登録!A75)","v":""},{"$f":"IF(①データ登録!B75=\"\",\"\",①データ登録!B75)","v":""},{"$f":"IF(①データ登録!C75=\"\",\"\",①データ登録!C75)","v":""}]
[null,null,null,null,null,null,null,null,null,null,null,null,{"$f":"IF(①データ登録!A76=\"\",\"\",①データ登録!A76)","v":""},{"$f":"IF(①データ登録!B76=\"\",\"\",①データ登録!B76)","v":""},{"$f":"IF(①データ登録!C76=\"\",\"\",①データ登録!C76)","v":""}]
[null,null,null,null,null,null,null,null,null,null,null,null,{"$f":"IF(①データ登録!A77=\"\",\"\",①データ登録!A77)","v":""},{"$f":"IF(①データ登録!B77=\"\",\"\",①データ登録!B77)","v":""},{"$f":"IF(①データ登録!C77=\"\",\"\",①データ登録!C77)","v":""}]
[null,null,null,null,null,null,null,null,null,null,null,null,{"$f":"IF(①データ登録!A78=\"\",\"\",①データ登録!A78)","v":""},{"$f":"IF(①データ登録!B78=\"\",\"\",①データ登録!B78)","v":""},{"$f":"IF(①データ登録!C78=\"\",\"\",①データ登録!C78)","v":""}]
[null,null,null,null,null,null,null,null,null,null,null,null,{"$f":"IF(①データ登録!A79=\"\",\"\",①データ登録!A79)","v":""},{"$f":"IF(①データ登録!B79=\"\",\"\",①データ登録!B79)","v":""},{"$f":"IF(①データ登録!C79=\"\",\"\",①データ登録!C79)","v":""}]
[null,null,null,null,null,null,null,null,null,null,null,null,{"$f":"IF(①データ登録!A80=\"\",\"\",①データ登録!A80)","v":""},{"$f":"IF(①データ登録!B80=\"\",\"\",①データ登録!B80)","v":""},{"$f":"IF(①データ登録!C80=\"\",\"\",①データ登録!C80)","v":""}]
[null,null,null,null,null,null,null,null,null,null,null,null,{"$f":"IF(①データ登録!A81=\"\",\"\",①データ登録!A81)","v":""},{"$f":"IF(①データ登録!B81=\"\",\"\",①データ登録!B81)","v":""},{"$f":"IF(①データ登録!C81=\"\",\"\",①データ登録!C81)","v":""}]
[null,null,null,null,null,null,null,null,null,null,null,null,{"$f":"IF(①データ登録!A82=\"\",\"\",①データ登録!A82)","v":""},{"$f":"IF(①データ登録!B82=\"\",\"\",①データ登録!B82)","v":""},{"$f":"IF(①データ登録!C82=\"\",\"\",①データ登録!C82)","v":""}]
[null,null,null,null,null,null,null,null,null,null,null,null,{"$f":"IF(①データ登録!A83=\"\",\"\",①データ登録!A83)","v":""},{"$f":"IF(①データ登録!B83=\"\",\"\",①データ登録!B83)","v":""},{"$f":"IF(①データ登録!C83=\"\",\"\",①データ登録!C83)","v":""}]
[null,null,null,null,null,null,null,null,null,null,null,null,{"$f":"IF(①データ登録!A84=\"\",\"\",①データ登録!A84)","v":""},{"$f":"IF(①データ登録!B84=\"\",\"\",①データ登録!B84)","v":""},{"$f":"IF(①データ登録!C84=\"\",\"\",①データ登録!C84)","v":""}]
[null,null,null,null,null,null,null,null,null,null,null,null,{"$f":"IF(①データ登録!A85=\"\",\"\",①データ登録!A85)","v":""},{"$f":"IF(①データ登録!B85=\"\",\"\",①データ登録!B85)","v":""},{"$f":"IF(①データ登録!C85=\"\",\"\",①データ登録!C85)","v":""}]
[null,null,null,null,null,null,null,null,null,null,null,null,{"$f":"IF(①データ登録!A86=\"\",\"\",①データ登録!A86)","v":""},{"$f":"IF(①データ登録!B86=\"\",\"\",①データ登録!B86)","v":""},{"$f":"IF(①データ登録!C86=\"\",\"\",①データ登録!C86)","v":""}]
[null,null,null,null,null,null,null,null,null,null,null,null,{"$f":"IF(①データ登録!A87=\"\",\"\",①データ登録!A87)","v":""},{"$f":"IF(①データ登録!B87=\"\",\"\",①データ登録!B87)","v":""},{"$f":"IF(①データ登録!C87=\"\",\"\",①データ登録!C87)","v":""}]
[null,null,null,null,null,null,null,null,null,null,null,null,{"$f":"IF(①データ登録!A88=\"\",\"\",①データ登録!A88)","v":""},{"$f":"IF(①データ登録!B88=\"\",\"\",①データ登録!B88)","v":""},{"$f":"IF(①データ登録!C88=\"\",\"\",①データ登録!C88)","v":""}]
[null,null,null,null,null,null,null,null,null,null,null,null,{"$f":"IF(①データ登録!A89=\"\",\"\",①データ登録!A89)","v":""},{"$f":"IF(①データ登録!B89=\"\",\"\",①データ登録!B89)","v":""},{"$f":"IF(①データ登録!C89=\"\",\"\",①データ登録!C89)","v":""}]
[null,null,null,null,null,null,null,null,null,null,null,null,{"$f":"IF(①データ登録!A90=\"\",\"\",①データ登録!A90)","v":""},{"$f":"IF(①データ登録!B90=\"\",\"\",①データ登録!B90)","v":""},{"$f":"IF(①データ登録!C90=\"\",\"\",①データ登録!C90)","v":""}]
[null,null,null,null,null,null,null,null,null,null,null,null,{"$f":"IF(①データ登録!A91=\"\",\"\",①データ登録!A91)","v":""},{"$f":"IF(①データ登録!B91=\"\",\"\",①データ登録!B91)","v":""},{"$f":"IF(①データ登録!C91=\"\",\"\",①データ登録!C91)","v":""}]
[null,null,null,null,null,null,null,null,null,null,null,null,{"$f":"IF(①データ登録!A92=\"\",\"\",①データ登録!A92)","v":""},{"$f":"IF(①データ登録!B92=\"\",\"\",①データ登録!B92)","v":""},{"$f":"IF(①データ登録!C92=\"\",\"\",①データ登録!C92)","v":""}]
[null,null,null,null,null,null,null,null,null,null,null,null,{"$f":"IF(①データ登録!A93=\"\",\"\",①データ登録!A93)","v":""},{"$f":"IF(①データ登録!B93=\"\",\"\",①データ登録!B93)","v":""},{"$f":"IF(①データ登録!C93=\"\",\"\",①データ登録!C93)","v":""}]
[null,null,null,null,null,null,null,null,null,null,null,null,{"$f":"IF(①データ登録!A94=\"\",\"\",①データ登録!A94)","v":""},{"$f":"IF(①データ登録!B94=\"\",\"\",①データ登録!B94)","v":""},{"$f":"IF(①データ登録!C94=\"\",\"\",①データ登録!C94)","v":""}]
[null,null,null,null,null,null,null,null,null,null,null,null,{"$f":"IF(①データ登録!A95=\"\",\"\",①データ登録!A95)","v":""},{"$f":"IF(①データ登録!B95=\"\",\"\",①データ登録!B95)","v":""},{"$f":"IF(①データ登録!C95=\"\",\"\",①データ登録!C95)","v":""}]
[null,null,null,null,null,null,null,null,null,null,null,null,{"$f":"IF(①データ登録!A96=\"\",\"\",①データ登録!A96)","v":""},{"$f":"IF(①データ登録!B96=\"\",\"\",①データ登録!B96)","v":""},{"$f":"IF(①データ登録!C96=\"\",\"\",①データ登録!C96)","v":""}]
[null,null,null,null,null,null,null,null,null,null,null,null,{"$f":"IF(①データ登録!A97=\"\",\"\",①データ登録!A97)","v":""},{"$f":"IF(①データ登録!B97=\"\",\"\",①データ登録!B97)","v":""},{"$f":"IF(①データ登録!C97=\"\",\"\",①データ登録!C97)","v":""}]
[null,null,null,null,null,null,null,null,null,null,null,null,{"$f":"IF(①データ登録!A98=\"\",\"\",①データ登録!A98)","v":""},{"$f":"IF(①データ登録!B98=\"\",\"\",①データ登録!B98)","v":""},{"$f":"IF(①データ登録!C98=\"\",\"\",①データ登録!C98)","v":""}]
[null,null,null,null,null,null,null,null,null,null,null,null,{"$f":"IF(①データ登録!A99=\"\",\"\",①データ登録!A99)","v":""},{"$f":"IF(①データ登録!B99=\"\",\"\",①データ登録!B99)","v":""},{"$f":"IF(①データ登録!C99=\"\",\"\",①データ登録!C99)","v":""}]
[null,null,null,null,null,null,null,null,null,null,null,null,{"$f":"IF(①データ登録!A100=\"\",\"\",①データ登録!A100)","v":""},{"$f":"IF(①データ登録!B100=\"\",\"\",①データ登録!B100)","v":""},{"$f":"IF(①データ登録!C100=\"\",\"\",①データ登録!C100)","v":""}]
[null,null,null,null,null,null,null,null,null,null,null,null,{"$f":"IF(①データ登録!A101=\"\",\"\",①データ登録!A101)","v":""},{"$f":"IF(①データ登録!B101=\"\",\"\",①データ登録!B101)","v":""},{"$f":"IF(①データ登録!C101=\"\",\"\",①データ登録!C101)","v":""}]
[null,null,null,null,null,null,null,null,null,null,null,null,{"$f":"IF(①データ登録!A102=\"\",\"\",①データ登録!A102)","v":""},{"$f":"IF(①データ登録!B102=\"\",\"\",①データ登録!B102)","v":""},{"$f":"IF(①データ登録!C102=\"\",\"\",①データ登録!C102)","v":""}]
[null,null,null,null,null,null,null,null,null,null,null,null,{"$f":"IF(①データ登録!A103=\"\",\"\",①データ登録!A103)","v":""},{"$f":"IF(①データ登録!B103=\"\",\"\",①データ登録!B103)","v":""},{"$f":"IF(①データ登録!C103=\"\",\"\",①データ登録!C103)","v":""}]
[null,null,null,null,null,null,null,null,null,null,null,null,{"$f":"IF(①データ登録!A104=\"\",\"\",①データ登録!A104)","v":""},{"$f":"IF(①データ登録!B104=\"\",\"\",①データ登録!B104)","v":""},{"$f":"IF(①データ登録!C104=\"\",\"\",①データ登録!C104)","v":""}]
[null,null,null,null,null,null,null,null,null,null,null,null,{"$f":"IF(①データ登録!A105=\"\",\"\",①データ登録!A105)","v":""},{"$f":"IF(①データ登録!B105=\"\",\"\",①データ登録!B105)","v":""},{"$f":"IF(①データ登録!C105=\"\",\"\",①データ登録!C105)","v":""}]
[null,null,null,null,null,null,null,null,null,null,null,null,{"$f":"IF(①データ登録!A106=\"\",\"\",①データ登録!A106)","v":""},{"$f":"IF(①データ登録!B106=\"\",\"\",①データ登録!B106)","v":""},{"$f":"IF(①データ登録!C106=\"\",\"\",①データ登録!C106)","v":""}]
[null,null,null,null,null,null,null,null,null,null,null,null,{"$f":"IF(①データ登録!A107=\"\",\"\",①データ登録!A107)","v":""},{"$f":"IF(①データ登録!B107=\"\",\"\",①データ登録!B107)","v":""},{"$f":"IF(①データ登録!C107=\"\",\"\",①データ登録!C107)","v":""}]
[null,null,null,null,null,null,null,null,null,null,null,null,{"$f":"IF(①データ登録!A108=\"\",\"\",①データ登録!A108)","v":""},{"$f":"IF(①データ登録!B108=\"\",\"\",①データ登録!B108)","v":""},{"$f":"IF(①データ登録!C108=\"\",\"\",①データ登録!C108)","v":""}]
[null,null,null,null,null,null,null,null,null,null,null,null,{"$f":"IF(①データ登録!A109=\"\",\"\",①データ登録!A109)","v":""},{"$f":"IF(①データ登録!B109=\"\",\"\",①データ登録!B109)","v":""},{"$f":"IF(①データ登録!C109=\"\",\"\",①データ登録!C109)","v":""}]
[null,null,null,null,null,null,null,null,null,null,null,null,{"$f":"IF(①データ登録!A110=\"\",\"\",①データ登録!A110)","v":""},{"$f":"IF(①データ登録!B110=\"\",\"\",①データ登録!B110)","v":""},{"$f":"IF(①データ登録!C110=\"\",\"\",①データ登録!C110)","v":""}]
[null,null,null,null,null,null,null,null,null,null,null,null,{"$f":"IF(①データ登録!A111=\"\",\"\",①データ登録!A111)","v":""},{"$f":"IF(①データ登録!B111=\"\",\"\",①データ登録!B111)","v":""},{"$f":"IF(①データ登録!C111=\"\",\"\",①データ登録!C111)","v":""}]
[null,null,null,null,null,null,null,null,null,null,null,null,{"$f":"IF(①データ登録!A112=\"\",\"\",①データ登録!A112)","v":""},{"$f":"IF(①データ登録!B112=\"\",\"\",①データ登録!B112)","v":""},{"$f":"IF(①データ登録!C112=\"\",\"\",①データ登録!C112)","v":""}]
[null,null,null,null,null,null,null,null,null,null,null,null,{"$f":"IF(①データ登録!A113=\"\",\"\",①データ登録!A113)","v":""},{"$f":"IF(①データ登録!B113=\"\",\"\",①データ登録!B113)","v":""},{"$f":"IF(①データ登録!C113=\"\",\"\",①データ登録!C113)","v":""}]
[null,null,null,null,null,null,null,null,null,null,null,null,{"$f":"IF(①データ登録!A114=\"\",\"\",①データ登録!A114)","v":""},{"$f":"IF(①データ登録!B114=\"\",\"\",①データ登録!B114)","v":""},{"$f":"IF(①データ登録!C114=\"\",\"\",①データ登録!C114)","v":""}]
[null,null,null,null,null,null,null,null,null,null,null,null,{"$f":"IF(①データ登録!A115=\"\",\"\",①データ登録!A115)","v":""},{"$f":"IF(①データ登録!B115=\"\",\"\",①データ登録!B115)","v":""},{"$f":"IF(①データ登録!C115=\"\",\"\",①データ登録!C115)","v":""}]
[null,null,null,null,null,null,null,null,null,null,null,null,{"$f":"IF(①データ登録!A116=\"\",\"\",①データ登録!A116)","v":""},{"$f":"IF(①データ登録!B116=\"\",\"\",①データ登録!B116)","v":""},{"$f":"IF(①データ登録!C116=\"\",\"\",①データ登録!C116)","v":""}]
[null,null,null,null,null,null,null,null,null,null,null,null,{"$f":"IF(①データ登録!A117=\"\",\"\",①データ登録!A117)","v":""},{"$f":"IF(①データ登録!B117=\"\",\"\",①データ登録!B117)","v":""},{"$f":"IF(①データ登録!C117=\"\",\"\",①データ登録!C117)","v":""}]
[null,null,null,null,null,null,null,null,null,null,null,null,{"$f":"IF(①データ登録!A118=\"\",\"\",①データ登録!A118)","v":""},{"$f":"IF(①データ登録!B118=\"\",\"\",①データ登録!B118)","v":""},{"$f":"IF(①データ登録!C118=\"\",\"\",①データ登録!C118)","v":""}]
[null,null,null,null,null,null,null,null,null,null,null,null,{"$f":"IF(①データ登録!A119=\"\",\"\",①データ登録!A119)","v":""},{"$f":"IF(①データ登録!B119=\"\",\"\",①データ登録!B119)","v":""},{"$f":"IF(①データ登録!C119=\"\",\"\",①データ登録!C119)","v":""}]
[null,null,null,null,null,null,null,null,null,null,null,null,{"$f":"IF(①データ登録!A120=\"\",\"\",①データ登録!A120)","v":""},{"$f":"IF(①データ登録!B120=\"\",\"\",①データ登録!B120)","v":""},{"$f":"IF(①データ登録!C120=\"\",\"\",①データ登録!C120)","v":""}]
[null,null,null,null,null,null,null,null,null,null,null,null,{"$f":"IF(①データ登録!A121=\"\",\"\",①データ登録!A121)","v":""},{"$f":"IF(①データ登録!B121=\"\",\"\",①データ登録!B121)","v":""},{"$f":"IF(①データ登録!C121=\"\",\"\",①データ登録!C121)","v":""}]
[null,null,null,null,null,null,null,null,null,null,null,null,{"$f":"IF(①データ登録!A122=\"\",\"\",①データ登録!A122)","v":""},{"$f":"IF(①データ登録!B122=\"\",\"\",①データ登録!B122)","v":""},{"$f":"IF(①データ登録!C122=\"\",\"\",①データ登録!C122)","v":""}]
[null,null,null,null,null,null,null,null,null,null,null,null,{"$f":"IF(①データ登録!A123=\"\",\"\",①データ登録!A123)","v":""},{"$f":"IF(①データ登録!B123=\"\",\"\",①データ登録!B123)","v":""},{"$f":"IF(①データ登録!C123=\"\",\"\",①データ登録!C123)","v":""}]
[null,null,null,null,null,null,null,null,null,null,null,null,{"$f":"IF(①データ登録!A124=\"\",\"\",①データ登録!A124)","v":""},{"$f":"IF(①データ登録!B124=\"\",\"\",①データ登録!B124)","v":""},{"$f":"IF(①データ登録!C124=\"\",\"\",①データ登録!C124)","v":""}]
[null,null,null,null,null,null,null,null,null,null,null,null,{"$f":"IF(①データ登録!A125=\"\",\"\",①データ登録!A125)","v":""},{"$f":"IF(①データ登録!B125=\"\",\"\",①データ登録!B125)","v":""},{"$f":"IF(①データ登録!C125=\"\",\"\",①データ登録!C125)","v":""}]
[null,null,null,null,null,null,null,null,null,null,null,null,{"$f":"IF(①データ登録!A126=\"\",\"\",①データ登録!A126)","v":""},{"$f":"IF(①データ登録!B126=\"\",\"\",①データ登録!B126)","v":""},{"$f":"IF(①データ登録!C126=\"\",\"\",①データ登録!C126)","v":""}]
[null,null,null,null,null,null,null,null,null,null,null,null,{"$f":"IF(①データ登録!A127=\"\",\"\",①データ登録!A127)","v":""},{"$f":"IF(①データ登録!B127=\"\",\"\",①データ登録!B127)","v":""},{"$f":"IF(①データ登録!C127=\"\",\"\",①データ登録!C127)","v":""}]
[null,null,null,null,null,null,null,null,null,null,null,null,{"$f":"IF(①データ登録!A128=\"\",\"\",①データ登録!A128)","v":""},{"$f":"IF(①データ登録!B128=\"\",\"\",①データ登録!B128)","v":""},{"$f":"IF(①データ登録!C128=\"\",\"\",①データ登録!C128)","v":""}]
[null,null,null,null,null,null,null,null,null,null,null,null,{"$f":"IF(①データ登録!A129=\"\",\"\",①データ登録!A129)","v":""},{"$f":"IF(①データ登録!B129=\"\",\"\",①データ登録!B129)","v":""},{"$f":"IF(①データ登録!C129=\"\",\"\",①データ登録!C129)","v":""}]
[null,null,null,null,null,null,null,null,null,null,null,null,{"$f":"IF(①データ登録!A130=\"\",\"\",①データ登録!A130)","v":""},{"$f":"IF(①データ登録!B130=\"\",\"\",①データ登録!B130)","v":""},{"$f":"IF(①データ登録!C130=\"\",\"\",①データ登録!C130)","v":""}]
[null,null,null,null,null,null,null,null,null,null,null,null,{"$f":"IF(①データ登録!A131=\"\",\"\",①データ登録!A131)","v":""},{"$f":"IF(①データ登録!B131=\"\",\"\",①データ登録!B131)","v":""},{"$f":"IF(①データ登録!C131=\"\",\"\",①データ登録!C131)","v":""}]
[null,null,null,null,null,null,null,null,null,null,null,null,{"$f":"IF(①データ登録!A132=\"\",\"\",①データ登録!A132)","v":""},{"$f":"IF(①データ登録!B132=\"\",\"\",①データ登録!B132)","v":""},{"$f":"IF(①データ登録!C132=\"\",\"\",①データ登録!C132)","v":""}]
[null,null,null,null,null,null,null,null,null,null,null,null,{"$f":"IF(①データ登録!A133=\"\",\"\",①データ登録!A133)","v":""},{"$f":"IF(①データ登録!B133=\"\",\"\",①データ登録!B133)","v":""},{"$f":"IF(①データ登録!C133=\"\",\"\",①データ登録!C133)","v":""}]
[null,null,null,null,null,null,null,null,null,null,null,null,{"$f":"IF(①データ登録!A134=\"\",\"\",①データ登録!A134)","v":""},{"$f":"IF(①データ登録!B134=\"\",\"\",①データ登録!B134)","v":""},{"$f":"IF(①データ登録!C134=\"\",\"\",①データ登録!C134)","v":""}]
[null,null,null,null,null,null,null,null,null,null,null,null,{"$f":"IF(①データ登録!A135=\"\",\"\",①データ登録!A135)","v":""},{"$f":"IF(①データ登録!B135=\"\",\"\",①データ登録!B135)","v":""},{"$f":"IF(①データ登録!C135=\"\",\"\",①データ登録!C135)","v":""}]
[null,null,null,null,null,null,null,null,null,null,null,null,{"$f":"IF(①データ登録!A136=\"\",\"\",①データ登録!A136)","v":""},{"$f":"IF(①データ登録!B136=\"\",\"\",①データ登録!B136)","v":""},{"$f":"IF(①データ登録!C136=\"\",\"\",①データ登録!C136)","v":""}]
[null,null,null,null,null,null,null,null,null,null,null,null,{"$f":"IF(①データ登録!A137=\"\",\"\",①データ登録!A137)","v":""},{"$f":"IF(①データ登録!B137=\"\",\"\",①データ登録!B137)","v":""},{"$f":"IF(①データ登録!C137=\"\",\"\",①データ登録!C137)","v":""}]
[null,null,null,null,null,null,null,null,null,null,null,null,{"$f":"IF(①データ登録!A138=\"\",\"\",①データ登録!A138)","v":""},{"$f":"IF(①データ登録!B138=\"\",\"\",①データ登録!B138)","v":""},{"$f":"IF(①データ登録!C138=\"\",\"\",①データ登録!C138)","v":""}]
[null,null,null,null,null,null,null,null,null,null,null,null,{"$f":"IF(①データ登録!A139=\"\",\"\",①データ登録!A139)","v":""},{"$f":"IF(①データ登録!B139=\"\",\"\",①データ登録!B139)","v":""},{"$f":"IF(①データ登録!C139=\"\",\"\",①データ登録!C139)","v":""}]
[null,null,null,null,null,null,null,null,null,null,null,null,{"$f":"IF(①データ登録!A140=\"\",\"\",①データ登録!A140)","v":""},{"$f":"IF(①データ登録!B140=\"\",\"\",①データ登録!B140)","v":""},{"$f":"IF(①データ登録!C140=\"\",\"\",①データ登録!C140)","v":""}]
[null,null,null,null,null,null,null,null,null,null,null,null,{"$f":"IF(①データ登録!A141=\"\",\"\",①データ登録!A141)","v":""},{"$f":"IF(①データ登録!B141=\"\",\"\",①データ登録!B141)","v":""},{"$f":"IF(①データ登録!C141=\"\",\"\",①データ登録!C141)","v":""}]
[null,null,null,null,null,null,null,null,null,null,null,null,{"$f":"IF(①データ登録!A142=\"\",\"\",①データ登録!A142)","v":""},{"$f":"IF(①データ登録!B142=\"\",\"\",①データ登録!B142)","v":""},{"$f":"IF(①データ登録!C142=\"\",\"\",①データ登録!C142)","v":""}]
[null,null,null,null,null,null,null,null,null,null,null,null,{"$f":"IF(①データ登録!A143=\"\",\"\",①データ登録!A143)","v":""},{"$f":"IF(①データ登録!B143=\"\",\"\",①データ登録!B143)","v":""},{"$f":"IF(①データ登録!C143=\"\",\"\",①データ登録!C143)","v":""}]
[null,null,null,null,null,null,null,null,null,null,null,null,{"$f":"IF(①データ登録!A144=\"\",\"\",①データ登録!A144)","v":""},{"$f":"IF(①データ登録!B144=\"\",\"\",①データ登録!B144)","v":""},{"$f":"IF(①データ登録!C144=\"\",\"\",①データ登録!C144)","v":""}]
[null,null,null,null,null,null,null,null,null,null,null,null,{"$f":"IF(①データ登録!A145=\"\",\"\",①データ登録!A145)","v":""},{"$f":"IF(①データ登録!B145=\"\",\"\",①データ登録!B145)","v":""},{"$f":"IF(①データ登録!C145=\"\",\"\",①データ登録!C145)","v":""}]
[null,null,null,null,null,null,null,null,null,null,null,null,{"$f":"IF(①データ登録!A146=\"\",\"\",①データ登録!A146)","v":""},{"$f":"IF(①データ登録!B146=\"\",\"\",①データ登録!B146)","v":""},{"$f":"IF(①データ登録!C146=\"\",\"\",①データ登録!C146)","v":""}]
[null,null,null,null,null,null,null,null,null,null,null,null,{"$f":"IF(①データ登録!A147=\"\",\"\",①データ登録!A147)","v":""},{"$f":"IF(①データ登録!B147=\"\",\"\",①データ登録!B147)","v":""},{"$f":"IF(①データ登録!C147=\"\",\"\",①データ登録!C147)","v":""}]
[null,null,null,null,null,null,null,null,null,null,null,null,{"$f":"IF(①データ登録!A148=\"\",\"\",①データ登録!A148)","v":""},{"$f":"IF(①データ登録!B148=\"\",\"\",①データ登録!B148)","v":""},{"$f":"IF(①データ登録!C148=\"\",\"\",①データ登録!C148)","v":""}]
[null,null,null,null,null,null,null,null,null,null,null,null,{"$f":"IF(①データ登録!A149=\"\",\"\",①データ登録!A149)","v":""},{"$f":"IF(①データ登録!B149=\"\",\"\",①データ登録!B149)","v":""},{"$f":"IF(①データ登録!C149=\"\",\"\",①データ登録!C149)","v":""}]
[null,null,null,null,null,null,null,null,null,null,null,null,{"$f":"IF(①データ登録!A150=\"\",\"\",①データ登録!A150)","v":""},{"$f":"IF(①データ登録!B150=\"\",\"\",①データ登録!B150)","v":""},{"$f":"IF(①データ登録!C150=\"\",\"\",①データ登録!C150)","v":""}]
[null,null,null,null,null,null,null,null,null,null,null,null,{"$f":"IF(①データ登録!A151=\"\",\"\",①データ登録!A151)","v":""},{"$f":"IF(①データ登録!B151=\"\",\"\",①データ登録!B151)","v":""},{"$f":"IF(①データ登録!C151=\"\",\"\",①データ登録!C151)","v":""}]
[null,null,null,null,null,null,null,null,null,null,null,null,{"$f":"IF(①データ登録!A152=\"\",\"\",①データ登録!A152)","v":""},{"$f":"IF(①データ登録!B152=\"\",\"\",①データ登録!B152)","v":""},{"$f":"IF(①データ登録!C152=\"\",\"\",①データ登録!C152)","v":""}]
[null,null,null,null,null,null,null,null,null,null,null,null,{"$f":"IF(①データ登録!A153=\"\",\"\",①データ登録!A153)","v":""},{"$f":"IF(①データ登録!B153=\"\",\"\",①データ登録!B153)","v":""},{"$f":"IF(①データ登録!C153=\"\",\"\",①データ登録!C153)","v":""}]
[null,null,null,null,null,null,null,null,null,null,null,null,{"$f":"IF(①データ登録!A154=\"\",\"\",①データ登録!A154)","v":""},{"$f":"IF(①データ登録!B154=\"\",\"\",①データ登録!B154)","v":""},{"$f":"IF(①データ登録!C154=\"\",\"\",①データ登録!C154)","v":""}]
[null,null,null,null,null,null,null,null,null,null,null,null,{"$f":"IF(①データ登録!A155=\"\",\"\",①データ登録!A155)","v":""},{"$f":"IF(①データ登録!B155=\"\",\"\",①データ登録!B155)","v":""},{"$f":"IF(①データ登録!C155=\"\",\"\",①データ登録!C155)","v":""}]
[null,null,null,null,null,null,null,null,null,null,null,null,{"$f":"IF(①データ登録!A156=\"\",\"\",①データ登録!A156)","v":""},{"$f":"IF(①データ登録!B156=\"\",\"\",①データ登録!B156)","v":""},{"$f":"IF(①データ登録!C156=\"\",\"\",①データ登録!C156)","v":""}]
[null,null,null,null,null,null,null,null,null,null,null,null,{"$f":"IF(①データ登録!A157=\"\",\"\",①データ登録!A157)","v":""},{"$f":"IF(①データ登録!B157=\"\",\"\",①データ登録!B157)","v":""},{"$f":"IF(①データ登録!C157=\"\",\"\",①データ登録!C157)","v":""}]
[null,null,null,null,null,null,null,null,null,null,null,null,{"$f":"IF(①データ登録!A158=\"\",\"\",①データ登録!A158)","v":""},{"$f":"IF(①データ登録!B158=\"\",\"\",①データ登録!B158)","v":""},{"$f":"IF(①データ登録!C158=\"\",\"\",①データ登録!C158)","v":""}]
[null,null,null,null,null,null,null,null,null,null,null,null,{"$f":"IF(①データ登録!A159=\"\",\"\",①データ登録!A159)","v":""},{"$f":"IF(①データ登録!B159=\"\",\"\",①データ登録!B159)","v":""},{"$f":"IF(①データ登録!C159=\"\",\"\",①データ登録!C159)","v":""}]
[null,null,null,null,null,null,null,null,null,null,null,null,{"$f":"IF(①データ登録!A160=\"\",\"\",①データ登録!A160)","v":""},{"$f":"IF(①データ登録!B160=\"\",\"\",①データ登録!B160)","v":""},{"$f":"IF(①データ登録!C160=\"\",\"\",①データ登録!C160)","v":""}]
[null,null,null,null,null,null,null,null,null,null,null,null,{"$f":"IF(①データ登録!A161=\"\",\"\",①データ登録!A161)","v":""},{"$f":"IF(①データ登録!B161=\"\",\"\",①データ登録!B161)","v":""},{"$f":"IF(①データ登録!C161=\"\",\"\",①データ登録!C161)","v":""}]
[null,null,null,null,null,null,null,null,null,null,null,null,{"$f":"IF(①データ登録!A162=\"\",\"\",①データ登録!A162)","v":""},{"$f":"IF(①データ登録!B162=\"\",\"\",①データ登録!B162)","v":""},{"$f":"IF(①データ登録!C162=\"\",\"\",①データ登録!C162)","v":""}]
[null,null,null,null,null,null,null,null,null,null,null,null,{"$f":"IF(①データ登録!A163=\"\",\"\",①データ登録!A163)","v":""},{"$f":"IF(①データ登録!B163=\"\",\"\",①データ登録!B163)","v":""},{"$f":"IF(①データ登録!C163=\"\",\"\",①データ登録!C163)","v":""}]
[null,null,null,null,null,null,null,null,null,null,null,null,{"$f":"IF(①データ登録!A164=\"\",\"\",①データ登録!A164)","v":""},{"$f":"IF(①データ登録!B164=\"\",\"\",①データ登録!B164)","v":""},{"$f":"IF(①データ登録!C164=\"\",\"\",①データ登録!C164)","v":""}]
[null,null,null,null,null,null,null,null,null,null,null,null,{"$f":"IF(①データ登録!A165=\"\",\"\",①データ登録!A165)","v":""},{"$f":"IF(①データ登録!B165=\"\",\"\",①データ登録!B165)","v":""},{"$f":"IF(①データ登録!C165=\"\",\"\",①データ登録!C165)","v":""}]
[null,null,null,null,null,null,null,null,null,null,null,null,{"$f":"IF(①データ登録!A166=\"\",\"\",①データ登録!A166)","v":""},{"$f":"IF(①データ登録!B166=\"\",\"\",①データ登録!B166)","v":""},{"$f":"IF(①データ登録!C166=\"\",\"\",①データ登録!C166)","v":""}]
[null,null,null,null,null,null,null,null,null,null,null,null,{"$f":"IF(①データ登録!A167=\"\",\"\",①データ登録!A167)","v":""},{"$f":"IF(①データ登録!B167=\"\",\"\",①データ登録!B167)","v":""},{"$f":"IF(①データ登録!C167=\"\",\"\",①データ登録!C167)","v":""}]
[null,null,null,null,null,null,null,null,null,null,null,null,{"$f":"IF(①データ登録!A168=\"\",\"\",①データ登録!A168)","v":""},{"$f":"IF(①データ登録!B168=\"\",\"\",①データ登録!B168)","v":""},{"$f":"IF(①データ登録!C168=\"\",\"\",①データ登録!C168)","v":""}]
[null,null,null,null,null,null,null,null,null,null,null,null,{"$f":"IF(①データ登録!A169=\"\",\"\",①データ登録!A169)","v":""},{"$f":"IF(①データ登録!B169=\"\",\"\",①データ登録!B169)","v":""},{"$f":"IF(①データ登録!C169=\"\",\"\",①データ登録!C169)","v":""}]
[null,null,null,null,null,null,null,null,null,null,null,null,{"$f":"IF(①データ登録!A170=\"\",\"\",①データ登録!A170)","v":""},{"$f":"IF(①データ登録!B170=\"\",\"\",①データ登録!B170)","v":""},{"$f":"IF(①データ登録!C170=\"\",\"\",①データ登録!C170)","v":""}]
[null,null,null,null,null,null,null,null,null,null,null,null,{"$f":"IF(①データ登録!A171=\"\",\"\",①データ登録!A171)","v":""},{"$f":"IF(①データ登録!B171=\"\",\"\",①データ登録!B171)","v":""},{"$f":"IF(①データ登録!C171=\"\",\"\",①データ登録!C171)","v":""}]
[null,null,null,null,null,null,null,null,null,null,null,null,{"$f":"IF(①データ登録!A172=\"\",\"\",①データ登録!A172)","v":""},{"$f":"IF(①データ登録!B172=\"\",\"\",①データ登録!B172)","v":""},{"$f":"IF(①データ登録!C172=\"\",\"\",①データ登録!C172)","v":""}]
[null,null,null,null,null,null,null,null,null,null,null,null,{"$f":"IF(①データ登録!A173=\"\",\"\",①データ登録!A173)","v":""},{"$f":"IF(①データ登録!B173=\"\",\"\",①データ登録!B173)","v":""},{"$f":"IF(①データ登録!C173=\"\",\"\",①データ登録!C173)","v":""}]
[null,null,null,null,null,null,null,null,null,null,null,null,{"$f":"IF(①データ登録!A174=\"\",\"\",①データ登録!A174)","v":""},{"$f":"IF(①データ登録!B174=\"\",\"\",①データ登録!B174)","v":""},{"$f":"IF(①データ登録!C174=\"\",\"\",①データ登録!C174)","v":""}]
[null,null,null,null,null,null,null,null,null,null,null,null,{"$f":"IF(①データ登録!A175=\"\",\"\",①データ登録!A175)","v":""},{"$f":"IF(①データ登録!B175=\"\",\"\",①データ登録!B175)","v":""},{"$f":"IF(①データ登録!C175=\"\",\"\",①データ登録!C175)","v":""}]
[null,null,null,null,null,null,null,null,null,null,null,null,{"$f":"IF(①データ登録!A176=\"\",\"\",①データ登録!A176)","v":""},{"$f":"IF(①データ登録!B176=\"\",\"\",①データ登録!B176)","v":""},{"$f":"IF(①データ登録!C176=\"\",\"\",①データ登録!C176)","v":""}]
[null,null,null,null,null,null,null,null,null,null,null,null,{"$f":"IF(①データ登録!A177=\"\",\"\",①データ登録!A177)","v":""},{"$f":"IF(①データ登録!B177=\"\",\"\",①データ登録!B177)","v":""},{"$f":"IF(①データ登録!C177=\"\",\"\",①データ登録!C177)","v":""}]
[null,null,null,null,null,null,null,null,null,null,null,null,{"$f":"IF(①データ登録!A178=\"\",\"\",①データ登録!A178)","v":""},{"$f":"IF(①データ登録!B178=\"\",\"\",①データ登録!B178)","v":""},{"$f":"IF(①データ登録!C178=\"\",\"\",①データ登録!C178)","v":""}]
[null,null,null,null,null,null,null,null,null,null,null,null,{"$f":"IF(①データ登録!A179=\"\",\"\",①データ登録!A179)","v":""},{"$f":"IF(①データ登録!B179=\"\",\"\",①データ登録!B179)","v":""},{"$f":"IF(①データ登録!C179=\"\",\"\",①データ登録!C179)","v":""}]
[null,null,null,null,null,null,null,null,null,null,null,null,{"$f":"IF(①データ登録!A180=\"\",\"\",①データ登録!A180)","v":""},{"$f":"IF(①データ登録!B180=\"\",\"\",①データ登録!B180)","v":""},{"$f":"IF(①データ登録!C180=\"\",\"\",①データ登録!C180)","v":""}]
[null,null,null,null,null,null,null,null,null,null,null,null,{"$f":"IF(①データ登録!A181=\"\",\"\",①データ登録!A181)","v":""},{"$f":"IF(①データ登録!B181=\"\",\"\",①データ登録!B181)","v":""},{"$f":"IF(①データ登録!C181=\"\",\"\",①データ登録!C181)","v":""}]
[null,null,null,null,null,null,null,null,null,null,null,null,{"$f":"IF(①データ登録!A182=\"\",\"\",①データ登録!A182)","v":""},{"$f":"IF(①データ登録!B182=\"\",\"\",①データ登録!B182)","v":""},{"$f":"IF(①データ登録!C182=\"\",\"\",①データ登録!C182)","v":""}]
[null,null,null,null,null,null,null,null,null,null,null,null,{"$f":"IF(①データ登録!A183=\"\",\"\",①データ登録!A183)","v":""},{"$f":"IF(①データ登録!B183=\"\",\"\",①データ登録!B183)","v":""},{"$f":"IF(①データ登録!C183=\"\",\"\",①データ登録!C183)","v":""}]
[null,null,null,null,null,null,null,null,null,null,null,null,{"$f":"IF(①データ登録!A184=\"\",\"\",①データ登録!A184)","v":""},{"$f":"IF(①データ登録!B184=\"\",\"\",①データ登録!B184)","v":""},{"$f":"IF(①データ登録!C184=\"\",\"\",①データ登録!C184)","v":""}]
[null,null,null,null,null,null,null,null,null,null,null,null,{"$f":"IF(①データ登録!A185=\"\",\"\",①データ登録!A185)","v":""},{"$f":"IF(①データ登録!B185=\"\",\"\",①データ登録!B185)","v":""},{"$f":"IF(①データ登録!C185=\"\",\"\",①データ登録!C185)","v":""}]
[null,null,null,null,null,null,null,null,null,null,null,null,{"$f":"IF(①データ登録!A186=\"\",\"\",①データ登録!A186)","v":""},{"$f":"IF(①データ登録!B186=\"\",\"\",①データ登録!B186)","v":""},{"$f":"IF(①データ登録!C186=\"\",\"\",①データ登録!C186)","v":""}]
[null,null,null,null,null,null,null,null,null,null,null,null,{"$f":"IF(①データ登録!A187=\"\",\"\",①データ登録!A187)","v":""},{"$f":"IF(①データ登録!B187=\"\",\"\",①データ登録!B187)","v":""},{"$f":"IF(①データ登録!C187=\"\",\"\",①データ登録!C187)","v":""}]
[null,null,null,null,null,null,null,null,null,null,null,null,{"$f":"IF(①データ登録!A188=\"\",\"\",①データ登録!A188)","v":""},{"$f":"IF(①データ登録!B188=\"\",\"\",①データ登録!B188)","v":""},{"$f":"IF(①データ登録!C188=\"\",\"\",①データ登録!C188)","v":""}]
[null,null,null,null,null,null,null,null,null,null,null,null,{"$f":"IF(①データ登録!A189=\"\",\"\",①データ登録!A189)","v":""},{"$f":"IF(①データ登録!B189=\"\",\"\",①データ登録!B189)","v":""},{"$f":"IF(①データ登録!C189=\"\",\"\",①データ登録!C189)","v":""}]
[null,null,null,null,null,null,null,null,null,null,null,null,{"$f":"IF(①データ登録!A190=\"\",\"\",①データ登録!A190)","v":""},{"$f":"IF(①データ登録!B190=\"\",\"\",①データ登録!B190)","v":""},{"$f":"IF(①データ登録!C190=\"\",\"\",①データ登録!C190)","v":""}]
[null,null,null,null,null,null,null,null,null,null,null,null,{"$f":"IF(①データ登録!A191=\"\",\"\",①データ登録!A191)","v":""},{"$f":"IF(①データ登録!B191=\"\",\"\",①データ登録!B191)","v":""},{"$f":"IF(①データ登録!C191=\"\",\"\",①データ登録!C191)","v":""}]
[null,null,null,null,null,null,null,null,null,null,null,null,{"$f":"IF(①データ登録!A192=\"\",\"\",①データ登録!A192)","v":""},{"$f":"IF(①データ登録!B192=\"\",\"\",①データ登録!B192)","v":""},{"$f":"IF(①データ登録!C192=\"\",\"\",①データ登録!C192)","v":""}]
[null,null,null,null,null,null,null,null,null,null,null,null,{"$f":"IF(①データ登録!A193=\"\",\"\",①データ登録!A193)","v":""},{"$f":"IF(①データ登録!B193=\"\",\"\",①データ登録!B193)","v":""},{"$f":"IF(①データ登録!C193=\"\",\"\",①データ登録!C193)","v":""}]
[null,null,null,null,null,null,null,null,null,null,null,null,{"$f":"IF(①データ登録!A194=\"\",\"\",①データ登録!A194)","v":""},{"$f":"IF(①データ登録!B194=\"\",\"\",①データ登録!B194)","v":""},{"$f":"IF(①データ登録!C194=\"\",\"\",①データ登録!C194)","v":""}]
[null,null,null,null,null,null,null,null,null,null,null,null,{"$f":"IF(①データ登録!A195=\"\",\"\",①データ登録!A195)","v":""},{"$f":"IF(①データ登録!B195=\"\",\"\",①データ登録!B195)","v":""},{"$f":"IF(①データ登録!C195=\"\",\"\",①データ登録!C195)","v":""}]
[null,null,null,null,null,null,null,null,null,null,null,null,{"$f":"IF(①データ登録!A196=\"\",\"\",①データ登録!A196)","v":""},{"$f":"IF(①データ登録!B196=\"\",\"\",①データ登録!B196)","v":""},{"$f":"IF(①データ登録!C196=\"\",\"\",①データ登録!C196)","v":""}]
[null,null,null,null,null,null,null,null,null,null,null,null,{"$f":"IF(①データ登録!A197=\"\",\"\",①データ登録!A197)","v":""},{"$f":"IF(①データ登録!B197=\"\",\"\",①データ登録!B197)","v":""},{"$f":"IF(①データ登録!C197=\"\",\"\",①データ登録!C197)","v":""}]
[null,null,null,null,null,null,null,null,null,null,null,null,{"$f":"IF(①データ登録!A198=\"\",\"\",①データ登録!A198)","v":""},{"$f":"IF(①データ登録!B198=\"\",\"\",①データ登録!B198)","v":""},{"$f":"IF(①データ登録!C198=\"\",\"\",①データ登録!C198)","v":""}]
[null,null,null,null,null,null,null,null,null,null,null,null,{"$f":"IF(①データ登録!A199=\"\",\"\",①データ登録!A199)","v":""},{"$f":"IF(①データ登録!B199=\"\",\"\",①データ登録!B199)","v":""},{"$f":"IF(①データ登録!C199=\"\",\"\",①データ登録!C199)","v":""}]
[null,null,null,null,null,null,null,null,null,null,null,null,{"$f":"IF(①データ登録!A200=\"\",\"\",①データ登録!A200)","v":""},{"$f":"IF(①データ登録!B200=\"\",\"\",①データ登録!B200)","v":""},{"$f":"IF(①データ登録!C200=\"\",\"\",①データ登録!C200)","v":""}]
[null,null,null,null,null,null,null,null,null,null,null,null,{"$f":"IF(①データ登録!A201=\"\",\"\",①データ登録!A201)","v":""},{"$f":"IF(①データ登録!B201=\"\",\"\",①データ登録!B201)","v":""},{"$f":"IF(①データ登録!C201=\"\",\"\",①データ登録!C201)","v":""}]
[null,null,null,null,null,null,null,null,null,null,null,null,{"$f":"IF(①データ登録!A202=\"\",\"\",①データ登録!A202)","v":""},{"$f":"IF(①データ登録!B202=\"\",\"\",①データ登録!B202)","v":""},{"$f":"IF(①データ登録!C202=\"\",\"\",①データ登録!C202)","v":""}]
[null,null,null,null,null,null,null,null,null,null,null,null,{"$f":"IF(①データ登録!A203=\"\",\"\",①データ登録!A203)","v":""},{"$f":"IF(①データ登録!B203=\"\",\"\",①データ登録!B203)","v":""},{"$f":"IF(①データ登録!C203=\"\",\"\",①データ登録!C203)","v":""}]
[null,null,null,null,null,null,null,null,null,null,null,null,{"$f":"IF(①データ登録!A204=\"\",\"\",①データ登録!A204)","v":""},{"$f":"IF(①データ登録!B204=\"\",\"\",①データ登録!B204)","v":""},{"$f":"IF(①データ登録!C204=\"\",\"\",①データ登録!C204)","v":""}]
[null,null,null,null,null,null,null,null,null,null,null,null,{"$f":"IF(①データ登録!A205=\"\",\"\",①データ登録!A205)","v":""},{"$f":"IF(①データ登録!B205=\"\",\"\",①データ登録!B205)","v":""},{"$f":"IF(①データ登録!C205=\"\",\"\",①データ登録!C205)","v":""}]
[null,null,null,null,null,null,null,null,null,null,null,null,{"$f":"IF(①データ登録!A206=\"\",\"\",①データ登録!A206)","v":""},{"$f":"IF(①データ登録!B206=\"\",\"\",①データ登録!B206)","v":""},{"$f":"IF(①データ登録!C206=\"\",\"\",①データ登録!C206)","v":""}]
[null,null,null,null,null,null,null,null,null,null,null,null,{"$f":"IF(①データ登録!A207=\"\",\"\",①データ登録!A207)","v":""},{"$f":"IF(①データ登録!B207=\"\",\"\",①データ登録!B207)","v":""},{"$f":"IF(①データ登録!C207=\"\",\"\",①データ登録!C207)","v":""}]
[null,null,null,null,null,null,null,null,null,null,null,null,{"$f":"IF(①データ登録!A208=\"\",\"\",①データ登録!A208)","v":""},{"$f":"IF(①データ登録!B208=\"\",\"\",①データ登録!B208)","v":""},{"$f":"IF(①データ登録!C208=\"\",\"\",①データ登録!C208)","v":""}]
[null,null,null,null,null,null,null,null,null,null,null,null,{"$f":"IF(①データ登録!A209=\"\",\"\",①データ登録!A209)","v":""},{"$f":"IF(①データ登録!B209=\"\",\"\",①データ登録!B209)","v":""},{"$f":"IF(①データ登録!C209=\"\",\"\",①データ登録!C209)","v":""}]
[null,null,null,null,null,null,null,null,null,null,null,null,{"$f":"IF(①データ登録!A210=\"\",\"\",①データ登録!A210)","v":""},{"$f":"IF(①データ登録!B210=\"\",\"\",①データ登録!B210)","v":""},{"$f":"IF(①データ登録!C210=\"\",\"\",①データ登録!C210)","v":""}]
[null,null,null,null,null,null,null,null,null,null,null,null,{"$f":"IF(①データ登録!A211=\"\",\"\",①データ登録!A211)","v":""},{"$f":"IF(①データ登録!B211=\"\",\"\",①データ登録!B211)","v":""},{"$f":"IF(①データ登録!C211=\"\",\"\",①データ登録!C211)","v":""}]
[null,null,null,null,null,null,null,null,null,null,null,null,{"$f":"IF(①データ登録!A212=\"\",\"\",①データ登録!A212)","v":""},{"$f":"IF(①データ登録!B212=\"\",\"\",①データ登録!B212)","v":""},{"$f":"IF(①データ登録!C212=\"\",\"\",①データ登録!C212)","v":""}]
[null,null,null,null,null,null,null,null,null,null,null,null,{"$f":"IF(①データ登録!A213=\"\",\"\",①データ登録!A213)","v":""},{"$f":"IF(①データ登録!B213=\"\",\"\",①データ登録!B213)","v":""},{"$f":"IF(①データ登録!C213=\"\",\"\",①データ登録!C213)","v":""}]
[null,null,null,null,null,null,null,null,null,null,null,null,{"$f":"IF(①データ登録!A214=\"\",\"\",①データ登録!A214)","v":""},{"$f":"IF(①データ登録!B214=\"\",\"\",①データ登録!B214)","v":""},{"$f":"IF(①データ登録!C214=\"\",\"\",①データ登録!C214)","v":""}]
[null,null,null,null,null,null,null,null,null,null,null,null,{"$f":"IF(①データ登録!A215=\"\",\"\",①データ登録!A215)","v":""},{"$f":"IF(①データ登録!B215=\"\",\"\",①データ登録!B215)","v":""},{"$f":"IF(①データ登録!C215=\"\",\"\",①データ登録!C215)","v":""}]
[null,null,null,null,null,null,null,null,null,null,null,null,{"$f":"IF(①データ登録!A216=\"\",\"\",①データ登録!A216)","v":""},{"$f":"IF(①データ登録!B216=\"\",\"\",①データ登録!B216)","v":""},{"$f":"IF(①データ登録!C216=\"\",\"\",①データ登録!C216)","v":""}]
[null,null,null,null,null,null,null,null,null,null,null,null,{"$f":"IF(①データ登録!A217=\"\",\"\",①データ登録!A217)","v":""},{"$f":"IF(①データ登録!B217=\"\",\"\",①データ登録!B217)","v":""},{"$f":"IF(①データ登録!C217=\"\",\"\",①データ登録!C217)","v":""}]
[null,null,null,null,null,null,null,null,null,null,null,null,{"$f":"IF(①データ登録!A218=\"\",\"\",①データ登録!A218)","v":""},{"$f":"IF(①データ登録!B218=\"\",\"\",①データ登録!B218)","v":""},{"$f":"IF(①データ登録!C218=\"\",\"\",①データ登録!C218)","v":""}]
[null,null,null,null,null,null,null,null,null,null,null,null,{"$f":"IF(①データ登録!A219=\"\",\"\",①データ登録!A219)","v":""},{"$f":"IF(①データ登録!B219=\"\",\"\",①データ登録!B219)","v":""},{"$f":"IF(①データ登録!C219=\"\",\"\",①データ登録!C219)","v":""}]
[null,null,null,null,null,null,null,null,null,null,null,null,{"$f":"IF(①データ登録!A220=\"\",\"\",①データ登録!A220)","v":""},{"$f":"IF(①データ登録!B220=\"\",\"\",①データ登録!B220)","v":""},{"$f":"IF(①データ登録!C220=\"\",\"\",①データ登録!C220)","v":""}]
[null,null,null,null,null,null,null,null,null,null,null,null,{"$f":"IF(①データ登録!A221=\"\",\"\",①データ登録!A221)","v":""},{"$f":"IF(①データ登録!B221=\"\",\"\",①データ登録!B221)","v":""},{"$f":"IF(①データ登録!C221=\"\",\"\",①データ登録!C221)","v":""}]
[null,null,null,null,null,null,null,null,null,null,null,null,{"$f":"IF(①データ登録!A222=\"\",\"\",①データ登録!A222)","v":""},{"$f":"IF(①データ登録!B222=\"\",\"\",①データ登録!B222)","v":""},{"$f":"IF(①データ登録!C222=\"\",\"\",①データ登録!C222)","v":""}]
[null,null,null,null,null,null,null,null,null,null,null,null,{"$f":"IF(①データ登録!A223=\"\",\"\",①データ登録!A223)","v":""},{"$f":"IF(①データ登録!B223=\"\",\"\",①データ登録!B223)","v":""},{"$f":"IF(①データ登録!C223=\"\",\"\",①データ登録!C223)","v":""}]
[null,null,null,null,null,null,null,null,null,null,null,null,{"$f":"IF(①データ登録!A224=\"\",\"\",①データ登録!A224)","v":""},{"$f":"IF(①データ登録!B224=\"\",\"\",①データ登録!B224)","v":""},{"$f":"IF(①データ登録!C224=\"\",\"\",①データ登録!C224)","v":""}]
[null,null,null,null,null,null,null,null,null,null,null,null,{"$f":"IF(①データ登録!A225=\"\",\"\",①データ登録!A225)","v":""},{"$f":"IF(①データ登録!B225=\"\",\"\",①データ登録!B225)","v":""},{"$f":"IF(①データ登録!C225=\"\",\"\",①データ登録!C225)","v":""}]
[null,null,null,null,null,null,null,null,null,null,null,null,{"$f":"IF(①データ登録!A226=\"\",\"\",①データ登録!A226)","v":""},{"$f":"IF(①データ登録!B226=\"\",\"\",①データ登録!B226)","v":""},{"$f":"IF(①データ登録!C226=\"\",\"\",①データ登録!C226)","v":""}]
[null,null,null,null,null,null,null,null,null,null,null,null,{"$f":"IF(①データ登録!A227=\"\",\"\",①データ登録!A227)","v":""},{"$f":"IF(①データ登録!B227=\"\",\"\",①データ登録!B227)","v":""},{"$f":"IF(①データ登録!C227=\"\",\"\",①データ登録!C227)","v":""}]
[null,null,null,null,null,null,null,null,null,null,null,null,{"$f":"IF(①データ登録!A228=\"\",\"\",①データ登録!A228)","v":""},{"$f":"IF(①データ登録!B228=\"\",\"\",①データ登録!B228)","v":""},{"$f":"IF(①データ登録!C228=\"\",\"\",①データ登録!C228)","v":""}]
[null,null,null,null,null,null,null,null,null,null,null,null,{"$f":"IF(①データ登録!A229=\"\",\"\",①データ登録!A229)","v":""},{"$f":"IF(①データ登録!B229=\"\",\"\",①データ登録!B229)","v":""},{"$f":"IF(①データ登録!C229=\"\",\"\",①データ登録!C229)","v":""}]
[null,null,null,null,null,null,null,null,null,null,null,null,{"$f":"IF(①データ登録!A230=\"\",\"\",①データ登録!A230)","v":""},{"$f":"IF(①データ登録!B230=\"\",\"\",①データ登録!B230)","v":""},{"$f":"IF(①データ登録!C230=\"\",\"\",①データ登録!C230)","v":""}]
[null,null,null,null,null,null,null,null,null,null,null,null,{"$f":"IF(①データ登録!A231=\"\",\"\",①データ登録!A231)","v":""},{"$f":"IF(①データ登録!B231=\"\",\"\",①データ登録!B231)","v":""},{"$f":"IF(①データ登録!C231=\"\",\"\",①データ登録!C231)","v":""}]
[null,null,null,null,null,null,null,null,null,null,null,null,{"$f":"IF(①データ登録!A232=\"\",\"\",①データ登録!A232)","v":""},{"$f":"IF(①データ登録!B232=\"\",\"\",①データ登録!B232)","v":""},{"$f":"IF(①データ登録!C232=\"\",\"\",①データ登録!C232)","v":""}]
[null,null,null,null,null,null,null,null,null,null,null,null,{"$f":"IF(①データ登録!A233=\"\",\"\",①データ登録!A233)","v":""},{"$f":"IF(①データ登録!B233=\"\",\"\",①データ登録!B233)","v":""},{"$f":"IF(①データ登録!C233=\"\",\"\",①データ登録!C233)","v":""}]
[null,null,null,null,null,null,null,null,null,null,null,null,{"$f":"IF(①データ登録!A234=\"\",\"\",①データ登録!A234)","v":""},{"$f":"IF(①データ登録!B234=\"\",\"\",①データ登録!B234)","v":""},{"$f":"IF(①データ登録!C234=\"\",\"\",①データ登録!C234)","v":""}]
[null,null,null,null,null,null,null,null,null,null,null,null,{"$f":"IF(①データ登録!A235=\"\",\"\",①データ登録!A235)","v":""},{"$f":"IF(①データ登録!B235=\"\",\"\",①データ登録!B235)","v":""},{"$f":"IF(①データ登録!C235=\"\",\"\",①データ登録!C235)","v":""}]
[null,null,null,null,null,null,null,null,null,null,null,null,{"$f":"IF(①データ登録!A236=\"\",\"\",①データ登録!A236)","v":""},{"$f":"IF(①データ登録!B236=\"\",\"\",①データ登録!B236)","v":""},{"$f":"IF(①データ登録!C236=\"\",\"\",①データ登録!C236)","v":""}]
[null,null,null,null,null,null,null,null,null,null,null,null,{"$f":"IF(①データ登録!A237=\"\",\"\",①データ登録!A237)","v":""},{"$f":"IF(①データ登録!B237=\"\",\"\",①データ登録!B237)","v":""},{"$f":"IF(①データ登録!C237=\"\",\"\",①データ登録!C237)","v":""}]
[null,null,null,null,null,null,null,null,null,null,null,null,{"$f":"IF(①データ登録!A238=\"\",\"\",①データ登録!A238)","v":""},{"$f":"IF(①データ登録!B238=\"\",\"\",①データ登録!B238)","v":""},{"$f":"IF(①データ登録!C238=\"\",\"\",①データ登録!C238)","v":""}]
[null,null,null,null,null,null,null,null,null,null,null,null,{"$f":"IF(①データ登録!A239=\"\",\"\",①データ登録!A239)","v":""},{"$f":"IF(①データ登録!B239=\"\",\"\",①データ登録!B239)","v":""},{"$f":"IF(①データ登録!C239=\"\",\"\",①データ登録!C239)","v":""}]
[null,null,null,null,null,null,null,null,null,null,null,null,{"$f":"IF(①データ登録!A240=\"\",\"\",①データ登録!A240)","v":""},{"$f":"IF(①データ登録!B240=\"\",\"\",①データ登録!B240)","v":""},{"$f":"IF(①データ登録!C240=\"\",\"\",①データ登録!C240)","v":""}]
[null,null,null,null,null,null,null,null,null,null,null,null,{"$f":"IF(①データ登録!A241=\"\",\"\",①データ登録!A241)","v":""},{"$f":"IF(①データ登録!B241=\"\",\"\",①データ登録!B241)","v":""},{"$f":"IF(①データ登録!C241=\"\",\"\",①データ登録!C241)","v":""}]
[null,null,null,null,null,null,null,null,null,null,null,null,{"$f":"IF(①データ登録!A242=\"\",\"\",①データ登録!A242)","v":""},{"$f":"IF(①データ登録!B242=\"\",\"\",①データ登録!B242)","v":""},{"$f":"IF(①データ登録!C242=\"\",\"\",①データ登録!C242)","v":""}]
[null,null,null,null,null,null,null,null,null,null,null,null,{"$f":"IF(①データ登録!A243=\"\",\"\",①データ登録!A243)","v":""},{"$f":"IF(①データ登録!B243=\"\",\"\",①データ登録!B243)","v":""},{"$f":"IF(①データ登録!C243=\"\",\"\",①データ登録!C243)","v":""}]
[null,null,null,null,null,null,null,null,null,null,null,null,{"$f":"IF(①データ登録!A244=\"\",\"\",①データ登録!A244)","v":""},{"$f":"IF(①データ登録!B244=\"\",\"\",①データ登録!B244)","v":""},{"$f":"IF(①データ登録!C244=\"\",\"\",①データ登録!C244)","v":""}]
[null,null,null,null,null,null,null,null,null,null,null,null,{"$f":"IF(①データ登録!A245=\"\",\"\",①データ登録!A245)","v":""},{"$f":"IF(①データ登録!B245=\"\",\"\",①データ登録!B245)","v":""},{"$f":"IF(①データ登録!C245=\"\",\"\",①データ登録!C245)","v":""}]
[null,null,null,null,null,null,null,null,null,null,null,null,{"$f":"IF(①データ登録!A246=\"\",\"\",①データ登録!A246)","v":""},{"$f":"IF(①データ登録!B246=\"\",\"\",①データ登録!B246)","v":""},{"$f":"IF(①データ登録!C246=\"\",\"\",①データ登録!C246)","v":""}]
[null,null,null,null,null,null,null,null,null,null,null,null,{"$f":"IF(①データ登録!A247=\"\",\"\",①データ登録!A247)","v":""},{"$f":"IF(①データ登録!B247=\"\",\"\",①データ登録!B247)","v":""},{"$f":"IF(①データ登録!C247=\"\",\"\",①データ登録!C247)","v":""}]
[null,null,null,null,null,null,null,null,null,null,null,null,{"$f":"IF(①データ登録!A248=\"\",\"\",①データ登録!A248)","v":""},{"$f":"IF(①データ登録!B248=\"\",\"\",①データ登録!B248)","v":""},{"$f":"IF(①データ登録!C248=\"\",\"\",①データ登録!C248)","v":""}]
[null,null,null,null,null,null,null,null,null,null,null,null,{"$f":"IF(①データ登録!A249=\"\",\"\",①データ登録!A249)","v":""},{"$f":"IF(①データ登録!B249=\"\",\"\",①データ登録!B249)","v":""},{"$f":"IF(①データ登録!C249=\"\",\"\",①データ登録!C249)","v":""}]
[null,null,null,null,null,null,null,null,null,null,null,null,{"$f":"IF(①データ登録!A250=\"\",\"\",①データ登録!A250)","v":""},{"$f":"IF(①データ登録!B250=\"\",\"\",①データ登録!B250)","v":""},{"$f":"IF(①データ登録!C250=\"\",\"\",①データ登録!C250)","v":""}]
[null,null,null,null,null,null,null,null,null,null,null,null,{"$f":"IF(①データ登録!A251=\"\",\"\",①データ登録!A251)","v":""},{"$f":"IF(①データ登録!B251=\"\",\"\",①データ登録!B251)","v":""},{"$f":"IF(①データ登録!C251=\"\",\"\",①データ登録!C251)","v":""}]
[null,null,null,null,null,null,null,null,null,null,null,null,{"$f":"IF(①データ登録!A252=\"\",\"\",①データ登録!A252)","v":""},{"$f":"IF(①データ登録!B252=\"\",\"\",①データ登録!B252)","v":""},{"$f":"IF(①データ登録!C252=\"\",\"\",①データ登録!C252)","v":""}]
[null,null,null,null,null,null,null,null,null,null,null,null,{"$f":"IF(①データ登録!A253=\"\",\"\",①データ登録!A253)","v":""},{"$f":"IF(①データ登録!B253=\"\",\"\",①データ登録!B253)","v":""},{"$f":"IF(①データ登録!C253=\"\",\"\",①データ登録!C253)","v":""}]
[null,null,null,null,null,null,null,null,null,null,null,null,{"$f":"IF(①データ登録!A254=\"\",\"\",①データ登録!A254)","v":""},{"$f":"IF(①データ登録!B254=\"\",\"\",①データ登録!B254)","v":""},{"$f":"IF(①データ登録!C254=\"\",\"\",①データ登録!C254)","v":""}]
[null,null,null,null,null,null,null,null,null,null,null,null,{"$f":"IF(①データ登録!A255=\"\",\"\",①データ登録!A255)","v":""},{"$f":"IF(①データ登録!B255=\"\",\"\",①データ登録!B255)","v":""},{"$f":"IF(①データ登録!C255=\"\",\"\",①データ登録!C255)","v":""}]
[null,null,null,null,null,null,null,null,null,null,null,null,{"$f":"IF(①データ登録!A256=\"\",\"\",①データ登録!A256)","v":""},{"$f":"IF(①データ登録!B256=\"\",\"\",①データ登録!B256)","v":""},{"$f":"IF(①データ登録!C256=\"\",\"\",①データ登録!C256)","v":""}]
[null,null,null,null,null,null,null,null,null,null,null,null,{"$f":"IF(①データ登録!A257=\"\",\"\",①データ登録!A257)","v":""},{"$f":"IF(①データ登録!B257=\"\",\"\",①データ登録!B257)","v":""},{"$f":"IF(①データ登録!C257=\"\",\"\",①データ登録!C257)","v":""}]
[null,null,null,null,null,null,null,null,null,null,null,null,{"$f":"IF(①データ登録!A258=\"\",\"\",①データ登録!A258)","v":""},{"$f":"IF(①データ登録!B258=\"\",\"\",①データ登録!B258)","v":""},{"$f":"IF(①データ登録!C258=\"\",\"\",①データ登録!C258)","v":""}]
[null,null,null,null,null,null,null,null,null,null,null,null,{"$f":"IF(①データ登録!A259=\"\",\"\",①データ登録!A259)","v":""},{"$f":"IF(①データ登録!B259=\"\",\"\",①データ登録!B259)","v":""},{"$f":"IF(①データ登録!C259=\"\",\"\",①データ登録!C259)","v":""}]
[null,null,null,null,null,null,null,null,null,null,null,null,{"$f":"IF(①データ登録!A260=\"\",\"\",①データ登録!A260)","v":""},{"$f":"IF(①データ登録!B260=\"\",\"\",①データ登録!B260)","v":""},{"$f":"IF(①データ登録!C260=\"\",\"\",①データ登録!C260)","v":""}]
[null,null,null,null,null,null,null,null,null,null,null,null,{"$f":"IF(①データ登録!A261=\"\",\"\",①データ登録!A261)","v":""},{"$f":"IF(①データ登録!B261=\"\",\"\",①データ登録!B261)","v":""},{"$f":"IF(①データ登録!C261=\"\",\"\",①データ登録!C261)","v":""}]
[null,null,null,null,null,null,null,null,null,null,null,null,{"$f":"IF(①データ登録!A262=\"\",\"\",①データ登録!A262)","v":""},{"$f":"IF(①データ登録!B262=\"\",\"\",①データ登録!B262)","v":""},{"$f":"IF(①データ登録!C262=\"\",\"\",①データ登録!C262)","v":""}]
[null,null,null,null,null,null,null,null,null,null,null,null,{"$f":"IF(①データ登録!A263=\"\",\"\",①データ登録!A263)","v":""},{"$f":"IF(①データ登録!B263=\"\",\"\",①データ登録!B263)","v":""},{"$f":"IF(①データ登録!C263=\"\",\"\",①データ登録!C263)","v":""}]
[null,null,null,null,null,null,null,null,null,null,null,null,{"$f":"IF(①データ登録!A264=\"\",\"\",①データ登録!A264)","v":""},{"$f":"IF(①データ登録!B264=\"\",\"\",①データ登録!B264)","v":""},{"$f":"IF(①データ登録!C264=\"\",\"\",①データ登録!C264)","v":""}]
[null,null,null,null,null,null,null,null,null,null,null,null,{"$f":"IF(①データ登録!A265=\"\",\"\",①データ登録!A265)","v":""},{"$f":"IF(①データ登録!B265=\"\",\"\",①データ登録!B265)","v":""},{"$f":"IF(①データ登録!C265=\"\",\"\",①データ登録!C265)","v":""}]
[null,null,null,null,null,null,null,null,null,null,null,null,{"$f":"IF(①データ登録!A266=\"\",\"\",①データ登録!A266)","v":""},{"$f":"IF(①データ登録!B266=\"\",\"\",①データ登録!B266)","v":""},{"$f":"IF(①データ登録!C266=\"\",\"\",①データ登録!C266)","v":""}]
[null,null,null,null,null,null,null,null,null,null,null,null,{"$f":"IF(①データ登録!A267=\"\",\"\",①データ登録!A267)","v":""},{"$f":"IF(①データ登録!B267=\"\",\"\",①データ登録!B267)","v":""},{"$f":"IF(①データ登録!C267=\"\",\"\",①データ登録!C267)","v":""}]
[null,null,null,null,null,null,null,null,null,null,null,null,{"$f":"IF(①データ登録!A268=\"\",\"\",①データ登録!A268)","v":""},{"$f":"IF(①データ登録!B268=\"\",\"\",①データ登録!B268)","v":""},{"$f":"IF(①データ登録!C268=\"\",\"\",①データ登録!C268)","v":""}]
[null,null,null,null,null,null,null,null,null,null,null,null,{"$f":"IF(①データ登録!A269=\"\",\"\",①データ登録!A269)","v":""},{"$f":"IF(①データ登録!B269=\"\",\"\",①データ登録!B269)","v":""},{"$f":"IF(①データ登録!C269=\"\",\"\",①データ登録!C269)","v":""}]
[null,null,null,null,null,null,null,null,null,null,null,null,{"$f":"IF(①データ登録!A270=\"\",\"\",①データ登録!A270)","v":""},{"$f":"IF(①データ登録!B270=\"\",\"\",①データ登録!B270)","v":""},{"$f":"IF(①データ登録!C270=\"\",\"\",①データ登録!C270)","v":""}]
[null,null,null,null,null,null,null,null,null,null,null,null,{"$f":"IF(①データ登録!A271=\"\",\"\",①データ登録!A271)","v":""},{"$f":"IF(①データ登録!B271=\"\",\"\",①データ登録!B271)","v":""},{"$f":"IF(①データ登録!C271=\"\",\"\",①データ登録!C271)","v":""}]
[null,null,null,null,null,null,null,null,null,null,null,null,{"$f":"IF(①データ登録!A272=\"\",\"\",①データ登録!A272)","v":""},{"$f":"IF(①データ登録!B272=\"\",\"\",①データ登録!B272)","v":""},{"$f":"IF(①データ登録!C272=\"\",\"\",①データ登録!C272)","v":""}]
[null,null,null,null,null,null,null,null,null,null,null,null,{"$f":"IF(①データ登録!A273=\"\",\"\",①データ登録!A273)","v":""},{"$f":"IF(①データ登録!B273=\"\",\"\",①データ登録!B273)","v":""},{"$f":"IF(①データ登録!C273=\"\",\"\",①データ登録!C273)","v":""}]
[null,null,null,null,null,null,null,null,null,null,null,null,{"$f":"IF(①データ登録!A274=\"\",\"\",①データ登録!A274)","v":""},{"$f":"IF(①データ登録!B274=\"\",\"\",①データ登録!B274)","v":""},{"$f":"IF(①データ登録!C274=\"\",\"\",①データ登録!C274)","v":""}]
[null,null,null,null,null,null,null,null,null,null,null,null,{"$f":"IF(①データ登録!A275=\"\",\"\",①データ登録!A275)","v":""},{"$f":"IF(①データ登録!B275=\"\",\"\",①データ登録!B275)","v":""},{"$f":"IF(①データ登録!C275=\"\",\"\",①データ登録!C275)","v":""}]
[null,null,null,null,null,null,null,null,null,null,null,null,{"$f":"IF(①データ登録!A276=\"\",\"\",①データ登録!A276)","v":""},{"$f":"IF(①データ登録!B276=\"\",\"\",①データ登録!B276)","v":""},{"$f":"IF(①データ登録!C276=\"\",\"\",①データ登録!C276)","v":""}]
[null,null,null,null,null,null,null,null,null,null,null,null,{"$f":"IF(①データ登録!A277=\"\",\"\",①データ登録!A277)","v":""},{"$f":"IF(①データ登録!B277=\"\",\"\",①データ登録!B277)","v":""},{"$f":"IF(①データ登録!C277=\"\",\"\",①データ登録!C277)","v":""}]
[null,null,null,null,null,null,null,null,null,null,null,null,{"$f":"IF(①データ登録!A278=\"\",\"\",①データ登録!A278)","v":""},{"$f":"IF(①データ登録!B278=\"\",\"\",①データ登録!B278)","v":""},{"$f":"IF(①データ登録!C278=\"\",\"\",①データ登録!C278)","v":""}]
[null,null,null,null,null,null,null,null,null,null,null,null,{"$f":"IF(①データ登録!A279=\"\",\"\",①データ登録!A279)","v":""},{"$f":"IF(①データ登録!B279=\"\",\"\",①データ登録!B279)","v":""},{"$f":"IF(①データ登録!C279=\"\",\"\",①データ登録!C279)","v":""}]
[null,null,null,null,null,null,null,null,null,null,null,null,{"$f":"IF(①データ登録!A280=\"\",\"\",①データ登録!A280)","v":""},{"$f":"IF(①データ登録!B280=\"\",\"\",①データ登録!B280)","v":""},{"$f":"IF(①データ登録!C280=\"\",\"\",①データ登録!C280)","v":""}]
[null,null,null,null,null,null,null,null,null,null,null,null,{"$f":"IF(①データ登録!A281=\"\",\"\",①データ登録!A281)","v":""},{"$f":"IF(①データ登録!B281=\"\",\"\",①データ登録!B281)","v":""},{"$f":"IF(①データ登録!C281=\"\",\"\",①データ登録!C281)","v":""}]
[null,null,null,null,null,null,null,null,null,null,null,null,{"$f":"IF(①データ登録!A282=\"\",\"\",①データ登録!A282)","v":""},{"$f":"IF(①データ登録!B282=\"\",\"\",①データ登録!B282)","v":""},{"$f":"IF(①データ登録!C282=\"\",\"\",①データ登録!C282)","v":""}]
[null,null,null,null,null,null,null,null,null,null,null,null,{"$f":"IF(①データ登録!A283=\"\",\"\",①データ登録!A283)","v":""},{"$f":"IF(①データ登録!B283=\"\",\"\",①データ登録!B283)","v":""},{"$f":"IF(①データ登録!C283=\"\",\"\",①データ登録!C283)","v":""}]
[null,null,null,null,null,null,null,null,null,null,null,null,{"$f":"IF(①データ登録!A284=\"\",\"\",①データ登録!A284)","v":""},{"$f":"IF(①データ登録!B284=\"\",\"\",①データ登録!B284)","v":""},{"$f":"IF(①データ登録!C284=\"\",\"\",①データ登録!C284)","v":""}]
[null,null,null,null,null,null,null,null,null,null,null,null,{"$f":"IF(①データ登録!A285=\"\",\"\",①データ登録!A285)","v":""},{"$f":"IF(①データ登録!B285=\"\",\"\",①データ登録!B285)","v":""},{"$f":"IF(①データ登録!C285=\"\",\"\",①データ登録!C285)","v":""}]
[null,null,null,null,null,null,null,null,null,null,null,null,{"$f":"IF(①データ登録!A286=\"\",\"\",①データ登録!A286)","v":""},{"$f":"IF(①データ登録!B286=\"\",\"\",①データ登録!B286)","v":""},{"$f":"IF(①データ登録!C286=\"\",\"\",①データ登録!C286)","v":""}]
[null,null,null,null,null,null,null,null,null,null,null,null,{"$f":"IF(①データ登録!A287=\"\",\"\",①データ登録!A287)","v":""},{"$f":"IF(①データ登録!B287=\"\",\"\",①データ登録!B287)","v":""},{"$f":"IF(①データ登録!C287=\"\",\"\",①データ登録!C287)","v":""}]
[null,null,null,null,null,null,null,null,null,null,null,null,{"$f":"IF(①データ登録!A288=\"\",\"\",①データ登録!A288)","v":""},{"$f":"IF(①データ登録!B288=\"\",\"\",①データ登録!B288)","v":""},{"$f":"IF(①データ登録!C288=\"\",\"\",①データ登録!C288)","v":""}]
[null,null,null,null,null,null,null,null,null,null,null,null,{"$f":"IF(①データ登録!A289=\"\",\"\",①データ登録!A289)","v":""},{"$f":"IF(①データ登録!B289=\"\",\"\",①データ登録!B289)","v":""},{"$f":"IF(①データ登録!C289=\"\",\"\",①データ登録!C289)","v":""}]
[null,null,null,null,null,null,null,null,null,null,null,null,{"$f":"IF(①データ登録!A290=\"\",\"\",①データ登録!A290)","v":""},{"$f":"IF(①データ登録!B290=\"\",\"\",①データ登録!B290)","v":""},{"$f":"IF(①データ登録!C290=\"\",\"\",①データ登録!C290)","v":""}]
[null,null,null,null,null,null,null,null,null,null,null,null,{"$f":"IF(①データ登録!A291=\"\",\"\",①データ登録!A291)","v":""},{"$f":"IF(①データ登録!B291=\"\",\"\",①データ登録!B291)","v":""},{"$f":"IF(①データ登録!C291=\"\",\"\",①データ登録!C291)","v":""}]
[null,null,null,null,null,null,null,null,null,null,null,null,{"$f":"IF(①データ登録!A292=\"\",\"\",①データ登録!A292)","v":""},{"$f":"IF(①データ登録!B292=\"\",\"\",①データ登録!B292)","v":""},{"$f":"IF(①データ登録!C292=\"\",\"\",①データ登録!C292)","v":""}]
[null,null,null,null,null,null,null,null,null,null,null,null,{"$f":"IF(①データ登録!A293=\"\",\"\",①データ登録!A293)","v":""},{"$f":"IF(①データ登録!B293=\"\",\"\",①データ登録!B293)","v":""},{"$f":"IF(①データ登録!C293=\"\",\"\",①データ登録!C293)","v":""}]
[null,null,null,null,null,null,null,null,null,null,null,null,{"$f":"IF(①データ登録!A294=\"\",\"\",①データ登録!A294)","v":""},{"$f":"IF(①データ登録!B294=\"\",\"\",①データ登録!B294)","v":""},{"$f":"IF(①データ登録!C294=\"\",\"\",①データ登録!C294)","v":""}]
[null,null,null,null,null,null,null,null,null,null,null,null,{"$f":"IF(①データ登録!A295=\"\",\"\",①データ登録!A295)","v":""},{"$f":"IF(①データ登録!B295=\"\",\"\",①データ登録!B295)","v":""},{"$f":"IF(①データ登録!C295=\"\",\"\",①データ登録!C295)","v":""}]
[null,null,null,null,null,null,null,null,null,null,null,null,{"$f":"IF(①データ登録!A296=\"\",\"\",①データ登録!A296)","v":""},{"$f":"IF(①データ登録!B296=\"\",\"\",①データ登録!B296)","v":""},{"$f":"IF(①データ登録!C296=\"\",\"\",①データ登録!C296)","v":""}]
[null,null,null,null,null,null,null,null,null,null,null,null,{"$f":"IF(①データ登録!A297=\"\",\"\",①データ登録!A297)","v":""},{"$f":"IF(①データ登録!B297=\"\",\"\",①データ登録!B297)","v":""},{"$f":"IF(①データ登録!C297=\"\",\"\",①データ登録!C297)","v":""}]
[null,null,null,null,null,null,null,null,null,null,null,null,{"$f":"IF(①データ登録!A298=\"\",\"\",①データ登録!A298)","v":""},{"$f":"IF(①データ登録!B298=\"\",\"\",①データ登録!B298)","v":""},{"$f":"IF(①データ登録!C298=\"\",\"\",①データ登録!C298)","v":""}]
[null,null,null,null,null,null,null,null,null,null,null,null,{"$f":"IF(①データ登録!A299=\"\",\"\",①データ登録!A299)","v":""},{"$f":"IF(①データ登録!B299=\"\",\"\",①データ登録!B299)","v":""},{"$f":"IF(①データ登録!C299=\"\",\"\",①データ登録!C299)","v":""}]
[null,null,null,null,null,null,null,null,null,null,null,null,{"$f":"IF(①データ登録!A300=\"\",\"\",①データ登録!A300)","v":""},{"$f":"IF(①データ登録!B300=\"\",\"\",①データ登録!B300)","v":""},{"$f":"IF(①データ登録!C300=\"\",\"\",①データ登録!C300)","v":""}]
[null,null,null,null,null,null,null,null,null,null,null,null,{"$f":"IF(①データ登録!A301=\"\",\"\",①データ登録!A301)","v":""},{"$f":"IF(①データ登録!B301=\"\",\"\",①データ登録!B301)","v":""},{"$f":"IF(①データ登録!C301=\"\",\"\",①データ登録!C301)","v":""}]
[null,null,null,null,null,null,null,null,null,null,null,null,{"$f":"IF(①データ登録!A302=\"\",\"\",①データ登録!A302)","v":""},{"$f":"IF(①データ登録!B302=\"\",\"\",①データ登録!B302)","v":""},{"$f":"IF(①データ登録!C302=\"\",\"\",①データ登録!C302)","v":""}]
[null,null,null,null,null,null,null,null,null,null,null,null,{"$f":"IF(①データ登録!A303=\"\",\"\",①データ登録!A303)","v":""},{"$f":"IF(①データ登録!B303=\"\",\"\",①データ登録!B303)","v":""},{"$f":"IF(①データ登録!C303=\"\",\"\",①データ登録!C303)","v":""}]
[null,null,null,null,null,null,null,null,null,null,null,null,{"$f":"IF(①データ登録!A304=\"\",\"\",①データ登録!A304)","v":""},{"$f":"IF(①データ登録!B304=\"\",\"\",①データ登録!B304)","v":""},{"$f":"IF(①データ登録!C304=\"\",\"\",①データ登録!C304)","v":""}]
[null,null,null,null,null,null,null,null,null,null,null,null,{"$f":"IF(①データ登録!A305=\"\",\"\",①データ登録!A305)","v":""},{"$f":"IF(①データ登録!B305=\"\",\"\",①データ登録!B305)","v":""},{"$f":"IF(①データ登録!C305=\"\",\"\",①データ登録!C305)","v":""}]
[null,null,null,null,null,null,null,null,null,null,null,null,{"$f":"IF(①データ登録!A306=\"\",\"\",①データ登録!A306)","v":""},{"$f":"IF(①データ登録!B306=\"\",\"\",①データ登録!B306)","v":""},{"$f":"IF(①データ登録!C306=\"\",\"\",①データ登録!C306)","v":""}]
[null,null,null,null,null,null,null,null,null,null,null,null,{"$f":"IF(①データ登録!A307=\"\",\"\",①データ登録!A307)","v":""},{"$f":"IF(①データ登録!B307=\"\",\"\",①データ登録!B307)","v":""},{"$f":"IF(①データ登録!C307=\"\",\"\",①データ登録!C307)","v":""}]
[null,null,null,null,null,null,null,null,null,null,null,null,{"$f":"IF(①データ登録!A308=\"\",\"\",①データ登録!A308)","v":""},{"$f":"IF(①データ登録!B308=\"\",\"\",①データ登録!B308)","v":""},{"$f":"IF(①データ登録!C308=\"\",\"\",①データ登録!C308)","v":""}]
[null,null,null,null,null,null,null,null,null,null,null,null,{"$f":"IF(①データ登録!A309=\"\",\"\",①データ登録!A309)","v":""},{"$f":"IF(①データ登録!B309=\"\",\"\",①データ登録!B309)","v":""},{"$f":"IF(①データ登録!C309=\"\",\"\",①データ登録!C309)","v":""}]
[null,null,null,null,null,null,null,null,null,null,null,null,{"$f":"IF(①データ登録!A310=\"\",\"\",①データ登録!A310)","v":""},{"$f":"IF(①データ登録!B310=\"\",\"\",①データ登録!B310)","v":""},{"$f":"IF(①データ登録!C310=\"\",\"\",①データ登録!C310)","v":""}]
[null,null,null,null,null,null,null,null,null,null,null,null,{"$f":"IF(①データ登録!A311=\"\",\"\",①データ登録!A311)","v":""},{"$f":"IF(①データ登録!B311=\"\",\"\",①データ登録!B311)","v":""},{"$f":"IF(①データ登録!C311=\"\",\"\",①データ登録!C311)","v":""}]
[null,null,null,null,null,null,null,null,null,null,null,null,{"$f":"IF(①データ登録!A312=\"\",\"\",①データ登録!A312)","v":""},{"$f":"IF(①データ登録!B312=\"\",\"\",①データ登録!B312)","v":""},{"$f":"IF(①データ登録!C312=\"\",\"\",①データ登録!C312)","v":""}]
[null,null,null,null,null,null,null,null,null,null,null,null,{"$f":"IF(①データ登録!A313=\"\",\"\",①データ登録!A313)","v":""},{"$f":"IF(①データ登録!B313=\"\",\"\",①データ登録!B313)","v":""},{"$f":"IF(①データ登録!C313=\"\",\"\",①データ登録!C313)","v":""}]
[null,null,null,null,null,null,null,null,null,null,null,null,{"$f":"IF(①データ登録!A314=\"\",\"\",①データ登録!A314)","v":""},{"$f":"IF(①データ登録!B314=\"\",\"\",①データ登録!B314)","v":""},{"$f":"IF(①データ登録!C314=\"\",\"\",①データ登録!C314)","v":""}]
[null,null,null,null,null,null,null,null,null,null,null,null,{"$f":"IF(①データ登録!A315=\"\",\"\",①データ登録!A315)","v":""},{"$f":"IF(①データ登録!B315=\"\",\"\",①データ登録!B315)","v":""},{"$f":"IF(①データ登録!C315=\"\",\"\",①データ登録!C315)","v":""}]
[null,null,null,null,null,null,null,null,null,null,null,null,{"$f":"IF(①データ登録!A316=\"\",\"\",①データ登録!A316)","v":""},{"$f":"IF(①データ登録!B316=\"\",\"\",①データ登録!B316)","v":""},{"$f":"IF(①データ登録!C316=\"\",\"\",①データ登録!C316)","v":""}]
[null,null,null,null,null,null,null,null,null,null,null,null,{"$f":"IF(①データ登録!A317=\"\",\"\",①データ登録!A317)","v":""},{"$f":"IF(①データ登録!B317=\"\",\"\",①データ登録!B317)","v":""},{"$f":"IF(①データ登録!C317=\"\",\"\",①データ登録!C317)","v":""}]
[null,null,null,null,null,null,null,null,null,null,null,null,{"$f":"IF(①データ登録!A318=\"\",\"\",①データ登録!A318)","v":""},{"$f":"IF(①データ登録!B318=\"\",\"\",①データ登録!B318)","v":""},{"$f":"IF(①データ登録!C318=\"\",\"\",①データ登録!C318)","v":""}]
[null,null,null,null,null,null,null,null,null,null,null,null,{"$f":"IF(①データ登録!A319=\"\",\"\",①データ登録!A319)","v":""},{"$f":"IF(①データ登録!B319=\"\",\"\",①データ登録!B319)","v":""},{"$f":"IF(①データ登録!C319=\"\",\"\",①データ登録!C319)","v":""}]
[null,null,null,null,null,null,null,null,null,null,null,null,{"$f":"IF(①データ登録!A320=\"\",\"\",①データ登録!A320)","v":""},{"$f":"IF(①データ登録!B320=\"\",\"\",①データ登録!B320)","v":""},{"$f":"IF(①データ登録!C320=\"\",\"\",①データ登録!C320)","v":""}]
[null,null,null,null,null,null,null,null,null,null,null,null,{"$f":"IF(①データ登録!A321=\"\",\"\",①データ登録!A321)","v":""},{"$f":"IF(①データ登録!B321=\"\",\"\",①データ登録!B321)","v":""},{"$f":"IF(①データ登録!C321=\"\",\"\",①データ登録!C321)","v":""}]
[null,null,null,null,null,null,null,null,null,null,null,null,{"$f":"IF(①データ登録!A322=\"\",\"\",①データ登録!A322)","v":""},{"$f":"IF(①データ登録!B322=\"\",\"\",①データ登録!B322)","v":""},{"$f":"IF(①データ登録!C322=\"\",\"\",①データ登録!C322)","v":""}]
[null,null,null,null,null,null,null,null,null,null,null,null,{"$f":"IF(①データ登録!A323=\"\",\"\",①データ登録!A323)","v":""},{"$f":"IF(①データ登録!B323=\"\",\"\",①データ登録!B323)","v":""},{"$f":"IF(①データ登録!C323=\"\",\"\",①データ登録!C323)","v":""}]
[null,null,null,null,null,null,null,null,null,null,null,null,{"$f":"IF(①データ登録!A324=\"\",\"\",①データ登録!A324)","v":""},{"$f":"IF(①データ登録!B324=\"\",\"\",①データ登録!B324)","v":""},{"$f":"IF(①データ登録!C324=\"\",\"\",①データ登録!C324)","v":""}]
[null,null,null,null,null,null,null,null,null,null,null,null,{"$f":"IF(①データ登録!A325=\"\",\"\",①データ登録!A325)","v":""},{"$f":"IF(①データ登録!B325=\"\",\"\",①データ登録!B325)","v":""},{"$f":"IF(①データ登録!C325=\"\",\"\",①データ登録!C325)","v":""}]
[null,null,null,null,null,null,null,null,null,null,null,null,{"$f":"IF(①データ登録!A326=\"\",\"\",①データ登録!A326)","v":""},{"$f":"IF(①データ登録!B326=\"\",\"\",①データ登録!B326)","v":""},{"$f":"IF(①データ登録!C326=\"\",\"\",①データ登録!C326)","v":""}]
[null,null,null,null,null,null,null,null,null,null,null,null,{"$f":"IF(①データ登録!A327=\"\",\"\",①データ登録!A327)","v":""},{"$f":"IF(①データ登録!B327=\"\",\"\",①データ登録!B327)","v":""},{"$f":"IF(①データ登録!C327=\"\",\"\",①データ登録!C327)","v":""}]
[null,null,null,null,null,null,null,null,null,null,null,null,{"$f":"IF(①データ登録!A328=\"\",\"\",①データ登録!A328)","v":""},{"$f":"IF(①データ登録!B328=\"\",\"\",①データ登録!B328)","v":""},{"$f":"IF(①データ登録!C328=\"\",\"\",①データ登録!C328)","v":""}]
[null,null,null,null,null,null,null,null,null,null,null,null,{"$f":"IF(①データ登録!A329=\"\",\"\",①データ登録!A329)","v":""},{"$f":"IF(①データ登録!B329=\"\",\"\",①データ登録!B329)","v":""},{"$f":"IF(①データ登録!C329=\"\",\"\",①データ登録!C329)","v":""}]
[null,null,null,null,null,null,null,null,null,null,null,null,{"$f":"IF(①データ登録!A330=\"\",\"\",①データ登録!A330)","v":""},{"$f":"IF(①データ登録!B330=\"\",\"\",①データ登録!B330)","v":""},{"$f":"IF(①データ登録!C330=\"\",\"\",①データ登録!C330)","v":""}]
[null,null,null,null,null,null,null,null,null,null,null,null,{"$f":"IF(①データ登録!A331=\"\",\"\",①データ登録!A331)","v":""},{"$f":"IF(①データ登録!B331=\"\",\"\",①データ登録!B331)","v":""},{"$f":"IF(①データ登録!C331=\"\",\"\",①データ登録!C331)","v":""}]
[null,null,null,null,null,null,null,null,null,null,null,null,{"$f":"IF(①データ登録!A332=\"\",\"\",①データ登録!A332)","v":""},{"$f":"IF(①データ登録!B332=\"\",\"\",①データ登録!B332)","v":""},{"$f":"IF(①データ登録!C332=\"\",\"\",①データ登録!C332)","v":""}]
[null,null,null,null,null,null,null,null,null,null,null,null,{"$f":"IF(①データ登録!A333=\"\",\"\",①データ登録!A333)","v":""},{"$f":"IF(①データ登録!B333=\"\",\"\",①データ登録!B333)","v":""},{"$f":"IF(①データ登録!C333=\"\",\"\",①データ登録!C333)","v":""}]
[null,null,null,null,null,null,null,null,null,null,null,null,{"$f":"IF(①データ登録!A334=\"\",\"\",①データ登録!A334)","v":""},{"$f":"IF(①データ登録!B334=\"\",\"\",①データ登録!B334)","v":""},{"$f":"IF(①データ登録!C334=\"\",\"\",①データ登録!C334)","v":""}]
[null,null,null,null,null,null,null,null,null,null,null,null,{"$f":"IF(①データ登録!A335=\"\",\"\",①データ登録!A335)","v":""},{"$f":"IF(①データ登録!B335=\"\",\"\",①データ登録!B335)","v":""},{"$f":"IF(①データ登録!C335=\"\",\"\",①データ登録!C335)","v":""}]
[null,null,null,null,null,null,null,null,null,null,null,null,{"$f":"IF(①データ登録!A336=\"\",\"\",①データ登録!A336)","v":""},{"$f":"IF(①データ登録!B336=\"\",\"\",①データ登録!B336)","v":""},{"$f":"IF(①データ登録!C336=\"\",\"\",①データ登録!C336)","v":""}]
[null,null,null,null,null,null,null,null,null,null,null,null,{"$f":"IF(①データ登録!A337=\"\",\"\",①データ登録!A337)","v":""},{"$f":"IF(①データ登録!B337=\"\",\"\",①データ登録!B337)","v":""},{"$f":"IF(①データ登録!C337=\"\",\"\",①データ登録!C337)","v":""}]
[null,null,null,null,null,null,null,null,null,null,null,null,{"$f":"IF(①データ登録!A338=\"\",\"\",①データ登録!A338)","v":""},{"$f":"IF(①データ登録!B338=\"\",\"\",①データ登録!B338)","v":""},{"$f":"IF(①データ登録!C338=\"\",\"\",①データ登録!C338)","v":""}]
[null,null,null,null,null,null,null,null,null,null,null,null,{"$f":"IF(①データ登録!A339=\"\",\"\",①データ登録!A339)","v":""},{"$f":"IF(①データ登録!B339=\"\",\"\",①データ登録!B339)","v":""},{"$f":"IF(①データ登録!C339=\"\",\"\",①データ登録!C339)","v":""}]
[null,null,null,null,null,null,null,null,null,null,null,null,{"$f":"IF(①データ登録!A340=\"\",\"\",①データ登録!A340)","v":""},{"$f":"IF(①データ登録!B340=\"\",\"\",①データ登録!B340)","v":""},{"$f":"IF(①データ登録!C340=\"\",\"\",①データ登録!C340)","v":""}]
[null,null,null,null,null,null,null,null,null,null,null,null,{"$f":"IF(①データ登録!A341=\"\",\"\",①データ登録!A341)","v":""},{"$f":"IF(①データ登録!B341=\"\",\"\",①データ登録!B341)","v":""},{"$f":"IF(①データ登録!C341=\"\",\"\",①データ登録!C341)","v":""}]
[null,null,null,null,null,null,null,null,null,null,null,null,{"$f":"IF(①データ登録!A342=\"\",\"\",①データ登録!A342)","v":""},{"$f":"IF(①データ登録!B342=\"\",\"\",①データ登録!B342)","v":""},{"$f":"IF(①データ登録!C342=\"\",\"\",①データ登録!C342)","v":""}]
[null,null,null,null,null,null,null,null,null,null,null,null,{"$f":"IF(①データ登録!A343=\"\",\"\",①データ登録!A343)","v":""},{"$f":"IF(①データ登録!B343=\"\",\"\",①データ登録!B343)","v":""},{"$f":"IF(①データ登録!C343=\"\",\"\",①データ登録!C343)","v":""}]
[null,null,null,null,null,null,null,null,null,null,null,null,{"$f":"IF(①データ登録!A344=\"\",\"\",①データ登録!A344)","v":""},{"$f":"IF(①データ登録!B344=\"\",\"\",①データ登録!B344)","v":""},{"$f":"IF(①データ登録!C344=\"\",\"\",①データ登録!C344)","v":""}]
[null,null,null,null,null,null,null,null,null,null,null,null,{"$f":"IF(①データ登録!A345=\"\",\"\",①データ登録!A345)","v":""},{"$f":"IF(①データ登録!B345=\"\",\"\",①データ登録!B345)","v":""},{"$f":"IF(①データ登録!C345=\"\",\"\",①データ登録!C345)","v":""}]
[null,null,null,null,null,null,null,null,null,null,null,null,{"$f":"IF(①データ登録!A346=\"\",\"\",①データ登録!A346)","v":""},{"$f":"IF(①データ登録!B346=\"\",\"\",①データ登録!B346)","v":""},{"$f":"IF(①データ登録!C346=\"\",\"\",①データ登録!C346)","v":""}]
[null,null,null,null,null,null,null,null,null,null,null,null,{"$f":"IF(①データ登録!A347=\"\",\"\",①データ登録!A347)","v":""},{"$f":"IF(①データ登録!B347=\"\",\"\",①データ登録!B347)","v":""},{"$f":"IF(①データ登録!C347=\"\",\"\",①データ登録!C347)","v":""}]
[null,null,null,null,null,null,null,null,null,null,null,null,{"$f":"IF(①データ登録!A348=\"\",\"\",①データ登録!A348)","v":""},{"$f":"IF(①データ登録!B348=\"\",\"\",①データ登録!B348)","v":""},{"$f":"IF(①データ登録!C348=\"\",\"\",①データ登録!C348)","v":""}]
[null,null,null,null,null,null,null,null,null,null,null,null,{"$f":"IF(①データ登録!A349=\"\",\"\",①データ登録!A349)","v":""},{"$f":"IF(①データ登録!B349=\"\",\"\",①データ登録!B349)","v":""},{"$f":"IF(①データ登録!C349=\"\",\"\",①データ登録!C349)","v":""}]
[null,null,null,null,null,null,null,null,null,null,null,null,{"$f":"IF(①データ登録!A350=\"\",\"\",①データ登録!A350)","v":""},{"$f":"IF(①データ登録!B350=\"\",\"\",①データ登録!B350)","v":""},{"$f":"IF(①データ登録!C350=\"\",\"\",①データ登録!C350)","v":""}]
[null,null,null,null,null,null,null,null,null,null,null,null,{"$f":"IF(①データ登録!A351=\"\",\"\",①データ登録!A351)","v":""},{"$f":"IF(①データ登録!B351=\"\",\"\",①データ登録!B351)","v":""},{"$f":"IF(①データ登録!C351=\"\",\"\",①データ登録!C351)","v":""}]
[null,null,null,null,null,null,null,null,null,null,null,null,{"$f":"IF(①データ登録!A352=\"\",\"\",①データ登録!A352)","v":""},{"$f":"IF(①データ登録!B352=\"\",\"\",①データ登録!B352)","v":""},{"$f":"IF(①データ登録!C352=\"\",\"\",①データ登録!C352)","v":""}]
[null,null,null,null,null,null,null,null,null,null,null,null,{"$f":"IF(①データ登録!A353=\"\",\"\",①データ登録!A353)","v":""},{"$f":"IF(①データ登録!B353=\"\",\"\",①データ登録!B353)","v":""},{"$f":"IF(①データ登録!C353=\"\",\"\",①データ登録!C353)","v":""}]
[null,null,null,null,null,null,null,null,null,null,null,null,{"$f":"IF(①データ登録!A354=\"\",\"\",①データ登録!A354)","v":""},{"$f":"IF(①データ登録!B354=\"\",\"\",①データ登録!B354)","v":""},{"$f":"IF(①データ登録!C354=\"\",\"\",①データ登録!C354)","v":""}]
[null,null,null,null,null,null,null,null,null,null,null,null,{"$f":"IF(①データ登録!A355=\"\",\"\",①データ登録!A355)","v":""},{"$f":"IF(①データ登録!B355=\"\",\"\",①データ登録!B355)","v":""},{"$f":"IF(①データ登録!C355=\"\",\"\",①データ登録!C355)","v":""}]
[null,null,null,null,null,null,null,null,null,null,null,null,{"$f":"IF(①データ登録!A356=\"\",\"\",①データ登録!A356)","v":""},{"$f":"IF(①データ登録!B356=\"\",\"\",①データ登録!B356)","v":""},{"$f":"IF(①データ登録!C356=\"\",\"\",①データ登録!C356)","v":""}]
[null,null,null,null,null,null,null,null,null,null,null,null,{"$f":"IF(①データ登録!A357=\"\",\"\",①データ登録!A357)","v":""},{"$f":"IF(①データ登録!B357=\"\",\"\",①データ登録!B357)","v":""},{"$f":"IF(①データ登録!C357=\"\",\"\",①データ登録!C357)","v":""}]
[null,null,null,null,null,null,null,null,null,null,null,null,{"$f":"IF(①データ登録!A358=\"\",\"\",①データ登録!A358)","v":""},{"$f":"IF(①データ登録!B358=\"\",\"\",①データ登録!B358)","v":""},{"$f":"IF(①データ登録!C358=\"\",\"\",①データ登録!C358)","v":""}]
[null,null,null,null,null,null,null,null,null,null,null,null,{"$f":"IF(①データ登録!A359=\"\",\"\",①データ登録!A359)","v":""},{"$f":"IF(①データ登録!B359=\"\",\"\",①データ登録!B359)","v":""},{"$f":"IF(①データ登録!C359=\"\",\"\",①データ登録!C359)","v":""}]
[null,null,null,null,null,null,null,null,null,null,null,null,{"$f":"IF(①データ登録!A360=\"\",\"\",①データ登録!A360)","v":""},{"$f":"IF(①データ登録!B360=\"\",\"\",①データ登録!B360)","v":""},{"$f":"IF(①データ登録!C360=\"\",\"\",①データ登録!C360)","v":""}]
[null,null,null,null,null,null,null,null,null,null,null,null,{"$f":"IF(①データ登録!A361=\"\",\"\",①データ登録!A361)","v":""},{"$f":"IF(①データ登録!B361=\"\",\"\",①データ登録!B361)","v":""},{"$f":"IF(①データ登録!C361=\"\",\"\",①データ登録!C361)","v":""}]
[null,null,null,null,null,null,null,null,null,null,null,null,{"$f":"IF(①データ登録!A362=\"\",\"\",①データ登録!A362)","v":""},{"$f":"IF(①データ登録!B362=\"\",\"\",①データ登録!B362)","v":""},{"$f":"IF(①データ登録!C362=\"\",\"\",①データ登録!C362)","v":""}]
[null,null,null,null,null,null,null,null,null,null,null,null,{"$f":"IF(①データ登録!A363=\"\",\"\",①データ登録!A363)","v":""},{"$f":"IF(①データ登録!B363=\"\",\"\",①データ登録!B363)","v":""},{"$f":"IF(①データ登録!C363=\"\",\"\",①データ登録!C363)","v":""}]
[null,null,null,null,null,null,null,null,null,null,null,null,{"$f":"IF(①データ登録!A364=\"\",\"\",①データ登録!A364)","v":""},{"$f":"IF(①データ登録!B364=\"\",\"\",①データ登録!B364)","v":""},{"$f":"IF(①データ登録!C364=\"\",\"\",①データ登録!C364)","v":""}]
[null,null,null,null,null,null,null,null,null,null,null,null,{"$f":"IF(①データ登録!A365=\"\",\"\",①データ登録!A365)","v":""},{"$f":"IF(①データ登録!B365=\"\",\"\",①データ登録!B365)","v":""},{"$f":"IF(①データ登録!C365=\"\",\"\",①データ登録!C365)","v":""}]
[null,null,null,null,null,null,null,null,null,null,null,null,{"$f":"IF(①データ登録!A366=\"\",\"\",①データ登録!A366)","v":""},{"$f":"IF(①データ登録!B366=\"\",\"\",①データ登録!B366)","v":""},{"$f":"IF(①データ登録!C366=\"\",\"\",①データ登録!C366)","v":""}]
[null,null,null,null,null,null,null,null,null,null,null,null,{"$f":"IF(①データ登録!A367=\"\",\"\",①データ登録!A367)","v":""},{"$f":"IF(①データ登録!B367=\"\",\"\",①データ登録!B367)","v":""},{"$f":"IF(①データ登録!C367=\"\",\"\",①データ登録!C367)","v":""}]
[null,null,null,null,null,null,null,null,null,null,null,null,{"$f":"IF(①データ登録!A368=\"\",\"\",①データ登録!A368)","v":""},{"$f":"IF(①データ登録!B368=\"\",\"\",①データ登録!B368)","v":""},{"$f":"IF(①データ登録!C368=\"\",\"\",①データ登録!C368)","v":""}]
[null,null,null,null,null,null,null,null,null,null,null,null,{"$f":"IF(①データ登録!A369=\"\",\"\",①データ登録!A369)","v":""},{"$f":"IF(①データ登録!B369=\"\",\"\",①データ登録!B369)","v":""},{"$f":"IF(①データ登録!C369=\"\",\"\",①データ登録!C369)","v":""}]
[null,null,null,null,null,null,null,null,null,null,null,null,{"$f":"IF(①データ登録!A370=\"\",\"\",①データ登録!A370)","v":""},{"$f":"IF(①データ登録!B370=\"\",\"\",①データ登録!B370)","v":""},{"$f":"IF(①データ登録!C370=\"\",\"\",①データ登録!C370)","v":""}]
[null,null,null,null,null,null,null,null,null,null,null,null,{"$f":"IF(①データ登録!A371=\"\",\"\",①データ登録!A371)","v":""},{"$f":"IF(①データ登録!B371=\"\",\"\",①データ登録!B371)","v":""},{"$f":"IF(①データ登録!C371=\"\",\"\",①データ登録!C371)","v":""}]
[null,null,null,null,null,null,null,null,null,null,null,null,{"$f":"IF(①データ登録!A372=\"\",\"\",①データ登録!A372)","v":""},{"$f":"IF(①データ登録!B372=\"\",\"\",①データ登録!B372)","v":""},{"$f":"IF(①データ登録!C372=\"\",\"\",①データ登録!C372)","v":""}]
[null,null,null,null,null,null,null,null,null,null,null,null,{"$f":"IF(①データ登録!A373=\"\",\"\",①データ登録!A373)","v":""},{"$f":"IF(①データ登録!B373=\"\",\"\",①データ登録!B373)","v":""},{"$f":"IF(①データ登録!C373=\"\",\"\",①データ登録!C373)","v":""}]
[null,null,null,null,null,null,null,null,null,null,null,null,{"$f":"IF(①データ登録!A374=\"\",\"\",①データ登録!A374)","v":""},{"$f":"IF(①データ登録!B374=\"\",\"\",①データ登録!B374)","v":""},{"$f":"IF(①データ登録!C374=\"\",\"\",①データ登録!C374)","v":""}]
[null,null,null,null,null,null,null,null,null,null,null,null,{"$f":"IF(①データ登録!A375=\"\",\"\",①データ登録!A375)","v":""},{"$f":"IF(①データ登録!B375=\"\",\"\",①データ登録!B375)","v":""},{"$f":"IF(①データ登録!C375=\"\",\"\",①データ登録!C375)","v":""}]
[null,null,null,null,null,null,null,null,null,null,null,null,{"$f":"IF(①データ登録!A376=\"\",\"\",①データ登録!A376)","v":""},{"$f":"IF(①データ登録!B376=\"\",\"\",①データ登録!B376)","v":""},{"$f":"IF(①データ登録!C376=\"\",\"\",①データ登録!C376)","v":""}]
[null,null,null,null,null,null,null,null,null,null,null,null,{"$f":"IF(①データ登録!A377=\"\",\"\",①データ登録!A377)","v":""},{"$f":"IF(①データ登録!B377=\"\",\"\",①データ登録!B377)","v":""},{"$f":"IF(①データ登録!C377=\"\",\"\",①データ登録!C377)","v":""}]
[null,null,null,null,null,null,null,null,null,null,null,null,{"$f":"IF(①データ登録!A378=\"\",\"\",①データ登録!A378)","v":""},{"$f":"IF(①データ登録!B378=\"\",\"\",①データ登録!B378)","v":""},{"$f":"IF(①データ登録!C378=\"\",\"\",①データ登録!C378)","v":""}]
[null,null,null,null,null,null,null,null,null,null,null,null,{"$f":"IF(①データ登録!A379=\"\",\"\",①データ登録!A379)","v":""},{"$f":"IF(①データ登録!B379=\"\",\"\",①データ登録!B379)","v":""},{"$f":"IF(①データ登録!C379=\"\",\"\",①データ登録!C379)","v":""}]
[null,null,null,null,null,null,null,null,null,null,null,null,{"$f":"IF(①データ登録!A380=\"\",\"\",①データ登録!A380)","v":""},{"$f":"IF(①データ登録!B380=\"\",\"\",①データ登録!B380)","v":""},{"$f":"IF(①データ登録!C380=\"\",\"\",①データ登録!C380)","v":""}]
[null,null,null,null,null,null,null,null,null,null,null,null,{"$f":"IF(①データ登録!A381=\"\",\"\",①データ登録!A381)","v":""},{"$f":"IF(①データ登録!B381=\"\",\"\",①データ登録!B381)","v":""},{"$f":"IF(①データ登録!C381=\"\",\"\",①データ登録!C381)","v":""}]
[null,null,null,null,null,null,null,null,null,null,null,null,{"$f":"IF(①データ登録!A382=\"\",\"\",①データ登録!A382)","v":""},{"$f":"IF(①データ登録!B382=\"\",\"\",①データ登録!B382)","v":""},{"$f":"IF(①データ登録!C382=\"\",\"\",①データ登録!C382)","v":""}]
[null,null,null,null,null,null,null,null,null,null,null,null,{"$f":"IF(①データ登録!A383=\"\",\"\",①データ登録!A383)","v":""},{"$f":"IF(①データ登録!B383=\"\",\"\",①データ登録!B383)","v":""},{"$f":"IF(①データ登録!C383=\"\",\"\",①データ登録!C383)","v":""}]
[null,null,null,null,null,null,null,null,null,null,null,null,{"$f":"IF(①データ登録!A384=\"\",\"\",①データ登録!A384)","v":""},{"$f":"IF(①データ登録!B384=\"\",\"\",①データ登録!B384)","v":""},{"$f":"IF(①データ登録!C384=\"\",\"\",①データ登録!C384)","v":""}]
[null,null,null,null,null,null,null,null,null,null,null,null,{"$f":"IF(①データ登録!A385=\"\",\"\",①データ登録!A385)","v":""},{"$f":"IF(①データ登録!B385=\"\",\"\",①データ登録!B385)","v":""},{"$f":"IF(①データ登録!C385=\"\",\"\",①データ登録!C385)","v":""}]
[null,null,null,null,null,null,null,null,null,null,null,null,{"$f":"IF(①データ登録!A386=\"\",\"\",①データ登録!A386)","v":""},{"$f":"IF(①データ登録!B386=\"\",\"\",①データ登録!B386)","v":""},{"$f":"IF(①データ登録!C386=\"\",\"\",①データ登録!C386)","v":""}]
[null,null,null,null,null,null,null,null,null,null,null,null,{"$f":"IF(①データ登録!A387=\"\",\"\",①データ登録!A387)","v":""},{"$f":"IF(①データ登録!B387=\"\",\"\",①データ登録!B387)","v":""},{"$f":"IF(①データ登録!C387=\"\",\"\",①データ登録!C387)","v":""}]
[null,null,null,null,null,null,null,null,null,null,null,null,{"$f":"IF(①データ登録!A388=\"\",\"\",①データ登録!A388)","v":""},{"$f":"IF(①データ登録!B388=\"\",\"\",①データ登録!B388)","v":""},{"$f":"IF(①データ登録!C388=\"\",\"\",①データ登録!C388)","v":""}]
[null,null,null,null,null,null,null,null,null,null,null,null,{"$f":"IF(①データ登録!A389=\"\",\"\",①データ登録!A389)","v":""},{"$f":"IF(①データ登録!B389=\"\",\"\",①データ登録!B389)","v":""},{"$f":"IF(①データ登録!C389=\"\",\"\",①データ登録!C389)","v":""}]
[null,null,null,null,null,null,null,null,null,null,null,null,{"$f":"IF(①データ登録!A390=\"\",\"\",①データ登録!A390)","v":""},{"$f":"IF(①データ登録!B390=\"\",\"\",①データ登録!B390)","v":""},{"$f":"IF(①データ登録!C390=\"\",\"\",①データ登録!C390)","v":""}]
[null,null,null,null,null,null,null,null,null,null,null,null,{"$f":"IF(①データ登録!A391=\"\",\"\",①データ登録!A391)","v":""},{"$f":"IF(①データ登録!B391=\"\",\"\",①データ登録!B391)","v":""},{"$f":"IF(①データ登録!C391=\"\",\"\",①データ登録!C391)","v":""}]
[null,null,null,null,null,null,null,null,null,null,null,null,{"$f":"IF(①データ登録!A392=\"\",\"\",①データ登録!A392)","v":""},{"$f":"IF(①データ登録!B392=\"\",\"\",①データ登録!B392)","v":""},{"$f":"IF(①データ登録!C392=\"\",\"\",①データ登録!C392)","v":""}]
[null,null,null,null,null,null,null,null,null,null,null,null,{"$f":"IF(①データ登録!A393=\"\",\"\",①データ登録!A393)","v":""},{"$f":"IF(①データ登録!B393=\"\",\"\",①データ登録!B393)","v":""},{"$f":"IF(①データ登録!C393=\"\",\"\",①データ登録!C393)","v":""}]
[null,null,null,null,null,null,null,null,null,null,null,null,{"$f":"IF(①データ登録!A394=\"\",\"\",①データ登録!A394)","v":""},{"$f":"IF(①データ登録!B394=\"\",\"\",①データ登録!B394)","v":""},{"$f":"IF(①データ登録!C394=\"\",\"\",①データ登録!C394)","v":""}]
[null,null,null,null,null,null,null,null,null,null,null,null,{"$f":"IF(①データ登録!A395=\"\",\"\",①データ登録!A395)","v":""},{"$f":"IF(①データ登録!B395=\"\",\"\",①データ登録!B395)","v":""},{"$f":"IF(①データ登録!C395=\"\",\"\",①データ登録!C395)","v":""}]
[null,null,null,null,null,null,null,null,null,null,null,null,{"$f":"IF(①データ登録!A396=\"\",\"\",①データ登録!A396)","v":""},{"$f":"IF(①データ登録!B396=\"\",\"\",①データ登録!B396)","v":""},{"$f":"IF(①データ登録!C396=\"\",\"\",①データ登録!C396)","v":""}]
[null,null,null,null,null,null,null,null,null,null,null,null,{"$f":"IF(①データ登録!A397=\"\",\"\",①データ登録!A397)","v":""},{"$f":"IF(①データ登録!B397=\"\",\"\",①データ登録!B397)","v":""},{"$f":"IF(①データ登録!C397=\"\",\"\",①データ登録!C397)","v":""}]
[null,null,null,null,null,null,null,null,null,null,null,null,{"$f":"IF(①データ登録!A398=\"\",\"\",①データ登録!A398)","v":""},{"$f":"IF(①データ登録!B398=\"\",\"\",①データ登録!B398)","v":""},{"$f":"IF(①データ登録!C398=\"\",\"\",①データ登録!C398)","v":""}]
[null,null,null,null,null,null,null,null,null,null,null,null,{"$f":"IF(①データ登録!A399=\"\",\"\",①データ登録!A399)","v":""},{"$f":"IF(①データ登録!B399=\"\",\"\",①データ登録!B399)","v":""},{"$f":"IF(①データ登録!C399=\"\",\"\",①データ登録!C399)","v":""}]
[null,null,null,null,null,null,null,null,null,null,null,null,{"$f":"IF(①データ登録!A400=\"\",\"\",①データ登録!A400)","v":""},{"$f":"IF(①データ登録!B400=\"\",\"\",①データ登録!B400)","v":""},{"$f":"IF(①データ登録!C400=\"\",\"\",①データ登録!C400)","v":""}]
[null,null,null,null,null,null,null,null,null,null,null,null,{"$f":"IF(①データ登録!A401=\"\",\"\",①データ登録!A401)","v":""},{"$f":"IF(①データ登録!B401=\"\",\"\",①データ登録!B401)","v":""},{"$f":"IF(①データ登録!C401=\"\",\"\",①データ登録!C401)","v":""}]
[null,null,null,null,null,null,null,null,null,null,null,null,{"$f":"IF(①データ登録!A402=\"\",\"\",①データ登録!A402)","v":""},{"$f":"IF(①データ登録!B402=\"\",\"\",①データ登録!B402)","v":""},{"$f":"IF(①データ登録!C402=\"\",\"\",①データ登録!C402)","v":""}]
[null,null,null,null,null,null,null,null,null,null,null,null,{"$f":"IF(①データ登録!A403=\"\",\"\",①データ登録!A403)","v":""},{"$f":"IF(①データ登録!B403=\"\",\"\",①データ登録!B403)","v":""},{"$f":"IF(①データ登録!C403=\"\",\"\",①データ登録!C403)","v":""}]
[null,null,null,null,null,null,null,null,null,null,null,null,{"$f":"IF(①データ登録!A404=\"\",\"\",①データ登録!A404)","v":""},{"$f":"IF(①データ登録!B404=\"\",\"\",①データ登録!B404)","v":""},{"$f":"IF(①データ登録!C404=\"\",\"\",①データ登録!C404)","v":""}]
[null,null,null,null,null,null,null,null,null,null,null,null,{"$f":"IF(①データ登録!A405=\"\",\"\",①データ登録!A405)","v":""},{"$f":"IF(①データ登録!B405=\"\",\"\",①データ登録!B405)","v":""},{"$f":"IF(①データ登録!C405=\"\",\"\",①データ登録!C405)","v":""}]
[null,null,null,null,null,null,null,null,null,null,null,null,{"$f":"IF(①データ登録!A406=\"\",\"\",①データ登録!A406)","v":""},{"$f":"IF(①データ登録!B406=\"\",\"\",①データ登録!B406)","v":""},{"$f":"IF(①データ登録!C406=\"\",\"\",①データ登録!C406)","v":""}]
[null,null,null,null,null,null,null,null,null,null,null,null,{"$f":"IF(①データ登録!A407=\"\",\"\",①データ登録!A407)","v":""},{"$f":"IF(①データ登録!B407=\"\",\"\",①データ登録!B407)","v":""},{"$f":"IF(①データ登録!C407=\"\",\"\",①データ登録!C407)","v":""}]
[null,null,null,null,null,null,null,null,null,null,null,null,{"$f":"IF(①データ登録!A408=\"\",\"\",①データ登録!A408)","v":""},{"$f":"IF(①データ登録!B408=\"\",\"\",①データ登録!B408)","v":""},{"$f":"IF(①データ登録!C408=\"\",\"\",①データ登録!C408)","v":""}]
[null,null,null,null,null,null,null,null,null,null,null,null,{"$f":"IF(①データ登録!A409=\"\",\"\",①データ登録!A409)","v":""},{"$f":"IF(①データ登録!B409=\"\",\"\",①データ登録!B409)","v":""},{"$f":"IF(①データ登録!C409=\"\",\"\",①データ登録!C409)","v":""}]
[null,null,null,null,null,null,null,null,null,null,null,null,{"$f":"IF(①データ登録!A410=\"\",\"\",①データ登録!A410)","v":""},{"$f":"IF(①データ登録!B410=\"\",\"\",①データ登録!B410)","v":""},{"$f":"IF(①データ登録!C410=\"\",\"\",①データ登録!C410)","v":""}]
[null,null,null,null,null,null,null,null,null,null,null,null,{"$f":"IF(①データ登録!A411=\"\",\"\",①データ登録!A411)","v":""},{"$f":"IF(①データ登録!B411=\"\",\"\",①データ登録!B411)","v":""},{"$f":"IF(①データ登録!C411=\"\",\"\",①データ登録!C411)","v":""}]
[null,null,null,null,null,null,null,null,null,null,null,null,{"$f":"IF(①データ登録!A412=\"\",\"\",①データ登録!A412)","v":""},{"$f":"IF(①データ登録!B412=\"\",\"\",①データ登録!B412)","v":""},{"$f":"IF(①データ登録!C412=\"\",\"\",①データ登録!C412)","v":""}]
[null,null,null,null,null,null,null,null,null,null,null,null,{"$f":"IF(①データ登録!A413=\"\",\"\",①データ登録!A413)","v":""},{"$f":"IF(①データ登録!B413=\"\",\"\",①データ登録!B413)","v":""},{"$f":"IF(①データ登録!C413=\"\",\"\",①データ登録!C413)","v":""}]
[null,null,null,null,null,null,null,null,null,null,null,null,{"$f":"IF(①データ登録!A414=\"\",\"\",①データ登録!A414)","v":""},{"$f":"IF(①データ登録!B414=\"\",\"\",①データ登録!B414)","v":""},{"$f":"IF(①データ登録!C414=\"\",\"\",①データ登録!C414)","v":""}]
[null,null,null,null,null,null,null,null,null,null,null,null,{"$f":"IF(①データ登録!A415=\"\",\"\",①データ登録!A415)","v":""},{"$f":"IF(①データ登録!B415=\"\",\"\",①データ登録!B415)","v":""},{"$f":"IF(①データ登録!C415=\"\",\"\",①データ登録!C415)","v":""}]
[null,null,null,null,null,null,null,null,null,null,null,null,{"$f":"IF(①データ登録!A416=\"\",\"\",①データ登録!A416)","v":""},{"$f":"IF(①データ登録!B416=\"\",\"\",①データ登録!B416)","v":""},{"$f":"IF(①データ登録!C416=\"\",\"\",①データ登録!C416)","v":""}]
[null,null,null,null,null,null,null,null,null,null,null,null,{"$f":"IF(①データ登録!A417=\"\",\"\",①データ登録!A417)","v":""},{"$f":"IF(①データ登録!B417=\"\",\"\",①データ登録!B417)","v":""},{"$f":"IF(①データ登録!C417=\"\",\"\",①データ登録!C417)","v":""}]
[null,null,null,null,null,null,null,null,null,null,null,null,{"$f":"IF(①データ登録!A418=\"\",\"\",①データ登録!A418)","v":""},{"$f":"IF(①データ登録!B418=\"\",\"\",①データ登録!B418)","v":""},{"$f":"IF(①データ登録!C418=\"\",\"\",①データ登録!C418)","v":""}]
[null,null,null,null,null,null,null,null,null,null,null,null,{"$f":"IF(①データ登録!A419=\"\",\"\",①データ登録!A419)","v":""},{"$f":"IF(①データ登録!B419=\"\",\"\",①データ登録!B419)","v":""},{"$f":"IF(①データ登録!C419=\"\",\"\",①データ登録!C419)","v":""}]
[null,null,null,null,null,null,null,null,null,null,null,null,{"$f":"IF(①データ登録!A420=\"\",\"\",①データ登録!A420)","v":""},{"$f":"IF(①データ登録!B420=\"\",\"\",①データ登録!B420)","v":""},{"$f":"IF(①データ登録!C420=\"\",\"\",①データ登録!C420)","v":""}]
[null,null,null,null,null,null,null,null,null,null,null,null,{"$f":"IF(①データ登録!A421=\"\",\"\",①データ登録!A421)","v":""},{"$f":"IF(①データ登録!B421=\"\",\"\",①データ登録!B421)","v":""},{"$f":"IF(①データ登録!C421=\"\",\"\",①データ登録!C421)","v":""}]
[null,null,null,null,null,null,null,null,null,null,null,null,{"$f":"IF(①データ登録!A422=\"\",\"\",①データ登録!A422)","v":""},{"$f":"IF(①データ登録!B422=\"\",\"\",①データ登録!B422)","v":""},{"$f":"IF(①データ登録!C422=\"\",\"\",①データ登録!C422)","v":""}]
[null,null,null,null,null,null,null,null,null,null,null,null,{"$f":"IF(①データ登録!A423=\"\",\"\",①データ登録!A423)","v":""},{"$f":"IF(①データ登録!B423=\"\",\"\",①データ登録!B423)","v":""},{"$f":"IF(①データ登録!C423=\"\",\"\",①データ登録!C423)","v":""}]
[null,null,null,null,null,null,null,null,null,null,null,null,{"$f":"IF(①データ登録!A424=\"\",\"\",①データ登録!A424)","v":""},{"$f":"IF(①データ登録!B424=\"\",\"\",①データ登録!B424)","v":""},{"$f":"IF(①データ登録!C424=\"\",\"\",①データ登録!C424)","v":""}]
[null,null,null,null,null,null,null,null,null,null,null,null,{"$f":"IF(①データ登録!A425=\"\",\"\",①データ登録!A425)","v":""},{"$f":"IF(①データ登録!B425=\"\",\"\",①データ登録!B425)","v":""},{"$f":"IF(①データ登録!C425=\"\",\"\",①データ登録!C425)","v":""}]
[null,null,null,null,null,null,null,null,null,null,null,null,{"$f":"IF(①データ登録!A426=\"\",\"\",①データ登録!A426)","v":""},{"$f":"IF(①データ登録!B426=\"\",\"\",①データ登録!B426)","v":""},{"$f":"IF(①データ登録!C426=\"\",\"\",①データ登録!C426)","v":""}]
[null,null,null,null,null,null,null,null,null,null,null,null,{"$f":"IF(①データ登録!A427=\"\",\"\",①データ登録!A427)","v":""},{"$f":"IF(①データ登録!B427=\"\",\"\",①データ登録!B427)","v":""},{"$f":"IF(①データ登録!C427=\"\",\"\",①データ登録!C427)","v":""}]
[null,null,null,null,null,null,null,null,null,null,null,null,{"$f":"IF(①データ登録!A428=\"\",\"\",①データ登録!A428)","v":""},{"$f":"IF(①データ登録!B428=\"\",\"\",①データ登録!B428)","v":""},{"$f":"IF(①データ登録!C428=\"\",\"\",①データ登録!C428)","v":""}]
[null,null,null,null,null,null,null,null,null,null,null,null,{"$f":"IF(①データ登録!A429=\"\",\"\",①データ登録!A429)","v":""},{"$f":"IF(①データ登録!B429=\"\",\"\",①データ登録!B429)","v":""},{"$f":"IF(①データ登録!C429=\"\",\"\",①データ登録!C429)","v":""}]
[null,null,null,null,null,null,null,null,null,null,null,null,{"$f":"IF(①データ登録!A430=\"\",\"\",①データ登録!A430)","v":""},{"$f":"IF(①データ登録!B430=\"\",\"\",①データ登録!B430)","v":""},{"$f":"IF(①データ登録!C430=\"\",\"\",①データ登録!C430)","v":""}]
[null,null,null,null,null,null,null,null,null,null,null,null,{"$f":"IF(①データ登録!A431=\"\",\"\",①データ登録!A431)","v":""},{"$f":"IF(①データ登録!B431=\"\",\"\",①データ登録!B431)","v":""},{"$f":"IF(①データ登録!C431=\"\",\"\",①データ登録!C431)","v":""}]
[null,null,null,null,null,null,null,null,null,null,null,null,{"$f":"IF(①データ登録!A432=\"\",\"\",①データ登録!A432)","v":""},{"$f":"IF(①データ登録!B432=\"\",\"\",①データ登録!B432)","v":""},{"$f":"IF(①データ登録!C432=\"\",\"\",①データ登録!C432)","v":""}]
[null,null,null,null,null,null,null,null,null,null,null,null,{"$f":"IF(①データ登録!A433=\"\",\"\",①データ登録!A433)","v":""},{"$f":"IF(①データ登録!B433=\"\",\"\",①データ登録!B433)","v":""},{"$f":"IF(①データ登録!C433=\"\",\"\",①データ登録!C433)","v":""}]
[null,null,null,null,null,null,null,null,null,null,null,null,{"$f":"IF(①データ登録!A434=\"\",\"\",①データ登録!A434)","v":""},{"$f":"IF(①データ登録!B434=\"\",\"\",①データ登録!B434)","v":""},{"$f":"IF(①データ登録!C434=\"\",\"\",①データ登録!C434)","v":""}]
[null,null,null,null,null,null,null,null,null,null,null,null,{"$f":"IF(①データ登録!A435=\"\",\"\",①データ登録!A435)","v":""},{"$f":"IF(①データ登録!B435=\"\",\"\",①データ登録!B435)","v":""},{"$f":"IF(①データ登録!C435=\"\",\"\",①データ登録!C435)","v":""}]
[null,null,null,null,null,null,null,null,null,null,null,null,{"$f":"IF(①データ登録!A436=\"\",\"\",①データ登録!A436)","v":""},{"$f":"IF(①データ登録!B436=\"\",\"\",①データ登録!B436)","v":""},{"$f":"IF(①データ登録!C436=\"\",\"\",①データ登録!C436)","v":""}]
[null,null,null,null,null,null,null,null,null,null,null,null,{"$f":"IF(①データ登録!A437=\"\",\"\",①データ登録!A437)","v":""},{"$f":"IF(①データ登録!B437=\"\",\"\",①データ登録!B437)","v":""},{"$f":"IF(①データ登録!C437=\"\",\"\",①データ登録!C437)","v":""}]
[null,null,null,null,null,null,null,null,null,null,null,null,{"$f":"IF(①データ登録!A438=\"\",\"\",①データ登録!A438)","v":""},{"$f":"IF(①データ登録!B438=\"\",\"\",①データ登録!B438)","v":""},{"$f":"IF(①データ登録!C438=\"\",\"\",①データ登録!C438)","v":""}]
[null,null,null,null,null,null,null,null,null,null,null,null,{"$f":"IF(①データ登録!A439=\"\",\"\",①データ登録!A439)","v":""},{"$f":"IF(①データ登録!B439=\"\",\"\",①データ登録!B439)","v":""},{"$f":"IF(①データ登録!C439=\"\",\"\",①データ登録!C439)","v":""}]
[null,null,null,null,null,null,null,null,null,null,null,null,{"$f":"IF(①データ登録!A440=\"\",\"\",①データ登録!A440)","v":""},{"$f":"IF(①データ登録!B440=\"\",\"\",①データ登録!B440)","v":""},{"$f":"IF(①データ登録!C440=\"\",\"\",①データ登録!C440)","v":""}]
[null,null,null,null,null,null,null,null,null,null,null,null,{"$f":"IF(①データ登録!A441=\"\",\"\",①データ登録!A441)","v":""},{"$f":"IF(①データ登録!B441=\"\",\"\",①データ登録!B441)","v":""},{"$f":"IF(①データ登録!C441=\"\",\"\",①データ登録!C441)","v":""}]
[null,null,null,null,null,null,null,null,null,null,null,null,{"$f":"IF(①データ登録!A442=\"\",\"\",①データ登録!A442)","v":""},{"$f":"IF(①データ登録!B442=\"\",\"\",①データ登録!B442)","v":""},{"$f":"IF(①データ登録!C442=\"\",\"\",①データ登録!C442)","v":""}]
[null,null,null,null,null,null,null,null,null,null,null,null,{"$f":"IF(①データ登録!A443=\"\",\"\",①データ登録!A443)","v":""},{"$f":"IF(①データ登録!B443=\"\",\"\",①データ登録!B443)","v":""},{"$f":"IF(①データ登録!C443=\"\",\"\",①データ登録!C443)","v":""}]
[null,null,null,null,null,null,null,null,null,null,null,null,{"$f":"IF(①データ登録!A444=\"\",\"\",①データ登録!A444)","v":""},{"$f":"IF(①データ登録!B444=\"\",\"\",①データ登録!B444)","v":""},{"$f":"IF(①データ登録!C444=\"\",\"\",①データ登録!C444)","v":""}]
[null,null,null,null,null,null,null,null,null,null,null,null,{"$f":"IF(①データ登録!A445=\"\",\"\",①データ登録!A445)","v":""},{"$f":"IF(①データ登録!B445=\"\",\"\",①データ登録!B445)","v":""},{"$f":"IF(①データ登録!C445=\"\",\"\",①データ登録!C445)","v":""}]
[null,null,null,null,null,null,null,null,null,null,null,null,{"$f":"IF(①データ登録!A446=\"\",\"\",①データ登録!A446)","v":""},{"$f":"IF(①データ登録!B446=\"\",\"\",①データ登録!B446)","v":""},{"$f":"IF(①データ登録!C446=\"\",\"\",①データ登録!C446)","v":""}]
[null,null,null,null,null,null,null,null,null,null,null,null,{"$f":"IF(①データ登録!A447=\"\",\"\",①データ登録!A447)","v":""},{"$f":"IF(①データ登録!B447=\"\",\"\",①データ登録!B447)","v":""},{"$f":"IF(①データ登録!C447=\"\",\"\",①データ登録!C447)","v":""}]
[null,null,null,null,null,null,null,null,null,null,null,null,{"$f":"IF(①データ登録!A448=\"\",\"\",①データ登録!A448)","v":""},{"$f":"IF(①データ登録!B448=\"\",\"\",①データ登録!B448)","v":""},{"$f":"IF(①データ登録!C448=\"\",\"\",①データ登録!C448)","v":""}]
[null,null,null,null,null,null,null,null,null,null,null,null,{"$f":"IF(①データ登録!A449=\"\",\"\",①データ登録!A449)","v":""},{"$f":"IF(①データ登録!B449=\"\",\"\",①データ登録!B449)","v":""},{"$f":"IF(①データ登録!C449=\"\",\"\",①データ登録!C449)","v":""}]
[null,null,null,null,null,null,null,null,null,null,null,null,{"$f":"IF(①データ登録!A450=\"\",\"\",①データ登録!A450)","v":""},{"$f":"IF(①データ登録!B450=\"\",\"\",①データ登録!B450)","v":""},{"$f":"IF(①データ登録!C450=\"\",\"\",①データ登録!C450)","v":""}]
[null,null,null,null,null,null,null,null,null,null,null,null,{"$f":"IF(①データ登録!A451=\"\",\"\",①データ登録!A451)","v":""},{"$f":"IF(①データ登録!B451=\"\",\"\",①データ登録!B451)","v":""},{"$f":"IF(①データ登録!C451=\"\",\"\",①データ登録!C451)","v":""}]
[null,null,null,null,null,null,null,null,null,null,null,null,{"$f":"IF(①データ登録!A452=\"\",\"\",①データ登録!A452)","v":""},{"$f":"IF(①データ登録!B452=\"\",\"\",①データ登録!B452)","v":""},{"$f":"IF(①データ登録!C452=\"\",\"\",①データ登録!C452)","v":""}]
[null,null,null,null,null,null,null,null,null,null,null,null,{"$f":"IF(①データ登録!A453=\"\",\"\",①データ登録!A453)","v":""},{"$f":"IF(①データ登録!B453=\"\",\"\",①データ登録!B453)","v":""},{"$f":"IF(①データ登録!C453=\"\",\"\",①データ登録!C453)","v":""}]
[null,null,null,null,null,null,null,null,null,null,null,null,{"$f":"IF(①データ登録!A454=\"\",\"\",①データ登録!A454)","v":""},{"$f":"IF(①データ登録!B454=\"\",\"\",①データ登録!B454)","v":""},{"$f":"IF(①データ登録!C454=\"\",\"\",①データ登録!C454)","v":""}]
[null,null,null,null,null,null,null,null,null,null,null,null,{"$f":"IF(①データ登録!A455=\"\",\"\",①データ登録!A455)","v":""},{"$f":"IF(①データ登録!B455=\"\",\"\",①データ登録!B455)","v":""},{"$f":"IF(①データ登録!C455=\"\",\"\",①データ登録!C455)","v":""}]
[null,null,null,null,null,null,null,null,null,null,null,null,{"$f":"IF(①データ登録!A456=\"\",\"\",①データ登録!A456)","v":""},{"$f":"IF(①データ登録!B456=\"\",\"\",①データ登録!B456)","v":""},{"$f":"IF(①データ登録!C456=\"\",\"\",①データ登録!C456)","v":""}]
[null,null,null,null,null,null,null,null,null,null,null,null,{"$f":"IF(①データ登録!A457=\"\",\"\",①データ登録!A457)","v":""},{"$f":"IF(①データ登録!B457=\"\",\"\",①データ登録!B457)","v":""},{"$f":"IF(①データ登録!C457=\"\",\"\",①データ登録!C457)","v":""}]
[null,null,null,null,null,null,null,null,null,null,null,null,{"$f":"IF(①データ登録!A458=\"\",\"\",①データ登録!A458)","v":""},{"$f":"IF(①データ登録!B458=\"\",\"\",①データ登録!B458)","v":""},{"$f":"IF(①データ登録!C458=\"\",\"\",①データ登録!C458)","v":""}]
[null,null,null,null,null,null,null,null,null,null,null,null,{"$f":"IF(①データ登録!A459=\"\",\"\",①データ登録!A459)","v":""},{"$f":"IF(①データ登録!B459=\"\",\"\",①データ登録!B459)","v":""},{"$f":"IF(①データ登録!C459=\"\",\"\",①データ登録!C459)","v":""}]
[null,null,null,null,null,null,null,null,null,null,null,null,{"$f":"IF(①データ登録!A460=\"\",\"\",①データ登録!A460)","v":""},{"$f":"IF(①データ登録!B460=\"\",\"\",①データ登録!B460)","v":""},{"$f":"IF(①データ登録!C460=\"\",\"\",①データ登録!C460)","v":""}]
[null,null,null,null,null,null,null,null,null,null,null,null,{"$f":"IF(①データ登録!A461=\"\",\"\",①データ登録!A461)","v":""},{"$f":"IF(①データ登録!B461=\"\",\"\",①データ登録!B461)","v":""},{"$f":"IF(①データ登録!C461=\"\",\"\",①データ登録!C461)","v":""}]
[null,null,null,null,null,null,null,null,null,null,null,null,{"$f":"IF(①データ登録!A462=\"\",\"\",①データ登録!A462)","v":""},{"$f":"IF(①データ登録!B462=\"\",\"\",①データ登録!B462)","v":""},{"$f":"IF(①データ登録!C462=\"\",\"\",①データ登録!C462)","v":""}]
[null,null,null,null,null,null,null,null,null,null,null,null,{"$f":"IF(①データ登録!A463=\"\",\"\",①データ登録!A463)","v":""},{"$f":"IF(①データ登録!B463=\"\",\"\",①データ登録!B463)","v":""},{"$f":"IF(①データ登録!C463=\"\",\"\",①データ登録!C463)","v":""}]
[null,null,null,null,null,null,null,null,null,null,null,null,{"$f":"IF(①データ登録!A464=\"\",\"\",①データ登録!A464)","v":""},{"$f":"IF(①データ登録!B464=\"\",\"\",①データ登録!B464)","v":""},{"$f":"IF(①データ登録!C464=\"\",\"\",①データ登録!C464)","v":""}]
[null,null,null,null,null,null,null,null,null,null,null,null,{"$f":"IF(①データ登録!A465=\"\",\"\",①データ登録!A465)","v":""},{"$f":"IF(①データ登録!B465=\"\",\"\",①データ登録!B465)","v":""},{"$f":"IF(①データ登録!C465=\"\",\"\",①データ登録!C465)","v":""}]
[null,null,null,null,null,null,null,null,null,null,null,null,{"$f":"IF(①データ登録!A466=\"\",\"\",①データ登録!A466)","v":""},{"$f":"IF(①データ登録!B466=\"\",\"\",①データ登録!B466)","v":""},{"$f":"IF(①データ登録!C466=\"\",\"\",①データ登録!C466)","v":""}]
[null,null,null,null,null,null,null,null,null,null,null,null,{"$f":"IF(①データ登録!A467=\"\",\"\",①データ登録!A467)","v":""},{"$f":"IF(①データ登録!B467=\"\",\"\",①データ登録!B467)","v":""},{"$f":"IF(①データ登録!C467=\"\",\"\",①データ登録!C467)","v":""}]
[null,null,null,null,null,null,null,null,null,null,null,null,{"$f":"IF(①データ登録!A468=\"\",\"\",①データ登録!A468)","v":""},{"$f":"IF(①データ登録!B468=\"\",\"\",①データ登録!B468)","v":""},{"$f":"IF(①データ登録!C468=\"\",\"\",①データ登録!C468)","v":""}]
[null,null,null,null,null,null,null,null,null,null,null,null,{"$f":"IF(①データ登録!A469=\"\",\"\",①データ登録!A469)","v":""},{"$f":"IF(①データ登録!B469=\"\",\"\",①データ登録!B469)","v":""},{"$f":"IF(①データ登録!C469=\"\",\"\",①データ登録!C469)","v":""}]
[null,null,null,null,null,null,null,null,null,null,null,null,{"$f":"IF(①データ登録!A470=\"\",\"\",①データ登録!A470)","v":""},{"$f":"IF(①データ登録!B470=\"\",\"\",①データ登録!B470)","v":""},{"$f":"IF(①データ登録!C470=\"\",\"\",①データ登録!C470)","v":""}]
[null,null,null,null,null,null,null,null,null,null,null,null,{"$f":"IF(①データ登録!A471=\"\",\"\",①データ登録!A471)","v":""},{"$f":"IF(①データ登録!B471=\"\",\"\",①データ登録!B471)","v":""},{"$f":"IF(①データ登録!C471=\"\",\"\",①データ登録!C471)","v":""}]
[null,null,null,null,null,null,null,null,null,null,null,null,{"$f":"IF(①データ登録!A472=\"\",\"\",①データ登録!A472)","v":""},{"$f":"IF(①データ登録!B472=\"\",\"\",①データ登録!B472)","v":""},{"$f":"IF(①データ登録!C472=\"\",\"\",①データ登録!C472)","v":""}]
[null,null,null,null,null,null,null,null,null,null,null,null,{"$f":"IF(①データ登録!A473=\"\",\"\",①データ登録!A473)","v":""},{"$f":"IF(①データ登録!B473=\"\",\"\",①データ登録!B473)","v":""},{"$f":"IF(①データ登録!C473=\"\",\"\",①データ登録!C473)","v":""}]
[null,null,null,null,null,null,null,null,null,null,null,null,{"$f":"IF(①データ登録!A474=\"\",\"\",①データ登録!A474)","v":""},{"$f":"IF(①データ登録!B474=\"\",\"\",①データ登録!B474)","v":""},{"$f":"IF(①データ登録!C474=\"\",\"\",①データ登録!C474)","v":""}]
[null,null,null,null,null,null,null,null,null,null,null,null,{"$f":"IF(①データ登録!A475=\"\",\"\",①データ登録!A475)","v":""},{"$f":"IF(①データ登録!B475=\"\",\"\",①データ登録!B475)","v":""},{"$f":"IF(①データ登録!C475=\"\",\"\",①データ登録!C475)","v":""}]
[null,null,null,null,null,null,null,null,null,null,null,null,{"$f":"IF(①データ登録!A476=\"\",\"\",①データ登録!A476)","v":""},{"$f":"IF(①データ登録!B476=\"\",\"\",①データ登録!B476)","v":""},{"$f":"IF(①データ登録!C476=\"\",\"\",①データ登録!C476)","v":""}]
[null,null,null,null,null,null,null,null,null,null,null,null,{"$f":"IF(①データ登録!A477=\"\",\"\",①データ登録!A477)","v":""},{"$f":"IF(①データ登録!B477=\"\",\"\",①データ登録!B477)","v":""},{"$f":"IF(①データ登録!C477=\"\",\"\",①データ登録!C477)","v":""}]
[null,null,null,null,null,null,null,null,null,null,null,null,{"$f":"IF(①データ登録!A478=\"\",\"\",①データ登録!A478)","v":""},{"$f":"IF(①データ登録!B478=\"\",\"\",①データ登録!B478)","v":""},{"$f":"IF(①データ登録!C478=\"\",\"\",①データ登録!C478)","v":""}]
[null,null,null,null,null,null,null,null,null,null,null,null,{"$f":"IF(①データ登録!A479=\"\",\"\",①データ登録!A479)","v":""},{"$f":"IF(①データ登録!B479=\"\",\"\",①データ登録!B479)","v":""},{"$f":"IF(①データ登録!C479=\"\",\"\",①データ登録!C479)","v":""}]
[null,null,null,null,null,null,null,null,null,null,null,null,{"$f":"IF(①データ登録!A480=\"\",\"\",①データ登録!A480)","v":""},{"$f":"IF(①データ登録!B480=\"\",\"\",①データ登録!B480)","v":""},{"$f":"IF(①データ登録!C480=\"\",\"\",①データ登録!C480)","v":""}]
[null,null,null,null,null,null,null,null,null,null,null,null,{"$f":"IF(①データ登録!A481=\"\",\"\",①データ登録!A481)","v":""},{"$f":"IF(①データ登録!B481=\"\",\"\",①データ登録!B481)","v":""},{"$f":"IF(①データ登録!C481=\"\",\"\",①データ登録!C481)","v":""}]
[null,null,null,null,null,null,null,null,null,null,null,null,{"$f":"IF(①データ登録!A482=\"\",\"\",①データ登録!A482)","v":""},{"$f":"IF(①データ登録!B482=\"\",\"\",①データ登録!B482)","v":""},{"$f":"IF(①データ登録!C482=\"\",\"\",①データ登録!C482)","v":""}]
[null,null,null,null,null,null,null,null,null,null,null,null,{"$f":"IF(①データ登録!A483=\"\",\"\",①データ登録!A483)","v":""},{"$f":"IF(①データ登録!B483=\"\",\"\",①データ登録!B483)","v":""},{"$f":"IF(①データ登録!C483=\"\",\"\",①データ登録!C483)","v":""}]
[null,null,null,null,null,null,null,null,null,null,null,null,{"$f":"IF(①データ登録!A484=\"\",\"\",①データ登録!A484)","v":""},{"$f":"IF(①データ登録!B484=\"\",\"\",①データ登録!B484)","v":""},{"$f":"IF(①データ登録!C484=\"\",\"\",①データ登録!C484)","v":""}]
[null,null,null,null,null,null,null,null,null,null,null,null,{"$f":"IF(①データ登録!A485=\"\",\"\",①データ登録!A485)","v":""},{"$f":"IF(①データ登録!B485=\"\",\"\",①データ登録!B485)","v":""},{"$f":"IF(①データ登録!C485=\"\",\"\",①データ登録!C485)","v":""}]
[null,null,null,null,null,null,null,null,null,null,null,null,{"$f":"IF(①データ登録!A486=\"\",\"\",①データ登録!A486)","v":""},{"$f":"IF(①データ登録!B486=\"\",\"\",①データ登録!B486)","v":""},{"$f":"IF(①データ登録!C486=\"\",\"\",①データ登録!C486)","v":""}]
[null,null,null,null,null,null,null,null,null,null,null,null,{"$f":"IF(①データ登録!A487=\"\",\"\",①データ登録!A487)","v":""},{"$f":"IF(①データ登録!B487=\"\",\"\",①データ登録!B487)","v":""},{"$f":"IF(①データ登録!C487=\"\",\"\",①データ登録!C487)","v":""}]
[null,null,null,null,null,null,null,null,null,null,null,null,{"$f":"IF(①データ登録!A488=\"\",\"\",①データ登録!A488)","v":""},{"$f":"IF(①データ登録!B488=\"\",\"\",①データ登録!B488)","v":""},{"$f":"IF(①データ登録!C488=\"\",\"\",①データ登録!C488)","v":""}]
[null,null,null,null,null,null,null,null,null,null,null,null,{"$f":"IF(①データ登録!A489=\"\",\"\",①データ登録!A489)","v":""},{"$f":"IF(①データ登録!B489=\"\",\"\",①データ登録!B489)","v":""},{"$f":"IF(①データ登録!C489=\"\",\"\",①データ登録!C489)","v":""}]
[null,null,null,null,null,null,null,null,null,null,null,null,{"$f":"IF(①データ登録!A490=\"\",\"\",①データ登録!A490)","v":""},{"$f":"IF(①データ登録!B490=\"\",\"\",①データ登録!B490)","v":""},{"$f":"IF(①データ登録!C490=\"\",\"\",①データ登録!C490)","v":""}]
[null,null,null,null,null,null,null,null,null,null,null,null,{"$f":"IF(①データ登録!A491=\"\",\"\",①データ登録!A491)","v":""},{"$f":"IF(①データ登録!B491=\"\",\"\",①データ登録!B491)","v":""},{"$f":"IF(①データ登録!C491=\"\",\"\",①データ登録!C491)","v":""}]
[null,null,null,null,null,null,null,null,null,null,null,null,{"$f":"IF(①データ登録!A492=\"\",\"\",①データ登録!A492)","v":""},{"$f":"IF(①データ登録!B492=\"\",\"\",①データ登録!B492)","v":""},{"$f":"IF(①データ登録!C492=\"\",\"\",①データ登録!C492)","v":""}]
[null,null,null,null,null,null,null,null,null,null,null,null,{"$f":"IF(①データ登録!A493=\"\",\"\",①データ登録!A493)","v":""},{"$f":"IF(①データ登録!B493=\"\",\"\",①データ登録!B493)","v":""},{"$f":"IF(①データ登録!C493=\"\",\"\",①データ登録!C493)","v":""}]
[null,null,null,null,null,null,null,null,null,null,null,null,{"$f":"IF(①データ登録!A494=\"\",\"\",①データ登録!A494)","v":""},{"$f":"IF(①データ登録!B494=\"\",\"\",①データ登録!B494)","v":""},{"$f":"IF(①データ登録!C494=\"\",\"\",①データ登録!C494)","v":""}]
[null,null,null,null,null,null,null,null,null,null,null,null,{"$f":"IF(①データ登録!A495=\"\",\"\",①データ登録!A495)","v":""},{"$f":"IF(①データ登録!B495=\"\",\"\",①データ登録!B495)","v":""},{"$f":"IF(①データ登録!C495=\"\",\"\",①データ登録!C495)","v":""}]
[null,null,null,null,null,null,null,null,null,null,null,null,{"$f":"IF(①データ登録!A496=\"\",\"\",①データ登録!A496)","v":""},{"$f":"IF(①データ登録!B496=\"\",\"\",①データ登録!B496)","v":""},{"$f":"IF(①データ登録!C496=\"\",\"\",①データ登録!C496)","v":""}]
[null,null,null,null,null,null,null,null,null,null,null,null,{"$f":"IF(①データ登録!A497=\"\",\"\",①データ登録!A497)","v":""},{"$f":"IF(①データ登録!B497=\"\",\"\",①データ登録!B497)","v":""},{"$f":"IF(①データ登録!C497=\"\",\"\",①データ登録!C497)","v":""}]
[null,null,null,null,null,null,null,null,null,null,null,null,{"$f":"IF(①データ登録!A498=\"\",\"\",①データ登録!A498)","v":""},{"$f":"IF(①データ登録!B498=\"\",\"\",①データ登録!B498)","v":""},{"$f":"IF(①データ登録!C498=\"\",\"\",①データ登録!C498)","v":""}]
[null,null,null,null,null,null,null,null,null,null,null,null,{"$f":"IF(①データ登録!A499=\"\",\"\",①データ登録!A499)","v":""},{"$f":"IF(①データ登録!B499=\"\",\"\",①データ登録!B499)","v":""},{"$f":"IF(①データ登録!C499=\"\",\"\",①データ登録!C499)","v":""}]
[null,null,null,null,null,null,null,null,null,null,null,null,{"$f":"IF(①データ登録!A500=\"\",\"\",①データ登録!A500)","v":""},{"$f":"IF(①データ登録!B500=\"\",\"\",①データ登録!B500)","v":""},{"$f":"IF(①データ登録!C500=\"\",\"\",①データ登録!C500)","v":""}]
[null,null,null,null,null,null,null,null,null,null,null,null,{"$f":"IF(①データ登録!A501=\"\",\"\",①データ登録!A501)","v":""},{"$f":"IF(①データ登録!B501=\"\",\"\",①データ登録!B501)","v":""},{"$f":"IF(①データ登録!C501=\"\",\"\",①データ登録!C501)","v":""}]
[null,null,null,null,null,null,null,null,null,null,null,null,{"$f":"IF(①データ登録!A502=\"\",\"\",①データ登録!A502)","v":""},{"$f":"IF(①データ登録!B502=\"\",\"\",①データ登録!B502)","v":""},{"$f":"IF(①データ登録!C502=\"\",\"\",①データ登録!C502)","v":""}]
[null,null,null,null,null,null,null,null,null,null,null,null,{"$f":"IF(①データ登録!A503=\"\",\"\",①データ登録!A503)","v":""},{"$f":"IF(①データ登録!B503=\"\",\"\",①データ登録!B503)","v":""},{"$f":"IF(①データ登録!C503=\"\",\"\",①データ登録!C503)","v":""}]
[null,null,null,null,null,null,null,null,null,null,null,null,{"$f":"IF(①データ登録!A504=\"\",\"\",①データ登録!A504)","v":""},{"$f":"IF(①データ登録!B504=\"\",\"\",①データ登録!B504)","v":""},{"$f":"IF(①データ登録!C504=\"\",\"\",①データ登録!C504)","v":""}]
[null,null,null,null,null,null,null,null,null,null,null,null,{"$f":"IF(①データ登録!A505=\"\",\"\",①データ登録!A505)","v":""},{"$f":"IF(①データ登録!B505=\"\",\"\",①データ登録!B505)","v":""},{"$f":"IF(①データ登録!C505=\"\",\"\",①データ登録!C505)","v":""}]
[null,null,null,null,null,null,null,null,null,null,null,null,{"$f":"IF(①データ登録!A506=\"\",\"\",①データ登録!A506)","v":""},{"$f":"IF(①データ登録!B506=\"\",\"\",①データ登録!B506)","v":""},{"$f":"IF(①データ登録!C506=\"\",\"\",①データ登録!C506)","v":""}]
[null,null,null,null,null,null,null,null,null,null,null,null,{"$f":"IF(①データ登録!A507=\"\",\"\",①データ登録!A507)","v":""},{"$f":"IF(①データ登録!B507=\"\",\"\",①データ登録!B507)","v":""},{"$f":"IF(①データ登録!C507=\"\",\"\",①データ登録!C507)","v":""}]
[null,null,null,null,null,null,null,null,null,null,null,null,{"$f":"IF(①データ登録!A508=\"\",\"\",①データ登録!A508)","v":""},{"$f":"IF(①データ登録!B508=\"\",\"\",①データ登録!B508)","v":""},{"$f":"IF(①データ登録!C508=\"\",\"\",①データ登録!C508)","v":""}]
[null,null,null,null,null,null,null,null,null,null,null,null,{"$f":"IF(①データ登録!A509=\"\",\"\",①データ登録!A509)","v":""},{"$f":"IF(①データ登録!B509=\"\",\"\",①データ登録!B509)","v":""},{"$f":"IF(①データ登録!C509=\"\",\"\",①データ登録!C509)","v":""}]
[null,null,null,null,null,null,null,null,null,null,null,null,{"$f":"IF(①データ登録!A510=\"\",\"\",①データ登録!A510)","v":""},{"$f":"IF(①データ登録!B510=\"\",\"\",①データ登録!B510)","v":""},{"$f":"IF(①データ登録!C510=\"\",\"\",①データ登録!C510)","v":""}]
[null,null,null,null,null,null,null,null,null,null,null,null,{"$f":"IF(①データ登録!A511=\"\",\"\",①データ登録!A511)","v":""},{"$f":"IF(①データ登録!B511=\"\",\"\",①データ登録!B511)","v":""},{"$f":"IF(①データ登録!C511=\"\",\"\",①データ登録!C511)","v":""}]
[null,null,null,null,null,null,null,null,null,null,null,null,{"$f":"IF(①データ登録!A512=\"\",\"\",①データ登録!A512)","v":""},{"$f":"IF(①データ登録!B512=\"\",\"\",①データ登録!B512)","v":""},{"$f":"IF(①データ登録!C512=\"\",\"\",①データ登録!C512)","v":""}]
[null,null,null,null,null,null,null,null,null,null,null,null,{"$f":"IF(①データ登録!A513=\"\",\"\",①データ登録!A513)","v":""},{"$f":"IF(①データ登録!B513=\"\",\"\",①データ登録!B513)","v":""},{"$f":"IF(①データ登録!C513=\"\",\"\",①データ登録!C513)","v":""}]
[null,null,null,null,null,null,null,null,null,null,null,null,{"$f":"IF(①データ登録!A514=\"\",\"\",①データ登録!A514)","v":""},{"$f":"IF(①データ登録!B514=\"\",\"\",①データ登録!B514)","v":""},{"$f":"IF(①データ登録!C514=\"\",\"\",①データ登録!C514)","v":""}]
[null,null,null,null,null,null,null,null,null,null,null,null,{"$f":"IF(①データ登録!A515=\"\",\"\",①データ登録!A515)","v":""},{"$f":"IF(①データ登録!B515=\"\",\"\",①データ登録!B515)","v":""},{"$f":"IF(①データ登録!C515=\"\",\"\",①データ登録!C515)","v":""}]
[null,null,null,null,null,null,null,null,null,null,null,null,{"$f":"IF(①データ登録!A516=\"\",\"\",①データ登録!A516)","v":""},{"$f":"IF(①データ登録!B516=\"\",\"\",①データ登録!B516)","v":""},{"$f":"IF(①データ登録!C516=\"\",\"\",①データ登録!C516)","v":""}]
[null,null,null,null,null,null,null,null,null,null,null,null,{"$f":"IF(①データ登録!A517=\"\",\"\",①データ登録!A517)","v":""},{"$f":"IF(①データ登録!B517=\"\",\"\",①データ登録!B517)","v":""},{"$f":"IF(①データ登録!C517=\"\",\"\",①データ登録!C517)","v":""}]
[null,null,null,null,null,null,null,null,null,null,null,null,{"$f":"IF(①データ登録!A518=\"\",\"\",①データ登録!A518)","v":""},{"$f":"IF(①データ登録!B518=\"\",\"\",①データ登録!B518)","v":""},{"$f":"IF(①データ登録!C518=\"\",\"\",①データ登録!C518)","v":""}]
[null,null,null,null,null,null,null,null,null,null,null,null,{"$f":"IF(①データ登録!A519=\"\",\"\",①データ登録!A519)","v":""},{"$f":"IF(①データ登録!B519=\"\",\"\",①データ登録!B519)","v":""},{"$f":"IF(①データ登録!C519=\"\",\"\",①データ登録!C519)","v":""}]
[null,null,null,null,null,null,null,null,null,null,null,null,{"$f":"IF(①データ登録!A520=\"\",\"\",①データ登録!A520)","v":""},{"$f":"IF(①データ登録!B520=\"\",\"\",①データ登録!B520)","v":""},{"$f":"IF(①データ登録!C520=\"\",\"\",①データ登録!C520)","v":""}]
[null,null,null,null,null,null,null,null,null,null,null,null,{"$f":"IF(①データ登録!A521=\"\",\"\",①データ登録!A521)","v":""},{"$f":"IF(①データ登録!B521=\"\",\"\",①データ登録!B521)","v":""},{"$f":"IF(①データ登録!C521=\"\",\"\",①データ登録!C521)","v":""}]
[null,null,null,null,null,null,null,null,null,null,null,null,{"$f":"IF(①データ登録!A522=\"\",\"\",①データ登録!A522)","v":""},{"$f":"IF(①データ登録!B522=\"\",\"\",①データ登録!B522)","v":""},{"$f":"IF(①データ登録!C522=\"\",\"\",①データ登録!C522)","v":""}]
[null,null,null,null,null,null,null,null,null,null,null,null,{"$f":"IF(①データ登録!A523=\"\",\"\",①データ登録!A523)","v":""},{"$f":"IF(①データ登録!B523=\"\",\"\",①データ登録!B523)","v":""},{"$f":"IF(①データ登録!C523=\"\",\"\",①データ登録!C523)","v":""}]
[null,null,null,null,null,null,null,null,null,null,null,null,{"$f":"IF(①データ登録!A524=\"\",\"\",①データ登録!A524)","v":""},{"$f":"IF(①データ登録!B524=\"\",\"\",①データ登録!B524)","v":""},{"$f":"IF(①データ登録!C524=\"\",\"\",①データ登録!C524)","v":""}]
[null,null,null,null,null,null,null,null,null,null,null,null,{"$f":"IF(①データ登録!A525=\"\",\"\",①データ登録!A525)","v":""},{"$f":"IF(①データ登録!B525=\"\",\"\",①データ登録!B525)","v":""},{"$f":"IF(①データ登録!C525=\"\",\"\",①データ登録!C525)","v":""}]
[null,null,null,null,null,null,null,null,null,null,null,null,{"$f":"IF(①データ登録!A526=\"\",\"\",①データ登録!A526)","v":""},{"$f":"IF(①データ登録!B526=\"\",\"\",①データ登録!B526)","v":""},{"$f":"IF(①データ登録!C526=\"\",\"\",①データ登録!C526)","v":""}]
[null,null,null,null,null,null,null,null,null,null,null,null,{"$f":"IF(①データ登録!A527=\"\",\"\",①データ登録!A527)","v":""},{"$f":"IF(①データ登録!B527=\"\",\"\",①データ登録!B527)","v":""},{"$f":"IF(①データ登録!C527=\"\",\"\",①データ登録!C527)","v":""}]
[null,null,null,null,null,null,null,null,null,null,null,null,{"$f":"IF(①データ登録!A528=\"\",\"\",①データ登録!A528)","v":""},{"$f":"IF(①データ登録!B528=\"\",\"\",①データ登録!B528)","v":""},{"$f":"IF(①データ登録!C528=\"\",\"\",①データ登録!C528)","v":""}]
[null,null,null,null,null,null,null,null,null,null,null,null,{"$f":"IF(①データ登録!A529=\"\",\"\",①データ登録!A529)","v":""},{"$f":"IF(①データ登録!B529=\"\",\"\",①データ登録!B529)","v":""},{"$f":"IF(①データ登録!C529=\"\",\"\",①データ登録!C529)","v":""}]
[null,null,null,null,null,null,null,null,null,null,null,null,{"$f":"IF(①データ登録!A530=\"\",\"\",①データ登録!A530)","v":""},{"$f":"IF(①データ登録!B530=\"\",\"\",①データ登録!B530)","v":""},{"$f":"IF(①データ登録!C530=\"\",\"\",①データ登録!C530)","v":""}]
[null,null,null,null,null,null,null,null,null,null,null,null,{"$f":"IF(①データ登録!A531=\"\",\"\",①データ登録!A531)","v":""},{"$f":"IF(①データ登録!B531=\"\",\"\",①データ登録!B531)","v":""},{"$f":"IF(①データ登録!C531=\"\",\"\",①データ登録!C531)","v":""}]
[null,null,null,null,null,null,null,null,null,null,null,null,{"$f":"IF(①データ登録!A532=\"\",\"\",①データ登録!A532)","v":""},{"$f":"IF(①データ登録!B532=\"\",\"\",①データ登録!B532)","v":""},{"$f":"IF(①データ登録!C532=\"\",\"\",①データ登録!C532)","v":""}]
[null,null,null,null,null,null,null,null,null,null,null,null,{"$f":"IF(①データ登録!A533=\"\",\"\",①データ登録!A533)","v":""},{"$f":"IF(①データ登録!B533=\"\",\"\",①データ登録!B533)","v":""},{"$f":"IF(①データ登録!C533=\"\",\"\",①データ登録!C533)","v":""}]
[null,null,null,null,null,null,null,null,null,null,null,null,{"$f":"IF(①データ登録!A534=\"\",\"\",①データ登録!A534)","v":""},{"$f":"IF(①データ登録!B534=\"\",\"\",①データ登録!B534)","v":""},{"$f":"IF(①データ登録!C534=\"\",\"\",①データ登録!C534)","v":""}]
[null,null,null,null,null,null,null,null,null,null,null,null,{"$f":"IF(①データ登録!A535=\"\",\"\",①データ登録!A535)","v":""},{"$f":"IF(①データ登録!B535=\"\",\"\",①データ登録!B535)","v":""},{"$f":"IF(①データ登録!C535=\"\",\"\",①データ登録!C535)","v":""}]
[null,null,null,null,null,null,null,null,null,null,null,null,{"$f":"IF(①データ登録!A536=\"\",\"\",①データ登録!A536)","v":""},{"$f":"IF(①データ登録!B536=\"\",\"\",①データ登録!B536)","v":""},{"$f":"IF(①データ登録!C536=\"\",\"\",①データ登録!C536)","v":""}]
[null,null,null,null,null,null,null,null,null,null,null,null,{"$f":"IF(①データ登録!A537=\"\",\"\",①データ登録!A537)","v":""},{"$f":"IF(①データ登録!B537=\"\",\"\",①データ登録!B537)","v":""},{"$f":"IF(①データ登録!C537=\"\",\"\",①データ登録!C537)","v":""}]
[null,null,null,null,null,null,null,null,null,null,null,null,{"$f":"IF(①データ登録!A538=\"\",\"\",①データ登録!A538)","v":""},{"$f":"IF(①データ登録!B538=\"\",\"\",①データ登録!B538)","v":""},{"$f":"IF(①データ登録!C538=\"\",\"\",①データ登録!C538)","v":""}]
[null,null,null,null,null,null,null,null,null,null,null,null,{"$f":"IF(①データ登録!A539=\"\",\"\",①データ登録!A539)","v":""},{"$f":"IF(①データ登録!B539=\"\",\"\",①データ登録!B539)","v":""},{"$f":"IF(①データ登録!C539=\"\",\"\",①データ登録!C539)","v":""}]
[null,null,null,null,null,null,null,null,null,null,null,null,{"$f":"IF(①データ登録!A540=\"\",\"\",①データ登録!A540)","v":""},{"$f":"IF(①データ登録!B540=\"\",\"\",①データ登録!B540)","v":""},{"$f":"IF(①データ登録!C540=\"\",\"\",①データ登録!C540)","v":""}]
[null,null,null,null,null,null,null,null,null,null,null,null,{"$f":"IF(①データ登録!A541=\"\",\"\",①データ登録!A541)","v":""},{"$f":"IF(①データ登録!B541=\"\",\"\",①データ登録!B541)","v":""},{"$f":"IF(①データ登録!C541=\"\",\"\",①データ登録!C541)","v":""}]
[null,null,null,null,null,null,null,null,null,null,null,null,{"$f":"IF(①データ登録!A542=\"\",\"\",①データ登録!A542)","v":""},{"$f":"IF(①データ登録!B542=\"\",\"\",①データ登録!B542)","v":""},{"$f":"IF(①データ登録!C542=\"\",\"\",①データ登録!C542)","v":""}]
[null,null,null,null,null,null,null,null,null,null,null,null,{"$f":"IF(①データ登録!A543=\"\",\"\",①データ登録!A543)","v":""},{"$f":"IF(①データ登録!B543=\"\",\"\",①データ登録!B543)","v":""},{"$f":"IF(①データ登録!C543=\"\",\"\",①データ登録!C543)","v":""}]
[null,null,null,null,null,null,null,null,null,null,null,null,{"$f":"IF(①データ登録!A544=\"\",\"\",①データ登録!A544)","v":""},{"$f":"IF(①データ登録!B544=\"\",\"\",①データ登録!B544)","v":""},{"$f":"IF(①データ登録!C544=\"\",\"\",①データ登録!C544)","v":""}]
[null,null,null,null,null,null,null,null,null,null,null,null,{"$f":"IF(①データ登録!A545=\"\",\"\",①データ登録!A545)","v":""},{"$f":"IF(①データ登録!B545=\"\",\"\",①データ登録!B545)","v":""},{"$f":"IF(①データ登録!C545=\"\",\"\",①データ登録!C545)","v":""}]
[null,null,null,null,null,null,null,null,null,null,null,null,{"$f":"IF(①データ登録!A546=\"\",\"\",①データ登録!A546)","v":""},{"$f":"IF(①データ登録!B546=\"\",\"\",①データ登録!B546)","v":""},{"$f":"IF(①データ登録!C546=\"\",\"\",①データ登録!C546)","v":""}]
[null,null,null,null,null,null,null,null,null,null,null,null,{"$f":"IF(①データ登録!A547=\"\",\"\",①データ登録!A547)","v":""},{"$f":"IF(①データ登録!B547=\"\",\"\",①データ登録!B547)","v":""},{"$f":"IF(①データ登録!C547=\"\",\"\",①データ登録!C547)","v":""}]
[null,null,null,null,null,null,null,null,null,null,null,null,{"$f":"IF(①データ登録!A548=\"\",\"\",①データ登録!A548)","v":""},{"$f":"IF(①データ登録!B548=\"\",\"\",①データ登録!B548)","v":""},{"$f":"IF(①データ登録!C548=\"\",\"\",①データ登録!C548)","v":""}]
[null,null,null,null,null,null,null,null,null,null,null,null,{"$f":"IF(①データ登録!A549=\"\",\"\",①データ登録!A549)","v":""},{"$f":"IF(①データ登録!B549=\"\",\"\",①データ登録!B549)","v":""},{"$f":"IF(①データ登録!C549=\"\",\"\",①データ登録!C549)","v":""}]
[null,null,null,null,null,null,null,null,null,null,null,null,{"$f":"IF(①データ登録!A550=\"\",\"\",①データ登録!A550)","v":""},{"$f":"IF(①データ登録!B550=\"\",\"\",①データ登録!B550)","v":""},{"$f":"IF(①データ登録!C550=\"\",\"\",①データ登録!C550)","v":""}]
[null,null,null,null,null,null,null,null,null,null,null,null,{"$f":"IF(①データ登録!A551=\"\",\"\",①データ登録!A551)","v":""},{"$f":"IF(①データ登録!B551=\"\",\"\",①データ登録!B551)","v":""},{"$f":"IF(①データ登録!C551=\"\",\"\",①データ登録!C551)","v":""}]
[null,null,null,null,null,null,null,null,null,null,null,null,{"$f":"IF(①データ登録!A552=\"\",\"\",①データ登録!A552)","v":""},{"$f":"IF(①データ登録!B552=\"\",\"\",①データ登録!B552)","v":""},{"$f":"IF(①データ登録!C552=\"\",\"\",①データ登録!C552)","v":""}]
[null,null,null,null,null,null,null,null,null,null,null,null,{"$f":"IF(①データ登録!A553=\"\",\"\",①データ登録!A553)","v":""},{"$f":"IF(①データ登録!B553=\"\",\"\",①データ登録!B553)","v":""},{"$f":"IF(①データ登録!C553=\"\",\"\",①データ登録!C553)","v":""}]
[null,null,null,null,null,null,null,null,null,null,null,null,{"$f":"IF(①データ登録!A554=\"\",\"\",①データ登録!A554)","v":""},{"$f":"IF(①データ登録!B554=\"\",\"\",①データ登録!B554)","v":""},{"$f":"IF(①データ登録!C554=\"\",\"\",①データ登録!C554)","v":""}]
[null,null,null,null,null,null,null,null,null,null,null,null,{"$f":"IF(①データ登録!A555=\"\",\"\",①データ登録!A555)","v":""},{"$f":"IF(①データ登録!B555=\"\",\"\",①データ登録!B555)","v":""},{"$f":"IF(①データ登録!C555=\"\",\"\",①データ登録!C555)","v":""}]
[null,null,null,null,null,null,null,null,null,null,null,null,{"$f":"IF(①データ登録!A556=\"\",\"\",①データ登録!A556)","v":""},{"$f":"IF(①データ登録!B556=\"\",\"\",①データ登録!B556)","v":""},{"$f":"IF(①データ登録!C556=\"\",\"\",①データ登録!C556)","v":""}]
[null,null,null,null,null,null,null,null,null,null,null,null,{"$f":"IF(①データ登録!A557=\"\",\"\",①データ登録!A557)","v":""},{"$f":"IF(①データ登録!B557=\"\",\"\",①データ登録!B557)","v":""},{"$f":"IF(①データ登録!C557=\"\",\"\",①データ登録!C557)","v":""}]
[null,null,null,null,null,null,null,null,null,null,null,null,{"$f":"IF(①データ登録!A558=\"\",\"\",①データ登録!A558)","v":""},{"$f":"IF(①データ登録!B558=\"\",\"\",①データ登録!B558)","v":""},{"$f":"IF(①データ登録!C558=\"\",\"\",①データ登録!C558)","v":""}]
[null,null,null,null,null,null,null,null,null,null,null,null,{"$f":"IF(①データ登録!A559=\"\",\"\",①データ登録!A559)","v":""},{"$f":"IF(①データ登録!B559=\"\",\"\",①データ登録!B559)","v":""},{"$f":"IF(①データ登録!C559=\"\",\"\",①データ登録!C559)","v":""}]
[null,null,null,null,null,null,null,null,null,null,null,null,{"$f":"IF(①データ登録!A560=\"\",\"\",①データ登録!A560)","v":""},{"$f":"IF(①データ登録!B560=\"\",\"\",①データ登録!B560)","v":""},{"$f":"IF(①データ登録!C560=\"\",\"\",①データ登録!C560)","v":""}]
[null,null,null,null,null,null,null,null,null,null,null,null,{"$f":"IF(①データ登録!A561=\"\",\"\",①データ登録!A561)","v":""},{"$f":"IF(①データ登録!B561=\"\",\"\",①データ登録!B561)","v":""},{"$f":"IF(①データ登録!C561=\"\",\"\",①データ登録!C561)","v":""}]
[null,null,null,null,null,null,null,null,null,null,null,null,{"$f":"IF(①データ登録!A562=\"\",\"\",①データ登録!A562)","v":""},{"$f":"IF(①データ登録!B562=\"\",\"\",①データ登録!B562)","v":""},{"$f":"IF(①データ登録!C562=\"\",\"\",①データ登録!C562)","v":""}]
[null,null,null,null,null,null,null,null,null,null,null,null,{"$f":"IF(①データ登録!A563=\"\",\"\",①データ登録!A563)","v":""},{"$f":"IF(①データ登録!B563=\"\",\"\",①データ登録!B563)","v":""},{"$f":"IF(①データ登録!C563=\"\",\"\",①データ登録!C563)","v":""}]
[null,null,null,null,null,null,null,null,null,null,null,null,{"$f":"IF(①データ登録!A564=\"\",\"\",①データ登録!A564)","v":""},{"$f":"IF(①データ登録!B564=\"\",\"\",①データ登録!B564)","v":""},{"$f":"IF(①データ登録!C564=\"\",\"\",①データ登録!C564)","v":""}]
[null,null,null,null,null,null,null,null,null,null,null,null,{"$f":"IF(①データ登録!A565=\"\",\"\",①データ登録!A565)","v":""},{"$f":"IF(①データ登録!B565=\"\",\"\",①データ登録!B565)","v":""},{"$f":"IF(①データ登録!C565=\"\",\"\",①データ登録!C565)","v":""}]
[null,null,null,null,null,null,null,null,null,null,null,null,{"$f":"IF(①データ登録!A566=\"\",\"\",①データ登録!A566)","v":""},{"$f":"IF(①データ登録!B566=\"\",\"\",①データ登録!B566)","v":""},{"$f":"IF(①データ登録!C566=\"\",\"\",①データ登録!C566)","v":""}]
[null,null,null,null,null,null,null,null,null,null,null,null,{"$f":"IF(①データ登録!A567=\"\",\"\",①データ登録!A567)","v":""},{"$f":"IF(①データ登録!B567=\"\",\"\",①データ登録!B567)","v":""},{"$f":"IF(①データ登録!C567=\"\",\"\",①データ登録!C567)","v":""}]
[null,null,null,null,null,null,null,null,null,null,null,null,{"$f":"IF(①データ登録!A568=\"\",\"\",①データ登録!A568)","v":""},{"$f":"IF(①データ登録!B568=\"\",\"\",①データ登録!B568)","v":""},{"$f":"IF(①データ登録!C568=\"\",\"\",①データ登録!C568)","v":""}]
[null,null,null,null,null,null,null,null,null,null,null,null,{"$f":"IF(①データ登録!A569=\"\",\"\",①データ登録!A569)","v":""},{"$f":"IF(①データ登録!B569=\"\",\"\",①データ登録!B569)","v":""},{"$f":"IF(①データ登録!C569=\"\",\"\",①データ登録!C569)","v":""}]
[null,null,null,null,null,null,null,null,null,null,null,null,{"$f":"IF(①データ登録!A570=\"\",\"\",①データ登録!A570)","v":""},{"$f":"IF(①データ登録!B570=\"\",\"\",①データ登録!B570)","v":""},{"$f":"IF(①データ登録!C570=\"\",\"\",①データ登録!C570)","v":""}]
[null,null,null,null,null,null,null,null,null,null,null,null,{"$f":"IF(①データ登録!A571=\"\",\"\",①データ登録!A571)","v":""},{"$f":"IF(①データ登録!B571=\"\",\"\",①データ登録!B571)","v":""},{"$f":"IF(①データ登録!C571=\"\",\"\",①データ登録!C571)","v":""}]
[null,null,null,null,null,null,null,null,null,null,null,null,{"$f":"IF(①データ登録!A572=\"\",\"\",①データ登録!A572)","v":""},{"$f":"IF(①データ登録!B572=\"\",\"\",①データ登録!B572)","v":""},{"$f":"IF(①データ登録!C572=\"\",\"\",①データ登録!C572)","v":""}]
[null,null,null,null,null,null,null,null,null,null,null,null,{"$f":"IF(①データ登録!A573=\"\",\"\",①データ登録!A573)","v":""},{"$f":"IF(①データ登録!B573=\"\",\"\",①データ登録!B573)","v":""},{"$f":"IF(①データ登録!C573=\"\",\"\",①データ登録!C573)","v":""}]
[null,null,null,null,null,null,null,null,null,null,null,null,{"$f":"IF(①データ登録!A574=\"\",\"\",①データ登録!A574)","v":""},{"$f":"IF(①データ登録!B574=\"\",\"\",①データ登録!B574)","v":""},{"$f":"IF(①データ登録!C574=\"\",\"\",①データ登録!C574)","v":""}]
[null,null,null,null,null,null,null,null,null,null,null,null,{"$f":"IF(①データ登録!A575=\"\",\"\",①データ登録!A575)","v":""},{"$f":"IF(①データ登録!B575=\"\",\"\",①データ登録!B575)","v":""},{"$f":"IF(①データ登録!C575=\"\",\"\",①データ登録!C575)","v":""}]
[null,null,null,null,null,null,null,null,null,null,null,null,{"$f":"IF(①データ登録!A576=\"\",\"\",①データ登録!A576)","v":""},{"$f":"IF(①データ登録!B576=\"\",\"\",①データ登録!B576)","v":""},{"$f":"IF(①データ登録!C576=\"\",\"\",①データ登録!C576)","v":""}]
[null,null,null,null,null,null,null,null,null,null,null,null,{"$f":"IF(①データ登録!A577=\"\",\"\",①データ登録!A577)","v":""},{"$f":"IF(①データ登録!B577=\"\",\"\",①データ登録!B577)","v":""},{"$f":"IF(①データ登録!C577=\"\",\"\",①データ登録!C577)","v":""}]
[null,null,null,null,null,null,null,null,null,null,null,null,{"$f":"IF(①データ登録!A578=\"\",\"\",①データ登録!A578)","v":""},{"$f":"IF(①データ登録!B578=\"\",\"\",①データ登録!B578)","v":""},{"$f":"IF(①データ登録!C578=\"\",\"\",①データ登録!C578)","v":""}]
[null,null,null,null,null,null,null,null,null,null,null,null,{"$f":"IF(①データ登録!A579=\"\",\"\",①データ登録!A579)","v":""},{"$f":"IF(①データ登録!B579=\"\",\"\",①データ登録!B579)","v":""},{"$f":"IF(①データ登録!C579=\"\",\"\",①データ登録!C579)","v":""}]
[null,null,null,null,null,null,null,null,null,null,null,null,{"$f":"IF(①データ登録!A580=\"\",\"\",①データ登録!A580)","v":""},{"$f":"IF(①データ登録!B580=\"\",\"\",①データ登録!B580)","v":""},{"$f":"IF(①データ登録!C580=\"\",\"\",①データ登録!C580)","v":""}]
[null,null,null,null,null,null,null,null,null,null,null,null,{"$f":"IF(①データ登録!A581=\"\",\"\",①データ登録!A581)","v":""},{"$f":"IF(①データ登録!B581=\"\",\"\",①データ登録!B581)","v":""},{"$f":"IF(①データ登録!C581=\"\",\"\",①データ登録!C581)","v":""}]
[null,null,null,null,null,null,null,null,null,null,null,null,{"$f":"IF(①データ登録!A582=\"\",\"\",①データ登録!A582)","v":""},{"$f":"IF(①データ登録!B582=\"\",\"\",①データ登録!B582)","v":""},{"$f":"IF(①データ登録!C582=\"\",\"\",①データ登録!C582)","v":""}]
[null,null,null,null,null,null,null,null,null,null,null,null,{"$f":"IF(①データ登録!A583=\"\",\"\",①データ登録!A583)","v":""},{"$f":"IF(①データ登録!B583=\"\",\"\",①データ登録!B583)","v":""},{"$f":"IF(①データ登録!C583=\"\",\"\",①データ登録!C583)","v":""}]
[null,null,null,null,null,null,null,null,null,null,null,null,{"$f":"IF(①データ登録!A584=\"\",\"\",①データ登録!A584)","v":""},{"$f":"IF(①データ登録!B584=\"\",\"\",①データ登録!B584)","v":""},{"$f":"IF(①データ登録!C584=\"\",\"\",①データ登録!C584)","v":""}]
[null,null,null,null,null,null,null,null,null,null,null,null,{"$f":"IF(①データ登録!A585=\"\",\"\",①データ登録!A585)","v":""},{"$f":"IF(①データ登録!B585=\"\",\"\",①データ登録!B585)","v":""},{"$f":"IF(①データ登録!C585=\"\",\"\",①データ登録!C585)","v":""}]
[null,null,null,null,null,null,null,null,null,null,null,null,{"$f":"IF(①データ登録!A586=\"\",\"\",①データ登録!A586)","v":""},{"$f":"IF(①データ登録!B586=\"\",\"\",①データ登録!B586)","v":""},{"$f":"IF(①データ登録!C586=\"\",\"\",①データ登録!C586)","v":""}]
[null,null,null,null,null,null,null,null,null,null,null,null,{"$f":"IF(①データ登録!A587=\"\",\"\",①データ登録!A587)","v":""},{"$f":"IF(①データ登録!B587=\"\",\"\",①データ登録!B587)","v":""},{"$f":"IF(①データ登録!C587=\"\",\"\",①データ登録!C587)","v":""}]
[null,null,null,null,null,null,null,null,null,null,null,null,{"$f":"IF(①データ登録!A588=\"\",\"\",①データ登録!A588)","v":""},{"$f":"IF(①データ登録!B588=\"\",\"\",①データ登録!B588)","v":""},{"$f":"IF(①データ登録!C588=\"\",\"\",①データ登録!C588)","v":""}]
[null,null,null,null,null,null,null,null,null,null,null,null,{"$f":"IF(①データ登録!A589=\"\",\"\",①データ登録!A589)","v":""},{"$f":"IF(①データ登録!B589=\"\",\"\",①データ登録!B589)","v":""},{"$f":"IF(①データ登録!C589=\"\",\"\",①データ登録!C589)","v":""}]
[null,null,null,null,null,null,null,null,null,null,null,null,{"$f":"IF(①データ登録!A590=\"\",\"\",①データ登録!A590)","v":""},{"$f":"IF(①データ登録!B590=\"\",\"\",①データ登録!B590)","v":""},{"$f":"IF(①データ登録!C590=\"\",\"\",①データ登録!C590)","v":""}]
[null,null,null,null,null,null,null,null,null,null,null,null,{"$f":"IF(①データ登録!A591=\"\",\"\",①データ登録!A591)","v":""},{"$f":"IF(①データ登録!B591=\"\",\"\",①データ登録!B591)","v":""},{"$f":"IF(①データ登録!C591=\"\",\"\",①データ登録!C591)","v":""}]
[null,null,null,null,null,null,null,null,null,null,null,null,{"$f":"IF(①データ登録!A592=\"\",\"\",①データ登録!A592)","v":""},{"$f":"IF(①データ登録!B592=\"\",\"\",①データ登録!B592)","v":""},{"$f":"IF(①データ登録!C592=\"\",\"\",①データ登録!C592)","v":""}]
[null,null,null,null,null,null,null,null,null,null,null,null,{"$f":"IF(①データ登録!A593=\"\",\"\",①データ登録!A593)","v":""},{"$f":"IF(①データ登録!B593=\"\",\"\",①データ登録!B593)","v":""},{"$f":"IF(①データ登録!C593=\"\",\"\",①データ登録!C593)","v":""}]
[null,null,null,null,null,null,null,null,null,null,null,null,{"$f":"IF(①データ登録!A594=\"\",\"\",①データ登録!A594)","v":""},{"$f":"IF(①データ登録!B594=\"\",\"\",①データ登録!B594)","v":""},{"$f":"IF(①データ登録!C594=\"\",\"\",①データ登録!C594)","v":""}]
[null,null,null,null,null,null,null,null,null,null,null,null,{"$f":"IF(①データ登録!A595=\"\",\"\",①データ登録!A595)","v":""},{"$f":"IF(①データ登録!B595=\"\",\"\",①データ登録!B595)","v":""},{"$f":"IF(①データ登録!C595=\"\",\"\",①データ登録!C595)","v":""}]
[null,null,null,null,null,null,null,null,null,null,null,null,{"$f":"IF(①データ登録!A596=\"\",\"\",①データ登録!A596)","v":""},{"$f":"IF(①データ登録!B596=\"\",\"\",①データ登録!B596)","v":""},{"$f":"IF(①データ登録!C596=\"\",\"\",①データ登録!C596)","v":""}]
[null,null,null,null,null,null,null,null,null,null,null,null,{"$f":"IF(①データ登録!A597=\"\",\"\",①データ登録!A597)","v":""},{"$f":"IF(①データ登録!B597=\"\",\"\",①データ登録!B597)","v":""},{"$f":"IF(①データ登録!C597=\"\",\"\",①データ登録!C597)","v":""}]
[null,null,null,null,null,null,null,null,null,null,null,null,{"$f":"IF(①データ登録!A598=\"\",\"\",①データ登録!A598)","v":""},{"$f":"IF(①データ登録!B598=\"\",\"\",①データ登録!B598)","v":""},{"$f":"IF(①データ登録!C598=\"\",\"\",①データ登録!C598)","v":""}]
[null,null,null,null,null,null,null,null,null,null,null,null,{"$f":"IF(①データ登録!A599=\"\",\"\",①データ登録!A599)","v":""},{"$f":"IF(①データ登録!B599=\"\",\"\",①データ登録!B599)","v":""},{"$f":"IF(①データ登録!C599=\"\",\"\",①データ登録!C599)","v":""}]
[null,null,null,null,null,null,null,null,null,null,null,null,{"$f":"IF(①データ登録!A600=\"\",\"\",①データ登録!A600)","v":""},{"$f":"IF(①データ登録!B600=\"\",\"\",①データ登録!B600)","v":""},{"$f":"IF(①データ登録!C600=\"\",\"\",①データ登録!C600)","v":""}]
[null,null,null,null,null,null,null,null,null,null,null,null,{"$f":"IF(①データ登録!A601=\"\",\"\",①データ登録!A601)","v":""},{"$f":"IF(①データ登録!B601=\"\",\"\",①データ登録!B601)","v":""},{"$f":"IF(①データ登録!C601=\"\",\"\",①データ登録!C601)","v":""}]
[null,null,null,null,null,null,null,null,null,null,null,null,{"$f":"IF(①データ登録!A602=\"\",\"\",①データ登録!A602)","v":""},{"$f":"IF(①データ登録!B602=\"\",\"\",①データ登録!B602)","v":""},{"$f":"IF(①データ登録!C602=\"\",\"\",①データ登録!C602)","v":""}]
[null,null,null,null,null,null,null,null,null,null,null,null,{"$f":"IF(①データ登録!A603=\"\",\"\",①データ登録!A603)","v":""},{"$f":"IF(①データ登録!B603=\"\",\"\",①データ登録!B603)","v":""},{"$f":"IF(①データ登録!C603=\"\",\"\",①データ登録!C603)","v":""}]
[null,null,null,null,null,null,null,null,null,null,null,null,{"$f":"IF(①データ登録!A604=\"\",\"\",①データ登録!A604)","v":""},{"$f":"IF(①データ登録!B604=\"\",\"\",①データ登録!B604)","v":""},{"$f":"IF(①データ登録!C604=\"\",\"\",①データ登録!C604)","v":""}]
[null,null,null,null,null,null,null,null,null,null,null,null,{"$f":"IF(①データ登録!A605=\"\",\"\",①データ登録!A605)","v":""},{"$f":"IF(①データ登録!B605=\"\",\"\",①データ登録!B605)","v":""},{"$f":"IF(①データ登録!C605=\"\",\"\",①データ登録!C605)","v":""}]
[null,null,null,null,null,null,null,null,null,null,null,null,{"$f":"IF(①データ登録!A606=\"\",\"\",①データ登録!A606)","v":""},{"$f":"IF(①データ登録!B606=\"\",\"\",①データ登録!B606)","v":""},{"$f":"IF(①データ登録!C606=\"\",\"\",①データ登録!C606)","v":""}]
[null,null,null,null,null,null,null,null,null,null,null,null,{"$f":"IF(①データ登録!A607=\"\",\"\",①データ登録!A607)","v":""},{"$f":"IF(①データ登録!B607=\"\",\"\",①データ登録!B607)","v":""},{"$f":"IF(①データ登録!C607=\"\",\"\",①データ登録!C607)","v":""}]
[null,null,null,null,null,null,null,null,null,null,null,null,{"$f":"IF(①データ登録!A608=\"\",\"\",①データ登録!A608)","v":""},{"$f":"IF(①データ登録!B608=\"\",\"\",①データ登録!B608)","v":""},{"$f":"IF(①データ登録!C608=\"\",\"\",①データ登録!C608)","v":""}]
[null,null,null,null,null,null,null,null,null,null,null,null,{"$f":"IF(①データ登録!A609=\"\",\"\",①データ登録!A609)","v":""},{"$f":"IF(①データ登録!B609=\"\",\"\",①データ登録!B609)","v":""},{"$f":"IF(①データ登録!C609=\"\",\"\",①データ登録!C609)","v":""}]
[null,null,null,null,null,null,null,null,null,null,null,null,{"$f":"IF(①データ登録!A610=\"\",\"\",①データ登録!A610)","v":""},{"$f":"IF(①データ登録!B610=\"\",\"\",①データ登録!B610)","v":""},{"$f":"IF(①データ登録!C610=\"\",\"\",①データ登録!C610)","v":""}]
[null,null,null,null,null,null,null,null,null,null,null,null,{"$f":"IF(①データ登録!A611=\"\",\"\",①データ登録!A611)","v":""},{"$f":"IF(①データ登録!B611=\"\",\"\",①データ登録!B611)","v":""},{"$f":"IF(①データ登録!C611=\"\",\"\",①データ登録!C611)","v":""}]
[null,null,null,null,null,null,null,null,null,null,null,null,{"$f":"IF(①データ登録!A612=\"\",\"\",①データ登録!A612)","v":""},{"$f":"IF(①データ登録!B612=\"\",\"\",①データ登録!B612)","v":""},{"$f":"IF(①データ登録!C612=\"\",\"\",①データ登録!C612)","v":""}]
[null,null,null,null,null,null,null,null,null,null,null,null,{"$f":"IF(①データ登録!A613=\"\",\"\",①データ登録!A613)","v":""},{"$f":"IF(①データ登録!B613=\"\",\"\",①データ登録!B613)","v":""},{"$f":"IF(①データ登録!C613=\"\",\"\",①データ登録!C613)","v":""}]
[null,null,null,null,null,null,null,null,null,null,null,null,{"$f":"IF(①データ登録!A614=\"\",\"\",①データ登録!A614)","v":""},{"$f":"IF(①データ登録!B614=\"\",\"\",①データ登録!B614)","v":""},{"$f":"IF(①データ登録!C614=\"\",\"\",①データ登録!C614)","v":""}]
[null,null,null,null,null,null,null,null,null,null,null,null,{"$f":"IF(①データ登録!A615=\"\",\"\",①データ登録!A615)","v":""},{"$f":"IF(①データ登録!B615=\"\",\"\",①データ登録!B615)","v":""},{"$f":"IF(①データ登録!C615=\"\",\"\",①データ登録!C615)","v":""}]
[null,null,null,null,null,null,null,null,null,null,null,null,{"$f":"IF(①データ登録!A616=\"\",\"\",①データ登録!A616)","v":""},{"$f":"IF(①データ登録!B616=\"\",\"\",①データ登録!B616)","v":""},{"$f":"IF(①データ登録!C616=\"\",\"\",①データ登録!C616)","v":""}]
[null,null,null,null,null,null,null,null,null,null,null,null,{"$f":"IF(①データ登録!A617=\"\",\"\",①データ登録!A617)","v":""},{"$f":"IF(①データ登録!B617=\"\",\"\",①データ登録!B617)","v":""},{"$f":"IF(①データ登録!C617=\"\",\"\",①データ登録!C617)","v":""}]
[null,null,null,null,null,null,null,null,null,null,null,null,{"$f":"IF(①データ登録!A618=\"\",\"\",①データ登録!A618)","v":""},{"$f":"IF(①データ登録!B618=\"\",\"\",①データ登録!B618)","v":""},{"$f":"IF(①データ登録!C618=\"\",\"\",①データ登録!C618)","v":""}]
[null,null,null,null,null,null,null,null,null,null,null,null,{"$f":"IF(①データ登録!A619=\"\",\"\",①データ登録!A619)","v":""},{"$f":"IF(①データ登録!B619=\"\",\"\",①データ登録!B619)","v":""},{"$f":"IF(①データ登録!C619=\"\",\"\",①データ登録!C619)","v":""}]
[null,null,null,null,null,null,null,null,null,null,null,null,{"$f":"IF(①データ登録!A620=\"\",\"\",①データ登録!A620)","v":""},{"$f":"IF(①データ登録!B620=\"\",\"\",①データ登録!B620)","v":""},{"$f":"IF(①データ登録!C620=\"\",\"\",①データ登録!C620)","v":""}]
[null,null,null,null,null,null,null,null,null,null,null,null,{"$f":"IF(①データ登録!A621=\"\",\"\",①データ登録!A621)","v":""},{"$f":"IF(①データ登録!B621=\"\",\"\",①データ登録!B621)","v":""},{"$f":"IF(①データ登録!C621=\"\",\"\",①データ登録!C621)","v":""}]
[null,null,null,null,null,null,null,null,null,null,null,null,{"$f":"IF(①データ登録!A622=\"\",\"\",①データ登録!A622)","v":""},{"$f":"IF(①データ登録!B622=\"\",\"\",①データ登録!B622)","v":""},{"$f":"IF(①データ登録!C622=\"\",\"\",①データ登録!C622)","v":""}]
[null,null,null,null,null,null,null,null,null,null,null,null,{"$f":"IF(①データ登録!A623=\"\",\"\",①データ登録!A623)","v":""},{"$f":"IF(①データ登録!B623=\"\",\"\",①データ登録!B623)","v":""},{"$f":"IF(①データ登録!C623=\"\",\"\",①データ登録!C623)","v":""}]
[null,null,null,null,null,null,null,null,null,null,null,null,{"$f":"IF(①データ登録!A624=\"\",\"\",①データ登録!A624)","v":""},{"$f":"IF(①データ登録!B624=\"\",\"\",①データ登録!B624)","v":""},{"$f":"IF(①データ登録!C624=\"\",\"\",①データ登録!C624)","v":""}]
[null,null,null,null,null,null,null,null,null,null,null,null,{"$f":"IF(①データ登録!A625=\"\",\"\",①データ登録!A625)","v":""},{"$f":"IF(①データ登録!B625=\"\",\"\",①データ登録!B625)","v":""},{"$f":"IF(①データ登録!C625=\"\",\"\",①データ登録!C625)","v":""}]
[null,null,null,null,null,null,null,null,null,null,null,null,{"$f":"IF(①データ登録!A626=\"\",\"\",①データ登録!A626)","v":""},{"$f":"IF(①データ登録!B626=\"\",\"\",①データ登録!B626)","v":""},{"$f":"IF(①データ登録!C626=\"\",\"\",①データ登録!C626)","v":""}]
[null,null,null,null,null,null,null,null,null,null,null,null,{"$f":"IF(①データ登録!A627=\"\",\"\",①データ登録!A627)","v":""},{"$f":"IF(①データ登録!B627=\"\",\"\",①データ登録!B627)","v":""},{"$f":"IF(①データ登録!C627=\"\",\"\",①データ登録!C627)","v":""}]
[null,null,null,null,null,null,null,null,null,null,null,null,{"$f":"IF(①データ登録!A628=\"\",\"\",①データ登録!A628)","v":""},{"$f":"IF(①データ登録!B628=\"\",\"\",①データ登録!B628)","v":""},{"$f":"IF(①データ登録!C628=\"\",\"\",①データ登録!C628)","v":""}]
[null,null,null,null,null,null,null,null,null,null,null,null,{"$f":"IF(①データ登録!A629=\"\",\"\",①データ登録!A629)","v":""},{"$f":"IF(①データ登録!B629=\"\",\"\",①データ登録!B629)","v":""},{"$f":"IF(①データ登録!C629=\"\",\"\",①データ登録!C629)","v":""}]
[null,null,null,null,null,null,null,null,null,null,null,null,{"$f":"IF(①データ登録!A630=\"\",\"\",①データ登録!A630)","v":""},{"$f":"IF(①データ登録!B630=\"\",\"\",①データ登録!B630)","v":""},{"$f":"IF(①データ登録!C630=\"\",\"\",①データ登録!C630)","v":""}]
[null,null,null,null,null,null,null,null,null,null,null,null,{"$f":"IF(①データ登録!A631=\"\",\"\",①データ登録!A631)","v":""},{"$f":"IF(①データ登録!B631=\"\",\"\",①データ登録!B631)","v":""},{"$f":"IF(①データ登録!C631=\"\",\"\",①データ登録!C631)","v":""}]
[null,null,null,null,null,null,null,null,null,null,null,null,{"$f":"IF(①データ登録!A632=\"\",\"\",①データ登録!A632)","v":""},{"$f":"IF(①データ登録!B632=\"\",\"\",①データ登録!B632)","v":""},{"$f":"IF(①データ登録!C632=\"\",\"\",①データ登録!C632)","v":""}]
[null,null,null,null,null,null,null,null,null,null,null,null,{"$f":"IF(①データ登録!A633=\"\",\"\",①データ登録!A633)","v":""},{"$f":"IF(①データ登録!B633=\"\",\"\",①データ登録!B633)","v":""},{"$f":"IF(①データ登録!C633=\"\",\"\",①データ登録!C633)","v":""}]
[null,null,null,null,null,null,null,null,null,null,null,null,{"$f":"IF(①データ登録!A634=\"\",\"\",①データ登録!A634)","v":""},{"$f":"IF(①データ登録!B634=\"\",\"\",①データ登録!B634)","v":""},{"$f":"IF(①データ登録!C634=\"\",\"\",①データ登録!C634)","v":""}]
[null,null,null,null,null,null,null,null,null,null,null,null,{"$f":"IF(①データ登録!A635=\"\",\"\",①データ登録!A635)","v":""},{"$f":"IF(①データ登録!B635=\"\",\"\",①データ登録!B635)","v":""},{"$f":"IF(①データ登録!C635=\"\",\"\",①データ登録!C635)","v":""}]
[null,null,null,null,null,null,null,null,null,null,null,null,{"$f":"IF(①データ登録!A636=\"\",\"\",①データ登録!A636)","v":""},{"$f":"IF(①データ登録!B636=\"\",\"\",①データ登録!B636)","v":""},{"$f":"IF(①データ登録!C636=\"\",\"\",①データ登録!C636)","v":""}]
[null,null,null,null,null,null,null,null,null,null,null,null,{"$f":"IF(①データ登録!A637=\"\",\"\",①データ登録!A637)","v":""},{"$f":"IF(①データ登録!B637=\"\",\"\",①データ登録!B637)","v":""},{"$f":"IF(①データ登録!C637=\"\",\"\",①データ登録!C637)","v":""}]
[null,null,null,null,null,null,null,null,null,null,null,null,{"$f":"IF(①データ登録!A638=\"\",\"\",①データ登録!A638)","v":""},{"$f":"IF(①データ登録!B638=\"\",\"\",①データ登録!B638)","v":""},{"$f":"IF(①データ登録!C638=\"\",\"\",①データ登録!C638)","v":""}]
[null,null,null,null,null,null,null,null,null,null,null,null,{"$f":"IF(①データ登録!A639=\"\",\"\",①データ登録!A639)","v":""},{"$f":"IF(①データ登録!B639=\"\",\"\",①データ登録!B639)","v":""},{"$f":"IF(①データ登録!C639=\"\",\"\",①データ登録!C639)","v":""}]
[null,null,null,null,null,null,null,null,null,null,null,null,{"$f":"IF(①データ登録!A640=\"\",\"\",①データ登録!A640)","v":""},{"$f":"IF(①データ登録!B640=\"\",\"\",①データ登録!B640)","v":""},{"$f":"IF(①データ登録!C640=\"\",\"\",①データ登録!C640)","v":""}]
[null,null,null,null,null,null,null,null,null,null,null,null,{"$f":"IF(①データ登録!A641=\"\",\"\",①データ登録!A641)","v":""},{"$f":"IF(①データ登録!B641=\"\",\"\",①データ登録!B641)","v":""},{"$f":"IF(①データ登録!C641=\"\",\"\",①データ登録!C641)","v":""}]
[null,null,null,null,null,null,null,null,null,null,null,null,{"$f":"IF(①データ登録!A642=\"\",\"\",①データ登録!A642)","v":""},{"$f":"IF(①データ登録!B642=\"\",\"\",①データ登録!B642)","v":""},{"$f":"IF(①データ登録!C642=\"\",\"\",①データ登録!C642)","v":""}]
[null,null,null,null,null,null,null,null,null,null,null,null,{"$f":"IF(①データ登録!A643=\"\",\"\",①データ登録!A643)","v":""},{"$f":"IF(①データ登録!B643=\"\",\"\",①データ登録!B643)","v":""},{"$f":"IF(①データ登録!C643=\"\",\"\",①データ登録!C643)","v":""}]
[null,null,null,null,null,null,null,null,null,null,null,null,{"$f":"IF(①データ登録!A644=\"\",\"\",①データ登録!A644)","v":""},{"$f":"IF(①データ登録!B644=\"\",\"\",①データ登録!B644)","v":""},{"$f":"IF(①データ登録!C644=\"\",\"\",①データ登録!C644)","v":""}]
[null,null,null,null,null,null,null,null,null,null,null,null,{"$f":"IF(①データ登録!A645=\"\",\"\",①データ登録!A645)","v":""},{"$f":"IF(①データ登録!B645=\"\",\"\",①データ登録!B645)","v":""},{"$f":"IF(①データ登録!C645=\"\",\"\",①データ登録!C645)","v":""}]
[null,null,null,null,null,null,null,null,null,null,null,null,{"$f":"IF(①データ登録!A646=\"\",\"\",①データ登録!A646)","v":""},{"$f":"IF(①データ登録!B646=\"\",\"\",①データ登録!B646)","v":""},{"$f":"IF(①データ登録!C646=\"\",\"\",①データ登録!C646)","v":""}]
[null,null,null,null,null,null,null,null,null,null,null,null,{"$f":"IF(①データ登録!A647=\"\",\"\",①データ登録!A647)","v":""},{"$f":"IF(①データ登録!B647=\"\",\"\",①データ登録!B647)","v":""},{"$f":"IF(①データ登録!C647=\"\",\"\",①データ登録!C647)","v":""}]
[null,null,null,null,null,null,null,null,null,null,null,null,{"$f":"IF(①データ登録!A648=\"\",\"\",①データ登録!A648)","v":""},{"$f":"IF(①データ登録!B648=\"\",\"\",①データ登録!B648)","v":""},{"$f":"IF(①データ登録!C648=\"\",\"\",①データ登録!C648)","v":""}]
[null,null,null,null,null,null,null,null,null,null,null,null,{"$f":"IF(①データ登録!A649=\"\",\"\",①データ登録!A649)","v":""},{"$f":"IF(①データ登録!B649=\"\",\"\",①データ登録!B649)","v":""},{"$f":"IF(①データ登録!C649=\"\",\"\",①データ登録!C649)","v":""}]
[null,null,null,null,null,null,null,null,null,null,null,null,{"$f":"IF(①データ登録!A650=\"\",\"\",①データ登録!A650)","v":""},{"$f":"IF(①データ登録!B650=\"\",\"\",①データ登録!B650)","v":""},{"$f":"IF(①データ登録!C650=\"\",\"\",①データ登録!C650)","v":""}]
[null,null,null,null,null,null,null,null,null,null,null,null,{"$f":"IF(①データ登録!A651=\"\",\"\",①データ登録!A651)","v":""},{"$f":"IF(①データ登録!B651=\"\",\"\",①データ登録!B651)","v":""},{"$f":"IF(①データ登録!C651=\"\",\"\",①データ登録!C651)","v":""}]
[null,null,null,null,null,null,null,null,null,null,null,null,{"$f":"IF(①データ登録!A652=\"\",\"\",①データ登録!A652)","v":""},{"$f":"IF(①データ登録!B652=\"\",\"\",①データ登録!B652)","v":""},{"$f":"IF(①データ登録!C652=\"\",\"\",①データ登録!C652)","v":""}]
[null,null,null,null,null,null,null,null,null,null,null,null,{"$f":"IF(①データ登録!A653=\"\",\"\",①データ登録!A653)","v":""},{"$f":"IF(①データ登録!B653=\"\",\"\",①データ登録!B653)","v":""},{"$f":"IF(①データ登録!C653=\"\",\"\",①データ登録!C653)","v":""}]
[null,null,null,null,null,null,null,null,null,null,null,null,{"$f":"IF(①データ登録!A654=\"\",\"\",①データ登録!A654)","v":""},{"$f":"IF(①データ登録!B654=\"\",\"\",①データ登録!B654)","v":""},{"$f":"IF(①データ登録!C654=\"\",\"\",①データ登録!C654)","v":""}]
[null,null,null,null,null,null,null,null,null,null,null,null,{"$f":"IF(①データ登録!A655=\"\",\"\",①データ登録!A655)","v":""},{"$f":"IF(①データ登録!B655=\"\",\"\",①データ登録!B655)","v":""},{"$f":"IF(①データ登録!C655=\"\",\"\",①データ登録!C655)","v":""}]
[null,null,null,null,null,null,null,null,null,null,null,null,{"$f":"IF(①データ登録!A656=\"\",\"\",①データ登録!A656)","v":""},{"$f":"IF(①データ登録!B656=\"\",\"\",①データ登録!B656)","v":""},{"$f":"IF(①データ登録!C656=\"\",\"\",①データ登録!C656)","v":""}]
[null,null,null,null,null,null,null,null,null,null,null,null,{"$f":"IF(①データ登録!A657=\"\",\"\",①データ登録!A657)","v":""},{"$f":"IF(①データ登録!B657=\"\",\"\",①データ登録!B657)","v":""},{"$f":"IF(①データ登録!C657=\"\",\"\",①データ登録!C657)","v":""}]
[null,null,null,null,null,null,null,null,null,null,null,null,{"$f":"IF(①データ登録!A658=\"\",\"\",①データ登録!A658)","v":""},{"$f":"IF(①データ登録!B658=\"\",\"\",①データ登録!B658)","v":""},{"$f":"IF(①データ登録!C658=\"\",\"\",①データ登録!C658)","v":""}]
[null,null,null,null,null,null,null,null,null,null,null,null,{"$f":"IF(①データ登録!A659=\"\",\"\",①データ登録!A659)","v":""},{"$f":"IF(①データ登録!B659=\"\",\"\",①データ登録!B659)","v":""},{"$f":"IF(①データ登録!C659=\"\",\"\",①データ登録!C659)","v":""}]
[null,null,null,null,null,null,null,null,null,null,null,null,{"$f":"IF(①データ登録!A660=\"\",\"\",①データ登録!A660)","v":""},{"$f":"IF(①データ登録!B660=\"\",\"\",①データ登録!B660)","v":""},{"$f":"IF(①データ登録!C660=\"\",\"\",①データ登録!C660)","v":""}]
[null,null,null,null,null,null,null,null,null,null,null,null,{"$f":"IF(①データ登録!A661=\"\",\"\",①データ登録!A661)","v":""},{"$f":"IF(①データ登録!B661=\"\",\"\",①データ登録!B661)","v":""},{"$f":"IF(①データ登録!C661=\"\",\"\",①データ登録!C661)","v":""}]
[null,null,null,null,null,null,null,null,null,null,null,null,{"$f":"IF(①データ登録!A662=\"\",\"\",①データ登録!A662)","v":""},{"$f":"IF(①データ登録!B662=\"\",\"\",①データ登録!B662)","v":""},{"$f":"IF(①データ登録!C662=\"\",\"\",①データ登録!C662)","v":""}]
[null,null,null,null,null,null,null,null,null,null,null,null,{"$f":"IF(①データ登録!A663=\"\",\"\",①データ登録!A663)","v":""},{"$f":"IF(①データ登録!B663=\"\",\"\",①データ登録!B663)","v":""},{"$f":"IF(①データ登録!C663=\"\",\"\",①データ登録!C663)","v":""}]
[null,null,null,null,null,null,null,null,null,null,null,null,{"$f":"IF(①データ登録!A664=\"\",\"\",①データ登録!A664)","v":""},{"$f":"IF(①データ登録!B664=\"\",\"\",①データ登録!B664)","v":""},{"$f":"IF(①データ登録!C664=\"\",\"\",①データ登録!C664)","v":""}]
[null,null,null,null,null,null,null,null,null,null,null,null,{"$f":"IF(①データ登録!A665=\"\",\"\",①データ登録!A665)","v":""},{"$f":"IF(①データ登録!B665=\"\",\"\",①データ登録!B665)","v":""},{"$f":"IF(①データ登録!C665=\"\",\"\",①データ登録!C665)","v":""}]
[null,null,null,null,null,null,null,null,null,null,null,null,{"$f":"IF(①データ登録!A666=\"\",\"\",①データ登録!A666)","v":""},{"$f":"IF(①データ登録!B666=\"\",\"\",①データ登録!B666)","v":""},{"$f":"IF(①データ登録!C666=\"\",\"\",①データ登録!C666)","v":""}]
[null,null,null,null,null,null,null,null,null,null,null,null,{"$f":"IF(①データ登録!A667=\"\",\"\",①データ登録!A667)","v":""},{"$f":"IF(①データ登録!B667=\"\",\"\",①データ登録!B667)","v":""},{"$f":"IF(①データ登録!C667=\"\",\"\",①データ登録!C667)","v":""}]
[null,null,null,null,null,null,null,null,null,null,null,null,{"$f":"IF(①データ登録!A668=\"\",\"\",①データ登録!A668)","v":""},{"$f":"IF(①データ登録!B668=\"\",\"\",①データ登録!B668)","v":""},{"$f":"IF(①データ登録!C668=\"\",\"\",①データ登録!C668)","v":""}]
[null,null,null,null,null,null,null,null,null,null,null,null,{"$f":"IF(①データ登録!A669=\"\",\"\",①データ登録!A669)","v":""},{"$f":"IF(①データ登録!B669=\"\",\"\",①データ登録!B669)","v":""},{"$f":"IF(①データ登録!C669=\"\",\"\",①データ登録!C669)","v":""}]
[null,null,null,null,null,null,null,null,null,null,null,null,{"$f":"IF(①データ登録!A670=\"\",\"\",①データ登録!A670)","v":""},{"$f":"IF(①データ登録!B670=\"\",\"\",①データ登録!B670)","v":""},{"$f":"IF(①データ登録!C670=\"\",\"\",①データ登録!C670)","v":""}]
[null,null,null,null,null,null,null,null,null,null,null,null,{"$f":"IF(①データ登録!A671=\"\",\"\",①データ登録!A671)","v":""},{"$f":"IF(①データ登録!B671=\"\",\"\",①データ登録!B671)","v":""},{"$f":"IF(①データ登録!C671=\"\",\"\",①データ登録!C671)","v":""}]
[null,null,null,null,null,null,null,null,null,null,null,null,{"$f":"IF(①データ登録!A672=\"\",\"\",①データ登録!A672)","v":""},{"$f":"IF(①データ登録!B672=\"\",\"\",①データ登録!B672)","v":""},{"$f":"IF(①データ登録!C672=\"\",\"\",①データ登録!C672)","v":""}]
[null,null,null,null,null,null,null,null,null,null,null,null,{"$f":"IF(①データ登録!A673=\"\",\"\",①データ登録!A673)","v":""},{"$f":"IF(①データ登録!B673=\"\",\"\",①データ登録!B673)","v":""},{"$f":"IF(①データ登録!C673=\"\",\"\",①データ登録!C673)","v":""}]
[null,null,null,null,null,null,null,null,null,null,null,null,{"$f":"IF(①データ登録!A674=\"\",\"\",①データ登録!A674)","v":""},{"$f":"IF(①データ登録!B674=\"\",\"\",①データ登録!B674)","v":""},{"$f":"IF(①データ登録!C674=\"\",\"\",①データ登録!C674)","v":""}]
[null,null,null,null,null,null,null,null,null,null,null,null,{"$f":"IF(①データ登録!A675=\"\",\"\",①データ登録!A675)","v":""},{"$f":"IF(①データ登録!B675=\"\",\"\",①データ登録!B675)","v":""},{"$f":"IF(①データ登録!C675=\"\",\"\",①データ登録!C675)","v":""}]
[null,null,null,null,null,null,null,null,null,null,null,null,{"$f":"IF(①データ登録!A676=\"\",\"\",①データ登録!A676)","v":""},{"$f":"IF(①データ登録!B676=\"\",\"\",①データ登録!B676)","v":""},{"$f":"IF(①データ登録!C676=\"\",\"\",①データ登録!C676)","v":""}]
[null,null,null,null,null,null,null,null,null,null,null,null,{"$f":"IF(①データ登録!A677=\"\",\"\",①データ登録!A677)","v":""},{"$f":"IF(①データ登録!B677=\"\",\"\",①データ登録!B677)","v":""},{"$f":"IF(①データ登録!C677=\"\",\"\",①データ登録!C677)","v":""}]
[null,null,null,null,null,null,null,null,null,null,null,null,{"$f":"IF(①データ登録!A678=\"\",\"\",①データ登録!A678)","v":""},{"$f":"IF(①データ登録!B678=\"\",\"\",①データ登録!B678)","v":""},{"$f":"IF(①データ登録!C678=\"\",\"\",①データ登録!C678)","v":""}]
[null,null,null,null,null,null,null,null,null,null,null,null,{"$f":"IF(①データ登録!A679=\"\",\"\",①データ登録!A679)","v":""},{"$f":"IF(①データ登録!B679=\"\",\"\",①データ登録!B679)","v":""},{"$f":"IF(①データ登録!C679=\"\",\"\",①データ登録!C679)","v":""}]
[null,null,null,null,null,null,null,null,null,null,null,null,{"$f":"IF(①データ登録!A680=\"\",\"\",①データ登録!A680)","v":""},{"$f":"IF(①データ登録!B680=\"\",\"\",①データ登録!B680)","v":""},{"$f":"IF(①データ登録!C680=\"\",\"\",①データ登録!C680)","v":""}]
[null,null,null,null,null,null,null,null,null,null,null,null,{"$f":"IF(①データ登録!A681=\"\",\"\",①データ登録!A681)","v":""},{"$f":"IF(①データ登録!B681=\"\",\"\",①データ登録!B681)","v":""},{"$f":"IF(①データ登録!C681=\"\",\"\",①データ登録!C681)","v":""}]
[null,null,null,null,null,null,null,null,null,null,null,null,{"$f":"IF(①データ登録!A682=\"\",\"\",①データ登録!A682)","v":""},{"$f":"IF(①データ登録!B682=\"\",\"\",①データ登録!B682)","v":""},{"$f":"IF(①データ登録!C682=\"\",\"\",①データ登録!C682)","v":""}]
[null,null,null,null,null,null,null,null,null,null,null,null,{"$f":"IF(①データ登録!A683=\"\",\"\",①データ登録!A683)","v":""},{"$f":"IF(①データ登録!B683=\"\",\"\",①データ登録!B683)","v":""},{"$f":"IF(①データ登録!C683=\"\",\"\",①データ登録!C683)","v":""}]
[null,null,null,null,null,null,null,null,null,null,null,null,{"$f":"IF(①データ登録!A684=\"\",\"\",①データ登録!A684)","v":""},{"$f":"IF(①データ登録!B684=\"\",\"\",①データ登録!B684)","v":""},{"$f":"IF(①データ登録!C684=\"\",\"\",①データ登録!C684)","v":""}]
[null,null,null,null,null,null,null,null,null,null,null,null,{"$f":"IF(①データ登録!A685=\"\",\"\",①データ登録!A685)","v":""},{"$f":"IF(①データ登録!B685=\"\",\"\",①データ登録!B685)","v":""},{"$f":"IF(①データ登録!C685=\"\",\"\",①データ登録!C685)","v":""}]
[null,null,null,null,null,null,null,null,null,null,null,null,{"$f":"IF(①データ登録!A686=\"\",\"\",①データ登録!A686)","v":""},{"$f":"IF(①データ登録!B686=\"\",\"\",①データ登録!B686)","v":""},{"$f":"IF(①データ登録!C686=\"\",\"\",①データ登録!C686)","v":""}]
[null,null,null,null,null,null,null,null,null,null,null,null,{"$f":"IF(①データ登録!A687=\"\",\"\",①データ登録!A687)","v":""},{"$f":"IF(①データ登録!B687=\"\",\"\",①データ登録!B687)","v":""},{"$f":"IF(①データ登録!C687=\"\",\"\",①データ登録!C687)","v":""}]
[null,null,null,null,null,null,null,null,null,null,null,null,{"$f":"IF(①データ登録!A688=\"\",\"\",①データ登録!A688)","v":""},{"$f":"IF(①データ登録!B688=\"\",\"\",①データ登録!B688)","v":""},{"$f":"IF(①データ登録!C688=\"\",\"\",①データ登録!C688)","v":""}]
[null,null,null,null,null,null,null,null,null,null,null,null,{"$f":"IF(①データ登録!A689=\"\",\"\",①データ登録!A689)","v":""},{"$f":"IF(①データ登録!B689=\"\",\"\",①データ登録!B689)","v":""},{"$f":"IF(①データ登録!C689=\"\",\"\",①データ登録!C689)","v":""}]
[null,null,null,null,null,null,null,null,null,null,null,null,{"$f":"IF(①データ登録!A690=\"\",\"\",①データ登録!A690)","v":""},{"$f":"IF(①データ登録!B690=\"\",\"\",①データ登録!B690)","v":""},{"$f":"IF(①データ登録!C690=\"\",\"\",①データ登録!C690)","v":""}]
[null,null,null,null,null,null,null,null,null,null,null,null,{"$f":"IF(①データ登録!A691=\"\",\"\",①データ登録!A691)","v":""},{"$f":"IF(①データ登録!B691=\"\",\"\",①データ登録!B691)","v":""},{"$f":"IF(①データ登録!C691=\"\",\"\",①データ登録!C691)","v":""}]
[null,null,null,null,null,null,null,null,null,null,null,null,{"$f":"IF(①データ登録!A692=\"\",\"\",①データ登録!A692)","v":""},{"$f":"IF(①データ登録!B692=\"\",\"\",①データ登録!B692)","v":""},{"$f":"IF(①データ登録!C692=\"\",\"\",①データ登録!C692)","v":""}]
[null,null,null,null,null,null,null,null,null,null,null,null,{"$f":"IF(①データ登録!A693=\"\",\"\",①データ登録!A693)","v":""},{"$f":"IF(①データ登録!B693=\"\",\"\",①データ登録!B693)","v":""},{"$f":"IF(①データ登録!C693=\"\",\"\",①データ登録!C693)","v":""}]
[null,null,null,null,null,null,null,null,null,null,null,null,{"$f":"IF(①データ登録!A694=\"\",\"\",①データ登録!A694)","v":""},{"$f":"IF(①データ登録!B694=\"\",\"\",①データ登録!B694)","v":""},{"$f":"IF(①データ登録!C694=\"\",\"\",①データ登録!C694)","v":""}]
[null,null,null,null,null,null,null,null,null,null,null,null,{"$f":"IF(①データ登録!A695=\"\",\"\",①データ登録!A695)","v":""},{"$f":"IF(①データ登録!B695=\"\",\"\",①データ登録!B695)","v":""},{"$f":"IF(①データ登録!C695=\"\",\"\",①データ登録!C695)","v":""}]
[null,null,null,null,null,null,null,null,null,null,null,null,{"$f":"IF(①データ登録!A696=\"\",\"\",①データ登録!A696)","v":""},{"$f":"IF(①データ登録!B696=\"\",\"\",①データ登録!B696)","v":""},{"$f":"IF(①データ登録!C696=\"\",\"\",①データ登録!C696)","v":""}]
[null,null,null,null,null,null,null,null,null,null,null,null,{"$f":"IF(①データ登録!A697=\"\",\"\",①データ登録!A697)","v":""},{"$f":"IF(①データ登録!B697=\"\",\"\",①データ登録!B697)","v":""},{"$f":"IF(①データ登録!C697=\"\",\"\",①データ登録!C697)","v":""}]
[null,null,null,null,null,null,null,null,null,null,null,null,{"$f":"IF(①データ登録!A698=\"\",\"\",①データ登録!A698)","v":""},{"$f":"IF(①データ登録!B698=\"\",\"\",①データ登録!B698)","v":""},{"$f":"IF(①データ登録!C698=\"\",\"\",①データ登録!C698)","v":""}]
[null,null,null,null,null,null,null,null,null,null,null,null,{"$f":"IF(①データ登録!A699=\"\",\"\",①データ登録!A699)","v":""},{"$f":"IF(①データ登録!B699=\"\",\"\",①データ登録!B699)","v":""},{"$f":"IF(①データ登録!C699=\"\",\"\",①データ登録!C699)","v":""}]
[null,null,null,null,null,null,null,null,null,null,null,null,{"$f":"IF(①データ登録!A700=\"\",\"\",①データ登録!A700)","v":""},{"$f":"IF(①データ登録!B700=\"\",\"\",①データ登録!B700)","v":""},{"$f":"IF(①データ登録!C700=\"\",\"\",①データ登録!C700)","v":""}]
[null,null,null,null,null,null,null,null,null,null,null,null,{"$f":"IF(①データ登録!A701=\"\",\"\",①データ登録!A701)","v":""},{"$f":"IF(①データ登録!B701=\"\",\"\",①データ登録!B701)","v":""},{"$f":"IF(①データ登録!C701=\"\",\"\",①データ登録!C701)","v":""}]
[null,null,null,null,null,null,null,null,null,null,null,null,{"$f":"IF(①データ登録!A702=\"\",\"\",①データ登録!A702)","v":""},{"$f":"IF(①データ登録!B702=\"\",\"\",①データ登録!B702)","v":""},{"$f":"IF(①データ登録!C702=\"\",\"\",①データ登録!C702)","v":""}]
[null,null,null,null,null,null,null,null,null,null,null,null,{"$f":"IF(①データ登録!A703=\"\",\"\",①データ登録!A703)","v":""},{"$f":"IF(①データ登録!B703=\"\",\"\",①データ登録!B703)","v":""},{"$f":"IF(①データ登録!C703=\"\",\"\",①データ登録!C703)","v":""}]
[null,null,null,null,null,null,null,null,null,null,null,null,{"$f":"IF(①データ登録!A704=\"\",\"\",①データ登録!A704)","v":""},{"$f":"IF(①データ登録!B704=\"\",\"\",①データ登録!B704)","v":""},{"$f":"IF(①データ登録!C704=\"\",\"\",①データ登録!C704)","v":""}]
[null,null,null,null,null,null,null,null,null,null,null,null,{"$f":"IF(①データ登録!A705=\"\",\"\",①データ登録!A705)","v":""},{"$f":"IF(①データ登録!B705=\"\",\"\",①データ登録!B705)","v":""},{"$f":"IF(①データ登録!C705=\"\",\"\",①データ登録!C705)","v":""}]
[null,null,null,null,null,null,null,null,null,null,null,null,{"$f":"IF(①データ登録!A706=\"\",\"\",①データ登録!A706)","v":""},{"$f":"IF(①データ登録!B706=\"\",\"\",①データ登録!B706)","v":""},{"$f":"IF(①データ登録!C706=\"\",\"\",①データ登録!C706)","v":""}]
[null,null,null,null,null,null,null,null,null,null,null,null,{"$f":"IF(①データ登録!A707=\"\",\"\",①データ登録!A707)","v":""},{"$f":"IF(①データ登録!B707=\"\",\"\",①データ登録!B707)","v":""},{"$f":"IF(①データ登録!C707=\"\",\"\",①データ登録!C707)","v":""}]
[null,null,null,null,null,null,null,null,null,null,null,null,{"$f":"IF(①データ登録!A708=\"\",\"\",①データ登録!A708)","v":""},{"$f":"IF(①データ登録!B708=\"\",\"\",①データ登録!B708)","v":""},{"$f":"IF(①データ登録!C708=\"\",\"\",①データ登録!C708)","v":""}]
[null,null,null,null,null,null,null,null,null,null,null,null,{"$f":"IF(①データ登録!A709=\"\",\"\",①データ登録!A709)","v":""},{"$f":"IF(①データ登録!B709=\"\",\"\",①データ登録!B709)","v":""},{"$f":"IF(①データ登録!C709=\"\",\"\",①データ登録!C709)","v":""}]
[null,null,null,null,null,null,null,null,null,null,null,null,{"$f":"IF(①データ登録!A710=\"\",\"\",①データ登録!A710)","v":""},{"$f":"IF(①データ登録!B710=\"\",\"\",①データ登録!B710)","v":""},{"$f":"IF(①データ登録!C710=\"\",\"\",①データ登録!C710)","v":""}]
[null,null,null,null,null,null,null,null,null,null,null,null,{"$f":"IF(①データ登録!A711=\"\",\"\",①データ登録!A711)","v":""},{"$f":"IF(①データ登録!B711=\"\",\"\",①データ登録!B711)","v":""},{"$f":"IF(①データ登録!C711=\"\",\"\",①データ登録!C711)","v":""}]
[null,null,null,null,null,null,null,null,null,null,null,null,{"$f":"IF(①データ登録!A712=\"\",\"\",①データ登録!A712)","v":""},{"$f":"IF(①データ登録!B712=\"\",\"\",①データ登録!B712)","v":""},{"$f":"IF(①データ登録!C712=\"\",\"\",①データ登録!C712)","v":""}]
[null,null,null,null,null,null,null,null,null,null,null,null,{"$f":"IF(①データ登録!A713=\"\",\"\",①データ登録!A713)","v":""},{"$f":"IF(①データ登録!B713=\"\",\"\",①データ登録!B713)","v":""},{"$f":"IF(①データ登録!C713=\"\",\"\",①データ登録!C713)","v":""}]
[null,null,null,null,null,null,null,null,null,null,null,null,{"$f":"IF(①データ登録!A714=\"\",\"\",①データ登録!A714)","v":""},{"$f":"IF(①データ登録!B714=\"\",\"\",①データ登録!B714)","v":""},{"$f":"IF(①データ登録!C714=\"\",\"\",①データ登録!C714)","v":""}]
[null,null,null,null,null,null,null,null,null,null,null,null,{"$f":"IF(①データ登録!A715=\"\",\"\",①データ登録!A715)","v":""},{"$f":"IF(①データ登録!B715=\"\",\"\",①データ登録!B715)","v":""},{"$f":"IF(①データ登録!C715=\"\",\"\",①データ登録!C715)","v":""}]
[null,null,null,null,null,null,null,null,null,null,null,null,{"$f":"IF(①データ登録!A716=\"\",\"\",①データ登録!A716)","v":""},{"$f":"IF(①データ登録!B716=\"\",\"\",①データ登録!B716)","v":""},{"$f":"IF(①データ登録!C716=\"\",\"\",①データ登録!C716)","v":""}]
[null,null,null,null,null,null,null,null,null,null,null,null,{"$f":"IF(①データ登録!A717=\"\",\"\",①データ登録!A717)","v":""},{"$f":"IF(①データ登録!B717=\"\",\"\",①データ登録!B717)","v":""},{"$f":"IF(①データ登録!C717=\"\",\"\",①データ登録!C717)","v":""}]
[null,null,null,null,null,null,null,null,null,null,null,null,{"$f":"IF(①データ登録!A718=\"\",\"\",①データ登録!A718)","v":""},{"$f":"IF(①データ登録!B718=\"\",\"\",①データ登録!B718)","v":""},{"$f":"IF(①データ登録!C718=\"\",\"\",①データ登録!C718)","v":""}]
[null,null,null,null,null,null,null,null,null,null,null,null,{"$f":"IF(①データ登録!A719=\"\",\"\",①データ登録!A719)","v":""},{"$f":"IF(①データ登録!B719=\"\",\"\",①データ登録!B719)","v":""},{"$f":"IF(①データ登録!C719=\"\",\"\",①データ登録!C719)","v":""}]
[null,null,null,null,null,null,null,null,null,null,null,null,{"$f":"IF(①データ登録!A720=\"\",\"\",①データ登録!A720)","v":""},{"$f":"IF(①データ登録!B720=\"\",\"\",①データ登録!B720)","v":""},{"$f":"IF(①データ登録!C720=\"\",\"\",①データ登録!C720)","v":""}]
[null,null,null,null,null,null,null,null,null,null,null,null,{"$f":"IF(①データ登録!A721=\"\",\"\",①データ登録!A721)","v":""},{"$f":"IF(①データ登録!B721=\"\",\"\",①データ登録!B721)","v":""},{"$f":"IF(①データ登録!C721=\"\",\"\",①データ登録!C721)","v":""}]
[null,null,null,null,null,null,null,null,null,null,null,null,{"$f":"IF(①データ登録!A722=\"\",\"\",①データ登録!A722)","v":""},{"$f":"IF(①データ登録!B722=\"\",\"\",①データ登録!B722)","v":""},{"$f":"IF(①データ登録!C722=\"\",\"\",①データ登録!C722)","v":""}]
[null,null,null,null,null,null,null,null,null,null,null,null,{"$f":"IF(①データ登録!A723=\"\",\"\",①データ登録!A723)","v":""},{"$f":"IF(①データ登録!B723=\"\",\"\",①データ登録!B723)","v":""},{"$f":"IF(①データ登録!C723=\"\",\"\",①データ登録!C723)","v":""}]
[null,null,null,null,null,null,null,null,null,null,null,null,{"$f":"IF(①データ登録!A724=\"\",\"\",①データ登録!A724)","v":""},{"$f":"IF(①データ登録!B724=\"\",\"\",①データ登録!B724)","v":""},{"$f":"IF(①データ登録!C724=\"\",\"\",①データ登録!C724)","v":""}]
[null,null,null,null,null,null,null,null,null,null,null,null,{"$f":"IF(①データ登録!A725=\"\",\"\",①データ登録!A725)","v":""},{"$f":"IF(①データ登録!B725=\"\",\"\",①データ登録!B725)","v":""},{"$f":"IF(①データ登録!C725=\"\",\"\",①データ登録!C725)","v":""}]
[null,null,null,null,null,null,null,null,null,null,null,null,{"$f":"IF(①データ登録!A726=\"\",\"\",①データ登録!A726)","v":""},{"$f":"IF(①データ登録!B726=\"\",\"\",①データ登録!B726)","v":""},{"$f":"IF(①データ登録!C726=\"\",\"\",①データ登録!C726)","v":""}]
[null,null,null,null,null,null,null,null,null,null,null,null,{"$f":"IF(①データ登録!A727=\"\",\"\",①データ登録!A727)","v":""},{"$f":"IF(①データ登録!B727=\"\",\"\",①データ登録!B727)","v":""},{"$f":"IF(①データ登録!C727=\"\",\"\",①データ登録!C727)","v":""}]
[null,null,null,null,null,null,null,null,null,null,null,null,{"$f":"IF(①データ登録!A728=\"\",\"\",①データ登録!A728)","v":""},{"$f":"IF(①データ登録!B728=\"\",\"\",①データ登録!B728)","v":""},{"$f":"IF(①データ登録!C728=\"\",\"\",①データ登録!C728)","v":""}]
[null,null,null,null,null,null,null,null,null,null,null,null,{"$f":"IF(①データ登録!A729=\"\",\"\",①データ登録!A729)","v":""},{"$f":"IF(①データ登録!B729=\"\",\"\",①データ登録!B729)","v":""},{"$f":"IF(①データ登録!C729=\"\",\"\",①データ登録!C729)","v":""}]
[null,null,null,null,null,null,null,null,null,null,null,null,{"$f":"IF(①データ登録!A730=\"\",\"\",①データ登録!A730)","v":""},{"$f":"IF(①データ登録!B730=\"\",\"\",①データ登録!B730)","v":""},{"$f":"IF(①データ登録!C730=\"\",\"\",①データ登録!C730)","v":""}]
[null,null,null,null,null,null,null,null,null,null,null,null,{"$f":"IF(①データ登録!A731=\"\",\"\",①データ登録!A731)","v":""},{"$f":"IF(①データ登録!B731=\"\",\"\",①データ登録!B731)","v":""},{"$f":"IF(①データ登録!C731=\"\",\"\",①データ登録!C731)","v":""}]
[null,null,null,null,null,null,null,null,null,null,null,null,{"$f":"IF(①データ登録!A732=\"\",\"\",①データ登録!A732)","v":""},{"$f":"IF(①データ登録!B732=\"\",\"\",①データ登録!B732)","v":""},{"$f":"IF(①データ登録!C732=\"\",\"\",①データ登録!C732)","v":""}]
[null,null,null,null,null,null,null,null,null,null,null,null,{"$f":"IF(①データ登録!A733=\"\",\"\",①データ登録!A733)","v":""},{"$f":"IF(①データ登録!B733=\"\",\"\",①データ登録!B733)","v":""},{"$f":"IF(①データ登録!C733=\"\",\"\",①データ登録!C733)","v":""}]
[null,null,null,null,null,null,null,null,null,null,null,null,{"$f":"IF(①データ登録!A734=\"\",\"\",①データ登録!A734)","v":""},{"$f":"IF(①データ登録!B734=\"\",\"\",①データ登録!B734)","v":""},{"$f":"IF(①データ登録!C734=\"\",\"\",①データ登録!C734)","v":""}]
[null,null,null,null,null,null,null,null,null,null,null,null,{"$f":"IF(①データ登録!A735=\"\",\"\",①データ登録!A735)","v":""},{"$f":"IF(①データ登録!B735=\"\",\"\",①データ登録!B735)","v":""},{"$f":"IF(①データ登録!C735=\"\",\"\",①データ登録!C735)","v":""}]
[null,null,null,null,null,null,null,null,null,null,null,null,{"$f":"IF(①データ登録!A736=\"\",\"\",①データ登録!A736)","v":""},{"$f":"IF(①データ登録!B736=\"\",\"\",①データ登録!B736)","v":""},{"$f":"IF(①データ登録!C736=\"\",\"\",①データ登録!C736)","v":""}]
[null,null,null,null,null,null,null,null,null,null,null,null,{"$f":"IF(①データ登録!A737=\"\",\"\",①データ登録!A737)","v":""},{"$f":"IF(①データ登録!B737=\"\",\"\",①データ登録!B737)","v":""},{"$f":"IF(①データ登録!C737=\"\",\"\",①データ登録!C737)","v":""}]
[null,null,null,null,null,null,null,null,null,null,null,null,{"$f":"IF(①データ登録!A738=\"\",\"\",①データ登録!A738)","v":""},{"$f":"IF(①データ登録!B738=\"\",\"\",①データ登録!B738)","v":""},{"$f":"IF(①データ登録!C738=\"\",\"\",①データ登録!C738)","v":""}]
[null,null,null,null,null,null,null,null,null,null,null,null,{"$f":"IF(①データ登録!A739=\"\",\"\",①データ登録!A739)","v":""},{"$f":"IF(①データ登録!B739=\"\",\"\",①データ登録!B739)","v":""},{"$f":"IF(①データ登録!C739=\"\",\"\",①データ登録!C739)","v":""}]
[null,null,null,null,null,null,null,null,null,null,null,null,{"$f":"IF(①データ登録!A740=\"\",\"\",①データ登録!A740)","v":""},{"$f":"IF(①データ登録!B740=\"\",\"\",①データ登録!B740)","v":""},{"$f":"IF(①データ登録!C740=\"\",\"\",①データ登録!C740)","v":""}]
[null,null,null,null,null,null,null,null,null,null,null,null,{"$f":"IF(①データ登録!A741=\"\",\"\",①データ登録!A741)","v":""},{"$f":"IF(①データ登録!B741=\"\",\"\",①データ登録!B741)","v":""},{"$f":"IF(①データ登録!C741=\"\",\"\",①データ登録!C741)","v":""}]
[null,null,null,null,null,null,null,null,null,null,null,null,{"$f":"IF(①データ登録!A742=\"\",\"\",①データ登録!A742)","v":""},{"$f":"IF(①データ登録!B742=\"\",\"\",①データ登録!B742)","v":""},{"$f":"IF(①データ登録!C742=\"\",\"\",①データ登録!C742)","v":""}]
[null,null,null,null,null,null,null,null,null,null,null,null,{"$f":"IF(①データ登録!A743=\"\",\"\",①データ登録!A743)","v":""},{"$f":"IF(①データ登録!B743=\"\",\"\",①データ登録!B743)","v":""},{"$f":"IF(①データ登録!C743=\"\",\"\",①データ登録!C743)","v":""}]
[null,null,null,null,null,null,null,null,null,null,null,null,{"$f":"IF(①データ登録!A744=\"\",\"\",①データ登録!A744)","v":""},{"$f":"IF(①データ登録!B744=\"\",\"\",①データ登録!B744)","v":""},{"$f":"IF(①データ登録!C744=\"\",\"\",①データ登録!C744)","v":""}]
[null,null,null,null,null,null,null,null,null,null,null,null,{"$f":"IF(①データ登録!A745=\"\",\"\",①データ登録!A745)","v":""},{"$f":"IF(①データ登録!B745=\"\",\"\",①データ登録!B745)","v":""},{"$f":"IF(①データ登録!C745=\"\",\"\",①データ登録!C745)","v":""}]
[null,null,null,null,null,null,null,null,null,null,null,null,{"$f":"IF(①データ登録!A746=\"\",\"\",①データ登録!A746)","v":""},{"$f":"IF(①データ登録!B746=\"\",\"\",①データ登録!B746)","v":""},{"$f":"IF(①データ登録!C746=\"\",\"\",①データ登録!C746)","v":""}]
[null,null,null,null,null,null,null,null,null,null,null,null,{"$f":"IF(①データ登録!A747=\"\",\"\",①データ登録!A747)","v":""},{"$f":"IF(①データ登録!B747=\"\",\"\",①データ登録!B747)","v":""},{"$f":"IF(①データ登録!C747=\"\",\"\",①データ登録!C747)","v":""}]
[null,null,null,null,null,null,null,null,null,null,null,null,{"$f":"IF(①データ登録!A748=\"\",\"\",①データ登録!A748)","v":""},{"$f":"IF(①データ登録!B748=\"\",\"\",①データ登録!B748)","v":""},{"$f":"IF(①データ登録!C748=\"\",\"\",①データ登録!C748)","v":""}]
[null,null,null,null,null,null,null,null,null,null,null,null,{"$f":"IF(①データ登録!A749=\"\",\"\",①データ登録!A749)","v":""},{"$f":"IF(①データ登録!B749=\"\",\"\",①データ登録!B749)","v":""},{"$f":"IF(①データ登録!C749=\"\",\"\",①データ登録!C749)","v":""}]
[null,null,null,null,null,null,null,null,null,null,null,null,{"$f":"IF(①データ登録!A750=\"\",\"\",①データ登録!A750)","v":""},{"$f":"IF(①データ登録!B750=\"\",\"\",①データ登録!B750)","v":""},{"$f":"IF(①データ登録!C750=\"\",\"\",①データ登録!C750)","v":""}]
[null,null,null,null,null,null,null,null,null,null,null,null,{"$f":"IF(①データ登録!A751=\"\",\"\",①データ登録!A751)","v":""},{"$f":"IF(①データ登録!B751=\"\",\"\",①データ登録!B751)","v":""},{"$f":"IF(①データ登録!C751=\"\",\"\",①データ登録!C751)","v":""}]
[null,null,null,null,null,null,null,null,null,null,null,null,{"$f":"IF(①データ登録!A752=\"\",\"\",①データ登録!A752)","v":""},{"$f":"IF(①データ登録!B752=\"\",\"\",①データ登録!B752)","v":""},{"$f":"IF(①データ登録!C752=\"\",\"\",①データ登録!C752)","v":""}]
[null,null,null,null,null,null,null,null,null,null,null,null,{"$f":"IF(①データ登録!A753=\"\",\"\",①データ登録!A753)","v":""},{"$f":"IF(①データ登録!B753=\"\",\"\",①データ登録!B753)","v":""},{"$f":"IF(①データ登録!C753=\"\",\"\",①データ登録!C753)","v":""}]
[null,null,null,null,null,null,null,null,null,null,null,null,{"$f":"IF(①データ登録!A754=\"\",\"\",①データ登録!A754)","v":""},{"$f":"IF(①データ登録!B754=\"\",\"\",①データ登録!B754)","v":""},{"$f":"IF(①データ登録!C754=\"\",\"\",①データ登録!C754)","v":""}]
[null,null,null,null,null,null,null,null,null,null,null,null,{"$f":"IF(①データ登録!A755=\"\",\"\",①データ登録!A755)","v":""},{"$f":"IF(①データ登録!B755=\"\",\"\",①データ登録!B755)","v":""},{"$f":"IF(①データ登録!C755=\"\",\"\",①データ登録!C755)","v":""}]
[null,null,null,null,null,null,null,null,null,null,null,null,{"$f":"IF(①データ登録!A756=\"\",\"\",①データ登録!A756)","v":""},{"$f":"IF(①データ登録!B756=\"\",\"\",①データ登録!B756)","v":""},{"$f":"IF(①データ登録!C756=\"\",\"\",①データ登録!C756)","v":""}]
[null,null,null,null,null,null,null,null,null,null,null,null,{"$f":"IF(①データ登録!A757=\"\",\"\",①データ登録!A757)","v":""},{"$f":"IF(①データ登録!B757=\"\",\"\",①データ登録!B757)","v":""},{"$f":"IF(①データ登録!C757=\"\",\"\",①データ登録!C757)","v":""}]
[null,null,null,null,null,null,null,null,null,null,null,null,{"$f":"IF(①データ登録!A758=\"\",\"\",①データ登録!A758)","v":""},{"$f":"IF(①データ登録!B758=\"\",\"\",①データ登録!B758)","v":""},{"$f":"IF(①データ登録!C758=\"\",\"\",①データ登録!C758)","v":""}]
[null,null,null,null,null,null,null,null,null,null,null,null,{"$f":"IF(①データ登録!A759=\"\",\"\",①データ登録!A759)","v":""},{"$f":"IF(①データ登録!B759=\"\",\"\",①データ登録!B759)","v":""},{"$f":"IF(①データ登録!C759=\"\",\"\",①データ登録!C759)","v":""}]
[null,null,null,null,null,null,null,null,null,null,null,null,{"$f":"IF(①データ登録!A760=\"\",\"\",①データ登録!A760)","v":""},{"$f":"IF(①データ登録!B760=\"\",\"\",①データ登録!B760)","v":""},{"$f":"IF(①データ登録!C760=\"\",\"\",①データ登録!C760)","v":""}]
[null,null,null,null,null,null,null,null,null,null,null,null,{"$f":"IF(①データ登録!A761=\"\",\"\",①データ登録!A761)","v":""},{"$f":"IF(①データ登録!B761=\"\",\"\",①データ登録!B761)","v":""},{"$f":"IF(①データ登録!C761=\"\",\"\",①データ登録!C761)","v":""}]
[null,null,null,null,null,null,null,null,null,null,null,null,{"$f":"IF(①データ登録!A762=\"\",\"\",①データ登録!A762)","v":""},{"$f":"IF(①データ登録!B762=\"\",\"\",①データ登録!B762)","v":""},{"$f":"IF(①データ登録!C762=\"\",\"\",①データ登録!C762)","v":""}]
[null,null,null,null,null,null,null,null,null,null,null,null,{"$f":"IF(①データ登録!A763=\"\",\"\",①データ登録!A763)","v":""},{"$f":"IF(①データ登録!B763=\"\",\"\",①データ登録!B763)","v":""},{"$f":"IF(①データ登録!C763=\"\",\"\",①データ登録!C763)","v":""}]
[null,null,null,null,null,null,null,null,null,null,null,null,{"$f":"IF(①データ登録!A764=\"\",\"\",①データ登録!A764)","v":""},{"$f":"IF(①データ登録!B764=\"\",\"\",①データ登録!B764)","v":""},{"$f":"IF(①データ登録!C764=\"\",\"\",①データ登録!C764)","v":""}]
[null,null,null,null,null,null,null,null,null,null,null,null,{"$f":"IF(①データ登録!A765=\"\",\"\",①データ登録!A765)","v":""},{"$f":"IF(①データ登録!B765=\"\",\"\",①データ登録!B765)","v":""},{"$f":"IF(①データ登録!C765=\"\",\"\",①データ登録!C765)","v":""}]
[null,null,null,null,null,null,null,null,null,null,null,null,{"$f":"IF(①データ登録!A766=\"\",\"\",①データ登録!A766)","v":""},{"$f":"IF(①データ登録!B766=\"\",\"\",①データ登録!B766)","v":""},{"$f":"IF(①データ登録!C766=\"\",\"\",①データ登録!C766)","v":""}]
[null,null,null,null,null,null,null,null,null,null,null,null,{"$f":"IF(①データ登録!A767=\"\",\"\",①データ登録!A767)","v":""},{"$f":"IF(①データ登録!B767=\"\",\"\",①データ登録!B767)","v":""},{"$f":"IF(①データ登録!C767=\"\",\"\",①データ登録!C767)","v":""}]
[null,null,null,null,null,null,null,null,null,null,null,null,{"$f":"IF(①データ登録!A768=\"\",\"\",①データ登録!A768)","v":""},{"$f":"IF(①データ登録!B768=\"\",\"\",①データ登録!B768)","v":""},{"$f":"IF(①データ登録!C768=\"\",\"\",①データ登録!C768)","v":""}]
[null,null,null,null,null,null,null,null,null,null,null,null,{"$f":"IF(①データ登録!A769=\"\",\"\",①データ登録!A769)","v":""},{"$f":"IF(①データ登録!B769=\"\",\"\",①データ登録!B769)","v":""},{"$f":"IF(①データ登録!C769=\"\",\"\",①データ登録!C769)","v":""}]
[null,null,null,null,null,null,null,null,null,null,null,null,{"$f":"IF(①データ登録!A770=\"\",\"\",①データ登録!A770)","v":""},{"$f":"IF(①データ登録!B770=\"\",\"\",①データ登録!B770)","v":""},{"$f":"IF(①データ登録!C770=\"\",\"\",①データ登録!C770)","v":""}]
[null,null,null,null,null,null,null,null,null,null,null,null,{"$f":"IF(①データ登録!A771=\"\",\"\",①データ登録!A771)","v":""},{"$f":"IF(①データ登録!B771=\"\",\"\",①データ登録!B771)","v":""},{"$f":"IF(①データ登録!C771=\"\",\"\",①データ登録!C771)","v":""}]
[null,null,null,null,null,null,null,null,null,null,null,null,{"$f":"IF(①データ登録!A772=\"\",\"\",①データ登録!A772)","v":""},{"$f":"IF(①データ登録!B772=\"\",\"\",①データ登録!B772)","v":""},{"$f":"IF(①データ登録!C772=\"\",\"\",①データ登録!C772)","v":""}]
[null,null,null,null,null,null,null,null,null,null,null,null,{"$f":"IF(①データ登録!A773=\"\",\"\",①データ登録!A773)","v":""},{"$f":"IF(①データ登録!B773=\"\",\"\",①データ登録!B773)","v":""},{"$f":"IF(①データ登録!C773=\"\",\"\",①データ登録!C773)","v":""}]
[null,null,null,null,null,null,null,null,null,null,null,null,{"$f":"IF(①データ登録!A774=\"\",\"\",①データ登録!A774)","v":""},{"$f":"IF(①データ登録!B774=\"\",\"\",①データ登録!B774)","v":""},{"$f":"IF(①データ登録!C774=\"\",\"\",①データ登録!C774)","v":""}]
[null,null,null,null,null,null,null,null,null,null,null,null,{"$f":"IF(①データ登録!A775=\"\",\"\",①データ登録!A775)","v":""},{"$f":"IF(①データ登録!B775=\"\",\"\",①データ登録!B775)","v":""},{"$f":"IF(①データ登録!C775=\"\",\"\",①データ登録!C775)","v":""}]
[null,null,null,null,null,null,null,null,null,null,null,null,{"$f":"IF(①データ登録!A776=\"\",\"\",①データ登録!A776)","v":""},{"$f":"IF(①データ登録!B776=\"\",\"\",①データ登録!B776)","v":""},{"$f":"IF(①データ登録!C776=\"\",\"\",①データ登録!C776)","v":""}]
[null,null,null,null,null,null,null,null,null,null,null,null,{"$f":"IF(①データ登録!A777=\"\",\"\",①データ登録!A777)","v":""},{"$f":"IF(①データ登録!B777=\"\",\"\",①データ登録!B777)","v":""},{"$f":"IF(①データ登録!C777=\"\",\"\",①データ登録!C777)","v":""}]
[null,null,null,null,null,null,null,null,null,null,null,null,{"$f":"IF(①データ登録!A778=\"\",\"\",①データ登録!A778)","v":""},{"$f":"IF(①データ登録!B778=\"\",\"\",①データ登録!B778)","v":""},{"$f":"IF(①データ登録!C778=\"\",\"\",①データ登録!C778)","v":""}]
[null,null,null,null,null,null,null,null,null,null,null,null,{"$f":"IF(①データ登録!A779=\"\",\"\",①データ登録!A779)","v":""},{"$f":"IF(①データ登録!B779=\"\",\"\",①データ登録!B779)","v":""},{"$f":"IF(①データ登録!C779=\"\",\"\",①データ登録!C779)","v":""}]
[null,null,null,null,null,null,null,null,null,null,null,null,{"$f":"IF(①データ登録!A780=\"\",\"\",①データ登録!A780)","v":""},{"$f":"IF(①データ登録!B780=\"\",\"\",①データ登録!B780)","v":""},{"$f":"IF(①データ登録!C780=\"\",\"\",①データ登録!C780)","v":""}]
[null,null,null,null,null,null,null,null,null,null,null,null,{"$f":"IF(①データ登録!A781=\"\",\"\",①データ登録!A781)","v":""},{"$f":"IF(①データ登録!B781=\"\",\"\",①データ登録!B781)","v":""},{"$f":"IF(①データ登録!C781=\"\",\"\",①データ登録!C781)","v":""}]
[null,null,null,null,null,null,null,null,null,null,null,null,{"$f":"IF(①データ登録!A782=\"\",\"\",①データ登録!A782)","v":""},{"$f":"IF(①データ登録!B782=\"\",\"\",①データ登録!B782)","v":""},{"$f":"IF(①データ登録!C782=\"\",\"\",①データ登録!C782)","v":""}]
[null,null,null,null,null,null,null,null,null,null,null,null,{"$f":"IF(①データ登録!A783=\"\",\"\",①データ登録!A783)","v":""},{"$f":"IF(①データ登録!B783=\"\",\"\",①データ登録!B783)","v":""},{"$f":"IF(①データ登録!C783=\"\",\"\",①データ登録!C783)","v":""}]
[null,null,null,null,null,null,null,null,null,null,null,null,{"$f":"IF(①データ登録!A784=\"\",\"\",①データ登録!A784)","v":""},{"$f":"IF(①データ登録!B784=\"\",\"\",①データ登録!B784)","v":""},{"$f":"IF(①データ登録!C784=\"\",\"\",①データ登録!C784)","v":""}]
[null,null,null,null,null,null,null,null,null,null,null,null,{"$f":"IF(①データ登録!A785=\"\",\"\",①データ登録!A785)","v":""},{"$f":"IF(①データ登録!B785=\"\",\"\",①データ登録!B785)","v":""},{"$f":"IF(①データ登録!C785=\"\",\"\",①データ登録!C785)","v":""}]
[null,null,null,null,null,null,null,null,null,null,null,null,{"$f":"IF(①データ登録!A786=\"\",\"\",①データ登録!A786)","v":""},{"$f":"IF(①データ登録!B786=\"\",\"\",①データ登録!B786)","v":""},{"$f":"IF(①データ登録!C786=\"\",\"\",①データ登録!C786)","v":""}]
[null,null,null,null,null,null,null,null,null,null,null,null,{"$f":"IF(①データ登録!A787=\"\",\"\",①データ登録!A787)","v":""},{"$f":"IF(①データ登録!B787=\"\",\"\",①データ登録!B787)","v":""},{"$f":"IF(①データ登録!C787=\"\",\"\",①データ登録!C787)","v":""}]
[null,null,null,null,null,null,null,null,null,null,null,null,{"$f":"IF(①データ登録!A788=\"\",\"\",①データ登録!A788)","v":""},{"$f":"IF(①データ登録!B788=\"\",\"\",①データ登録!B788)","v":""},{"$f":"IF(①データ登録!C788=\"\",\"\",①データ登録!C788)","v":""}]
[null,null,null,null,null,null,null,null,null,null,null,null,{"$f":"IF(①データ登録!A789=\"\",\"\",①データ登録!A789)","v":""},{"$f":"IF(①データ登録!B789=\"\",\"\",①データ登録!B789)","v":""},{"$f":"IF(①データ登録!C789=\"\",\"\",①データ登録!C789)","v":""}]
[null,null,null,null,null,null,null,null,null,null,null,null,{"$f":"IF(①データ登録!A790=\"\",\"\",①データ登録!A790)","v":""},{"$f":"IF(①データ登録!B790=\"\",\"\",①データ登録!B790)","v":""},{"$f":"IF(①データ登録!C790=\"\",\"\",①データ登録!C790)","v":""}]
[null,null,null,null,null,null,null,null,null,null,null,null,{"$f":"IF(①データ登録!A791=\"\",\"\",①データ登録!A791)","v":""},{"$f":"IF(①データ登録!B791=\"\",\"\",①データ登録!B791)","v":""},{"$f":"IF(①データ登録!C791=\"\",\"\",①データ登録!C791)","v":""}]
[null,null,null,null,null,null,null,null,null,null,null,null,{"$f":"IF(①データ登録!A792=\"\",\"\",①データ登録!A792)","v":""},{"$f":"IF(①データ登録!B792=\"\",\"\",①データ登録!B792)","v":""},{"$f":"IF(①データ登録!C792=\"\",\"\",①データ登録!C792)","v":""}]
[null,null,null,null,null,null,null,null,null,null,null,null,{"$f":"IF(①データ登録!A793=\"\",\"\",①データ登録!A793)","v":""},{"$f":"IF(①データ登録!B793=\"\",\"\",①データ登録!B793)","v":""},{"$f":"IF(①データ登録!C793=\"\",\"\",①データ登録!C793)","v":""}]
[null,null,null,null,null,null,null,null,null,null,null,null,{"$f":"IF(①データ登録!A794=\"\",\"\",①データ登録!A794)","v":""},{"$f":"IF(①データ登録!B794=\"\",\"\",①データ登録!B794)","v":""},{"$f":"IF(①データ登録!C794=\"\",\"\",①データ登録!C794)","v":""}]
[null,null,null,null,null,null,null,null,null,null,null,null,{"$f":"IF(①データ登録!A795=\"\",\"\",①データ登録!A795)","v":""},{"$f":"IF(①データ登録!B795=\"\",\"\",①データ登録!B795)","v":""},{"$f":"IF(①データ登録!C795=\"\",\"\",①データ登録!C795)","v":""}]
[null,null,null,null,null,null,null,null,null,null,null,null,{"$f":"IF(①データ登録!A796=\"\",\"\",①データ登録!A796)","v":""},{"$f":"IF(①データ登録!B796=\"\",\"\",①データ登録!B796)","v":""},{"$f":"IF(①データ登録!C796=\"\",\"\",①データ登録!C796)","v":""}]
[null,null,null,null,null,null,null,null,null,null,null,null,{"$f":"IF(①データ登録!A797=\"\",\"\",①データ登録!A797)","v":""},{"$f":"IF(①データ登録!B797=\"\",\"\",①データ登録!B797)","v":""},{"$f":"IF(①データ登録!C797=\"\",\"\",①データ登録!C797)","v":""}]
[null,null,null,null,null,null,null,null,null,null,null,null,{"$f":"IF(①データ登録!A798=\"\",\"\",①データ登録!A798)","v":""},{"$f":"IF(①データ登録!B798=\"\",\"\",①データ登録!B798)","v":""},{"$f":"IF(①データ登録!C798=\"\",\"\",①データ登録!C798)","v":""}]
[null,null,null,null,null,null,null,null,null,null,null,null,{"$f":"IF(①データ登録!A799=\"\",\"\",①データ登録!A799)","v":""},{"$f":"IF(①データ登録!B799=\"\",\"\",①データ登録!B799)","v":""},{"$f":"IF(①データ登録!C799=\"\",\"\",①データ登録!C799)","v":""}]
[null,null,null,null,null,null,null,null,null,null,null,null,{"$f":"IF(①データ登録!A800=\"\",\"\",①データ登録!A800)","v":""},{"$f":"IF(①データ登録!B800=\"\",\"\",①データ登録!B800)","v":""},{"$f":"IF(①データ登録!C800=\"\",\"\",①データ登録!C800)","v":""}]
[null,null,null,null,null,null,null,null,null,null,null,null,{"$f":"IF(①データ登録!A801=\"\",\"\",①データ登録!A801)","v":""},{"$f":"IF(①データ登録!B801=\"\",\"\",①データ登録!B801)","v":""},{"$f":"IF(①データ登録!C801=\"\",\"\",①データ登録!C801)","v":""}]
[null,null,null,null,null,null,null,null,null,null,null,null,{"$f":"IF(①データ登録!A802=\"\",\"\",①データ登録!A802)","v":""},{"$f":"IF(①データ登録!B802=\"\",\"\",①データ登録!B802)","v":""},{"$f":"IF(①データ登録!C802=\"\",\"\",①データ登録!C802)","v":""}]
[null,null,null,null,null,null,null,null,null,null,null,null,{"$f":"IF(①データ登録!A803=\"\",\"\",①データ登録!A803)","v":""},{"$f":"IF(①データ登録!B803=\"\",\"\",①データ登録!B803)","v":""},{"$f":"IF(①データ登録!C803=\"\",\"\",①データ登録!C803)","v":""}]
[null,null,null,null,null,null,null,null,null,null,null,null,{"$f":"IF(①データ登録!A804=\"\",\"\",①データ登録!A804)","v":""},{"$f":"IF(①データ登録!B804=\"\",\"\",①データ登録!B804)","v":""},{"$f":"IF(①データ登録!C804=\"\",\"\",①データ登録!C804)","v":""}]
[null,null,null,null,null,null,null,null,null,null,null,null,{"$f":"IF(①データ登録!A805=\"\",\"\",①データ登録!A805)","v":""},{"$f":"IF(①データ登録!B805=\"\",\"\",①データ登録!B805)","v":""},{"$f":"IF(①データ登録!C805=\"\",\"\",①データ登録!C805)","v":""}]
[null,null,null,null,null,null,null,null,null,null,null,null,{"$f":"IF(①データ登録!A806=\"\",\"\",①データ登録!A806)","v":""},{"$f":"IF(①データ登録!B806=\"\",\"\",①データ登録!B806)","v":""},{"$f":"IF(①データ登録!C806=\"\",\"\",①データ登録!C806)","v":""}]
[null,null,null,null,null,null,null,null,null,null,null,null,{"$f":"IF(①データ登録!A807=\"\",\"\",①データ登録!A807)","v":""},{"$f":"IF(①データ登録!B807=\"\",\"\",①データ登録!B807)","v":""},{"$f":"IF(①データ登録!C807=\"\",\"\",①データ登録!C807)","v":""}]
[null,null,null,null,null,null,null,null,null,null,null,null,{"$f":"IF(①データ登録!A808=\"\",\"\",①データ登録!A808)","v":""},{"$f":"IF(①データ登録!B808=\"\",\"\",①データ登録!B808)","v":""},{"$f":"IF(①データ登録!C808=\"\",\"\",①データ登録!C808)","v":""}]
[null,null,null,null,null,null,null,null,null,null,null,null,{"$f":"IF(①データ登録!A809=\"\",\"\",①データ登録!A809)","v":""},{"$f":"IF(①データ登録!B809=\"\",\"\",①データ登録!B809)","v":""},{"$f":"IF(①データ登録!C809=\"\",\"\",①データ登録!C809)","v":""}]
[null,null,null,null,null,null,null,null,null,null,null,null,{"$f":"IF(①データ登録!A810=\"\",\"\",①データ登録!A810)","v":""},{"$f":"IF(①データ登録!B810=\"\",\"\",①データ登録!B810)","v":""},{"$f":"IF(①データ登録!C810=\"\",\"\",①データ登録!C810)","v":""}]
[null,null,null,null,null,null,null,null,null,null,null,null,{"$f":"IF(①データ登録!A811=\"\",\"\",①データ登録!A811)","v":""},{"$f":"IF(①データ登録!B811=\"\",\"\",①データ登録!B811)","v":""},{"$f":"IF(①データ登録!C811=\"\",\"\",①データ登録!C811)","v":""}]
[null,null,null,null,null,null,null,null,null,null,null,null,{"$f":"IF(①データ登録!A812=\"\",\"\",①データ登録!A812)","v":""},{"$f":"IF(①データ登録!B812=\"\",\"\",①データ登録!B812)","v":""},{"$f":"IF(①データ登録!C812=\"\",\"\",①データ登録!C812)","v":""}]
[null,null,null,null,null,null,null,null,null,null,null,null,{"$f":"IF(①データ登録!A813=\"\",\"\",①データ登録!A813)","v":""},{"$f":"IF(①データ登録!B813=\"\",\"\",①データ登録!B813)","v":""},{"$f":"IF(①データ登録!C813=\"\",\"\",①データ登録!C813)","v":""}]
[null,null,null,null,null,null,null,null,null,null,null,null,{"$f":"IF(①データ登録!A814=\"\",\"\",①データ登録!A814)","v":""},{"$f":"IF(①データ登録!B814=\"\",\"\",①データ登録!B814)","v":""},{"$f":"IF(①データ登録!C814=\"\",\"\",①データ登録!C814)","v":""}]
[null,null,null,null,null,null,null,null,null,null,null,null,{"$f":"IF(①データ登録!A815=\"\",\"\",①データ登録!A815)","v":""},{"$f":"IF(①データ登録!B815=\"\",\"\",①データ登録!B815)","v":""},{"$f":"IF(①データ登録!C815=\"\",\"\",①データ登録!C815)","v":""}]
[null,null,null,null,null,null,null,null,null,null,null,null,{"$f":"IF(①データ登録!A816=\"\",\"\",①データ登録!A816)","v":""},{"$f":"IF(①データ登録!B816=\"\",\"\",①データ登録!B816)","v":""},{"$f":"IF(①データ登録!C816=\"\",\"\",①データ登録!C816)","v":""}]
[null,null,null,null,null,null,null,null,null,null,null,null,{"$f":"IF(①データ登録!A817=\"\",\"\",①データ登録!A817)","v":""},{"$f":"IF(①データ登録!B817=\"\",\"\",①データ登録!B817)","v":""},{"$f":"IF(①データ登録!C817=\"\",\"\",①データ登録!C817)","v":""}]
[null,null,null,null,null,null,null,null,null,null,null,null,{"$f":"IF(①データ登録!A818=\"\",\"\",①データ登録!A818)","v":""},{"$f":"IF(①データ登録!B818=\"\",\"\",①データ登録!B818)","v":""},{"$f":"IF(①データ登録!C818=\"\",\"\",①データ登録!C818)","v":""}]
[null,null,null,null,null,null,null,null,null,null,null,null,{"$f":"IF(①データ登録!A819=\"\",\"\",①データ登録!A819)","v":""},{"$f":"IF(①データ登録!B819=\"\",\"\",①データ登録!B819)","v":""},{"$f":"IF(①データ登録!C819=\"\",\"\",①データ登録!C819)","v":""}]
[null,null,null,null,null,null,null,null,null,null,null,null,{"$f":"IF(①データ登録!A820=\"\",\"\",①データ登録!A820)","v":""},{"$f":"IF(①データ登録!B820=\"\",\"\",①データ登録!B820)","v":""},{"$f":"IF(①データ登録!C820=\"\",\"\",①データ登録!C820)","v":""}]
[null,null,null,null,null,null,null,null,null,null,null,null,{"$f":"IF(①データ登録!A821=\"\",\"\",①データ登録!A821)","v":""},{"$f":"IF(①データ登録!B821=\"\",\"\",①データ登録!B821)","v":""},{"$f":"IF(①データ登録!C821=\"\",\"\",①データ登録!C821)","v":""}]
[null,null,null,null,null,null,null,null,null,null,null,null,{"$f":"IF(①データ登録!A822=\"\",\"\",①データ登録!A822)","v":""},{"$f":"IF(①データ登録!B822=\"\",\"\",①データ登録!B822)","v":""},{"$f":"IF(①データ登録!C822=\"\",\"\",①データ登録!C822)","v":""}]
[null,null,null,null,null,null,null,null,null,null,null,null,{"$f":"IF(①データ登録!A823=\"\",\"\",①データ登録!A823)","v":""},{"$f":"IF(①データ登録!B823=\"\",\"\",①データ登録!B823)","v":""},{"$f":"IF(①データ登録!C823=\"\",\"\",①データ登録!C823)","v":""}]
[null,null,null,null,null,null,null,null,null,null,null,null,{"$f":"IF(①データ登録!A824=\"\",\"\",①データ登録!A824)","v":""},{"$f":"IF(①データ登録!B824=\"\",\"\",①データ登録!B824)","v":""},{"$f":"IF(①データ登録!C824=\"\",\"\",①データ登録!C824)","v":""}]
[null,null,null,null,null,null,null,null,null,null,null,null,{"$f":"IF(①データ登録!A825=\"\",\"\",①データ登録!A825)","v":""},{"$f":"IF(①データ登録!B825=\"\",\"\",①データ登録!B825)","v":""},{"$f":"IF(①データ登録!C825=\"\",\"\",①データ登録!C825)","v":""}]
[null,null,null,null,null,null,null,null,null,null,null,null,{"$f":"IF(①データ登録!A826=\"\",\"\",①データ登録!A826)","v":""},{"$f":"IF(①データ登録!B826=\"\",\"\",①データ登録!B826)","v":""},{"$f":"IF(①データ登録!C826=\"\",\"\",①データ登録!C826)","v":""}]
[null,null,null,null,null,null,null,null,null,null,null,null,{"$f":"IF(①データ登録!A827=\"\",\"\",①データ登録!A827)","v":""},{"$f":"IF(①データ登録!B827=\"\",\"\",①データ登録!B827)","v":""},{"$f":"IF(①データ登録!C827=\"\",\"\",①データ登録!C827)","v":""}]
[null,null,null,null,null,null,null,null,null,null,null,null,{"$f":"IF(①データ登録!A828=\"\",\"\",①データ登録!A828)","v":""},{"$f":"IF(①データ登録!B828=\"\",\"\",①データ登録!B828)","v":""},{"$f":"IF(①データ登録!C828=\"\",\"\",①データ登録!C828)","v":""}]
[null,null,null,null,null,null,null,null,null,null,null,null,{"$f":"IF(①データ登録!A829=\"\",\"\",①データ登録!A829)","v":""},{"$f":"IF(①データ登録!B829=\"\",\"\",①データ登録!B829)","v":""},{"$f":"IF(①データ登録!C829=\"\",\"\",①データ登録!C829)","v":""}]
[null,null,null,null,null,null,null,null,null,null,null,null,{"$f":"IF(①データ登録!A830=\"\",\"\",①データ登録!A830)","v":""},{"$f":"IF(①データ登録!B830=\"\",\"\",①データ登録!B830)","v":""},{"$f":"IF(①データ登録!C830=\"\",\"\",①データ登録!C830)","v":""}]
[null,null,null,null,null,null,null,null,null,null,null,null,{"$f":"IF(①データ登録!A831=\"\",\"\",①データ登録!A831)","v":""},{"$f":"IF(①データ登録!B831=\"\",\"\",①データ登録!B831)","v":""},{"$f":"IF(①データ登録!C831=\"\",\"\",①データ登録!C831)","v":""}]
[null,null,null,null,null,null,null,null,null,null,null,null,{"$f":"IF(①データ登録!A832=\"\",\"\",①データ登録!A832)","v":""},{"$f":"IF(①データ登録!B832=\"\",\"\",①データ登録!B832)","v":""},{"$f":"IF(①データ登録!C832=\"\",\"\",①データ登録!C832)","v":""}]
[null,null,null,null,null,null,null,null,null,null,null,null,{"$f":"IF(①データ登録!A833=\"\",\"\",①データ登録!A833)","v":""},{"$f":"IF(①データ登録!B833=\"\",\"\",①データ登録!B833)","v":""},{"$f":"IF(①データ登録!C833=\"\",\"\",①データ登録!C833)","v":""}]
[null,null,null,null,null,null,null,null,null,null,null,null,{"$f":"IF(①データ登録!A834=\"\",\"\",①データ登録!A834)","v":""},{"$f":"IF(①データ登録!B834=\"\",\"\",①データ登録!B834)","v":""},{"$f":"IF(①データ登録!C834=\"\",\"\",①データ登録!C834)","v":""}]
[null,null,null,null,null,null,null,null,null,null,null,null,{"$f":"IF(①データ登録!A835=\"\",\"\",①データ登録!A835)","v":""},{"$f":"IF(①データ登録!B835=\"\",\"\",①データ登録!B835)","v":""},{"$f":"IF(①データ登録!C835=\"\",\"\",①データ登録!C835)","v":""}]
[null,null,null,null,null,null,null,null,null,null,null,null,{"$f":"IF(①データ登録!A836=\"\",\"\",①データ登録!A836)","v":""},{"$f":"IF(①データ登録!B836=\"\",\"\",①データ登録!B836)","v":""},{"$f":"IF(①データ登録!C836=\"\",\"\",①データ登録!C836)","v":""}]
[null,null,null,null,null,null,null,null,null,null,null,null,{"$f":"IF(①データ登録!A837=\"\",\"\",①データ登録!A837)","v":""},{"$f":"IF(①データ登録!B837=\"\",\"\",①データ登録!B837)","v":""},{"$f":"IF(①データ登録!C837=\"\",\"\",①データ登録!C837)","v":""}]
[null,null,null,null,null,null,null,null,null,null,null,null,{"$f":"IF(①データ登録!A838=\"\",\"\",①データ登録!A838)","v":""},{"$f":"IF(①データ登録!B838=\"\",\"\",①データ登録!B838)","v":""},{"$f":"IF(①データ登録!C838=\"\",\"\",①データ登録!C838)","v":""}]
[null,null,null,null,null,null,null,null,null,null,null,null,{"$f":"IF(①データ登録!A839=\"\",\"\",①データ登録!A839)","v":""},{"$f":"IF(①データ登録!B839=\"\",\"\",①データ登録!B839)","v":""},{"$f":"IF(①データ登録!C839=\"\",\"\",①データ登録!C839)","v":""}]
[null,null,null,null,null,null,null,null,null,null,null,null,{"$f":"IF(①データ登録!A840=\"\",\"\",①データ登録!A840)","v":""},{"$f":"IF(①データ登録!B840=\"\",\"\",①データ登録!B840)","v":""},{"$f":"IF(①データ登録!C840=\"\",\"\",①データ登録!C840)","v":""}]
[null,null,null,null,null,null,null,null,null,null,null,null,{"$f":"IF(①データ登録!A841=\"\",\"\",①データ登録!A841)","v":""},{"$f":"IF(①データ登録!B841=\"\",\"\",①データ登録!B841)","v":""},{"$f":"IF(①データ登録!C841=\"\",\"\",①データ登録!C841)","v":""}]
[null,null,null,null,null,null,null,null,null,null,null,null,{"$f":"IF(①データ登録!A842=\"\",\"\",①データ登録!A842)","v":""},{"$f":"IF(①データ登録!B842=\"\",\"\",①データ登録!B842)","v":""},{"$f":"IF(①データ登録!C842=\"\",\"\",①データ登録!C842)","v":""}]
[null,null,null,null,null,null,null,null,null,null,null,null,{"$f":"IF(①データ登録!A843=\"\",\"\",①データ登録!A843)","v":""},{"$f":"IF(①データ登録!B843=\"\",\"\",①データ登録!B843)","v":""},{"$f":"IF(①データ登録!C843=\"\",\"\",①データ登録!C843)","v":""}]
[null,null,null,null,null,null,null,null,null,null,null,null,{"$f":"IF(①データ登録!A844=\"\",\"\",①データ登録!A844)","v":""},{"$f":"IF(①データ登録!B844=\"\",\"\",①データ登録!B844)","v":""},{"$f":"IF(①データ登録!C844=\"\",\"\",①データ登録!C844)","v":""}]
[null,null,null,null,null,null,null,null,null,null,null,null,{"$f":"IF(①データ登録!A845=\"\",\"\",①データ登録!A845)","v":""},{"$f":"IF(①データ登録!B845=\"\",\"\",①データ登録!B845)","v":""},{"$f":"IF(①データ登録!C845=\"\",\"\",①データ登録!C845)","v":""}]
[null,null,null,null,null,null,null,null,null,null,null,null,{"$f":"IF(①データ登録!A846=\"\",\"\",①データ登録!A846)","v":""},{"$f":"IF(①データ登録!B846=\"\",\"\",①データ登録!B846)","v":""},{"$f":"IF(①データ登録!C846=\"\",\"\",①データ登録!C846)","v":""}]
[null,null,null,null,null,null,null,null,null,null,null,null,{"$f":"IF(①データ登録!A847=\"\",\"\",①データ登録!A847)","v":""},{"$f":"IF(①データ登録!B847=\"\",\"\",①データ登録!B847)","v":""},{"$f":"IF(①データ登録!C847=\"\",\"\",①データ登録!C847)","v":""}]
[null,null,null,null,null,null,null,null,null,null,null,null,{"$f":"IF(①データ登録!A848=\"\",\"\",①データ登録!A848)","v":""},{"$f":"IF(①データ登録!B848=\"\",\"\",①データ登録!B848)","v":""},{"$f":"IF(①データ登録!C848=\"\",\"\",①データ登録!C848)","v":""}]
[null,null,null,null,null,null,null,null,null,null,null,null,{"$f":"IF(①データ登録!A849=\"\",\"\",①データ登録!A849)","v":""},{"$f":"IF(①データ登録!B849=\"\",\"\",①データ登録!B849)","v":""},{"$f":"IF(①データ登録!C849=\"\",\"\",①データ登録!C849)","v":""}]
[null,null,null,null,null,null,null,null,null,null,null,null,{"$f":"IF(①データ登録!A850=\"\",\"\",①データ登録!A850)","v":""},{"$f":"IF(①データ登録!B850=\"\",\"\",①データ登録!B850)","v":""},{"$f":"IF(①データ登録!C850=\"\",\"\",①データ登録!C850)","v":""}]
[null,null,null,null,null,null,null,null,null,null,null,null,{"$f":"IF(①データ登録!A851=\"\",\"\",①データ登録!A851)","v":""},{"$f":"IF(①データ登録!B851=\"\",\"\",①データ登録!B851)","v":""},{"$f":"IF(①データ登録!C851=\"\",\"\",①データ登録!C851)","v":""}]
[null,null,null,null,null,null,null,null,null,null,null,null,{"$f":"IF(①データ登録!A852=\"\",\"\",①データ登録!A852)","v":""},{"$f":"IF(①データ登録!B852=\"\",\"\",①データ登録!B852)","v":""},{"$f":"IF(①データ登録!C852=\"\",\"\",①データ登録!C852)","v":""}]
[null,null,null,null,null,null,null,null,null,null,null,null,{"$f":"IF(①データ登録!A853=\"\",\"\",①データ登録!A853)","v":""},{"$f":"IF(①データ登録!B853=\"\",\"\",①データ登録!B853)","v":""},{"$f":"IF(①データ登録!C853=\"\",\"\",①データ登録!C853)","v":""}]
[null,null,null,null,null,null,null,null,null,null,null,null,{"$f":"IF(①データ登録!A854=\"\",\"\",①データ登録!A854)","v":""},{"$f":"IF(①データ登録!B854=\"\",\"\",①データ登録!B854)","v":""},{"$f":"IF(①データ登録!C854=\"\",\"\",①データ登録!C854)","v":""}]
[null,null,null,null,null,null,null,null,null,null,null,null,{"$f":"IF(①データ登録!A855=\"\",\"\",①データ登録!A855)","v":""},{"$f":"IF(①データ登録!B855=\"\",\"\",①データ登録!B855)","v":""},{"$f":"IF(①データ登録!C855=\"\",\"\",①データ登録!C855)","v":""}]
[null,null,null,null,null,null,null,null,null,null,null,null,{"$f":"IF(①データ登録!A856=\"\",\"\",①データ登録!A856)","v":""},{"$f":"IF(①データ登録!B856=\"\",\"\",①データ登録!B856)","v":""},{"$f":"IF(①データ登録!C856=\"\",\"\",①データ登録!C856)","v":""}]
[null,null,null,null,null,null,null,null,null,null,null,null,{"$f":"IF(①データ登録!A857=\"\",\"\",①データ登録!A857)","v":""},{"$f":"IF(①データ登録!B857=\"\",\"\",①データ登録!B857)","v":""},{"$f":"IF(①データ登録!C857=\"\",\"\",①データ登録!C857)","v":""}]
[null,null,null,null,null,null,null,null,null,null,null,null,{"$f":"IF(①データ登録!A858=\"\",\"\",①データ登録!A858)","v":""},{"$f":"IF(①データ登録!B858=\"\",\"\",①データ登録!B858)","v":""},{"$f":"IF(①データ登録!C858=\"\",\"\",①データ登録!C858)","v":""}]
[null,null,null,null,null,null,null,null,null,null,null,null,{"$f":"IF(①データ登録!A859=\"\",\"\",①データ登録!A859)","v":""},{"$f":"IF(①データ登録!B859=\"\",\"\",①データ登録!B859)","v":""},{"$f":"IF(①データ登録!C859=\"\",\"\",①データ登録!C859)","v":""}]
[null,null,null,null,null,null,null,null,null,null,null,null,{"$f":"IF(①データ登録!A860=\"\",\"\",①データ登録!A860)","v":""},{"$f":"IF(①データ登録!B860=\"\",\"\",①データ登録!B860)","v":""},{"$f":"IF(①データ登録!C860=\"\",\"\",①データ登録!C860)","v":""}]
[null,null,null,null,null,null,null,null,null,null,null,null,{"$f":"IF(①データ登録!A861=\"\",\"\",①データ登録!A861)","v":""},{"$f":"IF(①データ登録!B861=\"\",\"\",①データ登録!B861)","v":""},{"$f":"IF(①データ登録!C861=\"\",\"\",①データ登録!C861)","v":""}]
[null,null,null,null,null,null,null,null,null,null,null,null,{"$f":"IF(①データ登録!A862=\"\",\"\",①データ登録!A862)","v":""},{"$f":"IF(①データ登録!B862=\"\",\"\",①データ登録!B862)","v":""},{"$f":"IF(①データ登録!C862=\"\",\"\",①データ登録!C862)","v":""}]
[null,null,null,null,null,null,null,null,null,null,null,null,{"$f":"IF(①データ登録!A863=\"\",\"\",①データ登録!A863)","v":""},{"$f":"IF(①データ登録!B863=\"\",\"\",①データ登録!B863)","v":""},{"$f":"IF(①データ登録!C863=\"\",\"\",①データ登録!C863)","v":""}]
[null,null,null,null,null,null,null,null,null,null,null,null,{"$f":"IF(①データ登録!A864=\"\",\"\",①データ登録!A864)","v":""},{"$f":"IF(①データ登録!B864=\"\",\"\",①データ登録!B864)","v":""},{"$f":"IF(①データ登録!C864=\"\",\"\",①データ登録!C864)","v":""}]
[null,null,null,null,null,null,null,null,null,null,null,null,{"$f":"IF(①データ登録!A865=\"\",\"\",①データ登録!A865)","v":""},{"$f":"IF(①データ登録!B865=\"\",\"\",①データ登録!B865)","v":""},{"$f":"IF(①データ登録!C865=\"\",\"\",①データ登録!C865)","v":""}]
[null,null,null,null,null,null,null,null,null,null,null,null,{"$f":"IF(①データ登録!A866=\"\",\"\",①データ登録!A866)","v":""},{"$f":"IF(①データ登録!B866=\"\",\"\",①データ登録!B866)","v":""},{"$f":"IF(①データ登録!C866=\"\",\"\",①データ登録!C866)","v":""}]
[null,null,null,null,null,null,null,null,null,null,null,null,{"$f":"IF(①データ登録!A867=\"\",\"\",①データ登録!A867)","v":""},{"$f":"IF(①データ登録!B867=\"\",\"\",①データ登録!B867)","v":""},{"$f":"IF(①データ登録!C867=\"\",\"\",①データ登録!C867)","v":""}]
[null,null,null,null,null,null,null,null,null,null,null,null,{"$f":"IF(①データ登録!A868=\"\",\"\",①データ登録!A868)","v":""},{"$f":"IF(①データ登録!B868=\"\",\"\",①データ登録!B868)","v":""},{"$f":"IF(①データ登録!C868=\"\",\"\",①データ登録!C868)","v":""}]
[null,null,null,null,null,null,null,null,null,null,null,null,{"$f":"IF(①データ登録!A869=\"\",\"\",①データ登録!A869)","v":""},{"$f":"IF(①データ登録!B869=\"\",\"\",①データ登録!B869)","v":""},{"$f":"IF(①データ登録!C869=\"\",\"\",①データ登録!C869)","v":""}]
[null,null,null,null,null,null,null,null,null,null,null,null,{"$f":"IF(①データ登録!A870=\"\",\"\",①データ登録!A870)","v":""},{"$f":"IF(①データ登録!B870=\"\",\"\",①データ登録!B870)","v":""},{"$f":"IF(①データ登録!C870=\"\",\"\",①データ登録!C870)","v":""}]
[null,null,null,null,null,null,null,null,null,null,null,null,{"$f":"IF(①データ登録!A871=\"\",\"\",①データ登録!A871)","v":""},{"$f":"IF(①データ登録!B871=\"\",\"\",①データ登録!B871)","v":""},{"$f":"IF(①データ登録!C871=\"\",\"\",①データ登録!C871)","v":""}]
[null,null,null,null,null,null,null,null,null,null,null,null,{"$f":"IF(①データ登録!A872=\"\",\"\",①データ登録!A872)","v":""},{"$f":"IF(①データ登録!B872=\"\",\"\",①データ登録!B872)","v":""},{"$f":"IF(①データ登録!C872=\"\",\"\",①データ登録!C872)","v":""}]
[null,null,null,null,null,null,null,null,null,null,null,null,{"$f":"IF(①データ登録!A873=\"\",\"\",①データ登録!A873)","v":""},{"$f":"IF(①データ登録!B873=\"\",\"\",①データ登録!B873)","v":""},{"$f":"IF(①データ登録!C873=\"\",\"\",①データ登録!C873)","v":""}]
[null,null,null,null,null,null,null,null,null,null,null,null,{"$f":"IF(①データ登録!A874=\"\",\"\",①データ登録!A874)","v":""},{"$f":"IF(①データ登録!B874=\"\",\"\",①データ登録!B874)","v":""},{"$f":"IF(①データ登録!C874=\"\",\"\",①データ登録!C874)","v":""}]
[null,null,null,null,null,null,null,null,null,null,null,null,{"$f":"IF(①データ登録!A875=\"\",\"\",①データ登録!A875)","v":""},{"$f":"IF(①データ登録!B875=\"\",\"\",①データ登録!B875)","v":""},{"$f":"IF(①データ登録!C875=\"\",\"\",①データ登録!C875)","v":""}]
[null,null,null,null,null,null,null,null,null,null,null,null,{"$f":"IF(①データ登録!A876=\"\",\"\",①データ登録!A876)","v":""},{"$f":"IF(①データ登録!B876=\"\",\"\",①データ登録!B876)","v":""},{"$f":"IF(①データ登録!C876=\"\",\"\",①データ登録!C876)","v":""}]
[null,null,null,null,null,null,null,null,null,null,null,null,{"$f":"IF(①データ登録!A877=\"\",\"\",①データ登録!A877)","v":""},{"$f":"IF(①データ登録!B877=\"\",\"\",①データ登録!B877)","v":""},{"$f":"IF(①データ登録!C877=\"\",\"\",①データ登録!C877)","v":""}]
[null,null,null,null,null,null,null,null,null,null,null,null,{"$f":"IF(①データ登録!A878=\"\",\"\",①データ登録!A878)","v":""},{"$f":"IF(①データ登録!B878=\"\",\"\",①データ登録!B878)","v":""},{"$f":"IF(①データ登録!C878=\"\",\"\",①データ登録!C878)","v":""}]
[null,null,null,null,null,null,null,null,null,null,null,null,{"$f":"IF(①データ登録!A879=\"\",\"\",①データ登録!A879)","v":""},{"$f":"IF(①データ登録!B879=\"\",\"\",①データ登録!B879)","v":""},{"$f":"IF(①データ登録!C879=\"\",\"\",①データ登録!C879)","v":""}]
[null,null,null,null,null,null,null,null,null,null,null,null,{"$f":"IF(①データ登録!A880=\"\",\"\",①データ登録!A880)","v":""},{"$f":"IF(①データ登録!B880=\"\",\"\",①データ登録!B880)","v":""},{"$f":"IF(①データ登録!C880=\"\",\"\",①データ登録!C880)","v":""}]
[null,null,null,null,null,null,null,null,null,null,null,null,{"$f":"IF(①データ登録!A881=\"\",\"\",①データ登録!A881)","v":""},{"$f":"IF(①データ登録!B881=\"\",\"\",①データ登録!B881)","v":""},{"$f":"IF(①データ登録!C881=\"\",\"\",①データ登録!C881)","v":""}]
[null,null,null,null,null,null,null,null,null,null,null,null,{"$f":"IF(①データ登録!A882=\"\",\"\",①データ登録!A882)","v":""},{"$f":"IF(①データ登録!B882=\"\",\"\",①データ登録!B882)","v":""},{"$f":"IF(①データ登録!C882=\"\",\"\",①データ登録!C882)","v":""}]
[null,null,null,null,null,null,null,null,null,null,null,null,{"$f":"IF(①データ登録!A883=\"\",\"\",①データ登録!A883)","v":""},{"$f":"IF(①データ登録!B883=\"\",\"\",①データ登録!B883)","v":""},{"$f":"IF(①データ登録!C883=\"\",\"\",①データ登録!C883)","v":""}]
[null,null,null,null,null,null,null,null,null,null,null,null,{"$f":"IF(①データ登録!A884=\"\",\"\",①データ登録!A884)","v":""},{"$f":"IF(①データ登録!B884=\"\",\"\",①データ登録!B884)","v":""},{"$f":"IF(①データ登録!C884=\"\",\"\",①データ登録!C884)","v":""}]
[null,null,null,null,null,null,null,null,null,null,null,null,{"$f":"IF(①データ登録!A885=\"\",\"\",①データ登録!A885)","v":""},{"$f":"IF(①データ登録!B885=\"\",\"\",①データ登録!B885)","v":""},{"$f":"IF(①データ登録!C885=\"\",\"\",①データ登録!C885)","v":""}]
[null,null,null,null,null,null,null,null,null,null,null,null,{"$f":"IF(①データ登録!A886=\"\",\"\",①データ登録!A886)","v":""},{"$f":"IF(①データ登録!B886=\"\",\"\",①データ登録!B886)","v":""},{"$f":"IF(①データ登録!C886=\"\",\"\",①データ登録!C886)","v":""}]
[null,null,null,null,null,null,null,null,null,null,null,null,{"$f":"IF(①データ登録!A887=\"\",\"\",①データ登録!A887)","v":""},{"$f":"IF(①データ登録!B887=\"\",\"\",①データ登録!B887)","v":""},{"$f":"IF(①データ登録!C887=\"\",\"\",①データ登録!C887)","v":""}]
[null,null,null,null,null,null,null,null,null,null,null,null,{"$f":"IF(①データ登録!A888=\"\",\"\",①データ登録!A888)","v":""},{"$f":"IF(①データ登録!B888=\"\",\"\",①データ登録!B888)","v":""},{"$f":"IF(①データ登録!C888=\"\",\"\",①データ登録!C888)","v":""}]
[null,null,null,null,null,null,null,null,null,null,null,null,{"$f":"IF(①データ登録!A889=\"\",\"\",①データ登録!A889)","v":""},{"$f":"IF(①データ登録!B889=\"\",\"\",①データ登録!B889)","v":""},{"$f":"IF(①データ登録!C889=\"\",\"\",①データ登録!C889)","v":""}]
[null,null,null,null,null,null,null,null,null,null,null,null,{"$f":"IF(①データ登録!A890=\"\",\"\",①データ登録!A890)","v":""},{"$f":"IF(①データ登録!B890=\"\",\"\",①データ登録!B890)","v":""},{"$f":"IF(①データ登録!C890=\"\",\"\",①データ登録!C890)","v":""}]
[null,null,null,null,null,null,null,null,null,null,null,null,{"$f":"IF(①データ登録!A891=\"\",\"\",①データ登録!A891)","v":""},{"$f":"IF(①データ登録!B891=\"\",\"\",①データ登録!B891)","v":""},{"$f":"IF(①データ登録!C891=\"\",\"\",①データ登録!C891)","v":""}]
[null,null,null,null,null,null,null,null,null,null,null,null,{"$f":"IF(①データ登録!A892=\"\",\"\",①データ登録!A892)","v":""},{"$f":"IF(①データ登録!B892=\"\",\"\",①データ登録!B892)","v":""},{"$f":"IF(①データ登録!C892=\"\",\"\",①データ登録!C892)","v":""}]
[null,null,null,null,null,null,null,null,null,null,null,null,{"$f":"IF(①データ登録!A893=\"\",\"\",①データ登録!A893)","v":""},{"$f":"IF(①データ登録!B893=\"\",\"\",①データ登録!B893)","v":""},{"$f":"IF(①データ登録!C893=\"\",\"\",①データ登録!C893)","v":""}]
[null,null,null,null,null,null,null,null,null,null,null,null,{"$f":"IF(①データ登録!A894=\"\",\"\",①データ登録!A894)","v":""},{"$f":"IF(①データ登録!B894=\"\",\"\",①データ登録!B894)","v":""},{"$f":"IF(①データ登録!C894=\"\",\"\",①データ登録!C894)","v":""}]
[null,null,null,null,null,null,null,null,null,null,null,null,{"$f":"IF(①データ登録!A895=\"\",\"\",①データ登録!A895)","v":""},{"$f":"IF(①データ登録!B895=\"\",\"\",①データ登録!B895)","v":""},{"$f":"IF(①データ登録!C895=\"\",\"\",①データ登録!C895)","v":""}]
[null,null,null,null,null,null,null,null,null,null,null,null,{"$f":"IF(①データ登録!A896=\"\",\"\",①データ登録!A896)","v":""},{"$f":"IF(①データ登録!B896=\"\",\"\",①データ登録!B896)","v":""},{"$f":"IF(①データ登録!C896=\"\",\"\",①データ登録!C896)","v":""}]
[null,null,null,null,null,null,null,null,null,null,null,null,{"$f":"IF(①データ登録!A897=\"\",\"\",①データ登録!A897)","v":""},{"$f":"IF(①データ登録!B897=\"\",\"\",①データ登録!B897)","v":""},{"$f":"IF(①データ登録!C897=\"\",\"\",①データ登録!C897)","v":""}]
[null,null,null,null,null,null,null,null,null,null,null,null,{"$f":"IF(①データ登録!A898=\"\",\"\",①データ登録!A898)","v":""},{"$f":"IF(①データ登録!B898=\"\",\"\",①データ登録!B898)","v":""},{"$f":"IF(①データ登録!C898=\"\",\"\",①データ登録!C898)","v":""}]
[null,null,null,null,null,null,null,null,null,null,null,null,{"$f":"IF(①データ登録!A899=\"\",\"\",①データ登録!A899)","v":""},{"$f":"IF(①データ登録!B899=\"\",\"\",①データ登録!B899)","v":""},{"$f":"IF(①データ登録!C899=\"\",\"\",①データ登録!C899)","v":""}]
[null,null,null,null,null,null,null,null,null,null,null,null,{"$f":"IF(①データ登録!A900=\"\",\"\",①データ登録!A900)","v":""},{"$f":"IF(①データ登録!B900=\"\",\"\",①データ登録!B900)","v":""},{"$f":"IF(①データ登録!C900=\"\",\"\",①データ登録!C900)","v":""}]
[null,null,null,null,null,null,null,null,null,null,null,null,{"$f":"IF(①データ登録!A901=\"\",\"\",①データ登録!A901)","v":""},{"$f":"IF(①データ登録!B901=\"\",\"\",①データ登録!B901)","v":""},{"$f":"IF(①データ登録!C901=\"\",\"\",①データ登録!C901)","v":""}]
[null,null,null,null,null,null,null,null,null,null,null,null,{"$f":"IF(①データ登録!A902=\"\",\"\",①データ登録!A902)","v":""},{"$f":"IF(①データ登録!B902=\"\",\"\",①データ登録!B902)","v":""},{"$f":"IF(①データ登録!C902=\"\",\"\",①データ登録!C902)","v":""}]
[null,null,null,null,null,null,null,null,null,null,null,null,{"$f":"IF(①データ登録!A903=\"\",\"\",①データ登録!A903)","v":""},{"$f":"IF(①データ登録!B903=\"\",\"\",①データ登録!B903)","v":""},{"$f":"IF(①データ登録!C903=\"\",\"\",①データ登録!C903)","v":""}]
[null,null,null,null,null,null,null,null,null,null,null,null,{"$f":"IF(①データ登録!A904=\"\",\"\",①データ登録!A904)","v":""},{"$f":"IF(①データ登録!B904=\"\",\"\",①データ登録!B904)","v":""},{"$f":"IF(①データ登録!C904=\"\",\"\",①データ登録!C904)","v":""}]
[null,null,null,null,null,null,null,null,null,null,null,null,{"$f":"IF(①データ登録!A905=\"\",\"\",①データ登録!A905)","v":""},{"$f":"IF(①データ登録!B905=\"\",\"\",①データ登録!B905)","v":""},{"$f":"IF(①データ登録!C905=\"\",\"\",①データ登録!C905)","v":""}]
[null,null,null,null,null,null,null,null,null,null,null,null,{"$f":"IF(①データ登録!A906=\"\",\"\",①データ登録!A906)","v":""},{"$f":"IF(①データ登録!B906=\"\",\"\",①データ登録!B906)","v":""},{"$f":"IF(①データ登録!C906=\"\",\"\",①データ登録!C906)","v":""}]
[null,null,null,null,null,null,null,null,null,null,null,null,{"$f":"IF(①データ登録!A907=\"\",\"\",①データ登録!A907)","v":""},{"$f":"IF(①データ登録!B907=\"\",\"\",①データ登録!B907)","v":""},{"$f":"IF(①データ登録!C907=\"\",\"\",①データ登録!C907)","v":""}]
[null,null,null,null,null,null,null,null,null,null,null,null,{"$f":"IF(①データ登録!A908=\"\",\"\",①データ登録!A908)","v":""},{"$f":"IF(①データ登録!B908=\"\",\"\",①データ登録!B908)","v":""},{"$f":"IF(①データ登録!C908=\"\",\"\",①データ登録!C908)","v":""}]
[null,null,null,null,null,null,null,null,null,null,null,null,{"$f":"IF(①データ登録!A909=\"\",\"\",①データ登録!A909)","v":""},{"$f":"IF(①データ登録!B909=\"\",\"\",①データ登録!B909)","v":""},{"$f":"IF(①データ登録!C909=\"\",\"\",①データ登録!C909)","v":""}]
[null,null,null,null,null,null,null,null,null,null,null,null,{"$f":"IF(①データ登録!A910=\"\",\"\",①データ登録!A910)","v":""},{"$f":"IF(①データ登録!B910=\"\",\"\",①データ登録!B910)","v":""},{"$f":"IF(①データ登録!C910=\"\",\"\",①データ登録!C910)","v":""}]
[null,null,null,null,null,null,null,null,null,null,null,null,{"$f":"IF(①データ登録!A911=\"\",\"\",①データ登録!A911)","v":""},{"$f":"IF(①データ登録!B911=\"\",\"\",①データ登録!B911)","v":""},{"$f":"IF(①データ登録!C911=\"\",\"\",①データ登録!C911)","v":""}]
[null,null,null,null,null,null,null,null,null,null,null,null,{"$f":"IF(①データ登録!A912=\"\",\"\",①データ登録!A912)","v":""},{"$f":"IF(①データ登録!B912=\"\",\"\",①データ登録!B912)","v":""},{"$f":"IF(①データ登録!C912=\"\",\"\",①データ登録!C912)","v":""}]
[null,null,null,null,null,null,null,null,null,null,null,null,{"$f":"IF(①データ登録!A913=\"\",\"\",①データ登録!A913)","v":""},{"$f":"IF(①データ登録!B913=\"\",\"\",①データ登録!B913)","v":""},{"$f":"IF(①データ登録!C913=\"\",\"\",①データ登録!C913)","v":""}]
[null,null,null,null,null,null,null,null,null,null,null,null,{"$f":"IF(①データ登録!A914=\"\",\"\",①データ登録!A914)","v":""},{"$f":"IF(①データ登録!B914=\"\",\"\",①データ登録!B914)","v":""},{"$f":"IF(①データ登録!C914=\"\",\"\",①データ登録!C914)","v":""}]
[null,null,null,null,null,null,null,null,null,null,null,null,{"$f":"IF(①データ登録!A915=\"\",\"\",①データ登録!A915)","v":""},{"$f":"IF(①データ登録!B915=\"\",\"\",①データ登録!B915)","v":""},{"$f":"IF(①データ登録!C915=\"\",\"\",①データ登録!C915)","v":""}]
[null,null,null,null,null,null,null,null,null,null,null,null,{"$f":"IF(①データ登録!A916=\"\",\"\",①データ登録!A916)","v":""},{"$f":"IF(①データ登録!B916=\"\",\"\",①データ登録!B916)","v":""},{"$f":"IF(①データ登録!C916=\"\",\"\",①データ登録!C916)","v":""}]
[null,null,null,null,null,null,null,null,null,null,null,null,{"$f":"IF(①データ登録!A917=\"\",\"\",①データ登録!A917)","v":""},{"$f":"IF(①データ登録!B917=\"\",\"\",①データ登録!B917)","v":""},{"$f":"IF(①データ登録!C917=\"\",\"\",①データ登録!C917)","v":""}]
[null,null,null,null,null,null,null,null,null,null,null,null,{"$f":"IF(①データ登録!A918=\"\",\"\",①データ登録!A918)","v":""},{"$f":"IF(①データ登録!B918=\"\",\"\",①データ登録!B918)","v":""},{"$f":"IF(①データ登録!C918=\"\",\"\",①データ登録!C918)","v":""}]
[null,null,null,null,null,null,null,null,null,null,null,null,{"$f":"IF(①データ登録!A919=\"\",\"\",①データ登録!A919)","v":""},{"$f":"IF(①データ登録!B919=\"\",\"\",①データ登録!B919)","v":""},{"$f":"IF(①データ登録!C919=\"\",\"\",①データ登録!C919)","v":""}]
[null,null,null,null,null,null,null,null,null,null,null,null,{"$f":"IF(①データ登録!A920=\"\",\"\",①データ登録!A920)","v":""},{"$f":"IF(①データ登録!B920=\"\",\"\",①データ登録!B920)","v":""},{"$f":"IF(①データ登録!C920=\"\",\"\",①データ登録!C920)","v":""}]
[null,null,null,null,null,null,null,null,null,null,null,null,{"$f":"IF(①データ登録!A921=\"\",\"\",①データ登録!A921)","v":""},{"$f":"IF(①データ登録!B921=\"\",\"\",①データ登録!B921)","v":""},{"$f":"IF(①データ登録!C921=\"\",\"\",①データ登録!C921)","v":""}]
[null,null,null,null,null,null,null,null,null,null,null,null,{"$f":"IF(①データ登録!A922=\"\",\"\",①データ登録!A922)","v":""},{"$f":"IF(①データ登録!B922=\"\",\"\",①データ登録!B922)","v":""},{"$f":"IF(①データ登録!C922=\"\",\"\",①データ登録!C922)","v":""}]
[null,null,null,null,null,null,null,null,null,null,null,null,{"$f":"IF(①データ登録!A923=\"\",\"\",①データ登録!A923)","v":""},{"$f":"IF(①データ登録!B923=\"\",\"\",①データ登録!B923)","v":""},{"$f":"IF(①データ登録!C923=\"\",\"\",①データ登録!C923)","v":""}]
[null,null,null,null,null,null,null,null,null,null,null,null,{"$f":"IF(①データ登録!A924=\"\",\"\",①データ登録!A924)","v":""},{"$f":"IF(①データ登録!B924=\"\",\"\",①データ登録!B924)","v":""},{"$f":"IF(①データ登録!C924=\"\",\"\",①データ登録!C924)","v":""}]
[null,null,null,null,null,null,null,null,null,null,null,null,{"$f":"IF(①データ登録!A925=\"\",\"\",①データ登録!A925)","v":""},{"$f":"IF(①データ登録!B925=\"\",\"\",①データ登録!B925)","v":""},{"$f":"IF(①データ登録!C925=\"\",\"\",①データ登録!C925)","v":""}]
[null,null,null,null,null,null,null,null,null,null,null,null,{"$f":"IF(①データ登録!A926=\"\",\"\",①データ登録!A926)","v":""},{"$f":"IF(①データ登録!B926=\"\",\"\",①データ登録!B926)","v":""},{"$f":"IF(①データ登録!C926=\"\",\"\",①データ登録!C926)","v":""}]
[null,null,null,null,null,null,null,null,null,null,null,null,{"$f":"IF(①データ登録!A927=\"\",\"\",①データ登録!A927)","v":""},{"$f":"IF(①データ登録!B927=\"\",\"\",①データ登録!B927)","v":""},{"$f":"IF(①データ登録!C927=\"\",\"\",①データ登録!C927)","v":""}]
[null,null,null,null,null,null,null,null,null,null,null,null,{"$f":"IF(①データ登録!A928=\"\",\"\",①データ登録!A928)","v":""},{"$f":"IF(①データ登録!B928=\"\",\"\",①データ登録!B928)","v":""},{"$f":"IF(①データ登録!C928=\"\",\"\",①データ登録!C928)","v":""}]
[null,null,null,null,null,null,null,null,null,null,null,null,{"$f":"IF(①データ登録!A929=\"\",\"\",①データ登録!A929)","v":""},{"$f":"IF(①データ登録!B929=\"\",\"\",①データ登録!B929)","v":""},{"$f":"IF(①データ登録!C929=\"\",\"\",①データ登録!C929)","v":""}]
[null,null,null,null,null,null,null,null,null,null,null,null,{"$f":"IF(①データ登録!A930=\"\",\"\",①データ登録!A930)","v":""},{"$f":"IF(①データ登録!B930=\"\",\"\",①データ登録!B930)","v":""},{"$f":"IF(①データ登録!C930=\"\",\"\",①データ登録!C930)","v":""}]
[null,null,null,null,null,null,null,null,null,null,null,null,{"$f":"IF(①データ登録!A931=\"\",\"\",①データ登録!A931)","v":""},{"$f":"IF(①データ登録!B931=\"\",\"\",①データ登録!B931)","v":""},{"$f":"IF(①データ登録!C931=\"\",\"\",①データ登録!C931)","v":""}]
[null,null,null,null,null,null,null,null,null,null,null,null,{"$f":"IF(①データ登録!A932=\"\",\"\",①データ登録!A932)","v":""},{"$f":"IF(①データ登録!B932=\"\",\"\",①データ登録!B932)","v":""},{"$f":"IF(①データ登録!C932=\"\",\"\",①データ登録!C932)","v":""}]
[null,null,null,null,null,null,null,null,null,null,null,null,{"$f":"IF(①データ登録!A933=\"\",\"\",①データ登録!A933)","v":""},{"$f":"IF(①データ登録!B933=\"\",\"\",①データ登録!B933)","v":""},{"$f":"IF(①データ登録!C933=\"\",\"\",①データ登録!C933)","v":""}]
[null,null,null,null,null,null,null,null,null,null,null,null,{"$f":"IF(①データ登録!A934=\"\",\"\",①データ登録!A934)","v":""},{"$f":"IF(①データ登録!B934=\"\",\"\",①データ登録!B934)","v":""},{"$f":"IF(①データ登録!C934=\"\",\"\",①データ登録!C934)","v":""}]
[null,null,null,null,null,null,null,null,null,null,null,null,{"$f":"IF(①データ登録!A935=\"\",\"\",①データ登録!A935)","v":""},{"$f":"IF(①データ登録!B935=\"\",\"\",①データ登録!B935)","v":""},{"$f":"IF(①データ登録!C935=\"\",\"\",①データ登録!C935)","v":""}]
[null,null,null,null,null,null,null,null,null,null,null,null,{"$f":"IF(①データ登録!A936=\"\",\"\",①データ登録!A936)","v":""},{"$f":"IF(①データ登録!B936=\"\",\"\",①データ登録!B936)","v":""},{"$f":"IF(①データ登録!C936=\"\",\"\",①データ登録!C936)","v":""}]
[null,null,null,null,null,null,null,null,null,null,null,null,{"$f":"IF(①データ登録!A937=\"\",\"\",①データ登録!A937)","v":""},{"$f":"IF(①データ登録!B937=\"\",\"\",①データ登録!B937)","v":""},{"$f":"IF(①データ登録!C937=\"\",\"\",①データ登録!C937)","v":""}]
[null,null,null,null,null,null,null,null,null,null,null,null,{"$f":"IF(①データ登録!A938=\"\",\"\",①データ登録!A938)","v":""},{"$f":"IF(①データ登録!B938=\"\",\"\",①データ登録!B938)","v":""},{"$f":"IF(①データ登録!C938=\"\",\"\",①データ登録!C938)","v":""}]
[null,null,null,null,null,null,null,null,null,null,null,null,{"$f":"IF(①データ登録!A939=\"\",\"\",①データ登録!A939)","v":""},{"$f":"IF(①データ登録!B939=\"\",\"\",①データ登録!B939)","v":""},{"$f":"IF(①データ登録!C939=\"\",\"\",①データ登録!C939)","v":""}]
[null,null,null,null,null,null,null,null,null,null,null,null,{"$f":"IF(①データ登録!A940=\"\",\"\",①データ登録!A940)","v":""},{"$f":"IF(①データ登録!B940=\"\",\"\",①データ登録!B940)","v":""},{"$f":"IF(①データ登録!C940=\"\",\"\",①データ登録!C940)","v":""}]
[null,null,null,null,null,null,null,null,null,null,null,null,{"$f":"IF(①データ登録!A941=\"\",\"\",①データ登録!A941)","v":""},{"$f":"IF(①データ登録!B941=\"\",\"\",①データ登録!B941)","v":""},{"$f":"IF(①データ登録!C941=\"\",\"\",①データ登録!C941)","v":""}]
[null,null,null,null,null,null,null,null,null,null,null,null,{"$f":"IF(①データ登録!A942=\"\",\"\",①データ登録!A942)","v":""},{"$f":"IF(①データ登録!B942=\"\",\"\",①データ登録!B942)","v":""},{"$f":"IF(①データ登録!C942=\"\",\"\",①データ登録!C942)","v":""}]
[null,null,null,null,null,null,null,null,null,null,null,null,{"$f":"IF(①データ登録!A943=\"\",\"\",①データ登録!A943)","v":""},{"$f":"IF(①データ登録!B943=\"\",\"\",①データ登録!B943)","v":""},{"$f":"IF(①データ登録!C943=\"\",\"\",①データ登録!C943)","v":""}]
[null,null,null,null,null,null,null,null,null,null,null,null,{"$f":"IF(①データ登録!A944=\"\",\"\",①データ登録!A944)","v":""},{"$f":"IF(①データ登録!B944=\"\",\"\",①データ登録!B944)","v":""},{"$f":"IF(①データ登録!C944=\"\",\"\",①データ登録!C944)","v":""}]
[null,null,null,null,null,null,null,null,null,null,null,null,{"$f":"IF(①データ登録!A945=\"\",\"\",①データ登録!A945)","v":""},{"$f":"IF(①データ登録!B945=\"\",\"\",①データ登録!B945)","v":""},{"$f":"IF(①データ登録!C945=\"\",\"\",①データ登録!C945)","v":""}]
[null,null,null,null,null,null,null,null,null,null,null,null,{"$f":"IF(①データ登録!A946=\"\",\"\",①データ登録!A946)","v":""},{"$f":"IF(①データ登録!B946=\"\",\"\",①データ登録!B946)","v":""},{"$f":"IF(①データ登録!C946=\"\",\"\",①データ登録!C946)","v":""}]
[null,null,null,null,null,null,null,null,null,null,null,null,{"$f":"IF(①データ登録!A947=\"\",\"\",①データ登録!A947)","v":""},{"$f":"IF(①データ登録!B947=\"\",\"\",①データ登録!B947)","v":""},{"$f":"IF(①データ登録!C947=\"\",\"\",①データ登録!C947)","v":""}]
[null,null,null,null,null,null,null,null,null,null,null,null,{"$f":"IF(①データ登録!A948=\"\",\"\",①データ登録!A948)","v":""},{"$f":"IF(①データ登録!B948=\"\",\"\",①データ登録!B948)","v":""},{"$f":"IF(①データ登録!C948=\"\",\"\",①データ登録!C948)","v":""}]
[null,null,null,null,null,null,null,null,null,null,null,null,{"$f":"IF(①データ登録!A949=\"\",\"\",①データ登録!A949)","v":""},{"$f":"IF(①データ登録!B949=\"\",\"\",①データ登録!B949)","v":""},{"$f":"IF(①データ登録!C949=\"\",\"\",①データ登録!C949)","v":""}]
[null,null,null,null,null,null,null,null,null,null,null,null,{"$f":"IF(①データ登録!A950=\"\",\"\",①データ登録!A950)","v":""},{"$f":"IF(①データ登録!B950=\"\",\"\",①データ登録!B950)","v":""},{"$f":"IF(①データ登録!C950=\"\",\"\",①データ登録!C950)","v":""}]
[null,null,null,null,null,null,null,null,null,null,null,null,{"$f":"IF(①データ登録!A951=\"\",\"\",①データ登録!A951)","v":""},{"$f":"IF(①データ登録!B951=\"\",\"\",①データ登録!B951)","v":""},{"$f":"IF(①データ登録!C951=\"\",\"\",①データ登録!C951)","v":""}]
[null,null,null,null,null,null,null,null,null,null,null,null,{"$f":"IF(①データ登録!A952=\"\",\"\",①データ登録!A952)","v":""},{"$f":"IF(①データ登録!B952=\"\",\"\",①データ登録!B952)","v":""},{"$f":"IF(①データ登録!C952=\"\",\"\",①データ登録!C952)","v":""}]
[null,null,null,null,null,null,null,null,null,null,null,null,{"$f":"IF(①データ登録!A953=\"\",\"\",①データ登録!A953)","v":""},{"$f":"IF(①データ登録!B953=\"\",\"\",①データ登録!B953)","v":""},{"$f":"IF(①データ登録!C953=\"\",\"\",①データ登録!C953)","v":""}]
[null,null,null,null,null,null,null,null,null,null,null,null,{"$f":"IF(①データ登録!A954=\"\",\"\",①データ登録!A954)","v":""},{"$f":"IF(①データ登録!B954=\"\",\"\",①データ登録!B954)","v":""},{"$f":"IF(①データ登録!C954=\"\",\"\",①データ登録!C954)","v":""}]
[null,null,null,null,null,null,null,null,null,null,null,null,{"$f":"IF(①データ登録!A955=\"\",\"\",①データ登録!A955)","v":""},{"$f":"IF(①データ登録!B955=\"\",\"\",①データ登録!B955)","v":""},{"$f":"IF(①データ登録!C955=\"\",\"\",①データ登録!C955)","v":""}]
[null,null,null,null,null,null,null,null,null,null,null,null,{"$f":"IF(①データ登録!A956=\"\",\"\",①データ登録!A956)","v":""},{"$f":"IF(①データ登録!B956=\"\",\"\",①データ登録!B956)","v":""},{"$f":"IF(①データ登録!C956=\"\",\"\",①データ登録!C956)","v":""}]
[null,null,null,null,null,null,null,null,null,null,null,null,{"$f":"IF(①データ登録!A957=\"\",\"\",①データ登録!A957)","v":""},{"$f":"IF(①データ登録!B957=\"\",\"\",①データ登録!B957)","v":""},{"$f":"IF(①データ登録!C957=\"\",\"\",①データ登録!C957)","v":""}]
[null,null,null,null,null,null,null,null,null,null,null,null,{"$f":"IF(①データ登録!A958=\"\",\"\",①データ登録!A958)","v":""},{"$f":"IF(①データ登録!B958=\"\",\"\",①データ登録!B958)","v":""},{"$f":"IF(①データ登録!C958=\"\",\"\",①データ登録!C958)","v":""}]
[null,null,null,null,null,null,null,null,null,null,null,null,{"$f":"IF(①データ登録!A959=\"\",\"\",①データ登録!A959)","v":""},{"$f":"IF(①データ登録!B959=\"\",\"\",①データ登録!B959)","v":""},{"$f":"IF(①データ登録!C959=\"\",\"\",①データ登録!C959)","v":""}]
[null,null,null,null,null,null,null,null,null,null,null,null,{"$f":"IF(①データ登録!A960=\"\",\"\",①データ登録!A960)","v":""},{"$f":"IF(①データ登録!B960=\"\",\"\",①データ登録!B960)","v":""},{"$f":"IF(①データ登録!C960=\"\",\"\",①データ登録!C960)","v":""}]
[null,null,null,null,null,null,null,null,null,null,null,null,{"$f":"IF(①データ登録!A961=\"\",\"\",①データ登録!A961)","v":""},{"$f":"IF(①データ登録!B961=\"\",\"\",①データ登録!B961)","v":""},{"$f":"IF(①データ登録!C961=\"\",\"\",①データ登録!C961)","v":""}]
[null,null,null,null,null,null,null,null,null,null,null,null,{"$f":"IF(①データ登録!A962=\"\",\"\",①データ登録!A962)","v":""},{"$f":"IF(①データ登録!B962=\"\",\"\",①データ登録!B962)","v":""},{"$f":"IF(①データ登録!C962=\"\",\"\",①データ登録!C962)","v":""}]
[null,null,null,null,null,null,null,null,null,null,null,null,{"$f":"IF(①データ登録!A963=\"\",\"\",①データ登録!A963)","v":""},{"$f":"IF(①データ登録!B963=\"\",\"\",①データ登録!B963)","v":""},{"$f":"IF(①データ登録!C963=\"\",\"\",①データ登録!C963)","v":""}]
[null,null,null,null,null,null,null,null,null,null,null,null,{"$f":"IF(①データ登録!A964=\"\",\"\",①データ登録!A964)","v":""},{"$f":"IF(①データ登録!B964=\"\",\"\",①データ登録!B964)","v":""},{"$f":"IF(①データ登録!C964=\"\",\"\",①データ登録!C964)","v":""}]
[null,null,null,null,null,null,null,null,null,null,null,null,{"$f":"IF(①データ登録!A965=\"\",\"\",①データ登録!A965)","v":""},{"$f":"IF(①データ登録!B965=\"\",\"\",①データ登録!B965)","v":""},{"$f":"IF(①データ登録!C965=\"\",\"\",①データ登録!C965)","v":""}]
[null,null,null,null,null,null,null,null,null,null,null,null,{"$f":"IF(①データ登録!A966=\"\",\"\",①データ登録!A966)","v":""},{"$f":"IF(①データ登録!B966=\"\",\"\",①データ登録!B966)","v":""},{"$f":"IF(①データ登録!C966=\"\",\"\",①データ登録!C966)","v":""}]
[null,null,null,null,null,null,null,null,null,null,null,null,{"$f":"IF(①データ登録!A967=\"\",\"\",①データ登録!A967)","v":""},{"$f":"IF(①データ登録!B967=\"\",\"\",①データ登録!B967)","v":""},{"$f":"IF(①データ登録!C967=\"\",\"\",①データ登録!C967)","v":""}]
[null,null,null,null,null,null,null,null,null,null,null,null,{"$f":"IF(①データ登録!A968=\"\",\"\",①データ登録!A968)","v":""},{"$f":"IF(①データ登録!B968=\"\",\"\",①データ登録!B968)","v":""},{"$f":"IF(①データ登録!C968=\"\",\"\",①データ登録!C968)","v":""}]
[null,null,null,null,null,null,null,null,null,null,null,null,{"$f":"IF(①データ登録!A969=\"\",\"\",①データ登録!A969)","v":""},{"$f":"IF(①データ登録!B969=\"\",\"\",①データ登録!B969)","v":""},{"$f":"IF(①データ登録!C969=\"\",\"\",①データ登録!C969)","v":""}]
[null,null,null,null,null,null,null,null,null,null,null,null,{"$f":"IF(①データ登録!A970=\"\",\"\",①データ登録!A970)","v":""},{"$f":"IF(①データ登録!B970=\"\",\"\",①データ登録!B970)","v":""},{"$f":"IF(①データ登録!C970=\"\",\"\",①データ登録!C970)","v":""}]
[null,null,null,null,null,null,null,null,null,null,null,null,{"$f":"IF(①データ登録!A971=\"\",\"\",①データ登録!A971)","v":""},{"$f":"IF(①データ登録!B971=\"\",\"\",①データ登録!B971)","v":""},{"$f":"IF(①データ登録!C971=\"\",\"\",①データ登録!C971)","v":""}]
[null,null,null,null,null,null,null,null,null,null,null,null,{"$f":"IF(①データ登録!A972=\"\",\"\",①データ登録!A972)","v":""},{"$f":"IF(①データ登録!B972=\"\",\"\",①データ登録!B972)","v":""},{"$f":"IF(①データ登録!C972=\"\",\"\",①データ登録!C972)","v":""}]
[null,null,null,null,null,null,null,null,null,null,null,null,{"$f":"IF(①データ登録!A973=\"\",\"\",①データ登録!A973)","v":""},{"$f":"IF(①データ登録!B973=\"\",\"\",①データ登録!B973)","v":""},{"$f":"IF(①データ登録!C973=\"\",\"\",①データ登録!C973)","v":""}]
[null,null,null,null,null,null,null,null,null,null,null,null,{"$f":"IF(①データ登録!A974=\"\",\"\",①データ登録!A974)","v":""},{"$f":"IF(①データ登録!B974=\"\",\"\",①データ登録!B974)","v":""},{"$f":"IF(①データ登録!C974=\"\",\"\",①データ登録!C974)","v":""}]
[null,null,null,null,null,null,null,null,null,null,null,null,{"$f":"IF(①データ登録!A975=\"\",\"\",①データ登録!A975)","v":""},{"$f":"IF(①データ登録!B975=\"\",\"\",①データ登録!B975)","v":""},{"$f":"IF(①データ登録!C975=\"\",\"\",①データ登録!C975)","v":""}]
[null,null,null,null,null,null,null,null,null,null,null,null,{"$f":"IF(①データ登録!A976=\"\",\"\",①データ登録!A976)","v":""},{"$f":"IF(①データ登録!B976=\"\",\"\",①データ登録!B976)","v":""},{"$f":"IF(①データ登録!C976=\"\",\"\",①データ登録!C976)","v":""}]
[null,null,null,null,null,null,null,null,null,null,null,null,{"$f":"IF(①データ登録!A977=\"\",\"\",①データ登録!A977)","v":""},{"$f":"IF(①データ登録!B977=\"\",\"\",①データ登録!B977)","v":""},{"$f":"IF(①データ登録!C977=\"\",\"\",①データ登録!C977)","v":""}]
[null,null,null,null,null,null,null,null,null,null,null,null,{"$f":"IF(①データ登録!A978=\"\",\"\",①データ登録!A978)","v":""},{"$f":"IF(①データ登録!B978=\"\",\"\",①データ登録!B978)","v":""},{"$f":"IF(①データ登録!C978=\"\",\"\",①データ登録!C978)","v":""}]
[null,null,null,null,null,null,null,null,null,null,null,null,{"$f":"IF(①データ登録!A979=\"\",\"\",①データ登録!A979)","v":""},{"$f":"IF(①データ登録!B979=\"\",\"\",①データ登録!B979)","v":""},{"$f":"IF(①データ登録!C979=\"\",\"\",①データ登録!C979)","v":""}]
[null,null,null,null,null,null,null,null,null,null,null,null,{"$f":"IF(①データ登録!A980=\"\",\"\",①データ登録!A980)","v":""},{"$f":"IF(①データ登録!B980=\"\",\"\",①データ登録!B980)","v":""},{"$f":"IF(①データ登録!C980=\"\",\"\",①データ登録!C980)","v":""}]
[null,null,null,null,null,null,null,null,null,null,null,null,{"$f":"IF(①データ登録!A981=\"\",\"\",①データ登録!A981)","v":""},{"$f":"IF(①データ登録!B981=\"\",\"\",①データ登録!B981)","v":""},{"$f":"IF(①データ登録!C981=\"\",\"\",①データ登録!C981)","v":""}]
[null,null,null,null,null,null,null,null,null,null,null,null,{"$f":"IF(①データ登録!A982=\"\",\"\",①データ登録!A982)","v":""},{"$f":"IF(①データ登録!B982=\"\",\"\",①データ登録!B982)","v":""},{"$f":"IF(①データ登録!C982=\"\",\"\",①データ登録!C982)","v":""}]
[null,null,null,null,null,null,null,null,null,null,null,null,{"$f":"IF(①データ登録!A983=\"\",\"\",①データ登録!A983)","v":""},{"$f":"IF(①データ登録!B983=\"\",\"\",①データ登録!B983)","v":""},{"$f":"IF(①データ登録!C983=\"\",\"\",①データ登録!C983)","v":""}]
[null,null,null,null,null,null,null,null,null,null,null,null,{"$f":"IF(①データ登録!A984=\"\",\"\",①データ登録!A984)","v":""},{"$f":"IF(①データ登録!B984=\"\",\"\",①データ登録!B984)","v":""},{"$f":"IF(①データ登録!C984=\"\",\"\",①データ登録!C984)","v":""}]
[null,null,null,null,null,null,null,null,null,null,null,null,{"$f":"IF(①データ登録!A985=\"\",\"\",①データ登録!A985)","v":""},{"$f":"IF(①データ登録!B985=\"\",\"\",①データ登録!B985)","v":""},{"$f":"IF(①データ登録!C985=\"\",\"\",①データ登録!C985)","v":""}]
[null,null,null,null,null,null,null,null,null,null,null,null,{"$f":"IF(①データ登録!A986=\"\",\"\",①データ登録!A986)","v":""},{"$f":"IF(①データ登録!B986=\"\",\"\",①データ登録!B986)","v":""},{"$f":"IF(①データ登録!C986=\"\",\"\",①データ登録!C986)","v":""}]
[null,null,null,null,null,null,null,null,null,null,null,null,{"$f":"IF(①データ登録!A987=\"\",\"\",①データ登録!A987)","v":""},{"$f":"IF(①データ登録!B987=\"\",\"\",①データ登録!B987)","v":""},{"$f":"IF(①データ登録!C987=\"\",\"\",①データ登録!C987)","v":""}]
[null,null,null,null,null,null,null,null,null,null,null,null,{"$f":"IF(①データ登録!A988=\"\",\"\",①データ登録!A988)","v":""},{"$f":"IF(①データ登録!B988=\"\",\"\",①データ登録!B988)","v":""},{"$f":"IF(①データ登録!C988=\"\",\"\",①データ登録!C988)","v":""}]
[null,null,null,null,null,null,null,null,null,null,null,null,{"$f":"IF(①データ登録!A989=\"\",\"\",①データ登録!A989)","v":""},{"$f":"IF(①データ登録!B989=\"\",\"\",①データ登録!B989)","v":""},{"$f":"IF(①データ登録!C989=\"\",\"\",①データ登録!C989)","v":""}]
[null,null,null,null,null,null,null,null,null,null,null,null,{"$f":"IF(①データ登録!A990=\"\",\"\",①データ登録!A990)","v":""},{"$f":"IF(①データ登録!B990=\"\",\"\",①データ登録!B990)","v":""},{"$f":"IF(①データ登録!C990=\"\",\"\",①データ登録!C990)","v":""}]
[null,null,null,null,null,null,null,null,null,null,null,null,{"$f":"IF(①データ登録!A991=\"\",\"\",①データ登録!A991)","v":""},{"$f":"IF(①データ登録!B991=\"\",\"\",①データ登録!B991)","v":""},{"$f":"IF(①データ登録!C991=\"\",\"\",①データ登録!C991)","v":""}]
[null,null,null,null,null,null,null,null,null,null,null,null,{"$f":"IF(①データ登録!A992=\"\",\"\",①データ登録!A992)","v":""},{"$f":"IF(①データ登録!B992=\"\",\"\",①データ登録!B992)","v":""},{"$f":"IF(①データ登録!C992=\"\",\"\",①データ登録!C992)","v":""}]
[null,null,null,null,null,null,null,null,null,null,null,null,{"$f":"IF(①データ登録!A993=\"\",\"\",①データ登録!A993)","v":""},{"$f":"IF(①データ登録!B993=\"\",\"\",①データ登録!B993)","v":""},{"$f":"IF(①データ登録!C993=\"\",\"\",①データ登録!C993)","v":""}]
[null,null,null,null,null,null,null,null,null,null,null,null,{"$f":"IF(①データ登録!A994=\"\",\"\",①データ登録!A994)","v":""},{"$f":"IF(①データ登録!B994=\"\",\"\",①データ登録!B994)","v":""},{"$f":"IF(①データ登録!C994=\"\",\"\",①データ登録!C994)","v":""}]
[null,null,null,null,null,null,null,null,null,null,null,null,{"$f":"IF(①データ登録!A995=\"\",\"\",①データ登録!A995)","v":""},{"$f":"IF(①データ登録!B995=\"\",\"\",①データ登録!B995)","v":""},{"$f":"IF(①データ登録!C995=\"\",\"\",①データ登録!C995)","v":""}]
[null,null,null,null,null,null,null,null,null,null,null,null,{"$f":"IF(①データ登録!A996=\"\",\"\",①データ登録!A996)","v":""},{"$f":"IF(①データ登録!B996=\"\",\"\",①データ登録!B996)","v":""},{"$f":"IF(①データ登録!C996=\"\",\"\",①データ登録!C996)","v":""}]
[null,null,null,null,null,null,null,null,null,null,null,null,{"$f":"IF(①データ登録!A997=\"\",\"\",①データ登録!A997)","v":""},{"$f":"IF(①データ登録!B997=\"\",\"\",①データ登録!B997)","v":""},{"$f":"IF(①データ登録!C997=\"\",\"\",①データ登録!C997)","v":""}]
[null,null,null,null,null,null,null,null,null,null,null,null,{"$f":"IF(①データ登録!A998=\"\",\"\",①データ登録!A998)","v":""},{"$f":"IF(①データ登録!B998=\"\",\"\",①データ登録!B998)","v":""},{"$f":"IF(①データ登録!C998=\"\",\"\",①データ登録!C998)","v":""}]
[null,null,null,null,null,null,null,null,null,null,null,null,{"$f":"IF(①データ登録!A999=\"\",\"\",①データ登録!A999)","v":""},{"$f":"IF(①データ登録!B999=\"\",\"\",①データ登録!B999)","v":""},{"$f":"IF(①データ登録!C999=\"\",\"\",①データ登録!C999)","v":""}]
[null,null,null,null,null,null,null,null,null,null,null,null,{"$f":"IF(①データ登録!A1000=\"\",\"\",①データ登録!A1000)","v":""},{"$f":"IF(①データ登録!B1000=\"\",\"\",①データ登録!B1000)","v":""},{"$f":"IF(①データ登録!C1000=\"\",\"\",①データ登録!C1000)","v":""}]
[null,null,null,null,null,null,null,null,null,null,null,null,{"$f":"IF(①データ登録!A1001=\"\",\"\",①データ登録!A1001)","v":""},{"$f":"IF(①データ登録!B1001=\"\",\"\",①データ登録!B1001)","v":""},{"$f":"IF(①データ登録!C1001=\"\",\"\",①データ登録!C1001)","v":""}]
[null,null,null,null,null,null,null,null,null,null,null,null,{"$f":"IF(①データ登録!A1002=\"\",\"\",①データ登録!A1002)","v":""},{"$f":"IF(①データ登録!B1002=\"\",\"\",①データ登録!B1002)","v":""},{"$f":"IF(①データ登録!C1002=\"\",\"\",①データ登録!C1002)","v":""}]
[null,null,null,null,null,null,null,null,null,null,null,null,{"$f":"IF(①データ登録!A1003=\"\",\"\",①データ登録!A1003)","v":""},{"$f":"IF(①データ登録!B1003=\"\",\"\",①データ登録!B1003)","v":""},{"$f":"IF(①データ登録!C1003=\"\",\"\",①データ登録!C1003)","v":""}]
[null,null,null,null,null,null,null,null,null,null,null,null,{"$f":"IF(①データ登録!A1004=\"\",\"\",①データ登録!A1004)","v":""},{"$f":"IF(①データ登録!B1004=\"\",\"\",①データ登録!B1004)","v":""},{"$f":"IF(①データ登録!C1004=\"\",\"\",①データ登録!C1004)","v":""}]
[null,null,null,null,null,null,null,null,null,null,null,null,{"$f":"IF(①データ登録!A1005=\"\",\"\",①データ登録!A1005)","v":""},{"$f":"IF(①データ登録!B1005=\"\",\"\",①データ登録!B1005)","v":""},{"$f":"IF(①データ登録!C1005=\"\",\"\",①データ登録!C1005)","v":""}]
[null,null,null,null,null,null,null,null,null,null,null,null,{"$f":"IF(①データ登録!A1006=\"\",\"\",①データ登録!A1006)","v":""},{"$f":"IF(①データ登録!B1006=\"\",\"\",①データ登録!B1006)","v":""},{"$f":"IF(①データ登録!C1006=\"\",\"\",①データ登録!C1006)","v":""}]
[null,null,null,null,null,null,null,null,null,null,null,null,{"$f":"IF(①データ登録!A1007=\"\",\"\",①データ登録!A1007)","v":""},{"$f":"IF(①データ登録!B1007=\"\",\"\",①データ登録!B1007)","v":""},{"$f":"IF(①データ登録!C1007=\"\",\"\",①データ登録!C1007)","v":""}]
[null,null,null,null,null,null,null,null,null,null,null,null,{"$f":"IF(①データ登録!A1008=\"\",\"\",①データ登録!A1008)","v":""},{"$f":"IF(①データ登録!B1008=\"\",\"\",①データ登録!B1008)","v":""},{"$f":"IF(①データ登録!C1008=\"\",\"\",①データ登録!C1008)","v":""}]
[null,null,null,null,null,null,null,null,null,null,null,null,{"$f":"IF(①データ登録!A1009=\"\",\"\",①データ登録!A1009)","v":""},{"$f":"IF(①データ登録!B1009=\"\",\"\",①データ登録!B1009)","v":""},{"$f":"IF(①データ登録!C1009=\"\",\"\",①データ登録!C1009)","v":""}]
[null,null,null,null,null,null,null,null,null,null,null,null,{"$f":"IF(①データ登録!A1010=\"\",\"\",①データ登録!A1010)","v":""},{"$f":"IF(①データ登録!B1010=\"\",\"\",①データ登録!B1010)","v":""},{"$f":"IF(①データ登録!C1010=\"\",\"\",①データ登録!C1010)","v":""}]

{"sheet":"手動　ランダム表示","index":3,"n_rows":996,"n_cols":15,"rows_kept":996,"cut":false,"hidden":false,"merged":[[9,10,11,11],[0,0,25,9],[28,0,53,9]]}
[{"$f":"VLOOKUP(K14,M2:O21,2)","v":"information"},null,null,null,null,null,null,null,null,null,null,null,"番号","表","うら"]
[null,null,null,null,null,null,null,null,null,null,null,null,{"$f":"IF(①データ登録!A3=\"\",\"\",①データ登録!A3)","v":1},{"$f":"IF(①データ登録!B3=\"\",\"\",①データ登録!B3)","v":"information"},{"$f":"IF(①データ登録!C3=\"\",\"\",①データ登録!C3)","v":"情報"}]
[null,null,null,null,null,null,null,null,null,null,"番号",null,{"$f":"IF(①データ登録!A4=\"\",\"\",①データ登録!A4)","v":2},{"$f":"IF(①データ登録!B4=\"\",\"\",①データ登録!B4)","v":"interesting"},{"$f":"IF(①データ登録!C4=\"\",\"\",①データ登録!C4)","v":"おもしろい"}]
[null,null,null,null,null,null,null,null,null,null,1,"から",{"$f":"IF(①データ登録!A5=\"\",\"\",①データ登録!A5)","v":3},{"$f":"IF(①データ登録!B5=\"\",\"\",①データ登録!B5)","v":"I think I can do something for others."},{"$f":"IF(①データ登録!C5=\"\",\"\",①データ登録!C5)","v":"私もほかの人のために何かできると思うのよ。"}]
[null,null,null,null,null,null,null,null,null,null,9,"まで",{"$f":"IF(①データ登録!A6=\"\",\"\",①データ登録!A6)","v":4},{"$f":"IF(①データ登録!B6=\"\",\"\",①データ登録!B6)","v":"understand"},{"$f":"IF(①データ登録!C6=\"\",\"\",①データ登録!C6)","v":"理解する"}]
[null,null,null,null,null,null,null,null,null,null,null,null,{"$f":"IF(①データ登録!A7=\"\",\"\",①データ登録!A7)","v":5},{"$f":"IF(①データ登録!B7=\"\",\"\",①データ登録!B7)","v":"begin began （　　　　　　） beginning"},{"$f":"IF(①データ登録!C7=\"\",\"\",①データ登録!C7)","v":"はじめるの活用　begin began begun beginning"}]
[null,null,null,null,null,null,null,null,null,null,null,null,{"$f":"IF(①データ登録!A8=\"\",\"\",①データ登録!A8)","v":6},{"$f":"IF(①データ登録!B8=\"\",\"\",①データ登録!B8)","v":"アウストラロピテクス"},{"$f":"IF(①データ登録!C8=\"\",\"\",①データ登録!C8)","v":"約400万年前に南アフリカに現れた人類"}]
[null,null,null,null,null,null,null,null,null,null,null,null,{"$f":"IF(①データ登録!A9=\"\",\"\",①データ登録!A9)","v":7},{"$f":"IF(①データ登録!B9=\"\",\"\",①データ登録!B9)","v":"アウストラロピテクス・ジャワ原人・ペキン原人・クロマニョン人らがいた時代は？"},{"$f":"IF(①データ登録!C9=\"\",\"\",①データ登録!C9)","v":"旧石器時代"}]
[null,null,null,null,null,null,null,null,null,null,{"$f":"NORMINV(RAND(),0,1)","v":1.3818502724540158},null,null,{"$f":"IF(①データ登録!B10=\"\",\"\",①データ登録!B10)","v":"人類が他の動物と大きく違く点を4つ答えなさい。"},{"$f":"IF(①データ登録!C10=\"\",\"\",①データ登録!C10)","v":"①直立歩行する　②道具を使う　③火を使う　④言葉を使う"}]
[null,null,null,null,null,null,null,null,null,null,"F9キーで左の値が変化",null,{"$f":"IF(①データ登録!A11=\"\",\"\",①データ登録!A11)","v":9},{"$f":"IF(①データ登録!B11=\"\",\"\",①データ登録!B11)","v":"墾田永年私財法"},{"$f":"IF(①データ登録!C11=\"\",\"\",①データ登録!C11)","v":"奈良時代中期の聖武天皇の治世に、天平15年5月27日（743年6月23日）に発布された天皇の名による命令で、自分で新しく開墾した耕地の永年私財化を認める法令である。"}]
[null,null,null,null,null,null,null,null,null,null,null,null,{"$f":"IF(①データ登録!A12=\"\",\"\",①データ登録!A12)","v":""},{"$f":"IF(①データ登録!B12=\"\",\"\",①データ登録!B12)","v":""},{"$f":"IF(①データ登録!C12=\"\",\"\",①データ登録!C12)","v":""}]
[null,null,null,null,null,null,null,null,null,null,null,null,{"$f":"IF(①データ登録!A13=\"\",\"\",①データ登録!A13)","v":""},{"$f":"IF(①データ登録!B13=\"\",\"\",①データ登録!B13)","v":""},{"$f":"IF(①データ登録!C13=\"\",\"\",①データ登録!C13)","v":""}]
[null,null,null,null,null,null,null,null,null,null,null,null,{"$f":"IF(①データ登録!A14=\"\",\"\",①データ登録!A14)","v":""},{"$f":"IF(①データ登録!B14=\"\",\"\",①データ登録!B14)","v":""},{"$f":"IF(①データ登録!C14=\"\",\"\",①データ登録!C14)","v":""}]
[null,null,null,null,null,null,null,null,null,null,{"$f":"RANDBETWEEN(K4,K5)","v":1},null,{"$f":"IF(①データ登録!A15=\"\",\"\",①データ登録!A15)","v":""},{"$f":"IF(①データ登録!B15=\"\",\"\",①データ登録!B15)","v":""},{"$f":"IF(①データ登録!C15=\"\",\"\",①データ登録!C15)","v":""}]
[null,null,null,null,null,null,null,null,null,null,null,null,{"$f":"IF(①データ登録!A16=\"\",\"\",①データ登録!A16)","v":""},{"$f":"IF(①データ登録!B16=\"\",\"\",①データ登録!B16)","v":""},{"$f":"IF(①データ登録!C16=\"\",\"\",①データ登録!C16)","v":""}]
[null,null,null,null,null,null,null,null,null,null,null,null,{"$f":"IF(①データ登録!A17=\"\",\"\",①データ登録!A17)","v":""},{"$f":"IF(①データ登録!B17=\"\",\"\",①データ登録!B17)","v":""},{"$f":"IF(①データ登録!C17=\"\",\"\",①データ登録!C17)","v":""}]
[null,null,null,null,null,null,null,null,null,null,null,null,{"$f":"IF(①データ登録!A18=\"\",\"\",①データ登録!A18)","v":""},{"$f":"IF(①データ登録!B18=\"\",\"\",①データ登録!B18)","v":""},{"$f":"IF(①データ登録!C18=\"\",\"\",①データ登録!C18)","v":""}]
[null,null,null,null,null,null,null,null,null,null,null,null,{"$f":"IF(①データ登録!A19=\"\",\"\",①データ登録!A19)","v":""},{"$f":"IF(①データ登録!B19=\"\",\"\",①データ登録!B19)","v":""},{"$f":"IF(①データ登録!C19=\"\",\"\",①データ登録!C19)","v":""}]
[null,null,null,null,null,null,null,null,null,null,null,null,{"$f":"IF(①データ登録!A20=\"\",\"\",①データ登録!A20)","v":""},{"$f":"IF(①データ登録!B20=\"\",\"\",①データ登録!B20)","v":""},{"$f":"IF(①データ登録!C20=\"\",\"\",①データ登録!C20)","v":""}]
[null,null,null,null,null,null,null,null,null,null,null,null,{"$f":"IF(①データ登録!A21=\"\",\"\",①データ登録!A21)","v":""},{"$f":"IF(①データ登録!B21=\"\",\"\",①データ登録!B21)","v":""},{"$f":"IF(①データ登録!C21=\"\",\"\",①データ登録!C21)","v":""}]
[null,null,null,null,null,null,null,null,null,null,null,null,{"$f":"IF(①データ登録!A22=\"\",\"\",①データ登録!A22)","v":""},{"$f":"IF(①データ登録!B22=\"\",\"\",①データ登録!B22)","v":""},{"$f":"IF(①データ登録!C22=\"\",\"\",①データ登録!C22)","v":""}]
[null,null,null,null,null,null,null,null,null,null,null,null,{"$f":"IF(①データ登録!A23=\"\",\"\",①データ登録!A23)","v":""},{"$f":"IF(①データ登録!B23=\"\",\"\",①データ登録!B23)","v":""},{"$f":"IF(①データ登録!C23=\"\",\"\",①データ登録!C23)","v":""}]
[null,null,null,null,null,null,null,null,null,null,null,null,{"$f":"IF(①データ登録!A24=\"\",\"\",①データ登録!A24)","v":""},{"$f":"IF(①データ登録!B24=\"\",\"\",①データ登録!B24)","v":""},{"$f":"IF(①データ登録!C24=\"\",\"\",①データ登録!C24)","v":""}]
[null,null,null,null,null,null,null,null,null,null,null,null,{"$f":"IF(①データ登録!A25=\"\",\"\",①データ登録!A25)","v":""},{"$f":"IF(①データ登録!B25=\"\",\"\",①データ登録!B25)","v":""},{"$f":"IF(①データ登録!C25=\"\",\"\",①データ登録!C25)","v":""}]
[null,null,null,null,null,null,null,null,null,null,null,null,{"$f":"IF(①データ登録!A26=\"\",\"\",①データ登録!A26)","v":""},{"$f":"IF(①データ登録!B26=\"\",\"\",①データ登録!B26)","v":""},{"$f":"IF(①データ登録!C26=\"\",\"\",①データ登録!C26)","v":""}]
[null,null,null,null,null,null,null,null,null,null,null,null,{"$f":"IF(①データ登録!A64=\"\",\"\",①データ登録!A64)","v":""},{"$f":"IF(①データ登録!B64=\"\",\"\",①データ登録!B64)","v":""},{"$f":"IF(①データ登録!C64=\"\",\"\",①データ登録!C64)","v":""}]
[null,null,null,null,null,null,null,null,null,null,null,null,{"$f":"IF(①データ登録!A65=\"\",\"\",①データ登録!A65)","v":""},{"$f":"IF(①データ登録!B65=\"\",\"\",①データ登録!B65)","v":""},{"$f":"IF(①データ登録!C65=\"\",\"\",①データ登録!C65)","v":""}]
[null,null,null,null,null,null,null,null,null,null,null,null,{"$f":"IF(①データ登録!A27=\"\",\"\",①データ登録!A27)","v":""},{"$f":"IF(①データ登録!B27=\"\",\"\",①データ登録!B27)","v":""},{"$f":"IF(①データ登録!C27=\"\",\"\",①データ登録!C27)","v":""}]
[{"$f":"VLOOKUP(K14,M2:O21,3)","v":"情報"},null,null,null,null,null,null,null,null,null,null,null,{"$f":"IF(①データ登録!A41=\"\",\"\",①データ登録!A41)","v":""},{"$f":"IF(①データ登録!B41=\"\",\"\",①データ登録!B41)","v":""},{"$f":"IF(①データ登録!C41=\"\",\"\",①データ登録!C41)","v":""}]
[null,null,null,null,null,null,null,null,null,null,null,null,{"$f":"IF(①データ登録!A42=\"\",\"\",①データ登録!A42)","v":""},{"$f":"IF(①データ登録!B42=\"\",\"\",①データ登録!B42)","v":""},{"$f":"IF(①データ登録!C42=\"\",\"\",①データ登録!C42)","v":""}]
[null,null,null,null,null,null,null,null,null,null,null,null,{"$f":"IF(①データ登録!A43=\"\",\"\",①データ登録!A43)","v":""},{"$f":"IF(①データ登録!B43=\"\",\"\",①データ登録!B43)","v":""},{"$f":"IF(①データ登録!C43=\"\",\"\",①データ登録!C43)","v":""}]
[null,null,null,null,null,null,null,null,null,null,null,null,{"$f":"IF(①データ登録!A44=\"\",\"\",①データ登録!A44)","v":""},{"$f":"IF(①データ登録!B44=\"\",\"\",①データ登録!B44)","v":""},{"$f":"IF(①データ登録!C44=\"\",\"\",①データ登録!C44)","v":""}]
[null,null,null,null,null,null,null,null,null,null,null,null,{"$f":"IF(①データ登録!A45=\"\",\"\",①データ登録!A45)","v":""},{"$f":"IF(①データ登録!B45=\"\",\"\",①データ登録!B45)","v":""},{"$f":"IF(①データ登録!C45=\"\",\"\",①データ登録!C45)","v":""}]
[null,null,null,null,null,null,null,null,null,null,null,null,{"$f":"IF(①データ登録!A46=\"\",\"\",①データ登録!A46)","v":""},{"$f":"IF(①データ登録!B46=\"\",\"\",①データ登録!B46)","v":""},{"$f":"IF(①データ登録!C46=\"\",\"\",①データ登録!C46)","v":""}]
[null,null,null,null,null,null,null,null,null,null,null,null,{"$f":"IF(①データ登録!A47=\"\",\"\",①データ登録!A47)","v":""},{"$f":"IF(①データ登録!B47=\"\",\"\",①データ登録!B47)","v":""},{"$f":"IF(①データ登録!C47=\"\",\"\",①データ登録!C47)","v":""}]
[null,null,null,null,null,null,null,null,null,null,null,null,{"$f":"IF(①データ登録!A48=\"\",\"\",①データ登録!A48)","v":""},{"$f":"IF(①データ登録!B48=\"\",\"\",①データ登録!B48)","v":""},{"$f":"IF(①データ登録!C48=\"\",\"\",①データ登録!C48)","v":""}]
[null,null,null,null,null,null,null,null,null,null,null,null,{"$f":"IF(①データ登録!A49=\"\",\"\",①データ登録!A49)","v":""},{"$f":"IF(①データ登録!B49=\"\",\"\",①データ登録!B49)","v":""},{"$f":"IF(①データ登録!C49=\"\",\"\",①データ登録!C49)","v":""}]
[null,null,null,null,null,null,null,null,null,null,null,null,{"$f":"IF(①データ登録!A50=\"\",\"\",①データ登録!A50)","v":""},{"$f":"IF(①データ登録!B50=\"\",\"\",①データ登録!B50)","v":""},{"$f":"IF(①データ登録!C50=\"\",\"\",①データ登録!C50)","v":""}]
[null,null,null,null,null,null,null,null,null,null,null,null,{"$f":"IF(①データ登録!A51=\"\",\"\",①データ登録!A51)","v":""},{"$f":"IF(①データ登録!B51=\"\",\"\",①データ登録!B51)","v":""},{"$f":"IF(①データ登録!C51=\"\",\"\",①データ登録!C51)","v":""}]
[null,null,null,null,null,null,null,null,null,null,null,null,{"$f":"IF(①データ登録!A52=\"\",\"\",①データ登録!A52)","v":""},{"$f":"IF(①データ登録!B52=\"\",\"\",①データ登録!B52)","v":""},{"$f":"IF(①データ登録!C52=\"\",\"\",①データ登録!C52)","v":""}]
[null,null,null,null,null,null,null,null,null,null,null,null,{"$f":"IF(①データ登録!A53=\"\",\"\",①データ登録!A53)","v":""},{"$f":"IF(①データ登録!B53=\"\",\"\",①データ登録!B53)","v":""},{"$f":"IF(①データ登録!C53=\"\",\"\",①データ登録!C53)","v":""}]
[null,null,null,null,null,null,null,null,null,null,null,null,{"$f":"IF(①データ登録!A54=\"\",\"\",①データ登録!A54)","v":""},{"$f":"IF(①データ登録!B54=\"\",\"\",①データ登録!B54)","v":""},{"$f":"IF(①データ登録!C54=\"\",\"\",①データ登録!C54)","v":""}]
[null,null,null,null,null,null,null,null,null,null,null,null,{"$f":"IF(①データ登録!A55=\"\",\"\",①データ登録!A55)","v":""},{"$f":"IF(①データ登録!B55=\"\",\"\",①データ登録!B55)","v":""},{"$f":"IF(①データ登録!C55=\"\",\"\",①データ登録!C55)","v":""}]
[null,null,null,null,null,null,null,null,null,null,null,null,{"$f":"IF(①データ登録!A56=\"\",\"\",①データ登録!A56)","v":""},{"$f":"IF(①データ登録!B56=\"\",\"\",①データ登録!B56)","v":""},{"$f":"IF(①データ登録!C56=\"\",\"\",①データ登録!C56)","v":""}]
[null,null,null,null,null,null,null,null,null,null,null,null,{"$f":"IF(①データ登録!A57=\"\",\"\",①データ登録!A57)","v":""},{"$f":"IF(①データ登録!B57=\"\",\"\",①データ登録!B57)","v":""},{"$f":"IF(①データ登録!C57=\"\",\"\",①データ登録!C57)","v":""}]
[null,null,null,null,null,null,null,null,null,null,null,null,{"$f":"IF(①データ登録!A58=\"\",\"\",①データ登録!A58)","v":""},{"$f":"IF(①データ登録!B58=\"\",\"\",①データ登録!B58)","v":""},{"$f":"IF(①データ登録!C58=\"\",\"\",①データ登録!C58)","v":""}]
[null,null,null,null,null,null,null,null,null,null,null,null,{"$f":"IF(①データ登録!A59=\"\",\"\",①データ登録!A59)","v":""},{"$f":"IF(①データ登録!B59=\"\",\"\",①データ登録!B59)","v":""},{"$f":"IF(①データ登録!C59=\"\",\"\",①データ登録!C59)","v":""}]
[null,null,null,null,null,null,null,null,null,null,null,null,{"$f":"IF(①データ登録!A60=\"\",\"\",①データ登録!A60)","v":""},{"$f":"IF(①データ登録!B60=\"\",\"\",①データ登録!B60)","v":""},{"$f":"IF(①データ登録!C60=\"\",\"\",①データ登録!C60)","v":""}]
[null,null,null,null,null,null,null,null,null,null,null,null,{"$f":"IF(①データ登録!A61=\"\",\"\",①データ登録!A61)","v":""},{"$f":"IF(①データ登録!B61=\"\",\"\",①データ登録!B61)","v":""},{"$f":"IF(①データ登録!C61=\"\",\"\",①データ登録!C61)","v":""}]
[null,null,null,null,null,null,null,null,null,null,null,null,{"$f":"IF(①データ登録!A62=\"\",\"\",①データ登録!A62)","v":""},{"$f":"IF(①データ登録!B62=\"\",\"\",①データ登録!B62)","v":""},{"$f":"IF(①データ登録!C62=\"\",\"\",①データ登録!C62)","v":""}]
[null,null,null,null,null,null,null,null,null,null,null,null,{"$f":"IF(①データ登録!A63=\"\",\"\",①データ登録!A63)","v":""},{"$f":"IF(①データ登録!B63=\"\",\"\",①データ登録!B63)","v":""},{"$f":"IF(①データ登録!C63=\"\",\"\",①データ登録!C63)","v":""}]
[null,null,null,null,null,null,null,null,null,null,null,null,{"$f":"IF(①データ登録!A66=\"\",\"\",①データ登録!A66)","v":""},{"$f":"IF(①データ登録!B66=\"\",\"\",①データ登録!B66)","v":""},{"$f":"IF(①データ登録!C66=\"\",\"\",①データ登録!C66)","v":""}]
[null,null,null,null,null,null,null,null,null,null,null,null,{"$f":"IF(①データ登録!A67=\"\",\"\",①データ登録!A67)","v":""},{"$f":"IF(①データ登録!B67=\"\",\"\",①データ登録!B67)","v":""},{"$f":"IF(①データ登録!C67=\"\",\"\",①データ登録!C67)","v":""}]
[null,null,null,null,null,null,null,null,null,null,null,null,{"$f":"IF(①データ登録!A68=\"\",\"\",①データ登録!A68)","v":""},{"$f":"IF(①データ登録!B68=\"\",\"\",①データ登録!B68)","v":""},{"$f":"IF(①データ登録!C68=\"\",\"\",①データ登録!C68)","v":""}]
[null,null,null,null,null,null,null,null,null,null,null,null,{"$f":"IF(①データ登録!A69=\"\",\"\",①データ登録!A69)","v":""},{"$f":"IF(①データ登録!B69=\"\",\"\",①データ登録!B69)","v":""},{"$f":"IF(①データ登録!C69=\"\",\"\",①データ登録!C69)","v":""}]
[null,null,null,null,null,null,null,null,null,null,null,null,{"$f":"IF(①データ登録!A70=\"\",\"\",①データ登録!A70)","v":""},{"$f":"IF(①データ登録!B70=\"\",\"\",①データ登録!B70)","v":""},{"$f":"IF(①データ登録!C70=\"\",\"\",①データ登録!C70)","v":""}]
[null,null,null,null,null,null,null,null,null,null,null,null,{"$f":"IF(①データ登録!A71=\"\",\"\",①データ登録!A71)","v":""},{"$f":"IF(①データ登録!B71=\"\",\"\",①データ登録!B71)","v":""},{"$f":"IF(①データ登録!C71=\"\",\"\",①データ登録!C71)","v":""}]
[null,null,null,null,null,null,null,null,null,null,null,null,{"$f":"IF(①データ登録!A72=\"\",\"\",①データ登録!A72)","v":""},{"$f":"IF(①データ登録!B72=\"\",\"\",①データ登録!B72)","v":""},{"$f":"IF(①データ登録!C72=\"\",\"\",①データ登録!C72)","v":""}]
[null,null,null,null,null,null,null,null,null,null,null,null,{"$f":"IF(①データ登録!A73=\"\",\"\",①データ登録!A73)","v":""},{"$f":"IF(①データ登録!B73=\"\",\"\",①データ登録!B73)","v":""},{"$f":"IF(①データ登録!C73=\"\",\"\",①データ登録!C73)","v":""}]
[null,null,null,null,null,null,null,null,null,null,null,null,{"$f":"IF(①データ登録!A74=\"\",\"\",①データ登録!A74)","v":""},{"$f":"IF(①データ登録!B74=\"\",\"\",①データ登録!B74)","v":""},{"$f":"IF(①データ登録!C74=\"\",\"\",①データ登録!C74)","v":""}]
[null,null,null,null,null,null,null,null,null,null,null,null,{"$f":"IF(①データ登録!A75=\"\",\"\",①データ登録!A75)","v":""},{"$f":"IF(①データ登録!B75=\"\",\"\",①データ登録!B75)","v":""},{"$f":"IF(①データ登録!C75=\"\",\"\",①データ登録!C75)","v":""}]
[null,null,null,null,null,null,null,null,null,null,null,null,{"$f":"IF(①データ登録!A76=\"\",\"\",①データ登録!A76)","v":""},{"$f":"IF(①データ登録!B76=\"\",\"\",①データ登録!B76)","v":""},{"$f":"IF(①データ登録!C76=\"\",\"\",①データ登録!C76)","v":""}]
[null,null,null,null,null,null,null,null,null,null,null,null,{"$f":"IF(①データ登録!A77=\"\",\"\",①データ登録!A77)","v":""},{"$f":"IF(①データ登録!B77=\"\",\"\",①データ登録!B77)","v":""},{"$f":"IF(①データ登録!C77=\"\",\"\",①データ登録!C77)","v":""}]
[null,null,null,null,null,null,null,null,null,null,null,null,{"$f":"IF(①データ登録!A78=\"\",\"\",①データ登録!A78)","v":""},{"$f":"IF(①データ登録!B78=\"\",\"\",①データ登録!B78)","v":""},{"$f":"IF(①データ登録!C78=\"\",\"\",①データ登録!C78)","v":""}]
[null,null,null,null,null,null,null,null,null,null,null,null,{"$f":"IF(①データ登録!A79=\"\",\"\",①データ登録!A79)","v":""},{"$f":"IF(①データ登録!B79=\"\",\"\",①データ登録!B79)","v":""},{"$f":"IF(①データ登録!C79=\"\",\"\",①データ登録!C79)","v":""}]
[null,null,null,null,null,null,null,null,null,null,null,null,{"$f":"IF(①データ登録!A80=\"\",\"\",①データ登録!A80)","v":""},{"$f":"IF(①データ登録!B80=\"\",\"\",①データ登録!B80)","v":""},{"$f":"IF(①データ登録!C80=\"\",\"\",①データ登録!C80)","v":""}]
[null,null,null,null,null,null,null,null,null,null,null,null,{"$f":"IF(①データ登録!A81=\"\",\"\",①データ登録!A81)","v":""},{"$f":"IF(①データ登録!B81=\"\",\"\",①データ登録!B81)","v":""},{"$f":"IF(①データ登録!C81=\"\",\"\",①データ登録!C81)","v":""}]
[null,null,null,null,null,null,null,null,null,null,null,null,{"$f":"IF(①データ登録!A82=\"\",\"\",①データ登録!A82)","v":""},{"$f":"IF(①データ登録!B82=\"\",\"\",①データ登録!B82)","v":""},{"$f":"IF(①データ登録!C82=\"\",\"\",①データ登録!C82)","v":""}]
[null,null,null,null,null,null,null,null,null,null,null,null,{"$f":"IF(①データ登録!A83=\"\",\"\",①データ登録!A83)","v":""},{"$f":"IF(①データ登録!B83=\"\",\"\",①データ登録!B83)","v":""},{"$f":"IF(①データ登録!C83=\"\",\"\",①データ登録!C83)","v":""}]
[null,null,null,null,null,null,null,null,null,null,null,null,{"$f":"IF(①データ登録!A84=\"\",\"\",①データ登録!A84)","v":""},{"$f":"IF(①データ登録!B84=\"\",\"\",①データ登録!B84)","v":""},{"$f":"IF(①データ登録!C84=\"\",\"\",①データ登録!C84)","v":""}]
[null,null,null,null,null,null,null,null,null,null,null,null,{"$f":"IF(①データ登録!A85=\"\",\"\",①データ登録!A85)","v":""},{"$f":"IF(①データ登録!B85=\"\",\"\",①データ登録!B85)","v":""},{"$f":"IF(①データ登録!C85=\"\",\"\",①データ登録!C85)","v":""}]
[null,null,null,null,null,null,null,null,null,null,null,null,{"$f":"IF(①データ登録!A86=\"\",\"\",①データ登録!A86)","v":""},{"$f":"IF(①データ登録!B86=\"\",\"\",①データ登録!B86)","v":""},{"$f":"IF(①データ登録!C86=\"\",\"\",①データ登録!C86)","v":""}]
[null,null,null,null,null,null,null,null,null,null,null,null,{"$f":"IF(①データ登録!A87=\"\",\"\",①データ登録!A87)","v":""},{"$f":"IF(①データ登録!B87=\"\",\"\",①データ登録!B87)","v":""},{"$f":"IF(①データ登録!C87=\"\",\"\",①データ登録!C87)","v":""}]
[null,null,null,null,null,null,null,null,null,null,null,null,{"$f":"IF(①データ登録!A88=\"\",\"\",①データ登録!A88)","v":""},{"$f":"IF(①データ登録!B88=\"\",\"\",①データ登録!B88)","v":""},{"$f":"IF(①データ登録!C88=\"\",\"\",①データ登録!C88)","v":""}]
[null,null,null,null,null,null,null,null,null,null,null,null,{"$f":"IF(①データ登録!A89=\"\",\"\",①データ登録!A89)","v":""},{"$f":"IF(①データ登録!B89=\"\",\"\",①データ登録!B89)","v":""},{"$f":"IF(①データ登録!C89=\"\",\"\",①データ登録!C89)","v":""}]
[null,null,null,null,null,null,null,null,null,null,null,null,{"$f":"IF(①データ登録!A90=\"\",\"\",①データ登録!A90)","v":""},{"$f":"IF(①データ登録!B90=\"\",\"\",①データ登録!B90)","v":""},{"$f":"IF(①データ登録!C90=\"\",\"\",①データ登録!C90)","v":""}]
[null,null,null,null,null,null,null,null,null,null,null,null,{"$f":"IF(①データ登録!A91=\"\",\"\",①データ登録!A91)","v":""},{"$f":"IF(①データ登録!B91=\"\",\"\",①データ登録!B91)","v":""},{"$f":"IF(①データ登録!C91=\"\",\"\",①データ登録!C91)","v":""}]
[null,null,null,null,null,null,null,null,null,null,null,null,{"$f":"IF(①データ登録!A92=\"\",\"\",①データ登録!A92)","v":""},{"$f":"IF(①データ登録!B92=\"\",\"\",①データ登録!B92)","v":""},{"$f":"IF(①データ登録!C92=\"\",\"\",①データ登録!C92)","v":""}]
[null,null,null,null,null,null,null,null,null,null,null,null,{"$f":"IF(①データ登録!A93=\"\",\"\",①データ登録!A93)","v":""},{"$f":"IF(①データ登録!B93=\"\",\"\",①データ登録!B93)","v":""},{"$f":"IF(①データ登録!C93=\"\",\"\",①データ登録!C93)","v":""}]
[null,null,null,null,null,null,null,null,null,null,null,null,{"$f":"IF(①データ登録!A94=\"\",\"\",①データ登録!A94)","v":""},{"$f":"IF(①データ登録!B94=\"\",\"\",①データ登録!B94)","v":""},{"$f":"IF(①データ登録!C94=\"\",\"\",①データ登録!C94)","v":""}]
[null,null,null,null,null,null,null,null,null,null,null,null,{"$f":"IF(①データ登録!A95=\"\",\"\",①データ登録!A95)","v":""},{"$f":"IF(①データ登録!B95=\"\",\"\",①データ登録!B95)","v":""},{"$f":"IF(①データ登録!C95=\"\",\"\",①データ登録!C95)","v":""}]
[null,null,null,null,null,null,null,null,null,null,null,null,{"$f":"IF(①データ登録!A96=\"\",\"\",①データ登録!A96)","v":""},{"$f":"IF(①データ登録!B96=\"\",\"\",①データ登録!B96)","v":""},{"$f":"IF(①データ登録!C96=\"\",\"\",①データ登録!C96)","v":""}]
[null,null,null,null,null,null,null,null,null,null,null,null,{"$f":"IF(①データ登録!A97=\"\",\"\",①データ登録!A97)","v":""},{"$f":"IF(①データ登録!B97=\"\",\"\",①データ登録!B97)","v":""},{"$f":"IF(①データ登録!C97=\"\",\"\",①データ登録!C97)","v":""}]
[null,null,null,null,null,null,null,null,null,null,null,null,{"$f":"IF(①データ登録!A98=\"\",\"\",①データ登録!A98)","v":""},{"$f":"IF(①データ登録!B98=\"\",\"\",①データ登録!B98)","v":""},{"$f":"IF(①データ登録!C98=\"\",\"\",①データ登録!C98)","v":""}]
[null,null,null,null,null,null,null,null,null,null,null,null,{"$f":"IF(①データ登録!A99=\"\",\"\",①データ登録!A99)","v":""},{"$f":"IF(①データ登録!B99=\"\",\"\",①データ登録!B99)","v":""},{"$f":"IF(①データ登録!C99=\"\",\"\",①データ登録!C99)","v":""}]
[null,null,null,null,null,null,null,null,null,null,null,null,{"$f":"IF(①データ登録!A100=\"\",\"\",①データ登録!A100)","v":""},{"$f":"IF(①データ登録!B100=\"\",\"\",①データ登録!B100)","v":""},{"$f":"IF(①データ登録!C100=\"\",\"\",①データ登録!C100)","v":""}]
[null,null,null,null,null,null,null,null,null,null,null,null,{"$f":"IF(①データ登録!A101=\"\",\"\",①データ登録!A101)","v":""},{"$f":"IF(①データ登録!B101=\"\",\"\",①データ登録!B101)","v":""},{"$f":"IF(①データ登録!C101=\"\",\"\",①データ登録!C101)","v":""}]
[null,null,null,null,null,null,null,null,null,null,null,null,{"$f":"IF(①データ登録!A102=\"\",\"\",①データ登録!A102)","v":""},{"$f":"IF(①データ登録!B102=\"\",\"\",①データ登録!B102)","v":""},{"$f":"IF(①データ登録!C102=\"\",\"\",①データ登録!C102)","v":""}]
[null,null,null,null,null,null,null,null,null,null,null,null,{"$f":"IF(①データ登録!A103=\"\",\"\",①データ登録!A103)","v":""},{"$f":"IF(①データ登録!B103=\"\",\"\",①データ登録!B103)","v":""},{"$f":"IF(①データ登録!C103=\"\",\"\",①データ登録!C103)","v":""}]
[null,null,null,null,null,null,null,null,null,null,null,null,{"$f":"IF(①データ登録!A104=\"\",\"\",①データ登録!A104)","v":""},{"$f":"IF(①データ登録!B104=\"\",\"\",①データ登録!B104)","v":""},{"$f":"IF(①データ登録!C104=\"\",\"\",①データ登録!C104)","v":""}]
[null,null,null,null,null,null,null,null,null,null,null,null,{"$f":"IF(①データ登録!A105=\"\",\"\",①データ登録!A105)","v":""},{"$f":"IF(①データ登録!B105=\"\",\"\",①データ登録!B105)","v":""},{"$f":"IF(①データ登録!C105=\"\",\"\",①データ登録!C105)","v":""}]
[null,null,null,null,null,null,null,null,null,null,null,null,{"$f":"IF(①データ登録!A106=\"\",\"\",①データ登録!A106)","v":""},{"$f":"IF(①データ登録!B106=\"\",\"\",①データ登録!B106)","v":""},{"$f":"IF(①データ登録!C106=\"\",\"\",①データ登録!C106)","v":""}]
[null,null,null,null,null,null,null,null,null,null,null,null,{"$f":"IF(①データ登録!A107=\"\",\"\",①データ登録!A107)","v":""},{"$f":"IF(①データ登録!B107=\"\",\"\",①データ登録!B107)","v":""},{"$f":"IF(①データ登録!C107=\"\",\"\",①データ登録!C107)","v":""}]
[null,null,null,null,null,null,null,null,null,null,null,null,{"$f":"IF(①データ登録!A108=\"\",\"\",①データ登録!A108)","v":""},{"$f":"IF(①データ登録!B108=\"\",\"\",①データ登録!B108)","v":""},{"$f":"IF(①データ登録!C108=\"\",\"\",①データ登録!C108)","v":""}]
[null,null,null,null,null,null,null,null,null,null,null,null,{"$f":"IF(①データ登録!A109=\"\",\"\",①データ登録!A109)","v":""},{"$f":"IF(①データ登録!B109=\"\",\"\",①データ登録!B109)","v":""},{"$f":"IF(①データ登録!C109=\"\",\"\",①データ登録!C109)","v":""}]
[null,null,null,null,null,null,null,null,null,null,null,null,{"$f":"IF(①データ登録!A110=\"\",\"\",①データ登録!A110)","v":""},{"$f":"IF(①データ登録!B110=\"\",\"\",①データ登録!B110)","v":""},{"$f":"IF(①データ登録!C110=\"\",\"\",①データ登録!C110)","v":""}]
[null,null,null,null,null,null,null,null,null,null,null,null,{"$f":"IF(①データ登録!A111=\"\",\"\",①データ登録!A111)","v":""},{"$f":"IF(①データ登録!B111=\"\",\"\",①データ登録!B111)","v":""},{"$f":"IF(①データ登録!C111=\"\",\"\",①データ登録!C111)","v":""}]
[null,null,null,null,null,null,null,null,null,null,null,null,{"$f":"IF(①データ登録!A112=\"\",\"\",①データ登録!A112)","v":""},{"$f":"IF(①データ登録!B112=\"\",\"\",①データ登録!B112)","v":""},{"$f":"IF(①データ登録!C112=\"\",\"\",①データ登録!C112)","v":""}]
[null,null,null,null,null,null,null,null,null,null,null,null,{"$f":"IF(①データ登録!A113=\"\",\"\",①データ登録!A113)","v":""},{"$f":"IF(①データ登録!B113=\"\",\"\",①データ登録!B113)","v":""},{"$f":"IF(①データ登録!C113=\"\",\"\",①データ登録!C113)","v":""}]
[null,null,null,null,null,null,null,null,null,null,null,null,{"$f":"IF(①データ登録!A114=\"\",\"\",①データ登録!A114)","v":""},{"$f":"IF(①データ登録!B114=\"\",\"\",①データ登録!B114)","v":""},{"$f":"IF(①データ登録!C114=\"\",\"\",①データ登録!C114)","v":""}]
[null,null,null,null,null,null,null,null,null,null,null,null,{"$f":"IF(①データ登録!A115=\"\",\"\",①データ登録!A115)","v":""},{"$f":"IF(①データ登録!B115=\"\",\"\",①データ登録!B115)","v":""},{"$f":"IF(①データ登録!C115=\"\",\"\",①データ登録!C115)","v":""}]
[null,null,null,null,null,null,null,null,null,null,null,null,{"$f":"IF(①データ登録!A116=\"\",\"\",①データ登録!A116)","v":""},{"$f":"IF(①データ登録!B116=\"\",\"\",①データ登録!B116)","v":""},{"$f":"IF(①データ登録!C116=\"\",\"\",①データ登録!C116)","v":""}]
[null,null,null,null,null,null,null,null,null,null,null,null,{"$f":"IF(①データ登録!A117=\"\",\"\",①データ登録!A117)","v":""},{"$f":"IF(①データ登録!B117=\"\",\"\",①データ登録!B117)","v":""},{"$f":"IF(①データ登録!C117=\"\",\"\",①データ登録!C117)","v":""}]
[null,null,null,null,null,null,null,null,null,null,null,null,{"$f":"IF(①データ登録!A118=\"\",\"\",①データ登録!A118)","v":""},{"$f":"IF(①データ登録!B118=\"\",\"\",①データ登録!B118)","v":""},{"$f":"IF(①データ登録!C118=\"\",\"\",①データ登録!C118)","v":""}]
[null,null,null,null,null,null,null,null,null,null,null,null,{"$f":"IF(①データ登録!A119=\"\",\"\",①データ登録!A119)","v":""},{"$f":"IF(①データ登録!B119=\"\",\"\",①データ登録!B119)","v":""},{"$f":"IF(①データ登録!C119=\"\",\"\",①データ登録!C119)","v":""}]
[null,null,null,null,null,null,null,null,null,null,null,null,{"$f":"IF(①データ登録!A120=\"\",\"\",①データ登録!A120)","v":""},{"$f":"IF(①データ登録!B120=\"\",\"\",①データ登録!B120)","v":""},{"$f":"IF(①データ登録!C120=\"\",\"\",①データ登録!C120)","v":""}]
[null,null,null,null,null,null,null,null,null,null,null,null,{"$f":"IF(①データ登録!A121=\"\",\"\",①データ登録!A121)","v":""},{"$f":"IF(①データ登録!B121=\"\",\"\",①データ登録!B121)","v":""},{"$f":"IF(①データ登録!C121=\"\",\"\",①データ登録!C121)","v":""}]
[null,null,null,null,null,null,null,null,null,null,null,null,{"$f":"IF(①データ登録!A122=\"\",\"\",①データ登録!A122)","v":""},{"$f":"IF(①データ登録!B122=\"\",\"\",①データ登録!B122)","v":""},{"$f":"IF(①データ登録!C122=\"\",\"\",①データ登録!C122)","v":""}]
[null,null,null,null,null,null,null,null,null,null,null,null,{"$f":"IF(①データ登録!A123=\"\",\"\",①データ登録!A123)","v":""},{"$f":"IF(①データ登録!B123=\"\",\"\",①データ登録!B123)","v":""},{"$f":"IF(①データ登録!C123=\"\",\"\",①データ登録!C123)","v":""}]
[null,null,null,null,null,null,null,null,null,null,null,null,{"$f":"IF(①データ登録!A124=\"\",\"\",①データ登録!A124)","v":""},{"$f":"IF(①データ登録!B124=\"\",\"\",①データ登録!B124)","v":""},{"$f":"IF(①データ登録!C124=\"\",\"\",①データ登録!C124)","v":""}]
[null,null,null,null,null,null,null,null,null,null,null,null,{"$f":"IF(①データ登録!A125=\"\",\"\",①データ登録!A125)","v":""},{"$f":"IF(①データ登録!B125=\"\",\"\",①データ登録!B125)","v":""},{"$f":"IF(①データ登録!C125=\"\",\"\",①データ登録!C125)","v":""}]
[null,null,null,null,null,null,null,null,null,null,null,null,{"$f":"IF(①データ登録!A126=\"\",\"\",①データ登録!A126)","v":""},{"$f":"IF(①データ登録!B126=\"\",\"\",①データ登録!B126)","v":""},{"$f":"IF(①データ登録!C126=\"\",\"\",①データ登録!C126)","v":""}]
[null,null,null,null,null,null,null,null,null,null,null,null,{"$f":"IF(①データ登録!A127=\"\",\"\",①データ登録!A127)","v":""},{"$f":"IF(①データ登録!B127=\"\",\"\",①データ登録!B127)","v":""},{"$f":"IF(①データ登録!C127=\"\",\"\",①データ登録!C127)","v":""}]
[null,null,null,null,null,null,null,null,null,null,null,null,{"$f":"IF(①データ登録!A128=\"\",\"\",①データ登録!A128)","v":""},{"$f":"IF(①データ登録!B128=\"\",\"\",①データ登録!B128)","v":""},{"$f":"IF(①データ登録!C128=\"\",\"\",①データ登録!C128)","v":""}]
[null,null,null,null,null,null,null,null,null,null,null,null,{"$f":"IF(①データ登録!A129=\"\",\"\",①データ登録!A129)","v":""},{"$f":"IF(①データ登録!B129=\"\",\"\",①データ登録!B129)","v":""},{"$f":"IF(①データ登録!C129=\"\",\"\",①データ登録!C129)","v":""}]
[null,null,null,null,null,null,null,null,null,null,null,null,{"$f":"IF(①データ登録!A130=\"\",\"\",①データ登録!A130)","v":""},{"$f":"IF(①データ登録!B130=\"\",\"\",①データ登録!B130)","v":""},{"$f":"IF(①データ登録!C130=\"\",\"\",①データ登録!C130)","v":""}]
[null,null,null,null,null,null,null,null,null,null,null,null,{"$f":"IF(①データ登録!A131=\"\",\"\",①データ登録!A131)","v":""},{"$f":"IF(①データ登録!B131=\"\",\"\",①データ登録!B131)","v":""},{"$f":"IF(①データ登録!C131=\"\",\"\",①データ登録!C131)","v":""}]
[null,null,null,null,null,null,null,null,null,null,null,null,{"$f":"IF(①データ登録!A132=\"\",\"\",①データ登録!A132)","v":""},{"$f":"IF(①データ登録!B132=\"\",\"\",①データ登録!B132)","v":""},{"$f":"IF(①データ登録!C132=\"\",\"\",①データ登録!C132)","v":""}]
[null,null,null,null,null,null,null,null,null,null,null,null,{"$f":"IF(①データ登録!A133=\"\",\"\",①データ登録!A133)","v":""},{"$f":"IF(①データ登録!B133=\"\",\"\",①データ登録!B133)","v":""},{"$f":"IF(①データ登録!C133=\"\",\"\",①データ登録!C133)","v":""}]
[null,null,null,null,null,null,null,null,null,null,null,null,{"$f":"IF(①データ登録!A134=\"\",\"\",①データ登録!A134)","v":""},{"$f":"IF(①データ登録!B134=\"\",\"\",①データ登録!B134)","v":""},{"$f":"IF(①データ登録!C134=\"\",\"\",①データ登録!C134)","v":""}]
[null,null,null,null,null,null,null,null,null,null,null,null,{"$f":"IF(①データ登録!A135=\"\",\"\",①データ登録!A135)","v":""},{"$f":"IF(①データ登録!B135=\"\",\"\",①データ登録!B135)","v":""},{"$f":"IF(①データ登録!C135=\"\",\"\",①データ登録!C135)","v":""}]
[null,null,null,null,null,null,null,null,null,null,null,null,{"$f":"IF(①データ登録!A136=\"\",\"\",①データ登録!A136)","v":""},{"$f":"IF(①データ登録!B136=\"\",\"\",①データ登録!B136)","v":""},{"$f":"IF(①データ登録!C136=\"\",\"\",①データ登録!C136)","v":""}]
[null,null,null,null,null,null,null,null,null,null,null,null,{"$f":"IF(①データ登録!A137=\"\",\"\",①データ登録!A137)","v":""},{"$f":"IF(①データ登録!B137=\"\",\"\",①データ登録!B137)","v":""},{"$f":"IF(①データ登録!C137=\"\",\"\",①データ登録!C137)","v":""}]
[null,null,null,null,null,null,null,null,null,null,null,null,{"$f":"IF(①データ登録!A138=\"\",\"\",①データ登録!A138)","v":""},{"$f":"IF(①データ登録!B138=\"\",\"\",①データ登録!B138)","v":""},{"$f":"IF(①データ登録!C138=\"\",\"\",①データ登録!C138)","v":""}]
[null,null,null,null,null,null,null,null,null,null,null,null,{"$f":"IF(①データ登録!A139=\"\",\"\",①データ登録!A139)","v":""},{"$f":"IF(①データ登録!B139=\"\",\"\",①データ登録!B139)","v":""},{"$f":"IF(①データ登録!C139=\"\",\"\",①データ登録!C139)","v":""}]
[null,null,null,null,null,null,null,null,null,null,null,null,{"$f":"IF(①データ登録!A140=\"\",\"\",①データ登録!A140)","v":""},{"$f":"IF(①データ登録!B140=\"\",\"\",①データ登録!B140)","v":""},{"$f":"IF(①データ登録!C140=\"\",\"\",①データ登録!C140)","v":""}]
[null,null,null,null,null,null,null,null,null,null,null,null,{"$f":"IF(①データ登録!A141=\"\",\"\",①データ登録!A141)","v":""},{"$f":"IF(①データ登録!B141=\"\",\"\",①データ登録!B141)","v":""},{"$f":"IF(①データ登録!C141=\"\",\"\",①データ登録!C141)","v":""}]
[null,null,null,null,null,null,null,null,null,null,null,null,{"$f":"IF(①データ登録!A142=\"\",\"\",①データ登録!A142)","v":""},{"$f":"IF(①データ登録!B142=\"\",\"\",①データ登録!B142)","v":""},{"$f":"IF(①データ登録!C142=\"\",\"\",①データ登録!C142)","v":""}]
[null,null,null,null,null,null,null,null,null,null,null,null,{"$f":"IF(①データ登録!A143=\"\",\"\",①データ登録!A143)","v":""},{"$f":"IF(①データ登録!B143=\"\",\"\",①データ登録!B143)","v":""},{"$f":"IF(①データ登録!C143=\"\",\"\",①データ登録!C143)","v":""}]
[null,null,null,null,null,null,null,null,null,null,null,null,{"$f":"IF(①データ登録!A144=\"\",\"\",①データ登録!A144)","v":""},{"$f":"IF(①データ登録!B144=\"\",\"\",①データ登録!B144)","v":""},{"$f":"IF(①データ登録!C144=\"\",\"\",①データ登録!C144)","v":""}]
[null,null,null,null,null,null,null,null,null,null,null,null,{"$f":"IF(①データ登録!A145=\"\",\"\",①データ登録!A145)","v":""},{"$f":"IF(①データ登録!B145=\"\",\"\",①データ登録!B145)","v":""},{"$f":"IF(①データ登録!C145=\"\",\"\",①データ登録!C145)","v":""}]
[null,null,null,null,null,null,null,null,null,null,null,null,{"$f":"IF(①データ登録!A146=\"\",\"\",①データ登録!A146)","v":""},{"$f":"IF(①データ登録!B146=\"\",\"\",①データ登録!B146)","v":""},{"$f":"IF(①データ登録!C146=\"\",\"\",①データ登録!C146)","v":""}]
[null,null,null,null,null,null,null,null,null,null,null,null,{"$f":"IF(①データ登録!A147=\"\",\"\",①データ登録!A147)","v":""},{"$f":"IF(①データ登録!B147=\"\",\"\",①データ登録!B147)","v":""},{"$f":"IF(①データ登録!C147=\"\",\"\",①データ登録!C147)","v":""}]
[null,null,null,null,null,null,null,null,null,null,null,null,{"$f":"IF(①データ登録!A148=\"\",\"\",①データ登録!A148)","v":""},{"$f":"IF(①データ登録!B148=\"\",\"\",①データ登録!B148)","v":""},{"$f":"IF(①データ登録!C148=\"\",\"\",①データ登録!C148)","v":""}]
[null,null,null,null,null,null,null,null,null,null,null,null,{"$f":"IF(①データ登録!A149=\"\",\"\",①データ登録!A149)","v":""},{"$f":"IF(①データ登録!B149=\"\",\"\",①データ登録!B149)","v":""},{"$f":"IF(①データ登録!C149=\"\",\"\",①データ登録!C149)","v":""}]
[null,null,null,null,null,null,null,null,null,null,null,null,{"$f":"IF(①データ登録!A150=\"\",\"\",①データ登録!A150)","v":""},{"$f":"IF(①データ登録!B150=\"\",\"\",①データ登録!B150)","v":""},{"$f":"IF(①データ登録!C150=\"\",\"\",①データ登録!C150)","v":""}]
[null,null,null,null,null,null,null,null,null,null,null,null,{"$f":"IF(①データ登録!A151=\"\",\"\",①データ登録!A151)","v":""},{"$f":"IF(①データ登録!B151=\"\",\"\",①データ登録!B151)","v":""},{"$f":"IF(①データ登録!C151=\"\",\"\",①データ登録!C151)","v":""}]
[null,null,null,null,null,null,null,null,null,null,null,null,{"$f":"IF(①データ登録!A152=\"\",\"\",①データ登録!A152)","v":""},{"$f":"IF(①データ登録!B152=\"\",\"\",①データ登録!B152)","v":""},{"$f":"IF(①データ登録!C152=\"\",\"\",①データ登録!C152)","v":""}]
[null,null,null,null,null,null,null,null,null,null,null,null,{"$f":"IF(①データ登録!A153=\"\",\"\",①データ登録!A153)","v":""},{"$f":"IF(①データ登録!B153=\"\",\"\",①データ登録!B153)","v":""},{"$f":"IF(①データ登録!C153=\"\",\"\",①データ登録!C153)","v":""}]
[null,null,null,null,null,null,null,null,null,null,null,null,{"$f":"IF(①データ登録!A154=\"\",\"\",①データ登録!A154)","v":""},{"$f":"IF(①データ登録!B154=\"\",\"\",①データ登録!B154)","v":""},{"$f":"IF(①データ登録!C154=\"\",\"\",①データ登録!C154)","v":""}]
[null,null,null,null,null,null,null,null,null,null,null,null,{"$f":"IF(①データ登録!A155=\"\",\"\",①データ登録!A155)","v":""},{"$f":"IF(①データ登録!B155=\"\",\"\",①データ登録!B155)","v":""},{"$f":"IF(①データ登録!C155=\"\",\"\",①データ登録!C155)","v":""}]
[null,null,null,null,null,null,null,null,null,null,null,null,{"$f":"IF(①データ登録!A156=\"\",\"\",①データ登録!A156)","v":""},{"$f":"IF(①データ登録!B156=\"\",\"\",①データ登録!B156)","v":""},{"$f":"IF(①データ登録!C156=\"\",\"\",①データ登録!C156)","v":""}]
[null,null,null,null,null,null,null,null,null,null,null,null,{"$f":"IF(①データ登録!A157=\"\",\"\",①データ登録!A157)","v":""},{"$f":"IF(①データ登録!B157=\"\",\"\",①データ登録!B157)","v":""},{"$f":"IF(①データ登録!C157=\"\",\"\",①データ登録!C157)","v":""}]
[null,null,null,null,null,null,null,null,null,null,null,null,{"$f":"IF(①データ登録!A158=\"\",\"\",①データ登録!A158)","v":""},{"$f":"IF(①データ登録!B158=\"\",\"\",①データ登録!B158)","v":""},{"$f":"IF(①データ登録!C158=\"\",\"\",①データ登録!C158)","v":""}]
[null,null,null,null,null,null,null,null,null,null,null,null,{"$f":"IF(①データ登録!A159=\"\",\"\",①データ登録!A159)","v":""},{"$f":"IF(①データ登録!B159=\"\",\"\",①データ登録!B159)","v":""},{"$f":"IF(①データ登録!C159=\"\",\"\",①データ登録!C159)","v":""}]
[null,null,null,null,null,null,null,null,null,null,null,null,{"$f":"IF(①データ登録!A160=\"\",\"\",①データ登録!A160)","v":""},{"$f":"IF(①データ登録!B160=\"\",\"\",①データ登録!B160)","v":""},{"$f":"IF(①データ登録!C160=\"\",\"\",①データ登録!C160)","v":""}]
[null,null,null,null,null,null,null,null,null,null,null,null,{"$f":"IF(①データ登録!A161=\"\",\"\",①データ登録!A161)","v":""},{"$f":"IF(①データ登録!B161=\"\",\"\",①データ登録!B161)","v":""},{"$f":"IF(①データ登録!C161=\"\",\"\",①データ登録!C161)","v":""}]
[null,null,null,null,null,null,null,null,null,null,null,null,{"$f":"IF(①データ登録!A162=\"\",\"\",①データ登録!A162)","v":""},{"$f":"IF(①データ登録!B162=\"\",\"\",①データ登録!B162)","v":""},{"$f":"IF(①データ登録!C162=\"\",\"\",①データ登録!C162)","v":""}]
[null,null,null,null,null,null,null,null,null,null,null,null,{"$f":"IF(①データ登録!A163=\"\",\"\",①データ登録!A163)","v":""},{"$f":"IF(①データ登録!B163=\"\",\"\",①データ登録!B163)","v":""},{"$f":"IF(①データ登録!C163=\"\",\"\",①データ登録!C163)","v":""}]
[null,null,null,null,null,null,null,null,null,null,null,null,{"$f":"IF(①データ登録!A164=\"\",\"\",①データ登録!A164)","v":""},{"$f":"IF(①データ登録!B164=\"\",\"\",①データ登録!B164)","v":""},{"$f":"IF(①データ登録!C164=\"\",\"\",①データ登録!C164)","v":""}]
[null,null,null,null,null,null,null,null,null,null,null,null,{"$f":"IF(①データ登録!A165=\"\",\"\",①データ登録!A165)","v":""},{"$f":"IF(①データ登録!B165=\"\",\"\",①データ登録!B165)","v":""},{"$f":"IF(①データ登録!C165=\"\",\"\",①データ登録!C165)","v":""}]
[null,null,null,null,null,null,null,null,null,null,null,null,{"$f":"IF(①データ登録!A166=\"\",\"\",①データ登録!A166)","v":""},{"$f":"IF(①データ登録!B166=\"\",\"\",①データ登録!B166)","v":""},{"$f":"IF(①データ登録!C166=\"\",\"\",①データ登録!C166)","v":""}]
[null,null,null,null,null,null,null,null,null,null,null,null,{"$f":"IF(①データ登録!A167=\"\",\"\",①データ登録!A167)","v":""},{"$f":"IF(①データ登録!B167=\"\",\"\",①データ登録!B167)","v":""},{"$f":"IF(①データ登録!C167=\"\",\"\",①データ登録!C167)","v":""}]
[null,null,null,null,null,null,null,null,null,null,null,null,{"$f":"IF(①データ登録!A168=\"\",\"\",①データ登録!A168)","v":""},{"$f":"IF(①データ登録!B168=\"\",\"\",①データ登録!B168)","v":""},{"$f":"IF(①データ登録!C168=\"\",\"\",①データ登録!C168)","v":""}]
[null,null,null,null,null,null,null,null,null,null,null,null,{"$f":"IF(①データ登録!A169=\"\",\"\",①データ登録!A169)","v":""},{"$f":"IF(①データ登録!B169=\"\",\"\",①データ登録!B169)","v":""},{"$f":"IF(①データ登録!C169=\"\",\"\",①データ登録!C169)","v":""}]
[null,null,null,null,null,null,null,null,null,null,null,null,{"$f":"IF(①データ登録!A170=\"\",\"\",①データ登録!A170)","v":""},{"$f":"IF(①データ登録!B170=\"\",\"\",①データ登録!B170)","v":""},{"$f":"IF(①データ登録!C170=\"\",\"\",①データ登録!C170)","v":""}]
[null,null,null,null,null,null,null,null,null,null,null,null,{"$f":"IF(①データ登録!A171=\"\",\"\",①データ登録!A171)","v":""},{"$f":"IF(①データ登録!B171=\"\",\"\",①データ登録!B171)","v":""},{"$f":"IF(①データ登録!C171=\"\",\"\",①データ登録!C171)","v":""}]
[null,null,null,null,null,null,null,null,null,null,null,null,{"$f":"IF(①データ登録!A172=\"\",\"\",①データ登録!A172)","v":""},{"$f":"IF(①データ登録!B172=\"\",\"\",①データ登録!B172)","v":""},{"$f":"IF(①データ登録!C172=\"\",\"\",①データ登録!C172)","v":""}]
[null,null,null,null,null,null,null,null,null,null,null,null,{"$f":"IF(①データ登録!A173=\"\",\"\",①データ登録!A173)","v":""},{"$f":"IF(①データ登録!B173=\"\",\"\",①データ登録!B173)","v":""},{"$f":"IF(①データ登録!C173=\"\",\"\",①データ登録!C173)","v":""}]
[null,null,null,null,null,null,null,null,null,null,null,null,{"$f":"IF(①データ登録!A174=\"\",\"\",①データ登録!A174)","v":""},{"$f":"IF(①データ登録!B174=\"\",\"\",①データ登録!B174)","v":""},{"$f":"IF(①データ登録!C174=\"\",\"\",①データ登録!C174)","v":""}]
[null,null,null,null,null,null,null,null,null,null,null,null,{"$f":"IF(①データ登録!A175=\"\",\"\",①データ登録!A175)","v":""},{"$f":"IF(①データ登録!B175=\"\",\"\",①データ登録!B175)","v":""},{"$f":"IF(①データ登録!C175=\"\",\"\",①データ登録!C175)","v":""}]
[null,null,null,null,null,null,null,null,null,null,null,null,{"$f":"IF(①データ登録!A176=\"\",\"\",①データ登録!A176)","v":""},{"$f":"IF(①データ登録!B176=\"\",\"\",①データ登録!B176)","v":""},{"$f":"IF(①データ登録!C176=\"\",\"\",①データ登録!C176)","v":""}]
[null,null,null,null,null,null,null,null,null,null,null,null,{"$f":"IF(①データ登録!A177=\"\",\"\",①データ登録!A177)","v":""},{"$f":"IF(①データ登録!B177=\"\",\"\",①データ登録!B177)","v":""},{"$f":"IF(①データ登録!C177=\"\",\"\",①データ登録!C177)","v":""}]
[null,null,null,null,null,null,null,null,null,null,null,null,{"$f":"IF(①データ登録!A178=\"\",\"\",①データ登録!A178)","v":""},{"$f":"IF(①データ登録!B178=\"\",\"\",①データ登録!B178)","v":""},{"$f":"IF(①データ登録!C178=\"\",\"\",①データ登録!C178)","v":""}]
[null,null,null,null,null,null,null,null,null,null,null,null,{"$f":"IF(①データ登録!A179=\"\",\"\",①データ登録!A179)","v":""},{"$f":"IF(①データ登録!B179=\"\",\"\",①データ登録!B179)","v":""},{"$f":"IF(①データ登録!C179=\"\",\"\",①データ登録!C179)","v":""}]
[null,null,null,null,null,null,null,null,null,null,null,null,{"$f":"IF(①データ登録!A180=\"\",\"\",①データ登録!A180)","v":""},{"$f":"IF(①データ登録!B180=\"\",\"\",①データ登録!B180)","v":""},{"$f":"IF(①データ登録!C180=\"\",\"\",①データ登録!C180)","v":""}]
[null,null,null,null,null,null,null,null,null,null,null,null,{"$f":"IF(①データ登録!A181=\"\",\"\",①データ登録!A181)","v":""},{"$f":"IF(①データ登録!B181=\"\",\"\",①データ登録!B181)","v":""},{"$f":"IF(①データ登録!C181=\"\",\"\",①データ登録!C181)","v":""}]
[null,null,null,null,null,null,null,null,null,null,null,null,{"$f":"IF(①データ登録!A182=\"\",\"\",①データ登録!A182)","v":""},{"$f":"IF(①データ登録!B182=\"\",\"\",①データ登録!B182)","v":""},{"$f":"IF(①データ登録!C182=\"\",\"\",①データ登録!C182)","v":""}]
[null,null,null,null,null,null,null,null,null,null,null,null,{"$f":"IF(①データ登録!A183=\"\",\"\",①データ登録!A183)","v":""},{"$f":"IF(①データ登録!B183=\"\",\"\",①データ登録!B183)","v":""},{"$f":"IF(①データ登録!C183=\"\",\"\",①データ登録!C183)","v":""}]
[null,null,null,null,null,null,null,null,null,null,null,null,{"$f":"IF(①データ登録!A184=\"\",\"\",①データ登録!A184)","v":""},{"$f":"IF(①データ登録!B184=\"\",\"\",①データ登録!B184)","v":""},{"$f":"IF(①データ登録!C184=\"\",\"\",①データ登録!C184)","v":""}]
[null,null,null,null,null,null,null,null,null,null,null,null,{"$f":"IF(①データ登録!A185=\"\",\"\",①データ登録!A185)","v":""},{"$f":"IF(①データ登録!B185=\"\",\"\",①データ登録!B185)","v":""},{"$f":"IF(①データ登録!C185=\"\",\"\",①データ登録!C185)","v":""}]
[null,null,null,null,null,null,null,null,null,null,null,null,{"$f":"IF(①データ登録!A186=\"\",\"\",①データ登録!A186)","v":""},{"$f":"IF(①データ登録!B186=\"\",\"\",①データ登録!B186)","v":""},{"$f":"IF(①データ登録!C186=\"\",\"\",①データ登録!C186)","v":""}]
[null,null,null,null,null,null,null,null,null,null,null,null,{"$f":"IF(①データ登録!A187=\"\",\"\",①データ登録!A187)","v":""},{"$f":"IF(①データ登録!B187=\"\",\"\",①データ登録!B187)","v":""},{"$f":"IF(①データ登録!C187=\"\",\"\",①データ登録!C187)","v":""}]
[null,null,null,null,null,null,null,null,null,null,null,null,{"$f":"IF(①データ登録!A188=\"\",\"\",①データ登録!A188)","v":""},{"$f":"IF(①データ登録!B188=\"\",\"\",①データ登録!B188)","v":""},{"$f":"IF(①データ登録!C188=\"\",\"\",①データ登録!C188)","v":""}]
[null,null,null,null,null,null,null,null,null,null,null,null,{"$f":"IF(①データ登録!A189=\"\",\"\",①データ登録!A189)","v":""},{"$f":"IF(①データ登録!B189=\"\",\"\",①データ登録!B189)","v":""},{"$f":"IF(①データ登録!C189=\"\",\"\",①データ登録!C189)","v":""}]
[null,null,null,null,null,null,null,null,null,null,null,null,{"$f":"IF(①データ登録!A190=\"\",\"\",①データ登録!A190)","v":""},{"$f":"IF(①データ登録!B190=\"\",\"\",①データ登録!B190)","v":""},{"$f":"IF(①データ登録!C190=\"\",\"\",①データ登録!C190)","v":""}]
[null,null,null,null,null,null,null,null,null,null,null,null,{"$f":"IF(①データ登録!A191=\"\",\"\",①データ登録!A191)","v":""},{"$f":"IF(①データ登録!B191=\"\",\"\",①データ登録!B191)","v":""},{"$f":"IF(①データ登録!C191=\"\",\"\",①データ登録!C191)","v":""}]
[null,null,null,null,null,null,null,null,null,null,null,null,{"$f":"IF(①データ登録!A192=\"\",\"\",①データ登録!A192)","v":""},{"$f":"IF(①データ登録!B192=\"\",\"\",①データ登録!B192)","v":""},{"$f":"IF(①データ登録!C192=\"\",\"\",①データ登録!C192)","v":""}]
[null,null,null,null,null,null,null,null,null,null,null,null,{"$f":"IF(①データ登録!A193=\"\",\"\",①データ登録!A193)","v":""},{"$f":"IF(①データ登録!B193=\"\",\"\",①データ登録!B193)","v":""},{"$f":"IF(①データ登録!C193=\"\",\"\",①データ登録!C193)","v":""}]
[null,null,null,null,null,null,null,null,null,null,null,null,{"$f":"IF(①データ登録!A194=\"\",\"\",①データ登録!A194)","v":""},{"$f":"IF(①データ登録!B194=\"\",\"\",①データ登録!B194)","v":""},{"$f":"IF(①データ登録!C194=\"\",\"\",①データ登録!C194)","v":""}]
[null,null,null,null,null,null,null,null,null,null,null,null,{"$f":"IF(①データ登録!A195=\"\",\"\",①データ登録!A195)","v":""},{"$f":"IF(①データ登録!B195=\"\",\"\",①データ登録!B195)","v":""},{"$f":"IF(①データ登録!C195=\"\",\"\",①データ登録!C195)","v":""}]
[null,null,null,null,null,null,null,null,null,null,null,null,{"$f":"IF(①データ登録!A196=\"\",\"\",①データ登録!A196)","v":""},{"$f":"IF(①データ登録!B196=\"\",\"\",①データ登録!B196)","v":""},{"$f":"IF(①データ登録!C196=\"\",\"\",①データ登録!C196)","v":""}]
[null,null,null,null,null,null,null,null,null,null,null,null,{"$f":"IF(①データ登録!A197=\"\",\"\",①データ登録!A197)","v":""},{"$f":"IF(①データ登録!B197=\"\",\"\",①データ登録!B197)","v":""},{"$f":"IF(①データ登録!C197=\"\",\"\",①データ登録!C197)","v":""}]
[null,null,null,null,null,null,null,null,null,null,null,null,{"$f":"IF(①データ登録!A198=\"\",\"\",①データ登録!A198)","v":""},{"$f":"IF(①データ登録!B198=\"\",\"\",①データ登録!B198)","v":""},{"$f":"IF(①データ登録!C198=\"\",\"\",①データ登録!C198)","v":""}]
[null,null,null,null,null,null,null,null,null,null,null,null,{"$f":"IF(①データ登録!A199=\"\",\"\",①データ登録!A199)","v":""},{"$f":"IF(①データ登録!B199=\"\",\"\",①データ登録!B199)","v":""},{"$f":"IF(①データ登録!C199=\"\",\"\",①データ登録!C199)","v":""}]
[null,null,null,null,null,null,null,null,null,null,null,null,{"$f":"IF(①データ登録!A200=\"\",\"\",①データ登録!A200)","v":""},{"$f":"IF(①データ登録!B200=\"\",\"\",①データ登録!B200)","v":""},{"$f":"IF(①データ登録!C200=\"\",\"\",①データ登録!C200)","v":""}]
[null,null,null,null,null,null,null,null,null,null,null,null,{"$f":"IF(①データ登録!A201=\"\",\"\",①データ登録!A201)","v":""},{"$f":"IF(①データ登録!B201=\"\",\"\",①データ登録!B201)","v":""},{"$f":"IF(①データ登録!C201=\"\",\"\",①データ登録!C201)","v":""}]
[null,null,null,null,null,null,null,null,null,null,null,null,{"$f":"IF(①データ登録!A202=\"\",\"\",①データ登録!A202)","v":""},{"$f":"IF(①データ登録!B202=\"\",\"\",①データ登録!B202)","v":""},{"$f":"IF(①データ登録!C202=\"\",\"\",①データ登録!C202)","v":""}]
[null,null,null,null,null,null,null,null,null,null,null,null,{"$f":"IF(①データ登録!A203=\"\",\"\",①データ登録!A203)","v":""},{"$f":"IF(①データ登録!B203=\"\",\"\",①データ登録!B203)","v":""},{"$f":"IF(①データ登録!C203=\"\",\"\",①データ登録!C203)","v":""}]
[null,null,null,null,null,null,null,null,null,null,null,null,{"$f":"IF(①データ登録!A204=\"\",\"\",①データ登録!A204)","v":""},{"$f":"IF(①データ登録!B204=\"\",\"\",①データ登録!B204)","v":""},{"$f":"IF(①データ登録!C204=\"\",\"\",①データ登録!C204)","v":""}]
[null,null,null,null,null,null,null,null,null,null,null,null,{"$f":"IF(①データ登録!A205=\"\",\"\",①データ登録!A205)","v":""},{"$f":"IF(①データ登録!B205=\"\",\"\",①データ登録!B205)","v":""},{"$f":"IF(①データ登録!C205=\"\",\"\",①データ登録!C205)","v":""}]
[null,null,null,null,null,null,null,null,null,null,null,null,{"$f":"IF(①データ登録!A206=\"\",\"\",①データ登録!A206)","v":""},{"$f":"IF(①データ登録!B206=\"\",\"\",①データ登録!B206)","v":""},{"$f":"IF(①データ登録!C206=\"\",\"\",①データ登録!C206)","v":""}]
[null,null,null,null,null,null,null,null,null,null,null,null,{"$f":"IF(①データ登録!A207=\"\",\"\",①データ登録!A207)","v":""},{"$f":"IF(①データ登録!B207=\"\",\"\",①データ登録!B207)","v":""},{"$f":"IF(①データ登録!C207=\"\",\"\",①データ登録!C207)","v":""}]
[null,null,null,null,null,null,null,null,null,null,null,null,{"$f":"IF(①データ登録!A208=\"\",\"\",①データ登録!A208)","v":""},{"$f":"IF(①データ登録!B208=\"\",\"\",①データ登録!B208)","v":""},{"$f":"IF(①データ登録!C208=\"\",\"\",①データ登録!C208)","v":""}]
[null,null,null,null,null,null,null,null,null,null,null,null,{"$f":"IF(①データ登録!A209=\"\",\"\",①データ登録!A209)","v":""},{"$f":"IF(①データ登録!B209=\"\",\"\",①データ登録!B209)","v":""},{"$f":"IF(①データ登録!C209=\"\",\"\",①データ登録!C209)","v":""}]
[null,null,null,null,null,null,null,null,null,null,null,null,{"$f":"IF(①データ登録!A210=\"\",\"\",①データ登録!A210)","v":""},{"$f":"IF(①データ登録!B210=\"\",\"\",①データ登録!B210)","v":""},{"$f":"IF(①データ登録!C210=\"\",\"\",①データ登録!C210)","v":""}]
[null,null,null,null,null,null,null,null,null,null,null,null,{"$f":"IF(①データ登録!A211=\"\",\"\",①データ登録!A211)","v":""},{"$f":"IF(①データ登録!B211=\"\",\"\",①データ登録!B211)","v":""},{"$f":"IF(①データ登録!C211=\"\",\"\",①データ登録!C211)","v":""}]
[null,null,null,null,null,null,null,null,null,null,null,null,{"$f":"IF(①データ登録!A212=\"\",\"\",①データ登録!A212)","v":""},{"$f":"IF(①データ登録!B212=\"\",\"\",①データ登録!B212)","v":""},{"$f":"IF(①データ登録!C212=\"\",\"\",①データ登録!C212)","v":""}]
[null,null,null,null,null,null,null,null,null,null,null,null,{"$f":"IF(①データ登録!A213=\"\",\"\",①データ登録!A213)","v":""},{"$f":"IF(①データ登録!B213=\"\",\"\",①データ登録!B213)","v":""},{"$f":"IF(①データ登録!C213=\"\",\"\",①データ登録!C213)","v":""}]
[null,null,null,null,null,null,null,null,null,null,null,null,{"$f":"IF(①データ登録!A214=\"\",\"\",①データ登録!A214)","v":""},{"$f":"IF(①データ登録!B214=\"\",\"\",①データ登録!B214)","v":""},{"$f":"IF(①データ登録!C214=\"\",\"\",①データ登録!C214)","v":""}]
[null,null,null,null,null,null,null,null,null,null,null,null,{"$f":"IF(①データ登録!A215=\"\",\"\",①データ登録!A215)","v":""},{"$f":"IF(①データ登録!B215=\"\",\"\",①データ登録!B215)","v":""},{"$f":"IF(①データ登録!C215=\"\",\"\",①データ登録!C215)","v":""}]
[null,null,null,null,null,null,null,null,null,null,null,null,{"$f":"IF(①データ登録!A216=\"\",\"\",①データ登録!A216)","v":""},{"$f":"IF(①データ登録!B216=\"\",\"\",①データ登録!B216)","v":""},{"$f":"IF(①データ登録!C216=\"\",\"\",①データ登録!C216)","v":""}]
[null,null,null,null,null,null,null,null,null,null,null,null,{"$f":"IF(①データ登録!A217=\"\",\"\",①データ登録!A217)","v":""},{"$f":"IF(①データ登録!B217=\"\",\"\",①データ登録!B217)","v":""},{"$f":"IF(①データ登録!C217=\"\",\"\",①データ登録!C217)","v":""}]
[null,null,null,null,null,null,null,null,null,null,null,null,{"$f":"IF(①データ登録!A218=\"\",\"\",①データ登録!A218)","v":""},{"$f":"IF(①データ登録!B218=\"\",\"\",①データ登録!B218)","v":""},{"$f":"IF(①データ登録!C218=\"\",\"\",①データ登録!C218)","v":""}]
[null,null,null,null,null,null,null,null,null,null,null,null,{"$f":"IF(①データ登録!A219=\"\",\"\",①データ登録!A219)","v":""},{"$f":"IF(①データ登録!B219=\"\",\"\",①データ登録!B219)","v":""},{"$f":"IF(①データ登録!C219=\"\",\"\",①データ登録!C219)","v":""}]
[null,null,null,null,null,null,null,null,null,null,null,null,{"$f":"IF(①データ登録!A220=\"\",\"\",①データ登録!A220)","v":""},{"$f":"IF(①データ登録!B220=\"\",\"\",①データ登録!B220)","v":""},{"$f":"IF(①データ登録!C220=\"\",\"\",①データ登録!C220)","v":""}]
[null,null,null,null,null,null,null,null,null,null,null,null,{"$f":"IF(①データ登録!A221=\"\",\"\",①データ登録!A221)","v":""},{"$f":"IF(①データ登録!B221=\"\",\"\",①データ登録!B221)","v":""},{"$f":"IF(①データ登録!C221=\"\",\"\",①データ登録!C221)","v":""}]
[null,null,null,null,null,null,null,null,null,null,null,null,{"$f":"IF(①データ登録!A222=\"\",\"\",①データ登録!A222)","v":""},{"$f":"IF(①データ登録!B222=\"\",\"\",①データ登録!B222)","v":""},{"$f":"IF(①データ登録!C222=\"\",\"\",①データ登録!C222)","v":""}]
[null,null,null,null,null,null,null,null,null,null,null,null,{"$f":"IF(①データ登録!A223=\"\",\"\",①データ登録!A223)","v":""},{"$f":"IF(①データ登録!B223=\"\",\"\",①データ登録!B223)","v":""},{"$f":"IF(①データ登録!C223=\"\",\"\",①データ登録!C223)","v":""}]
[null,null,null,null,null,null,null,null,null,null,null,null,{"$f":"IF(①データ登録!A224=\"\",\"\",①データ登録!A224)","v":""},{"$f":"IF(①データ登録!B224=\"\",\"\",①データ登録!B224)","v":""},{"$f":"IF(①データ登録!C224=\"\",\"\",①データ登録!C224)","v":""}]
[null,null,null,null,null,null,null,null,null,null,null,null,{"$f":"IF(①データ登録!A225=\"\",\"\",①データ登録!A225)","v":""},{"$f":"IF(①データ登録!B225=\"\",\"\",①データ登録!B225)","v":""},{"$f":"IF(①データ登録!C225=\"\",\"\",①データ登録!C225)","v":""}]
[null,null,null,null,null,null,null,null,null,null,null,null,{"$f":"IF(①データ登録!A226=\"\",\"\",①データ登録!A226)","v":""},{"$f":"IF(①データ登録!B226=\"\",\"\",①データ登録!B226)","v":""},{"$f":"IF(①データ登録!C226=\"\",\"\",①データ登録!C226)","v":""}]
[null,null,null,null,null,null,null,null,null,null,null,null,{"$f":"IF(①データ登録!A227=\"\",\"\",①データ登録!A227)","v":""},{"$f":"IF(①データ登録!B227=\"\",\"\",①データ登録!B227)","v":""},{"$f":"IF(①データ登録!C227=\"\",\"\",①データ登録!C227)","v":""}]
[null,null,null,null,null,null,null,null,null,null,null,null,{"$f":"IF(①データ登録!A228=\"\",\"\",①データ登録!A228)","v":""},{"$f":"IF(①データ登録!B228=\"\",\"\",①データ登録!B228)","v":""},{"$f":"IF(①データ登録!C228=\"\",\"\",①データ登録!C228)","v":""}]
[null,null,null,null,null,null,null,null,null,null,null,null,{"$f":"IF(①データ登録!A229=\"\",\"\",①データ登録!A229)","v":""},{"$f":"IF(①データ登録!B229=\"\",\"\",①データ登録!B229)","v":""},{"$f":"IF(①データ登録!C229=\"\",\"\",①データ登録!C229)","v":""}]
[null,null,null,null,null,null,null,null,null,null,null,null,{"$f":"IF(①データ登録!A230=\"\",\"\",①データ登録!A230)","v":""},{"$f":"IF(①データ登録!B230=\"\",\"\",①データ登録!B230)","v":""},{"$f":"IF(①データ登録!C230=\"\",\"\",①データ登録!C230)","v":""}]
[null,null,null,null,null,null,null,null,null,null,null,null,{"$f":"IF(①データ登録!A231=\"\",\"\",①データ登録!A231)","v":""},{"$f":"IF(①データ登録!B231=\"\",\"\",①データ登録!B231)","v":""},{"$f":"IF(①データ登録!C231=\"\",\"\",①データ登録!C231)","v":""}]
[null,null,null,null,null,null,null,null,null,null,null,null,{"$f":"IF(①データ登録!A232=\"\",\"\",①データ登録!A232)","v":""},{"$f":"IF(①データ登録!B232=\"\",\"\",①データ登録!B232)","v":""},{"$f":"IF(①データ登録!C232=\"\",\"\",①データ登録!C232)","v":""}]
[null,null,null,null,null,null,null,null,null,null,null,null,{"$f":"IF(①データ登録!A233=\"\",\"\",①データ登録!A233)","v":""},{"$f":"IF(①データ登録!B233=\"\",\"\",①データ登録!B233)","v":""},{"$f":"IF(①データ登録!C233=\"\",\"\",①データ登録!C233)","v":""}]
[null,null,null,null,null,null,null,null,null,null,null,null,{"$f":"IF(①データ登録!A234=\"\",\"\",①データ登録!A234)","v":""},{"$f":"IF(①データ登録!B234=\"\",\"\",①データ登録!B234)","v":""},{"$f":"IF(①データ登録!C234=\"\",\"\",①データ登録!C234)","v":""}]
[null,null,null,null,null,null,null,null,null,null,null,null,{"$f":"IF(①データ登録!A235=\"\",\"\",①データ登録!A235)","v":""},{"$f":"IF(①データ登録!B235=\"\",\"\",①データ登録!B235)","v":""},{"$f":"IF(①データ登録!C235=\"\",\"\",①データ登録!C235)","v":""}]
[null,null,null,null,null,null,null,null,null,null,null,null,{"$f":"IF(①データ登録!A236=\"\",\"\",①データ登録!A236)","v":""},{"$f":"IF(①データ登録!B236=\"\",\"\",①データ登録!B236)","v":""},{"$f":"IF(①データ登録!C236=\"\",\"\",①データ登録!C236)","v":""}]
[null,null,null,null,null,null,null,null,null,null,null,null,{"$f":"IF(①データ登録!A237=\"\",\"\",①データ登録!A237)","v":""},{"$f":"IF(①データ登録!B237=\"\",\"\",①データ登録!B237)","v":""},{"$f":"IF(①データ登録!C237=\"\",\"\",①データ登録!C237)","v":""}]
[null,null,null,null,null,null,null,null,null,null,null,null,{"$f":"IF(①データ登録!A238=\"\",\"\",①データ登録!A238)","v":""},{"$f":"IF(①データ登録!B238=\"\",\"\",①データ登録!B238)","v":""},{"$f":"IF(①データ登録!C238=\"\",\"\",①データ登録!C238)","v":""}]
[null,null,null,null,null,null,null,null,null,null,null,null,{"$f":"IF(①データ登録!A239=\"\",\"\",①データ登録!A239)","v":""},{"$f":"IF(①データ登録!B239=\"\",\"\",①データ登録!B239)","v":""},{"$f":"IF(①データ登録!C239=\"\",\"\",①データ登録!C239)","v":""}]
[null,null,null,null,null,null,null,null,null,null,null,null,{"$f":"IF(①データ登録!A240=\"\",\"\",①データ登録!A240)","v":""},{"$f":"IF(①データ登録!B240=\"\",\"\",①データ登録!B240)","v":""},{"$f":"IF(①データ登録!C240=\"\",\"\",①データ登録!C240)","v":""}]
[null,null,null,null,null,null,null,null,null,null,null,null,{"$f":"IF(①データ登録!A241=\"\",\"\",①データ登録!A241)","v":""},{"$f":"IF(①データ登録!B241=\"\",\"\",①データ登録!B241)","v":""},{"$f":"IF(①データ登録!C241=\"\",\"\",①データ登録!C241)","v":""}]
[null,null,null,null,null,null,null,null,null,null,null,null,{"$f":"IF(①データ登録!A242=\"\",\"\",①データ登録!A242)","v":""},{"$f":"IF(①データ登録!B242=\"\",\"\",①データ登録!B242)","v":""},{"$f":"IF(①データ登録!C242=\"\",\"\",①データ登録!C242)","v":""}]
[null,null,null,null,null,null,null,null,null,null,null,null,{"$f":"IF(①データ登録!A243=\"\",\"\",①データ登録!A243)","v":""},{"$f":"IF(①データ登録!B243=\"\",\"\",①データ登録!B243)","v":""},{"$f":"IF(①データ登録!C243=\"\",\"\",①データ登録!C243)","v":""}]
[null,null,null,null,null,null,null,null,null,null,null,null,{"$f":"IF(①データ登録!A244=\"\",\"\",①データ登録!A244)","v":""},{"$f":"IF(①データ登録!B244=\"\",\"\",①データ登録!B244)","v":""},{"$f":"IF(①データ登録!C244=\"\",\"\",①データ登録!C244)","v":""}]
[null,null,null,null,null,null,null,null,null,null,null,null,{"$f":"IF(①データ登録!A245=\"\",\"\",①データ登録!A245)","v":""},{"$f":"IF(①データ登録!B245=\"\",\"\",①データ登録!B245)","v":""},{"$f":"IF(①データ登録!C245=\"\",\"\",①データ登録!C245)","v":""}]
[null,null,null,null,null,null,null,null,null,null,null,null,{"$f":"IF(①データ登録!A246=\"\",\"\",①データ登録!A246)","v":""},{"$f":"IF(①データ登録!B246=\"\",\"\",①データ登録!B246)","v":""},{"$f":"IF(①データ登録!C246=\"\",\"\",①データ登録!C246)","v":""}]
[null,null,null,null,null,null,null,null,null,null,null,null,{"$f":"IF(①データ登録!A247=\"\",\"\",①データ登録!A247)","v":""},{"$f":"IF(①データ登録!B247=\"\",\"\",①データ登録!B247)","v":""},{"$f":"IF(①データ登録!C247=\"\",\"\",①データ登録!C247)","v":""}]
[null,null,null,null,null,null,null,null,null,null,null,null,{"$f":"IF(①データ登録!A248=\"\",\"\",①データ登録!A248)","v":""},{"$f":"IF(①データ登録!B248=\"\",\"\",①データ登録!B248)","v":""},{"$f":"IF(①データ登録!C248=\"\",\"\",①データ登録!C248)","v":""}]
[null,null,null,null,null,null,null,null,null,null,null,null,{"$f":"IF(①データ登録!A249=\"\",\"\",①データ登録!A249)","v":""},{"$f":"IF(①データ登録!B249=\"\",\"\",①データ登録!B249)","v":""},{"$f":"IF(①データ登録!C249=\"\",\"\",①データ登録!C249)","v":""}]
[null,null,null,null,null,null,null,null,null,null,null,null,{"$f":"IF(①データ登録!A250=\"\",\"\",①データ登録!A250)","v":""},{"$f":"IF(①データ登録!B250=\"\",\"\",①データ登録!B250)","v":""},{"$f":"IF(①データ登録!C250=\"\",\"\",①データ登録!C250)","v":""}]
[null,null,null,null,null,null,null,null,null,null,null,null,{"$f":"IF(①データ登録!A251=\"\",\"\",①データ登録!A251)","v":""},{"$f":"IF(①データ登録!B251=\"\",\"\",①データ登録!B251)","v":""},{"$f":"IF(①データ登録!C251=\"\",\"\",①データ登録!C251)","v":""}]
[null,null,null,null,null,null,null,null,null,null,null,null,{"$f":"IF(①データ登録!A252=\"\",\"\",①データ登録!A252)","v":""},{"$f":"IF(①データ登録!B252=\"\",\"\",①データ登録!B252)","v":""},{"$f":"IF(①データ登録!C252=\"\",\"\",①データ登録!C252)","v":""}]
[null,null,null,null,null,null,null,null,null,null,null,null,{"$f":"IF(①データ登録!A253=\"\",\"\",①データ登録!A253)","v":""},{"$f":"IF(①データ登録!B253=\"\",\"\",①データ登録!B253)","v":""},{"$f":"IF(①データ登録!C253=\"\",\"\",①データ登録!C253)","v":""}]
[null,null,null,null,null,null,null,null,null,null,null,null,{"$f":"IF(①データ登録!A254=\"\",\"\",①データ登録!A254)","v":""},{"$f":"IF(①データ登録!B254=\"\",\"\",①データ登録!B254)","v":""},{"$f":"IF(①データ登録!C254=\"\",\"\",①データ登録!C254)","v":""}]
[null,null,null,null,null,null,null,null,null,null,null,null,{"$f":"IF(①データ登録!A255=\"\",\"\",①データ登録!A255)","v":""},{"$f":"IF(①データ登録!B255=\"\",\"\",①データ登録!B255)","v":""},{"$f":"IF(①データ登録!C255=\"\",\"\",①データ登録!C255)","v":""}]
[null,null,null,null,null,null,null,null,null,null,null,null,{"$f":"IF(①データ登録!A256=\"\",\"\",①データ登録!A256)","v":""},{"$f":"IF(①データ登録!B256=\"\",\"\",①データ登録!B256)","v":""},{"$f":"IF(①データ登録!C256=\"\",\"\",①データ登録!C256)","v":""}]
[null,null,null,null,null,null,null,null,null,null,null,null,{"$f":"IF(①データ登録!A257=\"\",\"\",①データ登録!A257)","v":""},{"$f":"IF(①データ登録!B257=\"\",\"\",①データ登録!B257)","v":""},{"$f":"IF(①データ登録!C257=\"\",\"\",①データ登録!C257)","v":""}]
[null,null,null,null,null,null,null,null,null,null,null,null,{"$f":"IF(①データ登録!A258=\"\",\"\",①データ登録!A258)","v":""},{"$f":"IF(①データ登録!B258=\"\",\"\",①データ登録!B258)","v":""},{"$f":"IF(①データ登録!C258=\"\",\"\",①データ登録!C258)","v":""}]
[null,null,null,null,null,null,null,null,null,null,null,null,{"$f":"IF(①データ登録!A259=\"\",\"\",①データ登録!A259)","v":""},{"$f":"IF(①データ登録!B259=\"\",\"\",①データ登録!B259)","v":""},{"$f":"IF(①データ登録!C259=\"\",\"\",①データ登録!C259)","v":""}]
[null,null,null,null,null,null,null,null,null,null,null,null,{"$f":"IF(①データ登録!A260=\"\",\"\",①データ登録!A260)","v":""},{"$f":"IF(①データ登録!B260=\"\",\"\",①データ登録!B260)","v":""},{"$f":"IF(①データ登録!C260=\"\",\"\",①データ登録!C260)","v":""}]
[null,null,null,null,null,null,null,null,null,null,null,null,{"$f":"IF(①データ登録!A261=\"\",\"\",①データ登録!A261)","v":""},{"$f":"IF(①データ登録!B261=\"\",\"\",①データ登録!B261)","v":""},{"$f":"IF(①データ登録!C261=\"\",\"\",①データ登録!C261)","v":""}]
[null,null,null,null,null,null,null,null,null,null,null,null,{"$f":"IF(①データ登録!A262=\"\",\"\",①データ登録!A262)","v":""},{"$f":"IF(①データ登録!B262=\"\",\"\",①データ登録!B262)","v":""},{"$f":"IF(①データ登録!C262=\"\",\"\",①データ登録!C262)","v":""}]
[null,null,null,null,null,null,null,null,null,null,null,null,{"$f":"IF(①データ登録!A263=\"\",\"\",①データ登録!A263)","v":""},{"$f":"IF(①データ登録!B263=\"\",\"\",①データ登録!B263)","v":""},{"$f":"IF(①データ登録!C263=\"\",\"\",①データ登録!C263)","v":""}]
[null,null,null,null,null,null,null,null,null,null,null,null,{"$f":"IF(①データ登録!A264=\"\",\"\",①データ登録!A264)","v":""},{"$f":"IF(①データ登録!B264=\"\",\"\",①データ登録!B264)","v":""},{"$f":"IF(①データ登録!C264=\"\",\"\",①データ登録!C264)","v":""}]
[null,null,null,null,null,null,null,null,null,null,null,null,{"$f":"IF(①データ登録!A265=\"\",\"\",①データ登録!A265)","v":""},{"$f":"IF(①データ登録!B265=\"\",\"\",①データ登録!B265)","v":""},{"$f":"IF(①データ登録!C265=\"\",\"\",①データ登録!C265)","v":""}]
[null,null,null,null,null,null,null,null,null,null,null,null,{"$f":"IF(①データ登録!A266=\"\",\"\",①データ登録!A266)","v":""},{"$f":"IF(①データ登録!B266=\"\",\"\",①データ登録!B266)","v":""},{"$f":"IF(①データ登録!C266=\"\",\"\",①データ登録!C266)","v":""}]
[null,null,null,null,null,null,null,null,null,null,null,null,{"$f":"IF(①データ登録!A267=\"\",\"\",①データ登録!A267)","v":""},{"$f":"IF(①データ登録!B267=\"\",\"\",①データ登録!B267)","v":""},{"$f":"IF(①データ登録!C267=\"\",\"\",①データ登録!C267)","v":""}]
[null,null,null,null,null,null,null,null,null,null,null,null,{"$f":"IF(①データ登録!A268=\"\",\"\",①データ登録!A268)","v":""},{"$f":"IF(①データ登録!B268=\"\",\"\",①データ登録!B268)","v":""},{"$f":"IF(①データ登録!C268=\"\",\"\",①データ登録!C268)","v":""}]
[null,null,null,null,null,null,null,null,null,null,null,null,{"$f":"IF(①データ登録!A269=\"\",\"\",①データ登録!A269)","v":""},{"$f":"IF(①データ登録!B269=\"\",\"\",①データ登録!B269)","v":""},{"$f":"IF(①データ登録!C269=\"\",\"\",①データ登録!C269)","v":""}]
[null,null,null,null,null,null,null,null,null,null,null,null,{"$f":"IF(①データ登録!A270=\"\",\"\",①データ登録!A270)","v":""},{"$f":"IF(①データ登録!B270=\"\",\"\",①データ登録!B270)","v":""},{"$f":"IF(①データ登録!C270=\"\",\"\",①データ登録!C270)","v":""}]
[null,null,null,null,null,null,null,null,null,null,null,null,{"$f":"IF(①データ登録!A271=\"\",\"\",①データ登録!A271)","v":""},{"$f":"IF(①データ登録!B271=\"\",\"\",①データ登録!B271)","v":""},{"$f":"IF(①データ登録!C271=\"\",\"\",①データ登録!C271)","v":""}]
[null,null,null,null,null,null,null,null,null,null,null,null,{"$f":"IF(①データ登録!A272=\"\",\"\",①データ登録!A272)","v":""},{"$f":"IF(①データ登録!B272=\"\",\"\",①データ登録!B272)","v":""},{"$f":"IF(①データ登録!C272=\"\",\"\",①データ登録!C272)","v":""}]
[null,null,null,null,null,null,null,null,null,null,null,null,{"$f":"IF(①データ登録!A273=\"\",\"\",①データ登録!A273)","v":""},{"$f":"IF(①データ登録!B273=\"\",\"\",①データ登録!B273)","v":""},{"$f":"IF(①データ登録!C273=\"\",\"\",①データ登録!C273)","v":""}]
[null,null,null,null,null,null,null,null,null,null,null,null,{"$f":"IF(①データ登録!A274=\"\",\"\",①データ登録!A274)","v":""},{"$f":"IF(①データ登録!B274=\"\",\"\",①データ登録!B274)","v":""},{"$f":"IF(①データ登録!C274=\"\",\"\",①データ登録!C274)","v":""}]
[null,null,null,null,null,null,null,null,null,null,null,null,{"$f":"IF(①データ登録!A275=\"\",\"\",①データ登録!A275)","v":""},{"$f":"IF(①データ登録!B275=\"\",\"\",①データ登録!B275)","v":""},{"$f":"IF(①データ登録!C275=\"\",\"\",①データ登録!C275)","v":""}]
[null,null,null,null,null,null,null,null,null,null,null,null,{"$f":"IF(①データ登録!A276=\"\",\"\",①データ登録!A276)","v":""},{"$f":"IF(①データ登録!B276=\"\",\"\",①データ登録!B276)","v":""},{"$f":"IF(①データ登録!C276=\"\",\"\",①データ登録!C276)","v":""}]
[null,null,null,null,null,null,null,null,null,null,null,null,{"$f":"IF(①データ登録!A277=\"\",\"\",①データ登録!A277)","v":""},{"$f":"IF(①データ登録!B277=\"\",\"\",①データ登録!B277)","v":""},{"$f":"IF(①データ登録!C277=\"\",\"\",①データ登録!C277)","v":""}]
[null,null,null,null,null,null,null,null,null,null,null,null,{"$f":"IF(①データ登録!A278=\"\",\"\",①データ登録!A278)","v":""},{"$f":"IF(①データ登録!B278=\"\",\"\",①データ登録!B278)","v":""},{"$f":"IF(①データ登録!C278=\"\",\"\",①データ登録!C278)","v":""}]
[null,null,null,null,null,null,null,null,null,null,null,null,{"$f":"IF(①データ登録!A279=\"\",\"\",①データ登録!A279)","v":""},{"$f":"IF(①データ登録!B279=\"\",\"\",①データ登録!B279)","v":""},{"$f":"IF(①データ登録!C279=\"\",\"\",①データ登録!C279)","v":""}]
[null,null,null,null,null,null,null,null,null,null,null,null,{"$f":"IF(①データ登録!A280=\"\",\"\",①データ登録!A280)","v":""},{"$f":"IF(①データ登録!B280=\"\",\"\",①データ登録!B280)","v":""},{"$f":"IF(①データ登録!C280=\"\",\"\",①データ登録!C280)","v":""}]
[null,null,null,null,null,null,null,null,null,null,null,null,{"$f":"IF(①データ登録!A281=\"\",\"\",①データ登録!A281)","v":""},{"$f":"IF(①データ登録!B281=\"\",\"\",①データ登録!B281)","v":""},{"$f":"IF(①データ登録!C281=\"\",\"\",①データ登録!C281)","v":""}]
[null,null,null,null,null,null,null,null,null,null,null,null,{"$f":"IF(①データ登録!A282=\"\",\"\",①データ登録!A282)","v":""},{"$f":"IF(①データ登録!B282=\"\",\"\",①データ登録!B282)","v":""},{"$f":"IF(①データ登録!C282=\"\",\"\",①データ登録!C282)","v":""}]
[null,null,null,null,null,null,null,null,null,null,null,null,{"$f":"IF(①データ登録!A283=\"\",\"\",①データ登録!A283)","v":""},{"$f":"IF(①データ登録!B283=\"\",\"\",①データ登録!B283)","v":""},{"$f":"IF(①データ登録!C283=\"\",\"\",①データ登録!C283)","v":""}]
[null,null,null,null,null,null,null,null,null,null,null,null,{"$f":"IF(①データ登録!A284=\"\",\"\",①データ登録!A284)","v":""},{"$f":"IF(①データ登録!B284=\"\",\"\",①データ登録!B284)","v":""},{"$f":"IF(①データ登録!C284=\"\",\"\",①データ登録!C284)","v":""}]
[null,null,null,null,null,null,null,null,null,null,null,null,{"$f":"IF(①データ登録!A285=\"\",\"\",①データ登録!A285)","v":""},{"$f":"IF(①データ登録!B285=\"\",\"\",①データ登録!B285)","v":""},{"$f":"IF(①データ登録!C285=\"\",\"\",①データ登録!C285)","v":""}]
[null,null,null,null,null,null,null,null,null,null,null,null,{"$f":"IF(①データ登録!A286=\"\",\"\",①データ登録!A286)","v":""},{"$f":"IF(①データ登録!B286=\"\",\"\",①データ登録!B286)","v":""},{"$f":"IF(①データ登録!C286=\"\",\"\",①データ登録!C286)","v":""}]
[null,null,null,null,null,null,null,null,null,null,null,null,{"$f":"IF(①データ登録!A287=\"\",\"\",①データ登録!A287)","v":""},{"$f":"IF(①データ登録!B287=\"\",\"\",①データ登録!B287)","v":""},{"$f":"IF(①データ登録!C287=\"\",\"\",①データ登録!C287)","v":""}]
[null,null,null,null,null,null,null,null,null,null,null,null,{"$f":"IF(①データ登録!A288=\"\",\"\",①データ登録!A288)","v":""},{"$f":"IF(①データ登録!B288=\"\",\"\",①データ登録!B288)","v":""},{"$f":"IF(①データ登録!C288=\"\",\"\",①データ登録!C288)","v":""}]
[null,null,null,null,null,null,null,null,null,null,null,null,{"$f":"IF(①データ登録!A289=\"\",\"\",①データ登録!A289)","v":""},{"$f":"IF(①データ登録!B289=\"\",\"\",①データ登録!B289)","v":""},{"$f":"IF(①データ登録!C289=\"\",\"\",①データ登録!C289)","v":""}]
[null,null,null,null,null,null,null,null,null,null,null,null,{"$f":"IF(①データ登録!A290=\"\",\"\",①データ登録!A290)","v":""},{"$f":"IF(①データ登録!B290=\"\",\"\",①データ登録!B290)","v":""},{"$f":"IF(①データ登録!C290=\"\",\"\",①データ登録!C290)","v":""}]
[null,null,null,null,null,null,null,null,null,null,null,null,{"$f":"IF(①データ登録!A291=\"\",\"\",①データ登録!A291)","v":""},{"$f":"IF(①データ登録!B291=\"\",\"\",①データ登録!B291)","v":""},{"$f":"IF(①データ登録!C291=\"\",\"\",①データ登録!C291)","v":""}]
[null,null,null,null,null,null,null,null,null,null,null,null,{"$f":"IF(①データ登録!A292=\"\",\"\",①データ登録!A292)","v":""},{"$f":"IF(①データ登録!B292=\"\",\"\",①データ登録!B292)","v":""},{"$f":"IF(①データ登録!C292=\"\",\"\",①データ登録!C292)","v":""}]
[null,null,null,null,null,null,null,null,null,null,null,null,{"$f":"IF(①データ登録!A293=\"\",\"\",①データ登録!A293)","v":""},{"$f":"IF(①データ登録!B293=\"\",\"\",①データ登録!B293)","v":""},{"$f":"IF(①データ登録!C293=\"\",\"\",①データ登録!C293)","v":""}]
[null,null,null,null,null,null,null,null,null,null,null,null,{"$f":"IF(①データ登録!A294=\"\",\"\",①データ登録!A294)","v":""},{"$f":"IF(①データ登録!B294=\"\",\"\",①データ登録!B294)","v":""},{"$f":"IF(①データ登録!C294=\"\",\"\",①データ登録!C294)","v":""}]
[null,null,null,null,null,null,null,null,null,null,null,null,{"$f":"IF(①データ登録!A295=\"\",\"\",①データ登録!A295)","v":""},{"$f":"IF(①データ登録!B295=\"\",\"\",①データ登録!B295)","v":""},{"$f":"IF(①データ登録!C295=\"\",\"\",①データ登録!C295)","v":""}]
[null,null,null,null,null,null,null,null,null,null,null,null,{"$f":"IF(①データ登録!A296=\"\",\"\",①データ登録!A296)","v":""},{"$f":"IF(①データ登録!B296=\"\",\"\",①データ登録!B296)","v":""},{"$f":"IF(①データ登録!C296=\"\",\"\",①データ登録!C296)","v":""}]
[null,null,null,null,null,null,null,null,null,null,null,null,{"$f":"IF(①データ登録!A297=\"\",\"\",①データ登録!A297)","v":""},{"$f":"IF(①データ登録!B297=\"\",\"\",①データ登録!B297)","v":""},{"$f":"IF(①データ登録!C297=\"\",\"\",①データ登録!C297)","v":""}]
[null,null,null,null,null,null,null,null,null,null,null,null,{"$f":"IF(①データ登録!A298=\"\",\"\",①データ登録!A298)","v":""},{"$f":"IF(①データ登録!B298=\"\",\"\",①データ登録!B298)","v":""},{"$f":"IF(①データ登録!C298=\"\",\"\",①データ登録!C298)","v":""}]
[null,null,null,null,null,null,null,null,null,null,null,null,{"$f":"IF(①データ登録!A299=\"\",\"\",①データ登録!A299)","v":""},{"$f":"IF(①データ登録!B299=\"\",\"\",①データ登録!B299)","v":""},{"$f":"IF(①データ登録!C299=\"\",\"\",①データ登録!C299)","v":""}]
[null,null,null,null,null,null,null,null,null,null,null,null,{"$f":"IF(①データ登録!A300=\"\",\"\",①データ登録!A300)","v":""},{"$f":"IF(①データ登録!B300=\"\",\"\",①データ登録!B300)","v":""},{"$f":"IF(①データ登録!C300=\"\",\"\",①データ登録!C300)","v":""}]
[null,null,null,null,null,null,null,null,null,null,null,null,{"$f":"IF(①データ登録!A301=\"\",\"\",①データ登録!A301)","v":""},{"$f":"IF(①データ登録!B301=\"\",\"\",①データ登録!B301)","v":""},{"$f":"IF(①データ登録!C301=\"\",\"\",①データ登録!C301)","v":""}]
[null,null,null,null,null,null,null,null,null,null,null,null,{"$f":"IF(①データ登録!A302=\"\",\"\",①データ登録!A302)","v":""},{"$f":"IF(①データ登録!B302=\"\",\"\",①データ登録!B302)","v":""},{"$f":"IF(①データ登録!C302=\"\",\"\",①データ登録!C302)","v":""}]
[null,null,null,null,null,null,null,null,null,null,null,null,{"$f":"IF(①データ登録!A303=\"\",\"\",①データ登録!A303)","v":""},{"$f":"IF(①データ登録!B303=\"\",\"\",①データ登録!B303)","v":""},{"$f":"IF(①データ登録!C303=\"\",\"\",①データ登録!C303)","v":""}]
[null,null,null,null,null,null,null,null,null,null,null,null,{"$f":"IF(①データ登録!A304=\"\",\"\",①データ登録!A304)","v":""},{"$f":"IF(①データ登録!B304=\"\",\"\",①データ登録!B304)","v":""},{"$f":"IF(①データ登録!C304=\"\",\"\",①データ登録!C304)","v":""}]
[null,null,null,null,null,null,null,null,null,null,null,null,{"$f":"IF(①データ登録!A305=\"\",\"\",①データ登録!A305)","v":""},{"$f":"IF(①データ登録!B305=\"\",\"\",①データ登録!B305)","v":""},{"$f":"IF(①データ登録!C305=\"\",\"\",①データ登録!C305)","v":""}]
[null,null,null,null,null,null,null,null,null,null,null,null,{"$f":"IF(①データ登録!A306=\"\",\"\",①データ登録!A306)","v":""},{"$f":"IF(①データ登録!B306=\"\",\"\",①データ登録!B306)","v":""},{"$f":"IF(①データ登録!C306=\"\",\"\",①データ登録!C306)","v":""}]
[null,null,null,null,null,null,null,null,null,null,null,null,{"$f":"IF(①データ登録!A307=\"\",\"\",①データ登録!A307)","v":""},{"$f":"IF(①データ登録!B307=\"\",\"\",①データ登録!B307)","v":""},{"$f":"IF(①データ登録!C307=\"\",\"\",①データ登録!C307)","v":""}]
[null,null,null,null,null,null,null,null,null,null,null,null,{"$f":"IF(①データ登録!A308=\"\",\"\",①データ登録!A308)","v":""},{"$f":"IF(①データ登録!B308=\"\",\"\",①データ登録!B308)","v":""},{"$f":"IF(①データ登録!C308=\"\",\"\",①データ登録!C308)","v":""}]
[null,null,null,null,null,null,null,null,null,null,null,null,{"$f":"IF(①データ登録!A309=\"\",\"\",①データ登録!A309)","v":""},{"$f":"IF(①データ登録!B309=\"\",\"\",①データ登録!B309)","v":""},{"$f":"IF(①データ登録!C309=\"\",\"\",①データ登録!C309)","v":""}]
[null,null,null,null,null,null,null,null,null,null,null,null,{"$f":"IF(①データ登録!A310=\"\",\"\",①データ登録!A310)","v":""},{"$f":"IF(①データ登録!B310=\"\",\"\",①データ登録!B310)","v":""},{"$f":"IF(①データ登録!C310=\"\",\"\",①データ登録!C310)","v":""}]
[null,null,null,null,null,null,null,null,null,null,null,null,{"$f":"IF(①データ登録!A311=\"\",\"\",①データ登録!A311)","v":""},{"$f":"IF(①データ登録!B311=\"\",\"\",①データ登録!B311)","v":""},{"$f":"IF(①データ登録!C311=\"\",\"\",①データ登録!C311)","v":""}]
[null,null,null,null,null,null,null,null,null,null,null,null,{"$f":"IF(①データ登録!A312=\"\",\"\",①データ登録!A312)","v":""},{"$f":"IF(①データ登録!B312=\"\",\"\",①データ登録!B312)","v":""},{"$f":"IF(①データ登録!C312=\"\",\"\",①データ登録!C312)","v":""}]
[null,null,null,null,null,null,null,null,null,null,null,null,{"$f":"IF(①データ登録!A313=\"\",\"\",①データ登録!A313)","v":""},{"$f":"IF(①データ登録!B313=\"\",\"\",①データ登録!B313)","v":""},{"$f":"IF(①データ登録!C313=\"\",\"\",①データ登録!C313)","v":""}]
[null,null,null,null,null,null,null,null,null,null,null,null,{"$f":"IF(①データ登録!A314=\"\",\"\",①データ登録!A314)","v":""},{"$f":"IF(①データ登録!B314=\"\",\"\",①データ登録!B314)","v":""},{"$f":"IF(①データ登録!C314=\"\",\"\",①データ登録!C314)","v":""}]
[null,null,null,null,null,null,null,null,null,null,null,null,{"$f":"IF(①データ登録!A315=\"\",\"\",①データ登録!A315)","v":""},{"$f":"IF(①データ登録!B315=\"\",\"\",①データ登録!B315)","v":""},{"$f":"IF(①データ登録!C315=\"\",\"\",①データ登録!C315)","v":""}]
[null,null,null,null,null,null,null,null,null,null,null,null,{"$f":"IF(①データ登録!A316=\"\",\"\",①データ登録!A316)","v":""},{"$f":"IF(①データ登録!B316=\"\",\"\",①データ登録!B316)","v":""},{"$f":"IF(①データ登録!C316=\"\",\"\",①データ登録!C316)","v":""}]
[null,null,null,null,null,null,null,null,null,null,null,null,{"$f":"IF(①データ登録!A317=\"\",\"\",①データ登録!A317)","v":""},{"$f":"IF(①データ登録!B317=\"\",\"\",①データ登録!B317)","v":""},{"$f":"IF(①データ登録!C317=\"\",\"\",①データ登録!C317)","v":""}]
[null,null,null,null,null,null,null,null,null,null,null,null,{"$f":"IF(①データ登録!A318=\"\",\"\",①データ登録!A318)","v":""},{"$f":"IF(①データ登録!B318=\"\",\"\",①データ登録!B318)","v":""},{"$f":"IF(①データ登録!C318=\"\",\"\",①データ登録!C318)","v":""}]
[null,null,null,null,null,null,null,null,null,null,null,null,{"$f":"IF(①データ登録!A319=\"\",\"\",①データ登録!A319)","v":""},{"$f":"IF(①データ登録!B319=\"\",\"\",①データ登録!B319)","v":""},{"$f":"IF(①データ登録!C319=\"\",\"\",①データ登録!C319)","v":""}]
[null,null,null,null,null,null,null,null,null,null,null,null,{"$f":"IF(①データ登録!A320=\"\",\"\",①データ登録!A320)","v":""},{"$f":"IF(①データ登録!B320=\"\",\"\",①データ登録!B320)","v":""},{"$f":"IF(①データ登録!C320=\"\",\"\",①データ登録!C320)","v":""}]
[null,null,null,null,null,null,null,null,null,null,null,null,{"$f":"IF(①データ登録!A321=\"\",\"\",①データ登録!A321)","v":""},{"$f":"IF(①データ登録!B321=\"\",\"\",①データ登録!B321)","v":""},{"$f":"IF(①データ登録!C321=\"\",\"\",①データ登録!C321)","v":""}]
[null,null,null,null,null,null,null,null,null,null,null,null,{"$f":"IF(①データ登録!A322=\"\",\"\",①データ登録!A322)","v":""},{"$f":"IF(①データ登録!B322=\"\",\"\",①データ登録!B322)","v":""},{"$f":"IF(①データ登録!C322=\"\",\"\",①データ登録!C322)","v":""}]
[null,null,null,null,null,null,null,null,null,null,null,null,{"$f":"IF(①データ登録!A323=\"\",\"\",①データ登録!A323)","v":""},{"$f":"IF(①データ登録!B323=\"\",\"\",①データ登録!B323)","v":""},{"$f":"IF(①データ登録!C323=\"\",\"\",①データ登録!C323)","v":""}]
[null,null,null,null,null,null,null,null,null,null,null,null,{"$f":"IF(①データ登録!A324=\"\",\"\",①データ登録!A324)","v":""},{"$f":"IF(①データ登録!B324=\"\",\"\",①データ登録!B324)","v":""},{"$f":"IF(①データ登録!C324=\"\",\"\",①データ登録!C324)","v":""}]
[null,null,null,null,null,null,null,null,null,null,null,null,{"$f":"IF(①データ登録!A325=\"\",\"\",①データ登録!A325)","v":""},{"$f":"IF(①データ登録!B325=\"\",\"\",①データ登録!B325)","v":""},{"$f":"IF(①データ登録!C325=\"\",\"\",①データ登録!C325)","v":""}]
[null,null,null,null,null,null,null,null,null,null,null,null,{"$f":"IF(①データ登録!A326=\"\",\"\",①データ登録!A326)","v":""},{"$f":"IF(①データ登録!B326=\"\",\"\",①データ登録!B326)","v":""},{"$f":"IF(①データ登録!C326=\"\",\"\",①データ登録!C326)","v":""}]
[null,null,null,null,null,null,null,null,null,null,null,null,{"$f":"IF(①データ登録!A327=\"\",\"\",①データ登録!A327)","v":""},{"$f":"IF(①データ登録!B327=\"\",\"\",①データ登録!B327)","v":""},{"$f":"IF(①データ登録!C327=\"\",\"\",①データ登録!C327)","v":""}]
[null,null,null,null,null,null,null,null,null,null,null,null,{"$f":"IF(①データ登録!A328=\"\",\"\",①データ登録!A328)","v":""},{"$f":"IF(①データ登録!B328=\"\",\"\",①データ登録!B328)","v":""},{"$f":"IF(①データ登録!C328=\"\",\"\",①データ登録!C328)","v":""}]
[null,null,null,null,null,null,null,null,null,null,null,null,{"$f":"IF(①データ登録!A329=\"\",\"\",①データ登録!A329)","v":""},{"$f":"IF(①データ登録!B329=\"\",\"\",①データ登録!B329)","v":""},{"$f":"IF(①データ登録!C329=\"\",\"\",①データ登録!C329)","v":""}]
[null,null,null,null,null,null,null,null,null,null,null,null,{"$f":"IF(①データ登録!A330=\"\",\"\",①データ登録!A330)","v":""},{"$f":"IF(①データ登録!B330=\"\",\"\",①データ登録!B330)","v":""},{"$f":"IF(①データ登録!C330=\"\",\"\",①データ登録!C330)","v":""}]
[null,null,null,null,null,null,null,null,null,null,null,null,{"$f":"IF(①データ登録!A331=\"\",\"\",①データ登録!A331)","v":""},{"$f":"IF(①データ登録!B331=\"\",\"\",①データ登録!B331)","v":""},{"$f":"IF(①データ登録!C331=\"\",\"\",①データ登録!C331)","v":""}]
[null,null,null,null,null,null,null,null,null,null,null,null,{"$f":"IF(①データ登録!A332=\"\",\"\",①データ登録!A332)","v":""},{"$f":"IF(①データ登録!B332=\"\",\"\",①データ登録!B332)","v":""},{"$f":"IF(①データ登録!C332=\"\",\"\",①データ登録!C332)","v":""}]
[null,null,null,null,null,null,null,null,null,null,null,null,{"$f":"IF(①データ登録!A333=\"\",\"\",①データ登録!A333)","v":""},{"$f":"IF(①データ登録!B333=\"\",\"\",①データ登録!B333)","v":""},{"$f":"IF(①データ登録!C333=\"\",\"\",①データ登録!C333)","v":""}]
[null,null,null,null,null,null,null,null,null,null,null,null,{"$f":"IF(①データ登録!A334=\"\",\"\",①データ登録!A334)","v":""},{"$f":"IF(①データ登録!B334=\"\",\"\",①データ登録!B334)","v":""},{"$f":"IF(①データ登録!C334=\"\",\"\",①データ登録!C334)","v":""}]
[null,null,null,null,null,null,null,null,null,null,null,null,{"$f":"IF(①データ登録!A335=\"\",\"\",①データ登録!A335)","v":""},{"$f":"IF(①データ登録!B335=\"\",\"\",①データ登録!B335)","v":""},{"$f":"IF(①データ登録!C335=\"\",\"\",①データ登録!C335)","v":""}]
[null,null,null,null,null,null,null,null,null,null,null,null,{"$f":"IF(①データ登録!A336=\"\",\"\",①データ登録!A336)","v":""},{"$f":"IF(①データ登録!B336=\"\",\"\",①データ登録!B336)","v":""},{"$f":"IF(①データ登録!C336=\"\",\"\",①データ登録!C336)","v":""}]
[null,null,null,null,null,null,null,null,null,null,null,null,{"$f":"IF(①データ登録!A337=\"\",\"\",①データ登録!A337)","v":""},{"$f":"IF(①データ登録!B337=\"\",\"\",①データ登録!B337)","v":""},{"$f":"IF(①データ登録!C337=\"\",\"\",①データ登録!C337)","v":""}]
[null,null,null,null,null,null,null,null,null,null,null,null,{"$f":"IF(①データ登録!A338=\"\",\"\",①データ登録!A338)","v":""},{"$f":"IF(①データ登録!B338=\"\",\"\",①データ登録!B338)","v":""},{"$f":"IF(①データ登録!C338=\"\",\"\",①データ登録!C338)","v":""}]
[null,null,null,null,null,null,null,null,null,null,null,null,{"$f":"IF(①データ登録!A339=\"\",\"\",①データ登録!A339)","v":""},{"$f":"IF(①データ登録!B339=\"\",\"\",①データ登録!B339)","v":""},{"$f":"IF(①データ登録!C339=\"\",\"\",①データ登録!C339)","v":""}]
[null,null,null,null,null,null,null,null,null,null,null,null,{"$f":"IF(①データ登録!A340=\"\",\"\",①データ登録!A340)","v":""},{"$f":"IF(①データ登録!B340=\"\",\"\",①データ登録!B340)","v":""},{"$f":"IF(①データ登録!C340=\"\",\"\",①データ登録!C340)","v":""}]
[null,null,null,null,null,null,null,null,null,null,null,null,{"$f":"IF(①データ登録!A341=\"\",\"\",①データ登録!A341)","v":""},{"$f":"IF(①データ登録!B341=\"\",\"\",①データ登録!B341)","v":""},{"$f":"IF(①データ登録!C341=\"\",\"\",①データ登録!C341)","v":""}]
[null,null,null,null,null,null,null,null,null,null,null,null,{"$f":"IF(①データ登録!A342=\"\",\"\",①データ登録!A342)","v":""},{"$f":"IF(①データ登録!B342=\"\",\"\",①データ登録!B342)","v":""},{"$f":"IF(①データ登録!C342=\"\",\"\",①データ登録!C342)","v":""}]
[null,null,null,null,null,null,null,null,null,null,null,null,{"$f":"IF(①データ登録!A343=\"\",\"\",①データ登録!A343)","v":""},{"$f":"IF(①データ登録!B343=\"\",\"\",①データ登録!B343)","v":""},{"$f":"IF(①データ登録!C343=\"\",\"\",①データ登録!C343)","v":""}]
[null,null,null,null,null,null,null,null,null,null,null,null,{"$f":"IF(①データ登録!A344=\"\",\"\",①データ登録!A344)","v":""},{"$f":"IF(①データ登録!B344=\"\",\"\",①データ登録!B344)","v":""},{"$f":"IF(①データ登録!C344=\"\",\"\",①データ登録!C344)","v":""}]
[null,null,null,null,null,null,null,null,null,null,null,null,{"$f":"IF(①データ登録!A345=\"\",\"\",①データ登録!A345)","v":""},{"$f":"IF(①データ登録!B345=\"\",\"\",①データ登録!B345)","v":""},{"$f":"IF(①データ登録!C345=\"\",\"\",①データ登録!C345)","v":""}]
[null,null,null,null,null,null,null,null,null,null,null,null,{"$f":"IF(①データ登録!A346=\"\",\"\",①データ登録!A346)","v":""},{"$f":"IF(①データ登録!B346=\"\",\"\",①データ登録!B346)","v":""},{"$f":"IF(①データ登録!C346=\"\",\"\",①データ登録!C346)","v":""}]
[null,null,null,null,null,null,null,null,null,null,null,null,{"$f":"IF(①データ登録!A347=\"\",\"\",①データ登録!A347)","v":""},{"$f":"IF(①データ登録!B347=\"\",\"\",①データ登録!B347)","v":""},{"$f":"IF(①データ登録!C347=\"\",\"\",①データ登録!C347)","v":""}]
[null,null,null,null,null,null,null,null,null,null,null,null,{"$f":"IF(①データ登録!A348=\"\",\"\",①データ登録!A348)","v":""},{"$f":"IF(①データ登録!B348=\"\",\"\",①データ登録!B348)","v":""},{"$f":"IF(①データ登録!C348=\"\",\"\",①データ登録!C348)","v":""}]
[null,null,null,null,null,null,null,null,null,null,null,null,{"$f":"IF(①データ登録!A349=\"\",\"\",①データ登録!A349)","v":""},{"$f":"IF(①データ登録!B349=\"\",\"\",①データ登録!B349)","v":""},{"$f":"IF(①データ登録!C349=\"\",\"\",①データ登録!C349)","v":""}]
[null,null,null,null,null,null,null,null,null,null,null,null,{"$f":"IF(①データ登録!A350=\"\",\"\",①データ登録!A350)","v":""},{"$f":"IF(①データ登録!B350=\"\",\"\",①データ登録!B350)","v":""},{"$f":"IF(①データ登録!C350=\"\",\"\",①データ登録!C350)","v":""}]
[null,null,null,null,null,null,null,null,null,null,null,null,{"$f":"IF(①データ登録!A351=\"\",\"\",①データ登録!A351)","v":""},{"$f":"IF(①データ登録!B351=\"\",\"\",①データ登録!B351)","v":""},{"$f":"IF(①データ登録!C351=\"\",\"\",①データ登録!C351)","v":""}]
[null,null,null,null,null,null,null,null,null,null,null,null,{"$f":"IF(①データ登録!A352=\"\",\"\",①データ登録!A352)","v":""},{"$f":"IF(①データ登録!B352=\"\",\"\",①データ登録!B352)","v":""},{"$f":"IF(①データ登録!C352=\"\",\"\",①データ登録!C352)","v":""}]
[null,null,null,null,null,null,null,null,null,null,null,null,{"$f":"IF(①データ登録!A353=\"\",\"\",①データ登録!A353)","v":""},{"$f":"IF(①データ登録!B353=\"\",\"\",①データ登録!B353)","v":""},{"$f":"IF(①データ登録!C353=\"\",\"\",①データ登録!C353)","v":""}]
[null,null,null,null,null,null,null,null,null,null,null,null,{"$f":"IF(①データ登録!A354=\"\",\"\",①データ登録!A354)","v":""},{"$f":"IF(①データ登録!B354=\"\",\"\",①データ登録!B354)","v":""},{"$f":"IF(①データ登録!C354=\"\",\"\",①データ登録!C354)","v":""}]
[null,null,null,null,null,null,null,null,null,null,null,null,{"$f":"IF(①データ登録!A355=\"\",\"\",①データ登録!A355)","v":""},{"$f":"IF(①データ登録!B355=\"\",\"\",①データ登録!B355)","v":""},{"$f":"IF(①データ登録!C355=\"\",\"\",①データ登録!C355)","v":""}]
[null,null,null,null,null,null,null,null,null,null,null,null,{"$f":"IF(①データ登録!A356=\"\",\"\",①データ登録!A356)","v":""},{"$f":"IF(①データ登録!B356=\"\",\"\",①データ登録!B356)","v":""},{"$f":"IF(①データ登録!C356=\"\",\"\",①データ登録!C356)","v":""}]
[null,null,null,null,null,null,null,null,null,null,null,null,{"$f":"IF(①データ登録!A357=\"\",\"\",①データ登録!A357)","v":""},{"$f":"IF(①データ登録!B357=\"\",\"\",①データ登録!B357)","v":""},{"$f":"IF(①データ登録!C357=\"\",\"\",①データ登録!C357)","v":""}]
[null,null,null,null,null,null,null,null,null,null,null,null,{"$f":"IF(①データ登録!A358=\"\",\"\",①データ登録!A358)","v":""},{"$f":"IF(①データ登録!B358=\"\",\"\",①データ登録!B358)","v":""},{"$f":"IF(①データ登録!C358=\"\",\"\",①データ登録!C358)","v":""}]
[null,null,null,null,null,null,null,null,null,null,null,null,{"$f":"IF(①データ登録!A359=\"\",\"\",①データ登録!A359)","v":""},{"$f":"IF(①データ登録!B359=\"\",\"\",①データ登録!B359)","v":""},{"$f":"IF(①データ登録!C359=\"\",\"\",①データ登録!C359)","v":""}]
[null,null,null,null,null,null,null,null,null,null,null,null,{"$f":"IF(①データ登録!A360=\"\",\"\",①データ登録!A360)","v":""},{"$f":"IF(①データ登録!B360=\"\",\"\",①データ登録!B360)","v":""},{"$f":"IF(①データ登録!C360=\"\",\"\",①データ登録!C360)","v":""}]
[null,null,null,null,null,null,null,null,null,null,null,null,{"$f":"IF(①データ登録!A361=\"\",\"\",①データ登録!A361)","v":""},{"$f":"IF(①データ登録!B361=\"\",\"\",①データ登録!B361)","v":""},{"$f":"IF(①データ登録!C361=\"\",\"\",①データ登録!C361)","v":""}]
[null,null,null,null,null,null,null,null,null,null,null,null,{"$f":"IF(①データ登録!A362=\"\",\"\",①データ登録!A362)","v":""},{"$f":"IF(①データ登録!B362=\"\",\"\",①データ登録!B362)","v":""},{"$f":"IF(①データ登録!C362=\"\",\"\",①データ登録!C362)","v":""}]
[null,null,null,null,null,null,null,null,null,null,null,null,{"$f":"IF(①データ登録!A363=\"\",\"\",①データ登録!A363)","v":""},{"$f":"IF(①データ登録!B363=\"\",\"\",①データ登録!B363)","v":""},{"$f":"IF(①データ登録!C363=\"\",\"\",①データ登録!C363)","v":""}]
[null,null,null,null,null,null,null,null,null,null,null,null,{"$f":"IF(①データ登録!A364=\"\",\"\",①データ登録!A364)","v":""},{"$f":"IF(①データ登録!B364=\"\",\"\",①データ登録!B364)","v":""},{"$f":"IF(①データ登録!C364=\"\",\"\",①データ登録!C364)","v":""}]
[null,null,null,null,null,null,null,null,null,null,null,null,{"$f":"IF(①データ登録!A365=\"\",\"\",①データ登録!A365)","v":""},{"$f":"IF(①データ登録!B365=\"\",\"\",①データ登録!B365)","v":""},{"$f":"IF(①データ登録!C365=\"\",\"\",①データ登録!C365)","v":""}]
[null,null,null,null,null,null,null,null,null,null,null,null,{"$f":"IF(①データ登録!A366=\"\",\"\",①データ登録!A366)","v":""},{"$f":"IF(①データ登録!B366=\"\",\"\",①データ登録!B366)","v":""},{"$f":"IF(①データ登録!C366=\"\",\"\",①データ登録!C366)","v":""}]
[null,null,null,null,null,null,null,null,null,null,null,null,{"$f":"IF(①データ登録!A367=\"\",\"\",①データ登録!A367)","v":""},{"$f":"IF(①データ登録!B367=\"\",\"\",①データ登録!B367)","v":""},{"$f":"IF(①データ登録!C367=\"\",\"\",①データ登録!C367)","v":""}]
[null,null,null,null,null,null,null,null,null,null,null,null,{"$f":"IF(①データ登録!A368=\"\",\"\",①データ登録!A368)","v":""},{"$f":"IF(①データ登録!B368=\"\",\"\",①データ登録!B368)","v":""},{"$f":"IF(①データ登録!C368=\"\",\"\",①データ登録!C368)","v":""}]
[null,null,null,null,null,null,null,null,null,null,null,null,{"$f":"IF(①データ登録!A369=\"\",\"\",①データ登録!A369)","v":""},{"$f":"IF(①データ登録!B369=\"\",\"\",①データ登録!B369)","v":""},{"$f":"IF(①データ登録!C369=\"\",\"\",①データ登録!C369)","v":""}]
[null,null,null,null,null,null,null,null,null,null,null,null,{"$f":"IF(①データ登録!A370=\"\",\"\",①データ登録!A370)","v":""},{"$f":"IF(①データ登録!B370=\"\",\"\",①データ登録!B370)","v":""},{"$f":"IF(①データ登録!C370=\"\",\"\",①データ登録!C370)","v":""}]
[null,null,null,null,null,null,null,null,null,null,null,null,{"$f":"IF(①データ登録!A371=\"\",\"\",①データ登録!A371)","v":""},{"$f":"IF(①データ登録!B371=\"\",\"\",①データ登録!B371)","v":""},{"$f":"IF(①データ登録!C371=\"\",\"\",①データ登録!C371)","v":""}]
[null,null,null,null,null,null,null,null,null,null,null,null,{"$f":"IF(①データ登録!A372=\"\",\"\",①データ登録!A372)","v":""},{"$f":"IF(①データ登録!B372=\"\",\"\",①データ登録!B372)","v":""},{"$f":"IF(①データ登録!C372=\"\",\"\",①データ登録!C372)","v":""}]
[null,null,null,null,null,null,null,null,null,null,null,null,{"$f":"IF(①データ登録!A373=\"\",\"\",①データ登録!A373)","v":""},{"$f":"IF(①データ登録!B373=\"\",\"\",①データ登録!B373)","v":""},{"$f":"IF(①データ登録!C373=\"\",\"\",①データ登録!C373)","v":""}]
[null,null,null,null,null,null,null,null,null,null,null,null,{"$f":"IF(①データ登録!A374=\"\",\"\",①データ登録!A374)","v":""},{"$f":"IF(①データ登録!B374=\"\",\"\",①データ登録!B374)","v":""},{"$f":"IF(①データ登録!C374=\"\",\"\",①データ登録!C374)","v":""}]
[null,null,null,null,null,null,null,null,null,null,null,null,{"$f":"IF(①データ登録!A375=\"\",\"\",①データ登録!A375)","v":""},{"$f":"IF(①データ登録!B375=\"\",\"\",①データ登録!B375)","v":""},{"$f":"IF(①データ登録!C375=\"\",\"\",①データ登録!C375)","v":""}]
[null,null,null,null,null,null,null,null,null,null,null,null,{"$f":"IF(①データ登録!A376=\"\",\"\",①データ登録!A376)","v":""},{"$f":"IF(①データ登録!B376=\"\",\"\",①データ登録!B376)","v":""},{"$f":"IF(①データ登録!C376=\"\",\"\",①データ登録!C376)","v":""}]
[null,null,null,null,null,null,null,null,null,null,null,null,{"$f":"IF(①データ登録!A377=\"\",\"\",①データ登録!A377)","v":""},{"$f":"IF(①データ登録!B377=\"\",\"\",①データ登録!B377)","v":""},{"$f":"IF(①データ登録!C377=\"\",\"\",①データ登録!C377)","v":""}]
[null,null,null,null,null,null,null,null,null,null,null,null,{"$f":"IF(①データ登録!A378=\"\",\"\",①データ登録!A378)","v":""},{"$f":"IF(①データ登録!B378=\"\",\"\",①データ登録!B378)","v":""},{"$f":"IF(①データ登録!C378=\"\",\"\",①データ登録!C378)","v":""}]
[null,null,null,null,null,null,null,null,null,null,null,null,{"$f":"IF(①データ登録!A379=\"\",\"\",①データ登録!A379)","v":""},{"$f":"IF(①データ登録!B379=\"\",\"\",①データ登録!B379)","v":""},{"$f":"IF(①データ登録!C379=\"\",\"\",①データ登録!C379)","v":""}]
[null,null,null,null,null,null,null,null,null,null,null,null,{"$f":"IF(①データ登録!A380=\"\",\"\",①データ登録!A380)","v":""},{"$f":"IF(①データ登録!B380=\"\",\"\",①データ登録!B380)","v":""},{"$f":"IF(①データ登録!C380=\"\",\"\",①データ登録!C380)","v":""}]
[null,null,null,null,null,null,null,null,null,null,null,null,{"$f":"IF(①データ登録!A381=\"\",\"\",①データ登録!A381)","v":""},{"$f":"IF(①データ登録!B381=\"\",\"\",①データ登録!B381)","v":""},{"$f":"IF(①データ登録!C381=\"\",\"\",①データ登録!C381)","v":""}]
[null,null,null,null,null,null,null,null,null,null,null,null,{"$f":"IF(①データ登録!A382=\"\",\"\",①データ登録!A382)","v":""},{"$f":"IF(①データ登録!B382=\"\",\"\",①データ登録!B382)","v":""},{"$f":"IF(①データ登録!C382=\"\",\"\",①データ登録!C382)","v":""}]
[null,null,null,null,null,null,null,null,null,null,null,null,{"$f":"IF(①データ登録!A383=\"\",\"\",①データ登録!A383)","v":""},{"$f":"IF(①データ登録!B383=\"\",\"\",①データ登録!B383)","v":""},{"$f":"IF(①データ登録!C383=\"\",\"\",①データ登録!C383)","v":""}]
[null,null,null,null,null,null,null,null,null,null,null,null,{"$f":"IF(①データ登録!A384=\"\",\"\",①データ登録!A384)","v":""},{"$f":"IF(①データ登録!B384=\"\",\"\",①データ登録!B384)","v":""},{"$f":"IF(①データ登録!C384=\"\",\"\",①データ登録!C384)","v":""}]
[null,null,null,null,null,null,null,null,null,null,null,null,{"$f":"IF(①データ登録!A385=\"\",\"\",①データ登録!A385)","v":""},{"$f":"IF(①データ登録!B385=\"\",\"\",①データ登録!B385)","v":""},{"$f":"IF(①データ登録!C385=\"\",\"\",①データ登録!C385)","v":""}]
[null,null,null,null,null,null,null,null,null,null,null,null,{"$f":"IF(①データ登録!A386=\"\",\"\",①データ登録!A386)","v":""},{"$f":"IF(①データ登録!B386=\"\",\"\",①データ登録!B386)","v":""},{"$f":"IF(①データ登録!C386=\"\",\"\",①データ登録!C386)","v":""}]
[null,null,null,null,null,null,null,null,null,null,null,null,{"$f":"IF(①データ登録!A387=\"\",\"\",①データ登録!A387)","v":""},{"$f":"IF(①データ登録!B387=\"\",\"\",①データ登録!B387)","v":""},{"$f":"IF(①データ登録!C387=\"\",\"\",①データ登録!C387)","v":""}]
[null,null,null,null,null,null,null,null,null,null,null,null,{"$f":"IF(①データ登録!A388=\"\",\"\",①データ登録!A388)","v":""},{"$f":"IF(①データ登録!B388=\"\",\"\",①データ登録!B388)","v":""},{"$f":"IF(①データ登録!C388=\"\",\"\",①データ登録!C388)","v":""}]
[null,null,null,null,null,null,null,null,null,null,null,null,{"$f":"IF(①データ登録!A389=\"\",\"\",①データ登録!A389)","v":""},{"$f":"IF(①データ登録!B389=\"\",\"\",①データ登録!B389)","v":""},{"$f":"IF(①データ登録!C389=\"\",\"\",①データ登録!C389)","v":""}]
[null,null,null,null,null,null,null,null,null,null,null,null,{"$f":"IF(①データ登録!A390=\"\",\"\",①データ登録!A390)","v":""},{"$f":"IF(①データ登録!B390=\"\",\"\",①データ登録!B390)","v":""},{"$f":"IF(①データ登録!C390=\"\",\"\",①データ登録!C390)","v":""}]
[null,null,null,null,null,null,null,null,null,null,null,null,{"$f":"IF(①データ登録!A391=\"\",\"\",①データ登録!A391)","v":""},{"$f":"IF(①データ登録!B391=\"\",\"\",①データ登録!B391)","v":""},{"$f":"IF(①データ登録!C391=\"\",\"\",①データ登録!C391)","v":""}]
[null,null,null,null,null,null,null,null,null,null,null,null,{"$f":"IF(①データ登録!A392=\"\",\"\",①データ登録!A392)","v":""},{"$f":"IF(①データ登録!B392=\"\",\"\",①データ登録!B392)","v":""},{"$f":"IF(①データ登録!C392=\"\",\"\",①データ登録!C392)","v":""}]
[null,null,null,null,null,null,null,null,null,null,null,null,{"$f":"IF(①データ登録!A393=\"\",\"\",①データ登録!A393)","v":""},{"$f":"IF(①データ登録!B393=\"\",\"\",①データ登録!B393)","v":""},{"$f":"IF(①データ登録!C393=\"\",\"\",①データ登録!C393)","v":""}]
[null,null,null,null,null,null,null,null,null,null,null,null,{"$f":"IF(①データ登録!A394=\"\",\"\",①データ登録!A394)","v":""},{"$f":"IF(①データ登録!B394=\"\",\"\",①データ登録!B394)","v":""},{"$f":"IF(①データ登録!C394=\"\",\"\",①データ登録!C394)","v":""}]
[null,null,null,null,null,null,null,null,null,null,null,null,{"$f":"IF(①データ登録!A395=\"\",\"\",①データ登録!A395)","v":""},{"$f":"IF(①データ登録!B395=\"\",\"\",①データ登録!B395)","v":""},{"$f":"IF(①データ登録!C395=\"\",\"\",①データ登録!C395)","v":""}]
[null,null,null,null,null,null,null,null,null,null,null,null,{"$f":"IF(①データ登録!A396=\"\",\"\",①データ登録!A396)","v":""},{"$f":"IF(①データ登録!B396=\"\",\"\",①データ登録!B396)","v":""},{"$f":"IF(①データ登録!C396=\"\",\"\",①データ登録!C396)","v":""}]
[null,null,null,null,null,null,null,null,null,null,null,null,{"$f":"IF(①データ登録!A397=\"\",\"\",①データ登録!A397)","v":""},{"$f":"IF(①データ登録!B397=\"\",\"\",①データ登録!B397)","v":""},{"$f":"IF(①データ登録!C397=\"\",\"\",①データ登録!C397)","v":""}]
[null,null,null,null,null,null,null,null,null,null,null,null,{"$f":"IF(①データ登録!A398=\"\",\"\",①データ登録!A398)","v":""},{"$f":"IF(①データ登録!B398=\"\",\"\",①データ登録!B398)","v":""},{"$f":"IF(①データ登録!C398=\"\",\"\",①データ登録!C398)","v":""}]
[null,null,null,null,null,null,null,null,null,null,null,null,{"$f":"IF(①データ登録!A399=\"\",\"\",①データ登録!A399)","v":""},{"$f":"IF(①データ登録!B399=\"\",\"\",①データ登録!B399)","v":""},{"$f":"IF(①データ登録!C399=\"\",\"\",①データ登録!C399)","v":""}]
[null,null,null,null,null,null,null,null,null,null,null,null,{"$f":"IF(①データ登録!A400=\"\",\"\",①データ登録!A400)","v":""},{"$f":"IF(①データ登録!B400=\"\",\"\",①データ登録!B400)","v":""},{"$f":"IF(①データ登録!C400=\"\",\"\",①データ登録!C400)","v":""}]
[null,null,null,null,null,null,null,null,null,null,null,null,{"$f":"IF(①データ登録!A401=\"\",\"\",①データ登録!A401)","v":""},{"$f":"IF(①データ登録!B401=\"\",\"\",①データ登録!B401)","v":""},{"$f":"IF(①データ登録!C401=\"\",\"\",①データ登録!C401)","v":""}]
[null,null,null,null,null,null,null,null,null,null,null,null,{"$f":"IF(①データ登録!A402=\"\",\"\",①データ登録!A402)","v":""},{"$f":"IF(①データ登録!B402=\"\",\"\",①データ登録!B402)","v":""},{"$f":"IF(①データ登録!C402=\"\",\"\",①データ登録!C402)","v":""}]
[null,null,null,null,null,null,null,null,null,null,null,null,{"$f":"IF(①データ登録!A403=\"\",\"\",①データ登録!A403)","v":""},{"$f":"IF(①データ登録!B403=\"\",\"\",①データ登録!B403)","v":""},{"$f":"IF(①データ登録!C403=\"\",\"\",①データ登録!C403)","v":""}]
[null,null,null,null,null,null,null,null,null,null,null,null,{"$f":"IF(①データ登録!A404=\"\",\"\",①データ登録!A404)","v":""},{"$f":"IF(①データ登録!B404=\"\",\"\",①データ登録!B404)","v":""},{"$f":"IF(①データ登録!C404=\"\",\"\",①データ登録!C404)","v":""}]
[null,null,null,null,null,null,null,null,null,null,null,null,{"$f":"IF(①データ登録!A405=\"\",\"\",①データ登録!A405)","v":""},{"$f":"IF(①データ登録!B405=\"\",\"\",①データ登録!B405)","v":""},{"$f":"IF(①データ登録!C405=\"\",\"\",①データ登録!C405)","v":""}]
[null,null,null,null,null,null,null,null,null,null,null,null,{"$f":"IF(①データ登録!A406=\"\",\"\",①データ登録!A406)","v":""},{"$f":"IF(①データ登録!B406=\"\",\"\",①データ登録!B406)","v":""},{"$f":"IF(①データ登録!C406=\"\",\"\",①データ登録!C406)","v":""}]
[null,null,null,null,null,null,null,null,null,null,null,null,{"$f":"IF(①データ登録!A407=\"\",\"\",①データ登録!A407)","v":""},{"$f":"IF(①データ登録!B407=\"\",\"\",①データ登録!B407)","v":""},{"$f":"IF(①データ登録!C407=\"\",\"\",①データ登録!C407)","v":""}]
[null,null,null,null,null,null,null,null,null,null,null,null,{"$f":"IF(①データ登録!A408=\"\",\"\",①データ登録!A408)","v":""},{"$f":"IF(①データ登録!B408=\"\",\"\",①データ登録!B408)","v":""},{"$f":"IF(①データ登録!C408=\"\",\"\",①データ登録!C408)","v":""}]
[null,null,null,null,null,null,null,null,null,null,null,null,{"$f":"IF(①データ登録!A409=\"\",\"\",①データ登録!A409)","v":""},{"$f":"IF(①データ登録!B409=\"\",\"\",①データ登録!B409)","v":""},{"$f":"IF(①データ登録!C409=\"\",\"\",①データ登録!C409)","v":""}]
[null,null,null,null,null,null,null,null,null,null,null,null,{"$f":"IF(①データ登録!A410=\"\",\"\",①データ登録!A410)","v":""},{"$f":"IF(①データ登録!B410=\"\",\"\",①データ登録!B410)","v":""},{"$f":"IF(①データ登録!C410=\"\",\"\",①データ登録!C410)","v":""}]
[null,null,null,null,null,null,null,null,null,null,null,null,{"$f":"IF(①データ登録!A411=\"\",\"\",①データ登録!A411)","v":""},{"$f":"IF(①データ登録!B411=\"\",\"\",①データ登録!B411)","v":""},{"$f":"IF(①データ登録!C411=\"\",\"\",①データ登録!C411)","v":""}]
[null,null,null,null,null,null,null,null,null,null,null,null,{"$f":"IF(①データ登録!A412=\"\",\"\",①データ登録!A412)","v":""},{"$f":"IF(①データ登録!B412=\"\",\"\",①データ登録!B412)","v":""},{"$f":"IF(①データ登録!C412=\"\",\"\",①データ登録!C412)","v":""}]
[null,null,null,null,null,null,null,null,null,null,null,null,{"$f":"IF(①データ登録!A413=\"\",\"\",①データ登録!A413)","v":""},{"$f":"IF(①データ登録!B413=\"\",\"\",①データ登録!B413)","v":""},{"$f":"IF(①データ登録!C413=\"\",\"\",①データ登録!C413)","v":""}]
[null,null,null,null,null,null,null,null,null,null,null,null,{"$f":"IF(①データ登録!A414=\"\",\"\",①データ登録!A414)","v":""},{"$f":"IF(①データ登録!B414=\"\",\"\",①データ登録!B414)","v":""},{"$f":"IF(①データ登録!C414=\"\",\"\",①データ登録!C414)","v":""}]
[null,null,null,null,null,null,null,null,null,null,null,null,{"$f":"IF(①データ登録!A415=\"\",\"\",①データ登録!A415)","v":""},{"$f":"IF(①データ登録!B415=\"\",\"\",①データ登録!B415)","v":""},{"$f":"IF(①データ登録!C415=\"\",\"\",①データ登録!C415)","v":""}]
[null,null,null,null,null,null,null,null,null,null,null,null,{"$f":"IF(①データ登録!A416=\"\",\"\",①データ登録!A416)","v":""},{"$f":"IF(①データ登録!B416=\"\",\"\",①データ登録!B416)","v":""},{"$f":"IF(①データ登録!C416=\"\",\"\",①データ登録!C416)","v":""}]
[null,null,null,null,null,null,null,null,null,null,null,null,{"$f":"IF(①データ登録!A417=\"\",\"\",①データ登録!A417)","v":""},{"$f":"IF(①データ登録!B417=\"\",\"\",①データ登録!B417)","v":""},{"$f":"IF(①データ登録!C417=\"\",\"\",①データ登録!C417)","v":""}]
[null,null,null,null,null,null,null,null,null,null,null,null,{"$f":"IF(①データ登録!A418=\"\",\"\",①データ登録!A418)","v":""},{"$f":"IF(①データ登録!B418=\"\",\"\",①データ登録!B418)","v":""},{"$f":"IF(①データ登録!C418=\"\",\"\",①データ登録!C418)","v":""}]
[null,null,null,null,null,null,null,null,null,null,null,null,{"$f":"IF(①データ登録!A419=\"\",\"\",①データ登録!A419)","v":""},{"$f":"IF(①データ登録!B419=\"\",\"\",①データ登録!B419)","v":""},{"$f":"IF(①データ登録!C419=\"\",\"\",①データ登録!C419)","v":""}]
[null,null,null,null,null,null,null,null,null,null,null,null,{"$f":"IF(①データ登録!A420=\"\",\"\",①データ登録!A420)","v":""},{"$f":"IF(①データ登録!B420=\"\",\"\",①データ登録!B420)","v":""},{"$f":"IF(①データ登録!C420=\"\",\"\",①データ登録!C420)","v":""}]
[null,null,null,null,null,null,null,null,null,null,null,null,{"$f":"IF(①データ登録!A421=\"\",\"\",①データ登録!A421)","v":""},{"$f":"IF(①データ登録!B421=\"\",\"\",①データ登録!B421)","v":""},{"$f":"IF(①データ登録!C421=\"\",\"\",①データ登録!C421)","v":""}]
[null,null,null,null,null,null,null,null,null,null,null,null,{"$f":"IF(①データ登録!A422=\"\",\"\",①データ登録!A422)","v":""},{"$f":"IF(①データ登録!B422=\"\",\"\",①データ登録!B422)","v":""},{"$f":"IF(①データ登録!C422=\"\",\"\",①データ登録!C422)","v":""}]
[null,null,null,null,null,null,null,null,null,null,null,null,{"$f":"IF(①データ登録!A423=\"\",\"\",①データ登録!A423)","v":""},{"$f":"IF(①データ登録!B423=\"\",\"\",①データ登録!B423)","v":""},{"$f":"IF(①データ登録!C423=\"\",\"\",①データ登録!C423)","v":""}]
[null,null,null,null,null,null,null,null,null,null,null,null,{"$f":"IF(①データ登録!A424=\"\",\"\",①データ登録!A424)","v":""},{"$f":"IF(①データ登録!B424=\"\",\"\",①データ登録!B424)","v":""},{"$f":"IF(①データ登録!C424=\"\",\"\",①データ登録!C424)","v":""}]
[null,null,null,null,null,null,null,null,null,null,null,null,{"$f":"IF(①データ登録!A425=\"\",\"\",①データ登録!A425)","v":""},{"$f":"IF(①データ登録!B425=\"\",\"\",①データ登録!B425)","v":""},{"$f":"IF(①データ登録!C425=\"\",\"\",①データ登録!C425)","v":""}]
[null,null,null,null,null,null,null,null,null,null,null,null,{"$f":"IF(①データ登録!A426=\"\",\"\",①データ登録!A426)","v":""},{"$f":"IF(①データ登録!B426=\"\",\"\",①データ登録!B426)","v":""},{"$f":"IF(①データ登録!C426=\"\",\"\",①データ登録!C426)","v":""}]
[null,null,null,null,null,null,null,null,null,null,null,null,{"$f":"IF(①データ登録!A427=\"\",\"\",①データ登録!A427)","v":""},{"$f":"IF(①データ登録!B427=\"\",\"\",①データ登録!B427)","v":""},{"$f":"IF(①データ登録!C427=\"\",\"\",①データ登録!C427)","v":""}]
[null,null,null,null,null,null,null,null,null,null,null,null,{"$f":"IF(①データ登録!A428=\"\",\"\",①データ登録!A428)","v":""},{"$f":"IF(①データ登録!B428=\"\",\"\",①データ登録!B428)","v":""},{"$f":"IF(①データ登録!C428=\"\",\"\",①データ登録!C428)","v":""}]
[null,null,null,null,null,null,null,null,null,null,null,null,{"$f":"IF(①データ登録!A429=\"\",\"\",①データ登録!A429)","v":""},{"$f":"IF(①データ登録!B429=\"\",\"\",①データ登録!B429)","v":""},{"$f":"IF(①データ登録!C429=\"\",\"\",①データ登録!C429)","v":""}]
[null,null,null,null,null,null,null,null,null,null,null,null,{"$f":"IF(①データ登録!A430=\"\",\"\",①データ登録!A430)","v":""},{"$f":"IF(①データ登録!B430=\"\",\"\",①データ登録!B430)","v":""},{"$f":"IF(①データ登録!C430=\"\",\"\",①データ登録!C430)","v":""}]
[null,null,null,null,null,null,null,null,null,null,null,null,{"$f":"IF(①データ登録!A431=\"\",\"\",①データ登録!A431)","v":""},{"$f":"IF(①データ登録!B431=\"\",\"\",①データ登録!B431)","v":""},{"$f":"IF(①データ登録!C431=\"\",\"\",①データ登録!C431)","v":""}]
[null,null,null,null,null,null,null,null,null,null,null,null,{"$f":"IF(①データ登録!A432=\"\",\"\",①データ登録!A432)","v":""},{"$f":"IF(①データ登録!B432=\"\",\"\",①データ登録!B432)","v":""},{"$f":"IF(①データ登録!C432=\"\",\"\",①データ登録!C432)","v":""}]
[null,null,null,null,null,null,null,null,null,null,null,null,{"$f":"IF(①データ登録!A433=\"\",\"\",①データ登録!A433)","v":""},{"$f":"IF(①データ登録!B433=\"\",\"\",①データ登録!B433)","v":""},{"$f":"IF(①データ登録!C433=\"\",\"\",①データ登録!C433)","v":""}]
[null,null,null,null,null,null,null,null,null,null,null,null,{"$f":"IF(①データ登録!A434=\"\",\"\",①データ登録!A434)","v":""},{"$f":"IF(①データ登録!B434=\"\",\"\",①データ登録!B434)","v":""},{"$f":"IF(①データ登録!C434=\"\",\"\",①データ登録!C434)","v":""}]
[null,null,null,null,null,null,null,null,null,null,null,null,{"$f":"IF(①データ登録!A435=\"\",\"\",①データ登録!A435)","v":""},{"$f":"IF(①データ登録!B435=\"\",\"\",①データ登録!B435)","v":""},{"$f":"IF(①データ登録!C435=\"\",\"\",①データ登録!C435)","v":""}]
[null,null,null,null,null,null,null,null,null,null,null,null,{"$f":"IF(①データ登録!A436=\"\",\"\",①データ登録!A436)","v":""},{"$f":"IF(①データ登録!B436=\"\",\"\",①データ登録!B436)","v":""},{"$f":"IF(①データ登録!C436=\"\",\"\",①データ登録!C436)","v":""}]
[null,null,null,null,null,null,null,null,null,null,null,null,{"$f":"IF(①データ登録!A437=\"\",\"\",①データ登録!A437)","v":""},{"$f":"IF(①データ登録!B437=\"\",\"\",①データ登録!B437)","v":""},{"$f":"IF(①データ登録!C437=\"\",\"\",①データ登録!C437)","v":""}]
[null,null,null,null,null,null,null,null,null,null,null,null,{"$f":"IF(①データ登録!A438=\"\",\"\",①データ登録!A438)","v":""},{"$f":"IF(①データ登録!B438=\"\",\"\",①データ登録!B438)","v":""},{"$f":"IF(①データ登録!C438=\"\",\"\",①データ登録!C438)","v":""}]
[null,null,null,null,null,null,null,null,null,null,null,null,{"$f":"IF(①データ登録!A439=\"\",\"\",①データ登録!A439)","v":""},{"$f":"IF(①データ登録!B439=\"\",\"\",①データ登録!B439)","v":""},{"$f":"IF(①データ登録!C439=\"\",\"\",①データ登録!C439)","v":""}]
[null,null,null,null,null,null,null,null,null,null,null,null,{"$f":"IF(①データ登録!A440=\"\",\"\",①データ登録!A440)","v":""},{"$f":"IF(①データ登録!B440=\"\",\"\",①データ登録!B440)","v":""},{"$f":"IF(①データ登録!C440=\"\",\"\",①データ登録!C440)","v":""}]
[null,null,null,null,null,null,null,null,null,null,null,null,{"$f":"IF(①データ登録!A441=\"\",\"\",①データ登録!A441)","v":""},{"$f":"IF(①データ登録!B441=\"\",\"\",①データ登録!B441)","v":""},{"$f":"IF(①データ登録!C441=\"\",\"\",①データ登録!C441)","v":""}]
[null,null,null,null,null,null,null,null,null,null,null,null,{"$f":"IF(①データ登録!A442=\"\",\"\",①データ登録!A442)","v":""},{"$f":"IF(①データ登録!B442=\"\",\"\",①データ登録!B442)","v":""},{"$f":"IF(①データ登録!C442=\"\",\"\",①データ登録!C442)","v":""}]
[null,null,null,null,null,null,null,null,null,null,null,null,{"$f":"IF(①データ登録!A443=\"\",\"\",①データ登録!A443)","v":""},{"$f":"IF(①データ登録!B443=\"\",\"\",①データ登録!B443)","v":""},{"$f":"IF(①データ登録!C443=\"\",\"\",①データ登録!C443)","v":""}]
[null,null,null,null,null,null,null,null,null,null,null,null,{"$f":"IF(①データ登録!A444=\"\",\"\",①データ登録!A444)","v":""},{"$f":"IF(①データ登録!B444=\"\",\"\",①データ登録!B444)","v":""},{"$f":"IF(①データ登録!C444=\"\",\"\",①データ登録!C444)","v":""}]
[null,null,null,null,null,null,null,null,null,null,null,null,{"$f":"IF(①データ登録!A445=\"\",\"\",①データ登録!A445)","v":""},{"$f":"IF(①データ登録!B445=\"\",\"\",①データ登録!B445)","v":""},{"$f":"IF(①データ登録!C445=\"\",\"\",①データ登録!C445)","v":""}]
[null,null,null,null,null,null,null,null,null,null,null,null,{"$f":"IF(①データ登録!A446=\"\",\"\",①データ登録!A446)","v":""},{"$f":"IF(①データ登録!B446=\"\",\"\",①データ登録!B446)","v":""},{"$f":"IF(①データ登録!C446=\"\",\"\",①データ登録!C446)","v":""}]
[null,null,null,null,null,null,null,null,null,null,null,null,{"$f":"IF(①データ登録!A447=\"\",\"\",①データ登録!A447)","v":""},{"$f":"IF(①データ登録!B447=\"\",\"\",①データ登録!B447)","v":""},{"$f":"IF(①データ登録!C447=\"\",\"\",①データ登録!C447)","v":""}]
[null,null,null,null,null,null,null,null,null,null,null,null,{"$f":"IF(①データ登録!A448=\"\",\"\",①データ登録!A448)","v":""},{"$f":"IF(①データ登録!B448=\"\",\"\",①データ登録!B448)","v":""},{"$f":"IF(①データ登録!C448=\"\",\"\",①データ登録!C448)","v":""}]
[null,null,null,null,null,null,null,null,null,null,null,null,{"$f":"IF(①データ登録!A449=\"\",\"\",①データ登録!A449)","v":""},{"$f":"IF(①データ登録!B449=\"\",\"\",①データ登録!B449)","v":""},{"$f":"IF(①データ登録!C449=\"\",\"\",①データ登録!C449)","v":""}]
[null,null,null,null,null,null,null,null,null,null,null,null,{"$f":"IF(①データ登録!A450=\"\",\"\",①データ登録!A450)","v":""},{"$f":"IF(①データ登録!B450=\"\",\"\",①データ登録!B450)","v":""},{"$f":"IF(①データ登録!C450=\"\",\"\",①データ登録!C450)","v":""}]
[null,null,null,null,null,null,null,null,null,null,null,null,{"$f":"IF(①データ登録!A451=\"\",\"\",①データ登録!A451)","v":""},{"$f":"IF(①データ登録!B451=\"\",\"\",①データ登録!B451)","v":""},{"$f":"IF(①データ登録!C451=\"\",\"\",①データ登録!C451)","v":""}]
[null,null,null,null,null,null,null,null,null,null,null,null,{"$f":"IF(①データ登録!A452=\"\",\"\",①データ登録!A452)","v":""},{"$f":"IF(①データ登録!B452=\"\",\"\",①データ登録!B452)","v":""},{"$f":"IF(①データ登録!C452=\"\",\"\",①データ登録!C452)","v":""}]
[null,null,null,null,null,null,null,null,null,null,null,null,{"$f":"IF(①データ登録!A453=\"\",\"\",①データ登録!A453)","v":""},{"$f":"IF(①データ登録!B453=\"\",\"\",①データ登録!B453)","v":""},{"$f":"IF(①データ登録!C453=\"\",\"\",①データ登録!C453)","v":""}]
[null,null,null,null,null,null,null,null,null,null,null,null,{"$f":"IF(①データ登録!A454=\"\",\"\",①データ登録!A454)","v":""},{"$f":"IF(①データ登録!B454=\"\",\"\",①データ登録!B454)","v":""},{"$f":"IF(①データ登録!C454=\"\",\"\",①データ登録!C454)","v":""}]
[null,null,null,null,null,null,null,null,null,null,null,null,{"$f":"IF(①データ登録!A455=\"\",\"\",①データ登録!A455)","v":""},{"$f":"IF(①データ登録!B455=\"\",\"\",①データ登録!B455)","v":""},{"$f":"IF(①データ登録!C455=\"\",\"\",①データ登録!C455)","v":""}]
[null,null,null,null,null,null,null,null,null,null,null,null,{"$f":"IF(①データ登録!A456=\"\",\"\",①データ登録!A456)","v":""},{"$f":"IF(①データ登録!B456=\"\",\"\",①データ登録!B456)","v":""},{"$f":"IF(①データ登録!C456=\"\",\"\",①データ登録!C456)","v":""}]
[null,null,null,null,null,null,null,null,null,null,null,null,{"$f":"IF(①データ登録!A457=\"\",\"\",①データ登録!A457)","v":""},{"$f":"IF(①データ登録!B457=\"\",\"\",①データ登録!B457)","v":""},{"$f":"IF(①データ登録!C457=\"\",\"\",①データ登録!C457)","v":""}]
[null,null,null,null,null,null,null,null,null,null,null,null,{"$f":"IF(①データ登録!A458=\"\",\"\",①データ登録!A458)","v":""},{"$f":"IF(①データ登録!B458=\"\",\"\",①データ登録!B458)","v":""},{"$f":"IF(①データ登録!C458=\"\",\"\",①データ登録!C458)","v":""}]
[null,null,null,null,null,null,null,null,null,null,null,null,{"$f":"IF(①データ登録!A459=\"\",\"\",①データ登録!A459)","v":""},{"$f":"IF(①データ登録!B459=\"\",\"\",①データ登録!B459)","v":""},{"$f":"IF(①データ登録!C459=\"\",\"\",①データ登録!C459)","v":""}]
[null,null,null,null,null,null,null,null,null,null,null,null,{"$f":"IF(①データ登録!A460=\"\",\"\",①データ登録!A460)","v":""},{"$f":"IF(①データ登録!B460=\"\",\"\",①データ登録!B460)","v":""},{"$f":"IF(①データ登録!C460=\"\",\"\",①データ登録!C460)","v":""}]
[null,null,null,null,null,null,null,null,null,null,null,null,{"$f":"IF(①データ登録!A461=\"\",\"\",①データ登録!A461)","v":""},{"$f":"IF(①データ登録!B461=\"\",\"\",①データ登録!B461)","v":""},{"$f":"IF(①データ登録!C461=\"\",\"\",①データ登録!C461)","v":""}]
[null,null,null,null,null,null,null,null,null,null,null,null,{"$f":"IF(①データ登録!A462=\"\",\"\",①データ登録!A462)","v":""},{"$f":"IF(①データ登録!B462=\"\",\"\",①データ登録!B462)","v":""},{"$f":"IF(①データ登録!C462=\"\",\"\",①データ登録!C462)","v":""}]
[null,null,null,null,null,null,null,null,null,null,null,null,{"$f":"IF(①データ登録!A463=\"\",\"\",①データ登録!A463)","v":""},{"$f":"IF(①データ登録!B463=\"\",\"\",①データ登録!B463)","v":""},{"$f":"IF(①データ登録!C463=\"\",\"\",①データ登録!C463)","v":""}]
[null,null,null,null,null,null,null,null,null,null,null,null,{"$f":"IF(①データ登録!A464=\"\",\"\",①データ登録!A464)","v":""},{"$f":"IF(①データ登録!B464=\"\",\"\",①データ登録!B464)","v":""},{"$f":"IF(①データ登録!C464=\"\",\"\",①データ登録!C464)","v":""}]
[null,null,null,null,null,null,null,null,null,null,null,null,{"$f":"IF(①データ登録!A465=\"\",\"\",①データ登録!A465)","v":""},{"$f":"IF(①データ登録!B465=\"\",\"\",①データ登録!B465)","v":""},{"$f":"IF(①データ登録!C465=\"\",\"\",①データ登録!C465)","v":""}]
[null,null,null,null,null,null,null,null,null,null,null,null,{"$f":"IF(①データ登録!A466=\"\",\"\",①データ登録!A466)","v":""},{"$f":"IF(①データ登録!B466=\"\",\"\",①データ登録!B466)","v":""},{"$f":"IF(①データ登録!C466=\"\",\"\",①データ登録!C466)","v":""}]
[null,null,null,null,null,null,null,null,null,null,null,null,{"$f":"IF(①データ登録!A467=\"\",\"\",①データ登録!A467)","v":""},{"$f":"IF(①データ登録!B467=\"\",\"\",①データ登録!B467)","v":""},{"$f":"IF(①データ登録!C467=\"\",\"\",①データ登録!C467)","v":""}]
[null,null,null,null,null,null,null,null,null,null,null,null,{"$f":"IF(①データ登録!A468=\"\",\"\",①データ登録!A468)","v":""},{"$f":"IF(①データ登録!B468=\"\",\"\",①データ登録!B468)","v":""},{"$f":"IF(①データ登録!C468=\"\",\"\",①データ登録!C468)","v":""}]
[null,null,null,null,null,null,null,null,null,null,null,null,{"$f":"IF(①データ登録!A469=\"\",\"\",①データ登録!A469)","v":""},{"$f":"IF(①データ登録!B469=\"\",\"\",①データ登録!B469)","v":""},{"$f":"IF(①データ登録!C469=\"\",\"\",①データ登録!C469)","v":""}]
[null,null,null,null,null,null,null,null,null,null,null,null,{"$f":"IF(①データ登録!A470=\"\",\"\",①データ登録!A470)","v":""},{"$f":"IF(①データ登録!B470=\"\",\"\",①データ登録!B470)","v":""},{"$f":"IF(①データ登録!C470=\"\",\"\",①データ登録!C470)","v":""}]
[null,null,null,null,null,null,null,null,null,null,null,null,{"$f":"IF(①データ登録!A471=\"\",\"\",①データ登録!A471)","v":""},{"$f":"IF(①データ登録!B471=\"\",\"\",①データ登録!B471)","v":""},{"$f":"IF(①データ登録!C471=\"\",\"\",①データ登録!C471)","v":""}]
[null,null,null,null,null,null,null,null,null,null,null,null,{"$f":"IF(①データ登録!A472=\"\",\"\",①データ登録!A472)","v":""},{"$f":"IF(①データ登録!B472=\"\",\"\",①データ登録!B472)","v":""},{"$f":"IF(①データ登録!C472=\"\",\"\",①データ登録!C472)","v":""}]
[null,null,null,null,null,null,null,null,null,null,null,null,{"$f":"IF(①データ登録!A473=\"\",\"\",①データ登録!A473)","v":""},{"$f":"IF(①データ登録!B473=\"\",\"\",①データ登録!B473)","v":""},{"$f":"IF(①データ登録!C473=\"\",\"\",①データ登録!C473)","v":""}]
[null,null,null,null,null,null,null,null,null,null,null,null,{"$f":"IF(①データ登録!A474=\"\",\"\",①データ登録!A474)","v":""},{"$f":"IF(①データ登録!B474=\"\",\"\",①データ登録!B474)","v":""},{"$f":"IF(①データ登録!C474=\"\",\"\",①データ登録!C474)","v":""}]
[null,null,null,null,null,null,null,null,null,null,null,null,{"$f":"IF(①データ登録!A475=\"\",\"\",①データ登録!A475)","v":""},{"$f":"IF(①データ登録!B475=\"\",\"\",①データ登録!B475)","v":""},{"$f":"IF(①データ登録!C475=\"\",\"\",①データ登録!C475)","v":""}]
[null,null,null,null,null,null,null,null,null,null,null,null,{"$f":"IF(①データ登録!A476=\"\",\"\",①データ登録!A476)","v":""},{"$f":"IF(①データ登録!B476=\"\",\"\",①データ登録!B476)","v":""},{"$f":"IF(①データ登録!C476=\"\",\"\",①データ登録!C476)","v":""}]
[null,null,null,null,null,null,null,null,null,null,null,null,{"$f":"IF(①データ登録!A477=\"\",\"\",①データ登録!A477)","v":""},{"$f":"IF(①データ登録!B477=\"\",\"\",①データ登録!B477)","v":""},{"$f":"IF(①データ登録!C477=\"\",\"\",①データ登録!C477)","v":""}]
[null,null,null,null,null,null,null,null,null,null,null,null,{"$f":"IF(①データ登録!A478=\"\",\"\",①データ登録!A478)","v":""},{"$f":"IF(①データ登録!B478=\"\",\"\",①データ登録!B478)","v":""},{"$f":"IF(①データ登録!C478=\"\",\"\",①データ登録!C478)","v":""}]
[null,null,null,null,null,null,null,null,null,null,null,null,{"$f":"IF(①データ登録!A479=\"\",\"\",①データ登録!A479)","v":""},{"$f":"IF(①データ登録!B479=\"\",\"\",①データ登録!B479)","v":""},{"$f":"IF(①データ登録!C479=\"\",\"\",①データ登録!C479)","v":""}]
[null,null,null,null,null,null,null,null,null,null,null,null,{"$f":"IF(①データ登録!A480=\"\",\"\",①データ登録!A480)","v":""},{"$f":"IF(①データ登録!B480=\"\",\"\",①データ登録!B480)","v":""},{"$f":"IF(①データ登録!C480=\"\",\"\",①データ登録!C480)","v":""}]
[null,null,null,null,null,null,null,null,null,null,null,null,{"$f":"IF(①データ登録!A481=\"\",\"\",①データ登録!A481)","v":""},{"$f":"IF(①データ登録!B481=\"\",\"\",①データ登録!B481)","v":""},{"$f":"IF(①データ登録!C481=\"\",\"\",①データ登録!C481)","v":""}]
[null,null,null,null,null,null,null,null,null,null,null,null,{"$f":"IF(①データ登録!A482=\"\",\"\",①データ登録!A482)","v":""},{"$f":"IF(①データ登録!B482=\"\",\"\",①データ登録!B482)","v":""},{"$f":"IF(①データ登録!C482=\"\",\"\",①データ登録!C482)","v":""}]
[null,null,null,null,null,null,null,null,null,null,null,null,{"$f":"IF(①データ登録!A483=\"\",\"\",①データ登録!A483)","v":""},{"$f":"IF(①データ登録!B483=\"\",\"\",①データ登録!B483)","v":""},{"$f":"IF(①データ登録!C483=\"\",\"\",①データ登録!C483)","v":""}]
[null,null,null,null,null,null,null,null,null,null,null,null,{"$f":"IF(①データ登録!A484=\"\",\"\",①データ登録!A484)","v":""},{"$f":"IF(①データ登録!B484=\"\",\"\",①データ登録!B484)","v":""},{"$f":"IF(①データ登録!C484=\"\",\"\",①データ登録!C484)","v":""}]
[null,null,null,null,null,null,null,null,null,null,null,null,{"$f":"IF(①データ登録!A485=\"\",\"\",①データ登録!A485)","v":""},{"$f":"IF(①データ登録!B485=\"\",\"\",①データ登録!B485)","v":""},{"$f":"IF(①データ登録!C485=\"\",\"\",①データ登録!C485)","v":""}]
[null,null,null,null,null,null,null,null,null,null,null,null,{"$f":"IF(①データ登録!A486=\"\",\"\",①データ登録!A486)","v":""},{"$f":"IF(①データ登録!B486=\"\",\"\",①データ登録!B486)","v":""},{"$f":"IF(①データ登録!C486=\"\",\"\",①データ登録!C486)","v":""}]
[null,null,null,null,null,null,null,null,null,null,null,null,{"$f":"IF(①データ登録!A487=\"\",\"\",①データ登録!A487)","v":""},{"$f":"IF(①データ登録!B487=\"\",\"\",①データ登録!B487)","v":""},{"$f":"IF(①データ登録!C487=\"\",\"\",①データ登録!C487)","v":""}]
[null,null,null,null,null,null,null,null,null,null,null,null,{"$f":"IF(①データ登録!A488=\"\",\"\",①データ登録!A488)","v":""},{"$f":"IF(①データ登録!B488=\"\",\"\",①データ登録!B488)","v":""},{"$f":"IF(①データ登録!C488=\"\",\"\",①データ登録!C488)","v":""}]
[null,null,null,null,null,null,null,null,null,null,null,null,{"$f":"IF(①データ登録!A489=\"\",\"\",①データ登録!A489)","v":""},{"$f":"IF(①データ登録!B489=\"\",\"\",①データ登録!B489)","v":""},{"$f":"IF(①データ登録!C489=\"\",\"\",①データ登録!C489)","v":""}]
[null,null,null,null,null,null,null,null,null,null,null,null,{"$f":"IF(①データ登録!A490=\"\",\"\",①データ登録!A490)","v":""},{"$f":"IF(①データ登録!B490=\"\",\"\",①データ登録!B490)","v":""},{"$f":"IF(①データ登録!C490=\"\",\"\",①データ登録!C490)","v":""}]
[null,null,null,null,null,null,null,null,null,null,null,null,{"$f":"IF(①データ登録!A491=\"\",\"\",①データ登録!A491)","v":""},{"$f":"IF(①データ登録!B491=\"\",\"\",①データ登録!B491)","v":""},{"$f":"IF(①データ登録!C491=\"\",\"\",①データ登録!C491)","v":""}]
[null,null,null,null,null,null,null,null,null,null,null,null,{"$f":"IF(①データ登録!A492=\"\",\"\",①データ登録!A492)","v":""},{"$f":"IF(①データ登録!B492=\"\",\"\",①データ登録!B492)","v":""},{"$f":"IF(①データ登録!C492=\"\",\"\",①データ登録!C492)","v":""}]
[null,null,null,null,null,null,null,null,null,null,null,null,{"$f":"IF(①データ登録!A493=\"\",\"\",①データ登録!A493)","v":""},{"$f":"IF(①データ登録!B493=\"\",\"\",①データ登録!B493)","v":""},{"$f":"IF(①データ登録!C493=\"\",\"\",①データ登録!C493)","v":""}]
[null,null,null,null,null,null,null,null,null,null,null,null,{"$f":"IF(①データ登録!A494=\"\",\"\",①データ登録!A494)","v":""},{"$f":"IF(①データ登録!B494=\"\",\"\",①データ登録!B494)","v":""},{"$f":"IF(①データ登録!C494=\"\",\"\",①データ登録!C494)","v":""}]
[null,null,null,null,null,null,null,null,null,null,null,null,{"$f":"IF(①データ登録!A495=\"\",\"\",①データ登録!A495)","v":""},{"$f":"IF(①データ登録!B495=\"\",\"\",①データ登録!B495)","v":""},{"$f":"IF(①データ登録!C495=\"\",\"\",①データ登録!C495)","v":""}]
[null,null,null,null,null,null,null,null,null,null,null,null,{"$f":"IF(①データ登録!A496=\"\",\"\",①データ登録!A496)","v":""},{"$f":"IF(①データ登録!B496=\"\",\"\",①データ登録!B496)","v":""},{"$f":"IF(①データ登録!C496=\"\",\"\",①データ登録!C496)","v":""}]
[null,null,null,null,null,null,null,null,null,null,null,null,{"$f":"IF(①データ登録!A497=\"\",\"\",①データ登録!A497)","v":""},{"$f":"IF(①データ登録!B497=\"\",\"\",①データ登録!B497)","v":""},{"$f":"IF(①データ登録!C497=\"\",\"\",①データ登録!C497)","v":""}]
[null,null,null,null,null,null,null,null,null,null,null,null,{"$f":"IF(①データ登録!A498=\"\",\"\",①データ登録!A498)","v":""},{"$f":"IF(①データ登録!B498=\"\",\"\",①データ登録!B498)","v":""},{"$f":"IF(①データ登録!C498=\"\",\"\",①データ登録!C498)","v":""}]
[null,null,null,null,null,null,null,null,null,null,null,null,{"$f":"IF(①データ登録!A499=\"\",\"\",①データ登録!A499)","v":""},{"$f":"IF(①データ登録!B499=\"\",\"\",①データ登録!B499)","v":""},{"$f":"IF(①データ登録!C499=\"\",\"\",①データ登録!C499)","v":""}]
[null,null,null,null,null,null,null,null,null,null,null,null,{"$f":"IF(①データ登録!A500=\"\",\"\",①データ登録!A500)","v":""},{"$f":"IF(①データ登録!B500=\"\",\"\",①データ登録!B500)","v":""},{"$f":"IF(①データ登録!C500=\"\",\"\",①データ登録!C500)","v":""}]
[null,null,null,null,null,null,null,null,null,null,null,null,{"$f":"IF(①データ登録!A501=\"\",\"\",①データ登録!A501)","v":""},{"$f":"IF(①データ登録!B501=\"\",\"\",①データ登録!B501)","v":""},{"$f":"IF(①データ登録!C501=\"\",\"\",①データ登録!C501)","v":""}]
[null,null,null,null,null,null,null,null,null,null,null,null,{"$f":"IF(①データ登録!A502=\"\",\"\",①データ登録!A502)","v":""},{"$f":"IF(①データ登録!B502=\"\",\"\",①データ登録!B502)","v":""},{"$f":"IF(①データ登録!C502=\"\",\"\",①データ登録!C502)","v":""}]
[null,null,null,null,null,null,null,null,null,null,null,null,{"$f":"IF(①データ登録!A503=\"\",\"\",①データ登録!A503)","v":""},{"$f":"IF(①データ登録!B503=\"\",\"\",①データ登録!B503)","v":""},{"$f":"IF(①データ登録!C503=\"\",\"\",①データ登録!C503)","v":""}]
[null,null,null,null,null,null,null,null,null,null,null,null,{"$f":"IF(①データ登録!A504=\"\",\"\",①データ登録!A504)","v":""},{"$f":"IF(①データ登録!B504=\"\",\"\",①データ登録!B504)","v":""},{"$f":"IF(①データ登録!C504=\"\",\"\",①データ登録!C504)","v":""}]
[null,null,null,null,null,null,null,null,null,null,null,null,{"$f":"IF(①データ登録!A505=\"\",\"\",①データ登録!A505)","v":""},{"$f":"IF(①データ登録!B505=\"\",\"\",①データ登録!B505)","v":""},{"$f":"IF(①データ登録!C505=\"\",\"\",①データ登録!C505)","v":""}]
[null,null,null,null,null,null,null,null,null,null,null,null,{"$f":"IF(①データ登録!A506=\"\",\"\",①データ登録!A506)","v":""},{"$f":"IF(①データ登録!B506=\"\",\"\",①データ登録!B506)","v":""},{"$f":"IF(①データ登録!C506=\"\",\"\",①データ登録!C506)","v":""}]
[null,null,null,null,null,null,null,null,null,null,null,null,{"$f":"IF(①データ登録!A507=\"\",\"\",①データ登録!A507)","v":""},{"$f":"IF(①データ登録!B507=\"\",\"\",①データ登録!B507)","v":""},{"$f":"IF(①データ登録!C507=\"\",\"\",①データ登録!C507)","v":""}]
[null,null,null,null,null,null,null,null,null,null,null,null,{"$f":"IF(①データ登録!A508=\"\",\"\",①データ登録!A508)","v":""},{"$f":"IF(①データ登録!B508=\"\",\"\",①データ登録!B508)","v":""},{"$f":"IF(①データ登録!C508=\"\",\"\",①データ登録!C508)","v":""}]
[null,null,null,null,null,null,null,null,null,null,null,null,{"$f":"IF(①データ登録!A509=\"\",\"\",①データ登録!A509)","v":""},{"$f":"IF(①データ登録!B509=\"\",\"\",①データ登録!B509)","v":""},{"$f":"IF(①データ登録!C509=\"\",\"\",①データ登録!C509)","v":""}]
[null,null,null,null,null,null,null,null,null,null,null,null,{"$f":"IF(①データ登録!A510=\"\",\"\",①データ登録!A510)","v":""},{"$f":"IF(①データ登録!B510=\"\",\"\",①データ登録!B510)","v":""},{"$f":"IF(①データ登録!C510=\"\",\"\",①データ登録!C510)","v":""}]
[null,null,null,null,null,null,null,null,null,null,null,null,{"$f":"IF(①データ登録!A511=\"\",\"\",①データ登録!A511)","v":""},{"$f":"IF(①データ登録!B511=\"\",\"\",①データ登録!B511)","v":""},{"$f":"IF(①データ登録!C511=\"\",\"\",①データ登録!C511)","v":""}]
[null,null,null,null,null,null,null,null,null,null,null,null,{"$f":"IF(①データ登録!A512=\"\",\"\",①データ登録!A512)","v":""},{"$f":"IF(①データ登録!B512=\"\",\"\",①データ登録!B512)","v":""},{"$f":"IF(①データ登録!C512=\"\",\"\",①データ登録!C512)","v":""}]
[null,null,null,null,null,null,null,null,null,null,null,null,{"$f":"IF(①データ登録!A513=\"\",\"\",①データ登録!A513)","v":""},{"$f":"IF(①データ登録!B513=\"\",\"\",①データ登録!B513)","v":""},{"$f":"IF(①データ登録!C513=\"\",\"\",①データ登録!C513)","v":""}]
[null,null,null,null,null,null,null,null,null,null,null,null,{"$f":"IF(①データ登録!A514=\"\",\"\",①データ登録!A514)","v":""},{"$f":"IF(①データ登録!B514=\"\",\"\",①データ登録!B514)","v":""},{"$f":"IF(①データ登録!C514=\"\",\"\",①データ登録!C514)","v":""}]
[null,null,null,null,null,null,null,null,null,null,null,null,{"$f":"IF(①データ登録!A515=\"\",\"\",①データ登録!A515)","v":""},{"$f":"IF(①データ登録!B515=\"\",\"\",①データ登録!B515)","v":""},{"$f":"IF(①データ登録!C515=\"\",\"\",①データ登録!C515)","v":""}]
[null,null,null,null,null,null,null,null,null,null,null,null,{"$f":"IF(①データ登録!A516=\"\",\"\",①データ登録!A516)","v":""},{"$f":"IF(①データ登録!B516=\"\",\"\",①データ登録!B516)","v":""},{"$f":"IF(①データ登録!C516=\"\",\"\",①データ登録!C516)","v":""}]
[null,null,null,null,null,null,null,null,null,null,null,null,{"$f":"IF(①データ登録!A517=\"\",\"\",①データ登録!A517)","v":""},{"$f":"IF(①データ登録!B517=\"\",\"\",①データ登録!B517)","v":""},{"$f":"IF(①データ登録!C517=\"\",\"\",①データ登録!C517)","v":""}]
[null,null,null,null,null,null,null,null,null,null,null,null,{"$f":"IF(①データ登録!A518=\"\",\"\",①データ登録!A518)","v":""},{"$f":"IF(①データ登録!B518=\"\",\"\",①データ登録!B518)","v":""},{"$f":"IF(①データ登録!C518=\"\",\"\",①データ登録!C518)","v":""}]
[null,null,null,null,null,null,null,null,null,null,null,null,{"$f":"IF(①データ登録!A519=\"\",\"\",①データ登録!A519)","v":""},{"$f":"IF(①データ登録!B519=\"\",\"\",①データ登録!B519)","v":""},{"$f":"IF(①データ登録!C519=\"\",\"\",①データ登録!C519)","v":""}]
[null,null,null,null,null,null,null,null,null,null,null,null,{"$f":"IF(①データ登録!A520=\"\",\"\",①データ登録!A520)","v":""},{"$f":"IF(①データ登録!B520=\"\",\"\",①データ登録!B520)","v":""},{"$f":"IF(①データ登録!C520=\"\",\"\",①データ登録!C520)","v":""}]
[null,null,null,null,null,null,null,null,null,null,null,null,{"$f":"IF(①データ登録!A521=\"\",\"\",①データ登録!A521)","v":""},{"$f":"IF(①データ登録!B521=\"\",\"\",①データ登録!B521)","v":""},{"$f":"IF(①データ登録!C521=\"\",\"\",①データ登録!C521)","v":""}]
[null,null,null,null,null,null,null,null,null,null,null,null,{"$f":"IF(①データ登録!A522=\"\",\"\",①データ登録!A522)","v":""},{"$f":"IF(①データ登録!B522=\"\",\"\",①データ登録!B522)","v":""},{"$f":"IF(①データ登録!C522=\"\",\"\",①データ登録!C522)","v":""}]
[null,null,null,null,null,null,null,null,null,null,null,null,{"$f":"IF(①データ登録!A523=\"\",\"\",①データ登録!A523)","v":""},{"$f":"IF(①データ登録!B523=\"\",\"\",①データ登録!B523)","v":""},{"$f":"IF(①データ登録!C523=\"\",\"\",①データ登録!C523)","v":""}]
[null,null,null,null,null,null,null,null,null,null,null,null,{"$f":"IF(①データ登録!A524=\"\",\"\",①データ登録!A524)","v":""},{"$f":"IF(①データ登録!B524=\"\",\"\",①データ登録!B524)","v":""},{"$f":"IF(①データ登録!C524=\"\",\"\",①データ登録!C524)","v":""}]
[null,null,null,null,null,null,null,null,null,null,null,null,{"$f":"IF(①データ登録!A525=\"\",\"\",①データ登録!A525)","v":""},{"$f":"IF(①データ登録!B525=\"\",\"\",①データ登録!B525)","v":""},{"$f":"IF(①データ登録!C525=\"\",\"\",①データ登録!C525)","v":""}]
[null,null,null,null,null,null,null,null,null,null,null,null,{"$f":"IF(①データ登録!A526=\"\",\"\",①データ登録!A526)","v":""},{"$f":"IF(①データ登録!B526=\"\",\"\",①データ登録!B526)","v":""},{"$f":"IF(①データ登録!C526=\"\",\"\",①データ登録!C526)","v":""}]
[null,null,null,null,null,null,null,null,null,null,null,null,{"$f":"IF(①データ登録!A527=\"\",\"\",①データ登録!A527)","v":""},{"$f":"IF(①データ登録!B527=\"\",\"\",①データ登録!B527)","v":""},{"$f":"IF(①データ登録!C527=\"\",\"\",①データ登録!C527)","v":""}]
[null,null,null,null,null,null,null,null,null,null,null,null,{"$f":"IF(①データ登録!A528=\"\",\"\",①データ登録!A528)","v":""},{"$f":"IF(①データ登録!B528=\"\",\"\",①データ登録!B528)","v":""},{"$f":"IF(①データ登録!C528=\"\",\"\",①データ登録!C528)","v":""}]
[null,null,null,null,null,null,null,null,null,null,null,null,{"$f":"IF(①データ登録!A529=\"\",\"\",①データ登録!A529)","v":""},{"$f":"IF(①データ登録!B529=\"\",\"\",①データ登録!B529)","v":""},{"$f":"IF(①データ登録!C529=\"\",\"\",①データ登録!C529)","v":""}]
[null,null,null,null,null,null,null,null,null,null,null,null,{"$f":"IF(①データ登録!A530=\"\",\"\",①データ登録!A530)","v":""},{"$f":"IF(①データ登録!B530=\"\",\"\",①データ登録!B530)","v":""},{"$f":"IF(①データ登録!C530=\"\",\"\",①データ登録!C530)","v":""}]
[null,null,null,null,null,null,null,null,null,null,null,null,{"$f":"IF(①データ登録!A531=\"\",\"\",①データ登録!A531)","v":""},{"$f":"IF(①データ登録!B531=\"\",\"\",①データ登録!B531)","v":""},{"$f":"IF(①データ登録!C531=\"\",\"\",①データ登録!C531)","v":""}]
[null,null,null,null,null,null,null,null,null,null,null,null,{"$f":"IF(①データ登録!A532=\"\",\"\",①データ登録!A532)","v":""},{"$f":"IF(①データ登録!B532=\"\",\"\",①データ登録!B532)","v":""},{"$f":"IF(①データ登録!C532=\"\",\"\",①データ登録!C532)","v":""}]
[null,null,null,null,null,null,null,null,null,null,null,null,{"$f":"IF(①データ登録!A533=\"\",\"\",①データ登録!A533)","v":""},{"$f":"IF(①データ登録!B533=\"\",\"\",①データ登録!B533)","v":""},{"$f":"IF(①データ登録!C533=\"\",\"\",①データ登録!C533)","v":""}]
[null,null,null,null,null,null,null,null,null,null,null,null,{"$f":"IF(①データ登録!A534=\"\",\"\",①データ登録!A534)","v":""},{"$f":"IF(①データ登録!B534=\"\",\"\",①データ登録!B534)","v":""},{"$f":"IF(①データ登録!C534=\"\",\"\",①データ登録!C534)","v":""}]
[null,null,null,null,null,null,null,null,null,null,null,null,{"$f":"IF(①データ登録!A535=\"\",\"\",①データ登録!A535)","v":""},{"$f":"IF(①データ登録!B535=\"\",\"\",①データ登録!B535)","v":""},{"$f":"IF(①データ登録!C535=\"\",\"\",①データ登録!C535)","v":""}]
[null,null,null,null,null,null,null,null,null,null,null,null,{"$f":"IF(①データ登録!A536=\"\",\"\",①データ登録!A536)","v":""},{"$f":"IF(①データ登録!B536=\"\",\"\",①データ登録!B536)","v":""},{"$f":"IF(①データ登録!C536=\"\",\"\",①データ登録!C536)","v":""}]
[null,null,null,null,null,null,null,null,null,null,null,null,{"$f":"IF(①データ登録!A537=\"\",\"\",①データ登録!A537)","v":""},{"$f":"IF(①データ登録!B537=\"\",\"\",①データ登録!B537)","v":""},{"$f":"IF(①データ登録!C537=\"\",\"\",①データ登録!C537)","v":""}]
[null,null,null,null,null,null,null,null,null,null,null,null,{"$f":"IF(①データ登録!A538=\"\",\"\",①データ登録!A538)","v":""},{"$f":"IF(①データ登録!B538=\"\",\"\",①データ登録!B538)","v":""},{"$f":"IF(①データ登録!C538=\"\",\"\",①データ登録!C538)","v":""}]
[null,null,null,null,null,null,null,null,null,null,null,null,{"$f":"IF(①データ登録!A539=\"\",\"\",①データ登録!A539)","v":""},{"$f":"IF(①データ登録!B539=\"\",\"\",①データ登録!B539)","v":""},{"$f":"IF(①データ登録!C539=\"\",\"\",①データ登録!C539)","v":""}]
[null,null,null,null,null,null,null,null,null,null,null,null,{"$f":"IF(①データ登録!A540=\"\",\"\",①データ登録!A540)","v":""},{"$f":"IF(①データ登録!B540=\"\",\"\",①データ登録!B540)","v":""},{"$f":"IF(①データ登録!C540=\"\",\"\",①データ登録!C540)","v":""}]
[null,null,null,null,null,null,null,null,null,null,null,null,{"$f":"IF(①データ登録!A541=\"\",\"\",①データ登録!A541)","v":""},{"$f":"IF(①データ登録!B541=\"\",\"\",①データ登録!B541)","v":""},{"$f":"IF(①データ登録!C541=\"\",\"\",①データ登録!C541)","v":""}]
[null,null,null,null,null,null,null,null,null,null,null,null,{"$f":"IF(①データ登録!A542=\"\",\"\",①データ登録!A542)","v":""},{"$f":"IF(①データ登録!B542=\"\",\"\",①データ登録!B542)","v":""},{"$f":"IF(①データ登録!C542=\"\",\"\",①データ登録!C542)","v":""}]
[null,null,null,null,null,null,null,null,null,null,null,null,{"$f":"IF(①データ登録!A543=\"\",\"\",①データ登録!A543)","v":""},{"$f":"IF(①データ登録!B543=\"\",\"\",①データ登録!B543)","v":""},{"$f":"IF(①データ登録!C543=\"\",\"\",①データ登録!C543)","v":""}]
[null,null,null,null,null,null,null,null,null,null,null,null,{"$f":"IF(①データ登録!A544=\"\",\"\",①データ登録!A544)","v":""},{"$f":"IF(①データ登録!B544=\"\",\"\",①データ登録!B544)","v":""},{"$f":"IF(①データ登録!C544=\"\",\"\",①データ登録!C544)","v":""}]
[null,null,null,null,null,null,null,null,null,null,null,null,{"$f":"IF(①データ登録!A545=\"\",\"\",①データ登録!A545)","v":""},{"$f":"IF(①データ登録!B545=\"\",\"\",①データ登録!B545)","v":""},{"$f":"IF(①データ登録!C545=\"\",\"\",①データ登録!C545)","v":""}]
[null,null,null,null,null,null,null,null,null,null,null,null,{"$f":"IF(①データ登録!A546=\"\",\"\",①データ登録!A546)","v":""},{"$f":"IF(①データ登録!B546=\"\",\"\",①データ登録!B546)","v":""},{"$f":"IF(①データ登録!C546=\"\",\"\",①データ登録!C546)","v":""}]
[null,null,null,null,null,null,null,null,null,null,null,null,{"$f":"IF(①データ登録!A547=\"\",\"\",①データ登録!A547)","v":""},{"$f":"IF(①データ登録!B547=\"\",\"\",①データ登録!B547)","v":""},{"$f":"IF(①データ登録!C547=\"\",\"\",①データ登録!C547)","v":""}]
[null,null,null,null,null,null,null,null,null,null,null,null,{"$f":"IF(①データ登録!A548=\"\",\"\",①データ登録!A548)","v":""},{"$f":"IF(①データ登録!B548=\"\",\"\",①データ登録!B548)","v":""},{"$f":"IF(①データ登録!C548=\"\",\"\",①データ登録!C548)","v":""}]
[null,null,null,null,null,null,null,null,null,null,null,null,{"$f":"IF(①データ登録!A549=\"\",\"\",①データ登録!A549)","v":""},{"$f":"IF(①データ登録!B549=\"\",\"\",①データ登録!B549)","v":""},{"$f":"IF(①データ登録!C549=\"\",\"\",①データ登録!C549)","v":""}]
[null,null,null,null,null,null,null,null,null,null,null,null,{"$f":"IF(①データ登録!A550=\"\",\"\",①データ登録!A550)","v":""},{"$f":"IF(①データ登録!B550=\"\",\"\",①データ登録!B550)","v":""},{"$f":"IF(①データ登録!C550=\"\",\"\",①データ登録!C550)","v":""}]
[null,null,null,null,null,null,null,null,null,null,null,null,{"$f":"IF(①データ登録!A551=\"\",\"\",①データ登録!A551)","v":""},{"$f":"IF(①データ登録!B551=\"\",\"\",①データ登録!B551)","v":""},{"$f":"IF(①データ登録!C551=\"\",\"\",①データ登録!C551)","v":""}]
[null,null,null,null,null,null,null,null,null,null,null,null,{"$f":"IF(①データ登録!A552=\"\",\"\",①データ登録!A552)","v":""},{"$f":"IF(①データ登録!B552=\"\",\"\",①データ登録!B552)","v":""},{"$f":"IF(①データ登録!C552=\"\",\"\",①データ登録!C552)","v":""}]
[null,null,null,null,null,null,null,null,null,null,null,null,{"$f":"IF(①データ登録!A553=\"\",\"\",①データ登録!A553)","v":""},{"$f":"IF(①データ登録!B553=\"\",\"\",①データ登録!B553)","v":""},{"$f":"IF(①データ登録!C553=\"\",\"\",①データ登録!C553)","v":""}]
[null,null,null,null,null,null,null,null,null,null,null,null,{"$f":"IF(①データ登録!A554=\"\",\"\",①データ登録!A554)","v":""},{"$f":"IF(①データ登録!B554=\"\",\"\",①データ登録!B554)","v":""},{"$f":"IF(①データ登録!C554=\"\",\"\",①データ登録!C554)","v":""}]
[null,null,null,null,null,null,null,null,null,null,null,null,{"$f":"IF(①データ登録!A555=\"\",\"\",①データ登録!A555)","v":""},{"$f":"IF(①データ登録!B555=\"\",\"\",①データ登録!B555)","v":""},{"$f":"IF(①データ登録!C555=\"\",\"\",①データ登録!C555)","v":""}]
[null,null,null,null,null,null,null,null,null,null,null,null,{"$f":"IF(①データ登録!A556=\"\",\"\",①データ登録!A556)","v":""},{"$f":"IF(①データ登録!B556=\"\",\"\",①データ登録!B556)","v":""},{"$f":"IF(①データ登録!C556=\"\",\"\",①データ登録!C556)","v":""}]
[null,null,null,null,null,null,null,null,null,null,null,null,{"$f":"IF(①データ登録!A557=\"\",\"\",①データ登録!A557)","v":""},{"$f":"IF(①データ登録!B557=\"\",\"\",①データ登録!B557)","v":""},{"$f":"IF(①データ登録!C557=\"\",\"\",①データ登録!C557)","v":""}]
[null,null,null,null,null,null,null,null,null,null,null,null,{"$f":"IF(①データ登録!A558=\"\",\"\",①データ登録!A558)","v":""},{"$f":"IF(①データ登録!B558=\"\",\"\",①データ登録!B558)","v":""},{"$f":"IF(①データ登録!C558=\"\",\"\",①データ登録!C558)","v":""}]
[null,null,null,null,null,null,null,null,null,null,null,null,{"$f":"IF(①データ登録!A559=\"\",\"\",①データ登録!A559)","v":""},{"$f":"IF(①データ登録!B559=\"\",\"\",①データ登録!B559)","v":""},{"$f":"IF(①データ登録!C559=\"\",\"\",①データ登録!C559)","v":""}]
[null,null,null,null,null,null,null,null,null,null,null,null,{"$f":"IF(①データ登録!A560=\"\",\"\",①データ登録!A560)","v":""},{"$f":"IF(①データ登録!B560=\"\",\"\",①データ登録!B560)","v":""},{"$f":"IF(①データ登録!C560=\"\",\"\",①データ登録!C560)","v":""}]
[null,null,null,null,null,null,null,null,null,null,null,null,{"$f":"IF(①データ登録!A561=\"\",\"\",①データ登録!A561)","v":""},{"$f":"IF(①データ登録!B561=\"\",\"\",①データ登録!B561)","v":""},{"$f":"IF(①データ登録!C561=\"\",\"\",①データ登録!C561)","v":""}]
[null,null,null,null,null,null,null,null,null,null,null,null,{"$f":"IF(①データ登録!A562=\"\",\"\",①データ登録!A562)","v":""},{"$f":"IF(①データ登録!B562=\"\",\"\",①データ登録!B562)","v":""},{"$f":"IF(①データ登録!C562=\"\",\"\",①データ登録!C562)","v":""}]
[null,null,null,null,null,null,null,null,null,null,null,null,{"$f":"IF(①データ登録!A563=\"\",\"\",①データ登録!A563)","v":""},{"$f":"IF(①データ登録!B563=\"\",\"\",①データ登録!B563)","v":""},{"$f":"IF(①データ登録!C563=\"\",\"\",①データ登録!C563)","v":""}]
[null,null,null,null,null,null,null,null,null,null,null,null,{"$f":"IF(①データ登録!A564=\"\",\"\",①データ登録!A564)","v":""},{"$f":"IF(①データ登録!B564=\"\",\"\",①データ登録!B564)","v":""},{"$f":"IF(①データ登録!C564=\"\",\"\",①データ登録!C564)","v":""}]
[null,null,null,null,null,null,null,null,null,null,null,null,{"$f":"IF(①データ登録!A565=\"\",\"\",①データ登録!A565)","v":""},{"$f":"IF(①データ登録!B565=\"\",\"\",①データ登録!B565)","v":""},{"$f":"IF(①データ登録!C565=\"\",\"\",①データ登録!C565)","v":""}]
[null,null,null,null,null,null,null,null,null,null,null,null,{"$f":"IF(①データ登録!A566=\"\",\"\",①データ登録!A566)","v":""},{"$f":"IF(①データ登録!B566=\"\",\"\",①データ登録!B566)","v":""},{"$f":"IF(①データ登録!C566=\"\",\"\",①データ登録!C566)","v":""}]
[null,null,null,null,null,null,null,null,null,null,null,null,{"$f":"IF(①データ登録!A567=\"\",\"\",①データ登録!A567)","v":""},{"$f":"IF(①データ登録!B567=\"\",\"\",①データ登録!B567)","v":""},{"$f":"IF(①データ登録!C567=\"\",\"\",①データ登録!C567)","v":""}]
[null,null,null,null,null,null,null,null,null,null,null,null,{"$f":"IF(①データ登録!A568=\"\",\"\",①データ登録!A568)","v":""},{"$f":"IF(①データ登録!B568=\"\",\"\",①データ登録!B568)","v":""},{"$f":"IF(①データ登録!C568=\"\",\"\",①データ登録!C568)","v":""}]
[null,null,null,null,null,null,null,null,null,null,null,null,{"$f":"IF(①データ登録!A569=\"\",\"\",①データ登録!A569)","v":""},{"$f":"IF(①データ登録!B569=\"\",\"\",①データ登録!B569)","v":""},{"$f":"IF(①データ登録!C569=\"\",\"\",①データ登録!C569)","v":""}]
[null,null,null,null,null,null,null,null,null,null,null,null,{"$f":"IF(①データ登録!A570=\"\",\"\",①データ登録!A570)","v":""},{"$f":"IF(①データ登録!B570=\"\",\"\",①データ登録!B570)","v":""},{"$f":"IF(①データ登録!C570=\"\",\"\",①データ登録!C570)","v":""}]
[null,null,null,null,null,null,null,null,null,null,null,null,{"$f":"IF(①データ登録!A571=\"\",\"\",①データ登録!A571)","v":""},{"$f":"IF(①データ登録!B571=\"\",\"\",①データ登録!B571)","v":""},{"$f":"IF(①データ登録!C571=\"\",\"\",①データ登録!C571)","v":""}]
[null,null,null,null,null,null,null,null,null,null,null,null,{"$f":"IF(①データ登録!A572=\"\",\"\",①データ登録!A572)","v":""},{"$f":"IF(①データ登録!B572=\"\",\"\",①データ登録!B572)","v":""},{"$f":"IF(①データ登録!C572=\"\",\"\",①データ登録!C572)","v":""}]
[null,null,null,null,null,null,null,null,null,null,null,null,{"$f":"IF(①データ登録!A573=\"\",\"\",①データ登録!A573)","v":""},{"$f":"IF(①データ登録!B573=\"\",\"\",①データ登録!B573)","v":""},{"$f":"IF(①データ登録!C573=\"\",\"\",①データ登録!C573)","v":""}]
[null,null,null,null,null,null,null,null,null,null,null,null,{"$f":"IF(①データ登録!A574=\"\",\"\",①データ登録!A574)","v":""},{"$f":"IF(①データ登録!B574=\"\",\"\",①データ登録!B574)","v":""},{"$f":"IF(①データ登録!C574=\"\",\"\",①データ登録!C574)","v":""}]
[null,null,null,null,null,null,null,null,null,null,null,null,{"$f":"IF(①データ登録!A575=\"\",\"\",①データ登録!A575)","v":""},{"$f":"IF(①データ登録!B575=\"\",\"\",①データ登録!B575)","v":""},{"$f":"IF(①データ登録!C575=\"\",\"\",①データ登録!C575)","v":""}]
[null,null,null,null,null,null,null,null,null,null,null,null,{"$f":"IF(①データ登録!A576=\"\",\"\",①データ登録!A576)","v":""},{"$f":"IF(①データ登録!B576=\"\",\"\",①データ登録!B576)","v":""},{"$f":"IF(①データ登録!C576=\"\",\"\",①データ登録!C576)","v":""}]
[null,null,null,null,null,null,null,null,null,null,null,null,{"$f":"IF(①データ登録!A577=\"\",\"\",①データ登録!A577)","v":""},{"$f":"IF(①データ登録!B577=\"\",\"\",①データ登録!B577)","v":""},{"$f":"IF(①データ登録!C577=\"\",\"\",①データ登録!C577)","v":""}]
[null,null,null,null,null,null,null,null,null,null,null,null,{"$f":"IF(①データ登録!A578=\"\",\"\",①データ登録!A578)","v":""},{"$f":"IF(①データ登録!B578=\"\",\"\",①データ登録!B578)","v":""},{"$f":"IF(①データ登録!C578=\"\",\"\",①データ登録!C578)","v":""}]
[null,null,null,null,null,null,null,null,null,null,null,null,{"$f":"IF(①データ登録!A579=\"\",\"\",①データ登録!A579)","v":""},{"$f":"IF(①データ登録!B579=\"\",\"\",①データ登録!B579)","v":""},{"$f":"IF(①データ登録!C579=\"\",\"\",①データ登録!C579)","v":""}]
[null,null,null,null,null,null,null,null,null,null,null,null,{"$f":"IF(①データ登録!A580=\"\",\"\",①データ登録!A580)","v":""},{"$f":"IF(①データ登録!B580=\"\",\"\",①データ登録!B580)","v":""},{"$f":"IF(①データ登録!C580=\"\",\"\",①データ登録!C580)","v":""}]
[null,null,null,null,null,null,null,null,null,null,null,null,{"$f":"IF(①データ登録!A581=\"\",\"\",①データ登録!A581)","v":""},{"$f":"IF(①データ登録!B581=\"\",\"\",①データ登録!B581)","v":""},{"$f":"IF(①データ登録!C581=\"\",\"\",①データ登録!C581)","v":""}]
[null,null,null,null,null,null,null,null,null,null,null,null,{"$f":"IF(①データ登録!A582=\"\",\"\",①データ登録!A582)","v":""},{"$f":"IF(①データ登録!B582=\"\",\"\",①データ登録!B582)","v":""},{"$f":"IF(①データ登録!C582=\"\",\"\",①データ登録!C582)","v":""}]
[null,null,null,null,null,null,null,null,null,null,null,null,{"$f":"IF(①データ登録!A583=\"\",\"\",①データ登録!A583)","v":""},{"$f":"IF(①データ登録!B583=\"\",\"\",①データ登録!B583)","v":""},{"$f":"IF(①データ登録!C583=\"\",\"\",①データ登録!C583)","v":""}]
[null,null,null,null,null,null,null,null,null,null,null,null,{"$f":"IF(①データ登録!A584=\"\",\"\",①データ登録!A584)","v":""},{"$f":"IF(①データ登録!B584=\"\",\"\",①データ登録!B584)","v":""},{"$f":"IF(①データ登録!C584=\"\",\"\",①データ登録!C584)","v":""}]
[null,null,null,null,null,null,null,null,null,null,null,null,{"$f":"IF(①データ登録!A585=\"\",\"\",①データ登録!A585)","v":""},{"$f":"IF(①データ登録!B585=\"\",\"\",①データ登録!B585)","v":""},{"$f":"IF(①データ登録!C585=\"\",\"\",①データ登録!C585)","v":""}]
[null,null,null,null,null,null,null,null,null,null,null,null,{"$f":"IF(①データ登録!A586=\"\",\"\",①データ登録!A586)","v":""},{"$f":"IF(①データ登録!B586=\"\",\"\",①データ登録!B586)","v":""},{"$f":"IF(①データ登録!C586=\"\",\"\",①データ登録!C586)","v":""}]
[null,null,null,null,null,null,null,null,null,null,null,null,{"$f":"IF(①データ登録!A587=\"\",\"\",①データ登録!A587)","v":""},{"$f":"IF(①データ登録!B587=\"\",\"\",①データ登録!B587)","v":""},{"$f":"IF(①データ登録!C587=\"\",\"\",①データ登録!C587)","v":""}]
[null,null,null,null,null,null,null,null,null,null,null,null,{"$f":"IF(①データ登録!A588=\"\",\"\",①データ登録!A588)","v":""},{"$f":"IF(①データ登録!B588=\"\",\"\",①データ登録!B588)","v":""},{"$f":"IF(①データ登録!C588=\"\",\"\",①データ登録!C588)","v":""}]
[null,null,null,null,null,null,null,null,null,null,null,null,{"$f":"IF(①データ登録!A589=\"\",\"\",①データ登録!A589)","v":""},{"$f":"IF(①データ登録!B589=\"\",\"\",①データ登録!B589)","v":""},{"$f":"IF(①データ登録!C589=\"\",\"\",①データ登録!C589)","v":""}]
[null,null,null,null,null,null,null,null,null,null,null,null,{"$f":"IF(①データ登録!A590=\"\",\"\",①データ登録!A590)","v":""},{"$f":"IF(①データ登録!B590=\"\",\"\",①データ登録!B590)","v":""},{"$f":"IF(①データ登録!C590=\"\",\"\",①データ登録!C590)","v":""}]
[null,null,null,null,null,null,null,null,null,null,null,null,{"$f":"IF(①データ登録!A591=\"\",\"\",①データ登録!A591)","v":""},{"$f":"IF(①データ登録!B591=\"\",\"\",①データ登録!B591)","v":""},{"$f":"IF(①データ登録!C591=\"\",\"\",①データ登録!C591)","v":""}]
[null,null,null,null,null,null,null,null,null,null,null,null,{"$f":"IF(①データ登録!A592=\"\",\"\",①データ登録!A592)","v":""},{"$f":"IF(①データ登録!B592=\"\",\"\",①データ登録!B592)","v":""},{"$f":"IF(①データ登録!C592=\"\",\"\",①データ登録!C592)","v":""}]
[null,null,null,null,null,null,null,null,null,null,null,null,{"$f":"IF(①データ登録!A593=\"\",\"\",①データ登録!A593)","v":""},{"$f":"IF(①データ登録!B593=\"\",\"\",①データ登録!B593)","v":""},{"$f":"IF(①データ登録!C593=\"\",\"\",①データ登録!C593)","v":""}]
[null,null,null,null,null,null,null,null,null,null,null,null,{"$f":"IF(①データ登録!A594=\"\",\"\",①データ登録!A594)","v":""},{"$f":"IF(①データ登録!B594=\"\",\"\",①データ登録!B594)","v":""},{"$f":"IF(①データ登録!C594=\"\",\"\",①データ登録!C594)","v":""}]
[null,null,null,null,null,null,null,null,null,null,null,null,{"$f":"IF(①データ登録!A595=\"\",\"\",①データ登録!A595)","v":""},{"$f":"IF(①データ登録!B595=\"\",\"\",①データ登録!B595)","v":""},{"$f":"IF(①データ登録!C595=\"\",\"\",①データ登録!C595)","v":""}]
[null,null,null,null,null,null,null,null,null,null,null,null,{"$f":"IF(①データ登録!A596=\"\",\"\",①データ登録!A596)","v":""},{"$f":"IF(①データ登録!B596=\"\",\"\",①データ登録!B596)","v":""},{"$f":"IF(①データ登録!C596=\"\",\"\",①データ登録!C596)","v":""}]
[null,null,null,null,null,null,null,null,null,null,null,null,{"$f":"IF(①データ登録!A597=\"\",\"\",①データ登録!A597)","v":""},{"$f":"IF(①データ登録!B597=\"\",\"\",①データ登録!B597)","v":""},{"$f":"IF(①データ登録!C597=\"\",\"\",①データ登録!C597)","v":""}]
[null,null,null,null,null,null,null,null,null,null,null,null,{"$f":"IF(①データ登録!A598=\"\",\"\",①データ登録!A598)","v":""},{"$f":"IF(①データ登録!B598=\"\",\"\",①データ登録!B598)","v":""},{"$f":"IF(①データ登録!C598=\"\",\"\",①データ登録!C598)","v":""}]
[null,null,null,null,null,null,null,null,null,null,null,null,{"$f":"IF(①データ登録!A599=\"\",\"\",①データ登録!A599)","v":""},{"$f":"IF(①データ登録!B599=\"\",\"\",①データ登録!B599)","v":""},{"$f":"IF(①データ登録!C599=\"\",\"\",①データ登録!C599)","v":""}]
[null,null,null,null,null,null,null,null,null,null,null,null,{"$f":"IF(①データ登録!A600=\"\",\"\",①データ登録!A600)","v":""},{"$f":"IF(①データ登録!B600=\"\",\"\",①データ登録!B600)","v":""},{"$f":"IF(①データ登録!C600=\"\",\"\",①データ登録!C600)","v":""}]
[null,null,null,null,null,null,null,null,null,null,null,null,{"$f":"IF(①データ登録!A601=\"\",\"\",①データ登録!A601)","v":""},{"$f":"IF(①データ登録!B601=\"\",\"\",①データ登録!B601)","v":""},{"$f":"IF(①データ登録!C601=\"\",\"\",①データ登録!C601)","v":""}]
[null,null,null,null,null,null,null,null,null,null,null,null,{"$f":"IF(①データ登録!A602=\"\",\"\",①データ登録!A602)","v":""},{"$f":"IF(①データ登録!B602=\"\",\"\",①データ登録!B602)","v":""},{"$f":"IF(①データ登録!C602=\"\",\"\",①データ登録!C602)","v":""}]
[null,null,null,null,null,null,null,null,null,null,null,null,{"$f":"IF(①データ登録!A603=\"\",\"\",①データ登録!A603)","v":""},{"$f":"IF(①データ登録!B603=\"\",\"\",①データ登録!B603)","v":""},{"$f":"IF(①データ登録!C603=\"\",\"\",①データ登録!C603)","v":""}]
[null,null,null,null,null,null,null,null,null,null,null,null,{"$f":"IF(①データ登録!A604=\"\",\"\",①データ登録!A604)","v":""},{"$f":"IF(①データ登録!B604=\"\",\"\",①データ登録!B604)","v":""},{"$f":"IF(①データ登録!C604=\"\",\"\",①データ登録!C604)","v":""}]
[null,null,null,null,null,null,null,null,null,null,null,null,{"$f":"IF(①データ登録!A605=\"\",\"\",①データ登録!A605)","v":""},{"$f":"IF(①データ登録!B605=\"\",\"\",①データ登録!B605)","v":""},{"$f":"IF(①データ登録!C605=\"\",\"\",①データ登録!C605)","v":""}]
[null,null,null,null,null,null,null,null,null,null,null,null,{"$f":"IF(①データ登録!A606=\"\",\"\",①データ登録!A606)","v":""},{"$f":"IF(①データ登録!B606=\"\",\"\",①データ登録!B606)","v":""},{"$f":"IF(①データ登録!C606=\"\",\"\",①データ登録!C606)","v":""}]
[null,null,null,null,null,null,null,null,null,null,null,null,{"$f":"IF(①データ登録!A607=\"\",\"\",①データ登録!A607)","v":""},{"$f":"IF(①データ登録!B607=\"\",\"\",①データ登録!B607)","v":""},{"$f":"IF(①データ登録!C607=\"\",\"\",①データ登録!C607)","v":""}]
[null,null,null,null,null,null,null,null,null,null,null,null,{"$f":"IF(①データ登録!A608=\"\",\"\",①データ登録!A608)","v":""},{"$f":"IF(①データ登録!B608=\"\",\"\",①データ登録!B608)","v":""},{"$f":"IF(①データ登録!C608=\"\",\"\",①データ登録!C608)","v":""}]
[null,null,null,null,null,null,null,null,null,null,null,null,{"$f":"IF(①データ登録!A609=\"\",\"\",①データ登録!A609)","v":""},{"$f":"IF(①データ登録!B609=\"\",\"\",①データ登録!B609)","v":""},{"$f":"IF(①データ登録!C609=\"\",\"\",①データ登録!C609)","v":""}]
[null,null,null,null,null,null,null,null,null,null,null,null,{"$f":"IF(①データ登録!A610=\"\",\"\",①データ登録!A610)","v":""},{"$f":"IF(①データ登録!B610=\"\",\"\",①データ登録!B610)","v":""},{"$f":"IF(①データ登録!C610=\"\",\"\",①データ登録!C610)","v":""}]
[null,null,null,null,null,null,null,null,null,null,null,null,{"$f":"IF(①データ登録!A611=\"\",\"\",①データ登録!A611)","v":""},{"$f":"IF(①データ登録!B611=\"\",\"\",①データ登録!B611)","v":""},{"$f":"IF(①データ登録!C611=\"\",\"\",①データ登録!C611)","v":""}]
[null,null,null,null,null,null,null,null,null,null,null,null,{"$f":"IF(①データ登録!A612=\"\",\"\",①データ登録!A612)","v":""},{"$f":"IF(①データ登録!B612=\"\",\"\",①データ登録!B612)","v":""},{"$f":"IF(①データ登録!C612=\"\",\"\",①データ登録!C612)","v":""}]
[null,null,null,null,null,null,null,null,null,null,null,null,{"$f":"IF(①データ登録!A613=\"\",\"\",①データ登録!A613)","v":""},{"$f":"IF(①データ登録!B613=\"\",\"\",①データ登録!B613)","v":""},{"$f":"IF(①データ登録!C613=\"\",\"\",①データ登録!C613)","v":""}]
[null,null,null,null,null,null,null,null,null,null,null,null,{"$f":"IF(①データ登録!A614=\"\",\"\",①データ登録!A614)","v":""},{"$f":"IF(①データ登録!B614=\"\",\"\",①データ登録!B614)","v":""},{"$f":"IF(①データ登録!C614=\"\",\"\",①データ登録!C614)","v":""}]
[null,null,null,null,null,null,null,null,null,null,null,null,{"$f":"IF(①データ登録!A615=\"\",\"\",①データ登録!A615)","v":""},{"$f":"IF(①データ登録!B615=\"\",\"\",①データ登録!B615)","v":""},{"$f":"IF(①データ登録!C615=\"\",\"\",①データ登録!C615)","v":""}]
[null,null,null,null,null,null,null,null,null,null,null,null,{"$f":"IF(①データ登録!A616=\"\",\"\",①データ登録!A616)","v":""},{"$f":"IF(①データ登録!B616=\"\",\"\",①データ登録!B616)","v":""},{"$f":"IF(①データ登録!C616=\"\",\"\",①データ登録!C616)","v":""}]
[null,null,null,null,null,null,null,null,null,null,null,null,{"$f":"IF(①データ登録!A617=\"\",\"\",①データ登録!A617)","v":""},{"$f":"IF(①データ登録!B617=\"\",\"\",①データ登録!B617)","v":""},{"$f":"IF(①データ登録!C617=\"\",\"\",①データ登録!C617)","v":""}]
[null,null,null,null,null,null,null,null,null,null,null,null,{"$f":"IF(①データ登録!A618=\"\",\"\",①データ登録!A618)","v":""},{"$f":"IF(①データ登録!B618=\"\",\"\",①データ登録!B618)","v":""},{"$f":"IF(①データ登録!C618=\"\",\"\",①データ登録!C618)","v":""}]
[null,null,null,null,null,null,null,null,null,null,null,null,{"$f":"IF(①データ登録!A619=\"\",\"\",①データ登録!A619)","v":""},{"$f":"IF(①データ登録!B619=\"\",\"\",①データ登録!B619)","v":""},{"$f":"IF(①データ登録!C619=\"\",\"\",①データ登録!C619)","v":""}]
[null,null,null,null,null,null,null,null,null,null,null,null,{"$f":"IF(①データ登録!A620=\"\",\"\",①データ登録!A620)","v":""},{"$f":"IF(①データ登録!B620=\"\",\"\",①データ登録!B620)","v":""},{"$f":"IF(①データ登録!C620=\"\",\"\",①データ登録!C620)","v":""}]
[null,null,null,null,null,null,null,null,null,null,null,null,{"$f":"IF(①データ登録!A621=\"\",\"\",①データ登録!A621)","v":""},{"$f":"IF(①データ登録!B621=\"\",\"\",①データ登録!B621)","v":""},{"$f":"IF(①データ登録!C621=\"\",\"\",①データ登録!C621)","v":""}]
[null,null,null,null,null,null,null,null,null,null,null,null,{"$f":"IF(①データ登録!A622=\"\",\"\",①データ登録!A622)","v":""},{"$f":"IF(①データ登録!B622=\"\",\"\",①データ登録!B622)","v":""},{"$f":"IF(①データ登録!C622=\"\",\"\",①データ登録!C622)","v":""}]
[null,null,null,null,null,null,null,null,null,null,null,null,{"$f":"IF(①データ登録!A623=\"\",\"\",①データ登録!A623)","v":""},{"$f":"IF(①データ登録!B623=\"\",\"\",①データ登録!B623)","v":""},{"$f":"IF(①データ登録!C623=\"\",\"\",①データ登録!C623)","v":""}]
[null,null,null,null,null,null,null,null,null,null,null,null,{"$f":"IF(①データ登録!A624=\"\",\"\",①データ登録!A624)","v":""},{"$f":"IF(①データ登録!B624=\"\",\"\",①データ登録!B624)","v":""},{"$f":"IF(①データ登録!C624=\"\",\"\",①データ登録!C624)","v":""}]
[null,null,null,null,null,null,null,null,null,null,null,null,{"$f":"IF(①データ登録!A625=\"\",\"\",①データ登録!A625)","v":""},{"$f":"IF(①データ登録!B625=\"\",\"\",①データ登録!B625)","v":""},{"$f":"IF(①データ登録!C625=\"\",\"\",①データ登録!C625)","v":""}]
[null,null,null,null,null,null,null,null,null,null,null,null,{"$f":"IF(①データ登録!A626=\"\",\"\",①データ登録!A626)","v":""},{"$f":"IF(①データ登録!B626=\"\",\"\",①データ登録!B626)","v":""},{"$f":"IF(①データ登録!C626=\"\",\"\",①データ登録!C626)","v":""}]
[null,null,null,null,null,null,null,null,null,null,null,null,{"$f":"IF(①データ登録!A627=\"\",\"\",①データ登録!A627)","v":""},{"$f":"IF(①データ登録!B627=\"\",\"\",①データ登録!B627)","v":""},{"$f":"IF(①データ登録!C627=\"\",\"\",①データ登録!C627)","v":""}]
[null,null,null,null,null,null,null,null,null,null,null,null,{"$f":"IF(①データ登録!A628=\"\",\"\",①データ登録!A628)","v":""},{"$f":"IF(①データ登録!B628=\"\",\"\",①データ登録!B628)","v":""},{"$f":"IF(①データ登録!C628=\"\",\"\",①データ登録!C628)","v":""}]
[null,null,null,null,null,null,null,null,null,null,null,null,{"$f":"IF(①データ登録!A629=\"\",\"\",①データ登録!A629)","v":""},{"$f":"IF(①データ登録!B629=\"\",\"\",①データ登録!B629)","v":""},{"$f":"IF(①データ登録!C629=\"\",\"\",①データ登録!C629)","v":""}]
[null,null,null,null,null,null,null,null,null,null,null,null,{"$f":"IF(①データ登録!A630=\"\",\"\",①データ登録!A630)","v":""},{"$f":"IF(①データ登録!B630=\"\",\"\",①データ登録!B630)","v":""},{"$f":"IF(①データ登録!C630=\"\",\"\",①データ登録!C630)","v":""}]
[null,null,null,null,null,null,null,null,null,null,null,null,{"$f":"IF(①データ登録!A631=\"\",\"\",①データ登録!A631)","v":""},{"$f":"IF(①データ登録!B631=\"\",\"\",①データ登録!B631)","v":""},{"$f":"IF(①データ登録!C631=\"\",\"\",①データ登録!C631)","v":""}]
[null,null,null,null,null,null,null,null,null,null,null,null,{"$f":"IF(①データ登録!A632=\"\",\"\",①データ登録!A632)","v":""},{"$f":"IF(①データ登録!B632=\"\",\"\",①データ登録!B632)","v":""},{"$f":"IF(①データ登録!C632=\"\",\"\",①データ登録!C632)","v":""}]
[null,null,null,null,null,null,null,null,null,null,null,null,{"$f":"IF(①データ登録!A633=\"\",\"\",①データ登録!A633)","v":""},{"$f":"IF(①データ登録!B633=\"\",\"\",①データ登録!B633)","v":""},{"$f":"IF(①データ登録!C633=\"\",\"\",①データ登録!C633)","v":""}]
[null,null,null,null,null,null,null,null,null,null,null,null,{"$f":"IF(①データ登録!A634=\"\",\"\",①データ登録!A634)","v":""},{"$f":"IF(①データ登録!B634=\"\",\"\",①データ登録!B634)","v":""},{"$f":"IF(①データ登録!C634=\"\",\"\",①データ登録!C634)","v":""}]
[null,null,null,null,null,null,null,null,null,null,null,null,{"$f":"IF(①データ登録!A635=\"\",\"\",①データ登録!A635)","v":""},{"$f":"IF(①データ登録!B635=\"\",\"\",①データ登録!B635)","v":""},{"$f":"IF(①データ登録!C635=\"\",\"\",①データ登録!C635)","v":""}]
[null,null,null,null,null,null,null,null,null,null,null,null,{"$f":"IF(①データ登録!A636=\"\",\"\",①データ登録!A636)","v":""},{"$f":"IF(①データ登録!B636=\"\",\"\",①データ登録!B636)","v":""},{"$f":"IF(①データ登録!C636=\"\",\"\",①データ登録!C636)","v":""}]
[null,null,null,null,null,null,null,null,null,null,null,null,{"$f":"IF(①データ登録!A637=\"\",\"\",①データ登録!A637)","v":""},{"$f":"IF(①データ登録!B637=\"\",\"\",①データ登録!B637)","v":""},{"$f":"IF(①データ登録!C637=\"\",\"\",①データ登録!C637)","v":""}]
[null,null,null,null,null,null,null,null,null,null,null,null,{"$f":"IF(①データ登録!A638=\"\",\"\",①データ登録!A638)","v":""},{"$f":"IF(①データ登録!B638=\"\",\"\",①データ登録!B638)","v":""},{"$f":"IF(①データ登録!C638=\"\",\"\",①データ登録!C638)","v":""}]
[null,null,null,null,null,null,null,null,null,null,null,null,{"$f":"IF(①データ登録!A639=\"\",\"\",①データ登録!A639)","v":""},{"$f":"IF(①データ登録!B639=\"\",\"\",①データ登録!B639)","v":""},{"$f":"IF(①データ登録!C639=\"\",\"\",①データ登録!C639)","v":""}]
[null,null,null,null,null,null,null,null,null,null,null,null,{"$f":"IF(①データ登録!A640=\"\",\"\",①データ登録!A640)","v":""},{"$f":"IF(①データ登録!B640=\"\",\"\",①データ登録!B640)","v":""},{"$f":"IF(①データ登録!C640=\"\",\"\",①データ登録!C640)","v":""}]
[null,null,null,null,null,null,null,null,null,null,null,null,{"$f":"IF(①データ登録!A641=\"\",\"\",①データ登録!A641)","v":""},{"$f":"IF(①データ登録!B641=\"\",\"\",①データ登録!B641)","v":""},{"$f":"IF(①データ登録!C641=\"\",\"\",①データ登録!C641)","v":""}]
[null,null,null,null,null,null,null,null,null,null,null,null,{"$f":"IF(①データ登録!A642=\"\",\"\",①データ登録!A642)","v":""},{"$f":"IF(①データ登録!B642=\"\",\"\",①データ登録!B642)","v":""},{"$f":"IF(①データ登録!C642=\"\",\"\",①データ登録!C642)","v":""}]
[null,null,null,null,null,null,null,null,null,null,null,null,{"$f":"IF(①データ登録!A643=\"\",\"\",①データ登録!A643)","v":""},{"$f":"IF(①データ登録!B643=\"\",\"\",①データ登録!B643)","v":""},{"$f":"IF(①データ登録!C643=\"\",\"\",①データ登録!C643)","v":""}]
[null,null,null,null,null,null,null,null,null,null,null,null,{"$f":"IF(①データ登録!A644=\"\",\"\",①データ登録!A644)","v":""},{"$f":"IF(①データ登録!B644=\"\",\"\",①データ登録!B644)","v":""},{"$f":"IF(①データ登録!C644=\"\",\"\",①データ登録!C644)","v":""}]
[null,null,null,null,null,null,null,null,null,null,null,null,{"$f":"IF(①データ登録!A645=\"\",\"\",①データ登録!A645)","v":""},{"$f":"IF(①データ登録!B645=\"\",\"\",①データ登録!B645)","v":""},{"$f":"IF(①データ登録!C645=\"\",\"\",①データ登録!C645)","v":""}]
[null,null,null,null,null,null,null,null,null,null,null,null,{"$f":"IF(①データ登録!A646=\"\",\"\",①データ登録!A646)","v":""},{"$f":"IF(①データ登録!B646=\"\",\"\",①データ登録!B646)","v":""},{"$f":"IF(①データ登録!C646=\"\",\"\",①データ登録!C646)","v":""}]
[null,null,null,null,null,null,null,null,null,null,null,null,{"$f":"IF(①データ登録!A647=\"\",\"\",①データ登録!A647)","v":""},{"$f":"IF(①データ登録!B647=\"\",\"\",①データ登録!B647)","v":""},{"$f":"IF(①データ登録!C647=\"\",\"\",①データ登録!C647)","v":""}]
[null,null,null,null,null,null,null,null,null,null,null,null,{"$f":"IF(①データ登録!A648=\"\",\"\",①データ登録!A648)","v":""},{"$f":"IF(①データ登録!B648=\"\",\"\",①データ登録!B648)","v":""},{"$f":"IF(①データ登録!C648=\"\",\"\",①データ登録!C648)","v":""}]
[null,null,null,null,null,null,null,null,null,null,null,null,{"$f":"IF(①データ登録!A649=\"\",\"\",①データ登録!A649)","v":""},{"$f":"IF(①データ登録!B649=\"\",\"\",①データ登録!B649)","v":""},{"$f":"IF(①データ登録!C649=\"\",\"\",①データ登録!C649)","v":""}]
[null,null,null,null,null,null,null,null,null,null,null,null,{"$f":"IF(①データ登録!A650=\"\",\"\",①データ登録!A650)","v":""},{"$f":"IF(①データ登録!B650=\"\",\"\",①データ登録!B650)","v":""},{"$f":"IF(①データ登録!C650=\"\",\"\",①データ登録!C650)","v":""}]
[null,null,null,null,null,null,null,null,null,null,null,null,{"$f":"IF(①データ登録!A651=\"\",\"\",①データ登録!A651)","v":""},{"$f":"IF(①データ登録!B651=\"\",\"\",①データ登録!B651)","v":""},{"$f":"IF(①データ登録!C651=\"\",\"\",①データ登録!C651)","v":""}]
[null,null,null,null,null,null,null,null,null,null,null,null,{"$f":"IF(①データ登録!A652=\"\",\"\",①データ登録!A652)","v":""},{"$f":"IF(①データ登録!B652=\"\",\"\",①データ登録!B652)","v":""},{"$f":"IF(①データ登録!C652=\"\",\"\",①データ登録!C652)","v":""}]
[null,null,null,null,null,null,null,null,null,null,null,null,{"$f":"IF(①データ登録!A653=\"\",\"\",①データ登録!A653)","v":""},{"$f":"IF(①データ登録!B653=\"\",\"\",①データ登録!B653)","v":""},{"$f":"IF(①データ登録!C653=\"\",\"\",①データ登録!C653)","v":""}]
[null,null,null,null,null,null,null,null,null,null,null,null,{"$f":"IF(①データ登録!A654=\"\",\"\",①データ登録!A654)","v":""},{"$f":"IF(①データ登録!B654=\"\",\"\",①データ登録!B654)","v":""},{"$f":"IF(①データ登録!C654=\"\",\"\",①データ登録!C654)","v":""}]
[null,null,null,null,null,null,null,null,null,null,null,null,{"$f":"IF(①データ登録!A655=\"\",\"\",①データ登録!A655)","v":""},{"$f":"IF(①データ登録!B655=\"\",\"\",①データ登録!B655)","v":""},{"$f":"IF(①データ登録!C655=\"\",\"\",①データ登録!C655)","v":""}]
[null,null,null,null,null,null,null,null,null,null,null,null,{"$f":"IF(①データ登録!A656=\"\",\"\",①データ登録!A656)","v":""},{"$f":"IF(①データ登録!B656=\"\",\"\",①データ登録!B656)","v":""},{"$f":"IF(①データ登録!C656=\"\",\"\",①データ登録!C656)","v":""}]
[null,null,null,null,null,null,null,null,null,null,null,null,{"$f":"IF(①データ登録!A657=\"\",\"\",①データ登録!A657)","v":""},{"$f":"IF(①データ登録!B657=\"\",\"\",①データ登録!B657)","v":""},{"$f":"IF(①データ登録!C657=\"\",\"\",①データ登録!C657)","v":""}]
[null,null,null,null,null,null,null,null,null,null,null,null,{"$f":"IF(①データ登録!A658=\"\",\"\",①データ登録!A658)","v":""},{"$f":"IF(①データ登録!B658=\"\",\"\",①データ登録!B658)","v":""},{"$f":"IF(①データ登録!C658=\"\",\"\",①データ登録!C658)","v":""}]
[null,null,null,null,null,null,null,null,null,null,null,null,{"$f":"IF(①データ登録!A659=\"\",\"\",①データ登録!A659)","v":""},{"$f":"IF(①データ登録!B659=\"\",\"\",①データ登録!B659)","v":""},{"$f":"IF(①データ登録!C659=\"\",\"\",①データ登録!C659)","v":""}]
[null,null,null,null,null,null,null,null,null,null,null,null,{"$f":"IF(①データ登録!A660=\"\",\"\",①データ登録!A660)","v":""},{"$f":"IF(①データ登録!B660=\"\",\"\",①データ登録!B660)","v":""},{"$f":"IF(①データ登録!C660=\"\",\"\",①データ登録!C660)","v":""}]
[null,null,null,null,null,null,null,null,null,null,null,null,{"$f":"IF(①データ登録!A661=\"\",\"\",①データ登録!A661)","v":""},{"$f":"IF(①データ登録!B661=\"\",\"\",①データ登録!B661)","v":""},{"$f":"IF(①データ登録!C661=\"\",\"\",①データ登録!C661)","v":""}]
[null,null,null,null,null,null,null,null,null,null,null,null,{"$f":"IF(①データ登録!A662=\"\",\"\",①データ登録!A662)","v":""},{"$f":"IF(①データ登録!B662=\"\",\"\",①データ登録!B662)","v":""},{"$f":"IF(①データ登録!C662=\"\",\"\",①データ登録!C662)","v":""}]
[null,null,null,null,null,null,null,null,null,null,null,null,{"$f":"IF(①データ登録!A663=\"\",\"\",①データ登録!A663)","v":""},{"$f":"IF(①データ登録!B663=\"\",\"\",①データ登録!B663)","v":""},{"$f":"IF(①データ登録!C663=\"\",\"\",①データ登録!C663)","v":""}]
[null,null,null,null,null,null,null,null,null,null,null,null,{"$f":"IF(①データ登録!A664=\"\",\"\",①データ登録!A664)","v":""},{"$f":"IF(①データ登録!B664=\"\",\"\",①データ登録!B664)","v":""},{"$f":"IF(①データ登録!C664=\"\",\"\",①データ登録!C664)","v":""}]
[null,null,null,null,null,null,null,null,null,null,null,null,{"$f":"IF(①データ登録!A665=\"\",\"\",①データ登録!A665)","v":""},{"$f":"IF(①データ登録!B665=\"\",\"\",①データ登録!B665)","v":""},{"$f":"IF(①データ登録!C665=\"\",\"\",①データ登録!C665)","v":""}]
[null,null,null,null,null,null,null,null,null,null,null,null,{"$f":"IF(①データ登録!A666=\"\",\"\",①データ登録!A666)","v":""},{"$f":"IF(①データ登録!B666=\"\",\"\",①データ登録!B666)","v":""},{"$f":"IF(①データ登録!C666=\"\",\"\",①データ登録!C666)","v":""}]
[null,null,null,null,null,null,null,null,null,null,null,null,{"$f":"IF(①データ登録!A667=\"\",\"\",①データ登録!A667)","v":""},{"$f":"IF(①データ登録!B667=\"\",\"\",①データ登録!B667)","v":""},{"$f":"IF(①データ登録!C667=\"\",\"\",①データ登録!C667)","v":""}]
[null,null,null,null,null,null,null,null,null,null,null,null,{"$f":"IF(①データ登録!A668=\"\",\"\",①データ登録!A668)","v":""},{"$f":"IF(①データ登録!B668=\"\",\"\",①データ登録!B668)","v":""},{"$f":"IF(①データ登録!C668=\"\",\"\",①データ登録!C668)","v":""}]
[null,null,null,null,null,null,null,null,null,null,null,null,{"$f":"IF(①データ登録!A669=\"\",\"\",①データ登録!A669)","v":""},{"$f":"IF(①データ登録!B669=\"\",\"\",①データ登録!B669)","v":""},{"$f":"IF(①データ登録!C669=\"\",\"\",①データ登録!C669)","v":""}]
[null,null,null,null,null,null,null,null,null,null,null,null,{"$f":"IF(①データ登録!A670=\"\",\"\",①データ登録!A670)","v":""},{"$f":"IF(①データ登録!B670=\"\",\"\",①データ登録!B670)","v":""},{"$f":"IF(①データ登録!C670=\"\",\"\",①データ登録!C670)","v":""}]
[null,null,null,null,null,null,null,null,null,null,null,null,{"$f":"IF(①データ登録!A671=\"\",\"\",①データ登録!A671)","v":""},{"$f":"IF(①データ登録!B671=\"\",\"\",①データ登録!B671)","v":""},{"$f":"IF(①データ登録!C671=\"\",\"\",①データ登録!C671)","v":""}]
[null,null,null,null,null,null,null,null,null,null,null,null,{"$f":"IF(①データ登録!A672=\"\",\"\",①データ登録!A672)","v":""},{"$f":"IF(①データ登録!B672=\"\",\"\",①データ登録!B672)","v":""},{"$f":"IF(①データ登録!C672=\"\",\"\",①データ登録!C672)","v":""}]
[null,null,null,null,null,null,null,null,null,null,null,null,{"$f":"IF(①データ登録!A673=\"\",\"\",①データ登録!A673)","v":""},{"$f":"IF(①データ登録!B673=\"\",\"\",①データ登録!B673)","v":""},{"$f":"IF(①データ登録!C673=\"\",\"\",①データ登録!C673)","v":""}]
[null,null,null,null,null,null,null,null,null,null,null,null,{"$f":"IF(①データ登録!A674=\"\",\"\",①データ登録!A674)","v":""},{"$f":"IF(①データ登録!B674=\"\",\"\",①データ登録!B674)","v":""},{"$f":"IF(①データ登録!C674=\"\",\"\",①データ登録!C674)","v":""}]
[null,null,null,null,null,null,null,null,null,null,null,null,{"$f":"IF(①データ登録!A675=\"\",\"\",①データ登録!A675)","v":""},{"$f":"IF(①データ登録!B675=\"\",\"\",①データ登録!B675)","v":""},{"$f":"IF(①データ登録!C675=\"\",\"\",①データ登録!C675)","v":""}]
[null,null,null,null,null,null,null,null,null,null,null,null,{"$f":"IF(①データ登録!A676=\"\",\"\",①データ登録!A676)","v":""},{"$f":"IF(①データ登録!B676=\"\",\"\",①データ登録!B676)","v":""},{"$f":"IF(①データ登録!C676=\"\",\"\",①データ登録!C676)","v":""}]
[null,null,null,null,null,null,null,null,null,null,null,null,{"$f":"IF(①データ登録!A677=\"\",\"\",①データ登録!A677)","v":""},{"$f":"IF(①データ登録!B677=\"\",\"\",①データ登録!B677)","v":""},{"$f":"IF(①データ登録!C677=\"\",\"\",①データ登録!C677)","v":""}]
[null,null,null,null,null,null,null,null,null,null,null,null,{"$f":"IF(①データ登録!A678=\"\",\"\",①データ登録!A678)","v":""},{"$f":"IF(①データ登録!B678=\"\",\"\",①データ登録!B678)","v":""},{"$f":"IF(①データ登録!C678=\"\",\"\",①データ登録!C678)","v":""}]
[null,null,null,null,null,null,null,null,null,null,null,null,{"$f":"IF(①データ登録!A679=\"\",\"\",①データ登録!A679)","v":""},{"$f":"IF(①データ登録!B679=\"\",\"\",①データ登録!B679)","v":""},{"$f":"IF(①データ登録!C679=\"\",\"\",①データ登録!C679)","v":""}]
[null,null,null,null,null,null,null,null,null,null,null,null,{"$f":"IF(①データ登録!A680=\"\",\"\",①データ登録!A680)","v":""},{"$f":"IF(①データ登録!B680=\"\",\"\",①データ登録!B680)","v":""},{"$f":"IF(①データ登録!C680=\"\",\"\",①データ登録!C680)","v":""}]
[null,null,null,null,null,null,null,null,null,null,null,null,{"$f":"IF(①データ登録!A681=\"\",\"\",①データ登録!A681)","v":""},{"$f":"IF(①データ登録!B681=\"\",\"\",①データ登録!B681)","v":""},{"$f":"IF(①データ登録!C681=\"\",\"\",①データ登録!C681)","v":""}]
[null,null,null,null,null,null,null,null,null,null,null,null,{"$f":"IF(①データ登録!A682=\"\",\"\",①データ登録!A682)","v":""},{"$f":"IF(①データ登録!B682=\"\",\"\",①データ登録!B682)","v":""},{"$f":"IF(①データ登録!C682=\"\",\"\",①データ登録!C682)","v":""}]
[null,null,null,null,null,null,null,null,null,null,null,null,{"$f":"IF(①データ登録!A683=\"\",\"\",①データ登録!A683)","v":""},{"$f":"IF(①データ登録!B683=\"\",\"\",①データ登録!B683)","v":""},{"$f":"IF(①データ登録!C683=\"\",\"\",①データ登録!C683)","v":""}]
[null,null,null,null,null,null,null,null,null,null,null,null,{"$f":"IF(①データ登録!A684=\"\",\"\",①データ登録!A684)","v":""},{"$f":"IF(①データ登録!B684=\"\",\"\",①データ登録!B684)","v":""},{"$f":"IF(①データ登録!C684=\"\",\"\",①データ登録!C684)","v":""}]
[null,null,null,null,null,null,null,null,null,null,null,null,{"$f":"IF(①データ登録!A685=\"\",\"\",①データ登録!A685)","v":""},{"$f":"IF(①データ登録!B685=\"\",\"\",①データ登録!B685)","v":""},{"$f":"IF(①データ登録!C685=\"\",\"\",①データ登録!C685)","v":""}]
[null,null,null,null,null,null,null,null,null,null,null,null,{"$f":"IF(①データ登録!A686=\"\",\"\",①データ登録!A686)","v":""},{"$f":"IF(①データ登録!B686=\"\",\"\",①データ登録!B686)","v":""},{"$f":"IF(①データ登録!C686=\"\",\"\",①データ登録!C686)","v":""}]
[null,null,null,null,null,null,null,null,null,null,null,null,{"$f":"IF(①データ登録!A687=\"\",\"\",①データ登録!A687)","v":""},{"$f":"IF(①データ登録!B687=\"\",\"\",①データ登録!B687)","v":""},{"$f":"IF(①データ登録!C687=\"\",\"\",①データ登録!C687)","v":""}]
[null,null,null,null,null,null,null,null,null,null,null,null,{"$f":"IF(①データ登録!A688=\"\",\"\",①データ登録!A688)","v":""},{"$f":"IF(①データ登録!B688=\"\",\"\",①データ登録!B688)","v":""},{"$f":"IF(①データ登録!C688=\"\",\"\",①データ登録!C688)","v":""}]
[null,null,null,null,null,null,null,null,null,null,null,null,{"$f":"IF(①データ登録!A689=\"\",\"\",①データ登録!A689)","v":""},{"$f":"IF(①データ登録!B689=\"\",\"\",①データ登録!B689)","v":""},{"$f":"IF(①データ登録!C689=\"\",\"\",①データ登録!C689)","v":""}]
[null,null,null,null,null,null,null,null,null,null,null,null,{"$f":"IF(①データ登録!A690=\"\",\"\",①データ登録!A690)","v":""},{"$f":"IF(①データ登録!B690=\"\",\"\",①データ登録!B690)","v":""},{"$f":"IF(①データ登録!C690=\"\",\"\",①データ登録!C690)","v":""}]
[null,null,null,null,null,null,null,null,null,null,null,null,{"$f":"IF(①データ登録!A691=\"\",\"\",①データ登録!A691)","v":""},{"$f":"IF(①データ登録!B691=\"\",\"\",①データ登録!B691)","v":""},{"$f":"IF(①データ登録!C691=\"\",\"\",①データ登録!C691)","v":""}]
[null,null,null,null,null,null,null,null,null,null,null,null,{"$f":"IF(①データ登録!A692=\"\",\"\",①データ登録!A692)","v":""},{"$f":"IF(①データ登録!B692=\"\",\"\",①データ登録!B692)","v":""},{"$f":"IF(①データ登録!C692=\"\",\"\",①データ登録!C692)","v":""}]
[null,null,null,null,null,null,null,null,null,null,null,null,{"$f":"IF(①データ登録!A693=\"\",\"\",①データ登録!A693)","v":""},{"$f":"IF(①データ登録!B693=\"\",\"\",①データ登録!B693)","v":""},{"$f":"IF(①データ登録!C693=\"\",\"\",①データ登録!C693)","v":""}]
[null,null,null,null,null,null,null,null,null,null,null,null,{"$f":"IF(①データ登録!A694=\"\",\"\",①データ登録!A694)","v":""},{"$f":"IF(①データ登録!B694=\"\",\"\",①データ登録!B694)","v":""},{"$f":"IF(①データ登録!C694=\"\",\"\",①データ登録!C694)","v":""}]
[null,null,null,null,null,null,null,null,null,null,null,null,{"$f":"IF(①データ登録!A695=\"\",\"\",①データ登録!A695)","v":""},{"$f":"IF(①データ登録!B695=\"\",\"\",①データ登録!B695)","v":""},{"$f":"IF(①データ登録!C695=\"\",\"\",①データ登録!C695)","v":""}]
[null,null,null,null,null,null,null,null,null,null,null,null,{"$f":"IF(①データ登録!A696=\"\",\"\",①データ登録!A696)","v":""},{"$f":"IF(①データ登録!B696=\"\",\"\",①データ登録!B696)","v":""},{"$f":"IF(①データ登録!C696=\"\",\"\",①データ登録!C696)","v":""}]
[null,null,null,null,null,null,null,null,null,null,null,null,{"$f":"IF(①データ登録!A697=\"\",\"\",①データ登録!A697)","v":""},{"$f":"IF(①データ登録!B697=\"\",\"\",①データ登録!B697)","v":""},{"$f":"IF(①データ登録!C697=\"\",\"\",①データ登録!C697)","v":""}]
[null,null,null,null,null,null,null,null,null,null,null,null,{"$f":"IF(①データ登録!A698=\"\",\"\",①データ登録!A698)","v":""},{"$f":"IF(①データ登録!B698=\"\",\"\",①データ登録!B698)","v":""},{"$f":"IF(①データ登録!C698=\"\",\"\",①データ登録!C698)","v":""}]
[null,null,null,null,null,null,null,null,null,null,null,null,{"$f":"IF(①データ登録!A699=\"\",\"\",①データ登録!A699)","v":""},{"$f":"IF(①データ登録!B699=\"\",\"\",①データ登録!B699)","v":""},{"$f":"IF(①データ登録!C699=\"\",\"\",①データ登録!C699)","v":""}]
[null,null,null,null,null,null,null,null,null,null,null,null,{"$f":"IF(①データ登録!A700=\"\",\"\",①データ登録!A700)","v":""},{"$f":"IF(①データ登録!B700=\"\",\"\",①データ登録!B700)","v":""},{"$f":"IF(①データ登録!C700=\"\",\"\",①データ登録!C700)","v":""}]
[null,null,null,null,null,null,null,null,null,null,null,null,{"$f":"IF(①データ登録!A701=\"\",\"\",①データ登録!A701)","v":""},{"$f":"IF(①データ登録!B701=\"\",\"\",①データ登録!B701)","v":""},{"$f":"IF(①データ登録!C701=\"\",\"\",①データ登録!C701)","v":""}]
[null,null,null,null,null,null,null,null,null,null,null,null,{"$f":"IF(①データ登録!A702=\"\",\"\",①データ登録!A702)","v":""},{"$f":"IF(①データ登録!B702=\"\",\"\",①データ登録!B702)","v":""},{"$f":"IF(①データ登録!C702=\"\",\"\",①データ登録!C702)","v":""}]
[null,null,null,null,null,null,null,null,null,null,null,null,{"$f":"IF(①データ登録!A703=\"\",\"\",①データ登録!A703)","v":""},{"$f":"IF(①データ登録!B703=\"\",\"\",①データ登録!B703)","v":""},{"$f":"IF(①データ登録!C703=\"\",\"\",①データ登録!C703)","v":""}]
[null,null,null,null,null,null,null,null,null,null,null,null,{"$f":"IF(①データ登録!A704=\"\",\"\",①データ登録!A704)","v":""},{"$f":"IF(①データ登録!B704=\"\",\"\",①データ登録!B704)","v":""},{"$f":"IF(①データ登録!C704=\"\",\"\",①データ登録!C704)","v":""}]
[null,null,null,null,null,null,null,null,null,null,null,null,{"$f":"IF(①データ登録!A705=\"\",\"\",①データ登録!A705)","v":""},{"$f":"IF(①データ登録!B705=\"\",\"\",①データ登録!B705)","v":""},{"$f":"IF(①データ登録!C705=\"\",\"\",①データ登録!C705)","v":""}]
[null,null,null,null,null,null,null,null,null,null,null,null,{"$f":"IF(①データ登録!A706=\"\",\"\",①データ登録!A706)","v":""},{"$f":"IF(①データ登録!B706=\"\",\"\",①データ登録!B706)","v":""},{"$f":"IF(①データ登録!C706=\"\",\"\",①データ登録!C706)","v":""}]
[null,null,null,null,null,null,null,null,null,null,null,null,{"$f":"IF(①データ登録!A707=\"\",\"\",①データ登録!A707)","v":""},{"$f":"IF(①データ登録!B707=\"\",\"\",①データ登録!B707)","v":""},{"$f":"IF(①データ登録!C707=\"\",\"\",①データ登録!C707)","v":""}]
[null,null,null,null,null,null,null,null,null,null,null,null,{"$f":"IF(①データ登録!A708=\"\",\"\",①データ登録!A708)","v":""},{"$f":"IF(①データ登録!B708=\"\",\"\",①データ登録!B708)","v":""},{"$f":"IF(①データ登録!C708=\"\",\"\",①データ登録!C708)","v":""}]
[null,null,null,null,null,null,null,null,null,null,null,null,{"$f":"IF(①データ登録!A709=\"\",\"\",①データ登録!A709)","v":""},{"$f":"IF(①データ登録!B709=\"\",\"\",①データ登録!B709)","v":""},{"$f":"IF(①データ登録!C709=\"\",\"\",①データ登録!C709)","v":""}]
[null,null,null,null,null,null,null,null,null,null,null,null,{"$f":"IF(①データ登録!A710=\"\",\"\",①データ登録!A710)","v":""},{"$f":"IF(①データ登録!B710=\"\",\"\",①データ登録!B710)","v":""},{"$f":"IF(①データ登録!C710=\"\",\"\",①データ登録!C710)","v":""}]
[null,null,null,null,null,null,null,null,null,null,null,null,{"$f":"IF(①データ登録!A711=\"\",\"\",①データ登録!A711)","v":""},{"$f":"IF(①データ登録!B711=\"\",\"\",①データ登録!B711)","v":""},{"$f":"IF(①データ登録!C711=\"\",\"\",①データ登録!C711)","v":""}]
[null,null,null,null,null,null,null,null,null,null,null,null,{"$f":"IF(①データ登録!A712=\"\",\"\",①データ登録!A712)","v":""},{"$f":"IF(①データ登録!B712=\"\",\"\",①データ登録!B712)","v":""},{"$f":"IF(①データ登録!C712=\"\",\"\",①データ登録!C712)","v":""}]
[null,null,null,null,null,null,null,null,null,null,null,null,{"$f":"IF(①データ登録!A713=\"\",\"\",①データ登録!A713)","v":""},{"$f":"IF(①データ登録!B713=\"\",\"\",①データ登録!B713)","v":""},{"$f":"IF(①データ登録!C713=\"\",\"\",①データ登録!C713)","v":""}]
[null,null,null,null,null,null,null,null,null,null,null,null,{"$f":"IF(①データ登録!A714=\"\",\"\",①データ登録!A714)","v":""},{"$f":"IF(①データ登録!B714=\"\",\"\",①データ登録!B714)","v":""},{"$f":"IF(①データ登録!C714=\"\",\"\",①データ登録!C714)","v":""}]
[null,null,null,null,null,null,null,null,null,null,null,null,{"$f":"IF(①データ登録!A715=\"\",\"\",①データ登録!A715)","v":""},{"$f":"IF(①データ登録!B715=\"\",\"\",①データ登録!B715)","v":""},{"$f":"IF(①データ登録!C715=\"\",\"\",①データ登録!C715)","v":""}]
[null,null,null,null,null,null,null,null,null,null,null,null,{"$f":"IF(①データ登録!A716=\"\",\"\",①データ登録!A716)","v":""},{"$f":"IF(①データ登録!B716=\"\",\"\",①データ登録!B716)","v":""},{"$f":"IF(①データ登録!C716=\"\",\"\",①データ登録!C716)","v":""}]
[null,null,null,null,null,null,null,null,null,null,null,null,{"$f":"IF(①データ登録!A717=\"\",\"\",①データ登録!A717)","v":""},{"$f":"IF(①データ登録!B717=\"\",\"\",①データ登録!B717)","v":""},{"$f":"IF(①データ登録!C717=\"\",\"\",①データ登録!C717)","v":""}]
[null,null,null,null,null,null,null,null,null,null,null,null,{"$f":"IF(①データ登録!A718=\"\",\"\",①データ登録!A718)","v":""},{"$f":"IF(①データ登録!B718=\"\",\"\",①データ登録!B718)","v":""},{"$f":"IF(①データ登録!C718=\"\",\"\",①データ登録!C718)","v":""}]
[null,null,null,null,null,null,null,null,null,null,null,null,{"$f":"IF(①データ登録!A719=\"\",\"\",①データ登録!A719)","v":""},{"$f":"IF(①データ登録!B719=\"\",\"\",①データ登録!B719)","v":""},{"$f":"IF(①データ登録!C719=\"\",\"\",①データ登録!C719)","v":""}]
[null,null,null,null,null,null,null,null,null,null,null,null,{"$f":"IF(①データ登録!A720=\"\",\"\",①データ登録!A720)","v":""},{"$f":"IF(①データ登録!B720=\"\",\"\",①データ登録!B720)","v":""},{"$f":"IF(①データ登録!C720=\"\",\"\",①データ登録!C720)","v":""}]
[null,null,null,null,null,null,null,null,null,null,null,null,{"$f":"IF(①データ登録!A721=\"\",\"\",①データ登録!A721)","v":""},{"$f":"IF(①データ登録!B721=\"\",\"\",①データ登録!B721)","v":""},{"$f":"IF(①データ登録!C721=\"\",\"\",①データ登録!C721)","v":""}]
[null,null,null,null,null,null,null,null,null,null,null,null,{"$f":"IF(①データ登録!A722=\"\",\"\",①データ登録!A722)","v":""},{"$f":"IF(①データ登録!B722=\"\",\"\",①データ登録!B722)","v":""},{"$f":"IF(①データ登録!C722=\"\",\"\",①データ登録!C722)","v":""}]
[null,null,null,null,null,null,null,null,null,null,null,null,{"$f":"IF(①データ登録!A723=\"\",\"\",①データ登録!A723)","v":""},{"$f":"IF(①データ登録!B723=\"\",\"\",①データ登録!B723)","v":""},{"$f":"IF(①データ登録!C723=\"\",\"\",①データ登録!C723)","v":""}]
[null,null,null,null,null,null,null,null,null,null,null,null,{"$f":"IF(①データ登録!A724=\"\",\"\",①データ登録!A724)","v":""},{"$f":"IF(①データ登録!B724=\"\",\"\",①データ登録!B724)","v":""},{"$f":"IF(①データ登録!C724=\"\",\"\",①データ登録!C724)","v":""}]
[null,null,null,null,null,null,null,null,null,null,null,null,{"$f":"IF(①データ登録!A725=\"\",\"\",①データ登録!A725)","v":""},{"$f":"IF(①データ登録!B725=\"\",\"\",①データ登録!B725)","v":""},{"$f":"IF(①データ登録!C725=\"\",\"\",①データ登録!C725)","v":""}]
[null,null,null,null,null,null,null,null,null,null,null,null,{"$f":"IF(①データ登録!A726=\"\",\"\",①データ登録!A726)","v":""},{"$f":"IF(①データ登録!B726=\"\",\"\",①データ登録!B726)","v":""},{"$f":"IF(①データ登録!C726=\"\",\"\",①データ登録!C726)","v":""}]
[null,null,null,null,null,null,null,null,null,null,null,null,{"$f":"IF(①データ登録!A727=\"\",\"\",①データ登録!A727)","v":""},{"$f":"IF(①データ登録!B727=\"\",\"\",①データ登録!B727)","v":""},{"$f":"IF(①データ登録!C727=\"\",\"\",①データ登録!C727)","v":""}]
[null,null,null,null,null,null,null,null,null,null,null,null,{"$f":"IF(①データ登録!A728=\"\",\"\",①データ登録!A728)","v":""},{"$f":"IF(①データ登録!B728=\"\",\"\",①データ登録!B728)","v":""},{"$f":"IF(①データ登録!C728=\"\",\"\",①データ登録!C728)","v":""}]
[null,null,null,null,null,null,null,null,null,null,null,null,{"$f":"IF(①データ登録!A729=\"\",\"\",①データ登録!A729)","v":""},{"$f":"IF(①データ登録!B729=\"\",\"\",①データ登録!B729)","v":""},{"$f":"IF(①データ登録!C729=\"\",\"\",①データ登録!C729)","v":""}]
[null,null,null,null,null,null,null,null,null,null,null,null,{"$f":"IF(①データ登録!A730=\"\",\"\",①データ登録!A730)","v":""},{"$f":"IF(①データ登録!B730=\"\",\"\",①データ登録!B730)","v":""},{"$f":"IF(①データ登録!C730=\"\",\"\",①データ登録!C730)","v":""}]
[null,null,null,null,null,null,null,null,null,null,null,null,{"$f":"IF(①データ登録!A731=\"\",\"\",①データ登録!A731)","v":""},{"$f":"IF(①データ登録!B731=\"\",\"\",①データ登録!B731)","v":""},{"$f":"IF(①データ登録!C731=\"\",\"\",①データ登録!C731)","v":""}]
[null,null,null,null,null,null,null,null,null,null,null,null,{"$f":"IF(①データ登録!A732=\"\",\"\",①データ登録!A732)","v":""},{"$f":"IF(①データ登録!B732=\"\",\"\",①データ登録!B732)","v":""},{"$f":"IF(①データ登録!C732=\"\",\"\",①データ登録!C732)","v":""}]
[null,null,null,null,null,null,null,null,null,null,null,null,{"$f":"IF(①データ登録!A733=\"\",\"\",①データ登録!A733)","v":""},{"$f":"IF(①データ登録!B733=\"\",\"\",①データ登録!B733)","v":""},{"$f":"IF(①データ登録!C733=\"\",\"\",①データ登録!C733)","v":""}]
[null,null,null,null,null,null,null,null,null,null,null,null,{"$f":"IF(①データ登録!A734=\"\",\"\",①データ登録!A734)","v":""},{"$f":"IF(①データ登録!B734=\"\",\"\",①データ登録!B734)","v":""},{"$f":"IF(①データ登録!C734=\"\",\"\",①データ登録!C734)","v":""}]
[null,null,null,null,null,null,null,null,null,null,null,null,{"$f":"IF(①データ登録!A735=\"\",\"\",①データ登録!A735)","v":""},{"$f":"IF(①データ登録!B735=\"\",\"\",①データ登録!B735)","v":""},{"$f":"IF(①データ登録!C735=\"\",\"\",①データ登録!C735)","v":""}]
[null,null,null,null,null,null,null,null,null,null,null,null,{"$f":"IF(①データ登録!A736=\"\",\"\",①データ登録!A736)","v":""},{"$f":"IF(①データ登録!B736=\"\",\"\",①データ登録!B736)","v":""},{"$f":"IF(①データ登録!C736=\"\",\"\",①データ登録!C736)","v":""}]
[null,null,null,null,null,null,null,null,null,null,null,null,{"$f":"IF(①データ登録!A737=\"\",\"\",①データ登録!A737)","v":""},{"$f":"IF(①データ登録!B737=\"\",\"\",①データ登録!B737)","v":""},{"$f":"IF(①データ登録!C737=\"\",\"\",①データ登録!C737)","v":""}]
[null,null,null,null,null,null,null,null,null,null,null,null,{"$f":"IF(①データ登録!A738=\"\",\"\",①データ登録!A738)","v":""},{"$f":"IF(①データ登録!B738=\"\",\"\",①データ登録!B738)","v":""},{"$f":"IF(①データ登録!C738=\"\",\"\",①データ登録!C738)","v":""}]
[null,null,null,null,null,null,null,null,null,null,null,null,{"$f":"IF(①データ登録!A739=\"\",\"\",①データ登録!A739)","v":""},{"$f":"IF(①データ登録!B739=\"\",\"\",①データ登録!B739)","v":""},{"$f":"IF(①データ登録!C739=\"\",\"\",①データ登録!C739)","v":""}]
[null,null,null,null,null,null,null,null,null,null,null,null,{"$f":"IF(①データ登録!A740=\"\",\"\",①データ登録!A740)","v":""},{"$f":"IF(①データ登録!B740=\"\",\"\",①データ登録!B740)","v":""},{"$f":"IF(①データ登録!C740=\"\",\"\",①データ登録!C740)","v":""}]
[null,null,null,null,null,null,null,null,null,null,null,null,{"$f":"IF(①データ登録!A741=\"\",\"\",①データ登録!A741)","v":""},{"$f":"IF(①データ登録!B741=\"\",\"\",①データ登録!B741)","v":""},{"$f":"IF(①データ登録!C741=\"\",\"\",①データ登録!C741)","v":""}]
[null,null,null,null,null,null,null,null,null,null,null,null,{"$f":"IF(①データ登録!A742=\"\",\"\",①データ登録!A742)","v":""},{"$f":"IF(①データ登録!B742=\"\",\"\",①データ登録!B742)","v":""},{"$f":"IF(①データ登録!C742=\"\",\"\",①データ登録!C742)","v":""}]
[null,null,null,null,null,null,null,null,null,null,null,null,{"$f":"IF(①データ登録!A743=\"\",\"\",①データ登録!A743)","v":""},{"$f":"IF(①データ登録!B743=\"\",\"\",①データ登録!B743)","v":""},{"$f":"IF(①データ登録!C743=\"\",\"\",①データ登録!C743)","v":""}]
[null,null,null,null,null,null,null,null,null,null,null,null,{"$f":"IF(①データ登録!A744=\"\",\"\",①データ登録!A744)","v":""},{"$f":"IF(①データ登録!B744=\"\",\"\",①データ登録!B744)","v":""},{"$f":"IF(①データ登録!C744=\"\",\"\",①データ登録!C744)","v":""}]
[null,null,null,null,null,null,null,null,null,null,null,null,{"$f":"IF(①データ登録!A745=\"\",\"\",①データ登録!A745)","v":""},{"$f":"IF(①データ登録!B745=\"\",\"\",①データ登録!B745)","v":""},{"$f":"IF(①データ登録!C745=\"\",\"\",①データ登録!C745)","v":""}]
[null,null,null,null,null,null,null,null,null,null,null,null,{"$f":"IF(①データ登録!A746=\"\",\"\",①データ登録!A746)","v":""},{"$f":"IF(①データ登録!B746=\"\",\"\",①データ登録!B746)","v":""},{"$f":"IF(①データ登録!C746=\"\",\"\",①データ登録!C746)","v":""}]
[null,null,null,null,null,null,null,null,null,null,null,null,{"$f":"IF(①データ登録!A747=\"\",\"\",①データ登録!A747)","v":""},{"$f":"IF(①データ登録!B747=\"\",\"\",①データ登録!B747)","v":""},{"$f":"IF(①データ登録!C747=\"\",\"\",①データ登録!C747)","v":""}]
[null,null,null,null,null,null,null,null,null,null,null,null,{"$f":"IF(①データ登録!A748=\"\",\"\",①データ登録!A748)","v":""},{"$f":"IF(①データ登録!B748=\"\",\"\",①データ登録!B748)","v":""},{"$f":"IF(①データ登録!C748=\"\",\"\",①データ登録!C748)","v":""}]
[null,null,null,null,null,null,null,null,null,null,null,null,{"$f":"IF(①データ登録!A749=\"\",\"\",①データ登録!A749)","v":""},{"$f":"IF(①データ登録!B749=\"\",\"\",①データ登録!B749)","v":""},{"$f":"IF(①データ登録!C749=\"\",\"\",①データ登録!C749)","v":""}]
[null,null,null,null,null,null,null,null,null,null,null,null,{"$f":"IF(①データ登録!A750=\"\",\"\",①データ登録!A750)","v":""},{"$f":"IF(①データ登録!B750=\"\",\"\",①データ登録!B750)","v":""},{"$f":"IF(①データ登録!C750=\"\",\"\",①データ登録!C750)","v":""}]
[null,null,null,null,null,null,null,null,null,null,null,null,{"$f":"IF(①データ登録!A751=\"\",\"\",①データ登録!A751)","v":""},{"$f":"IF(①データ登録!B751=\"\",\"\",①データ登録!B751)","v":""},{"$f":"IF(①データ登録!C751=\"\",\"\",①データ登録!C751)","v":""}]
[null,null,null,null,null,null,null,null,null,null,null,null,{"$f":"IF(①データ登録!A752=\"\",\"\",①データ登録!A752)","v":""},{"$f":"IF(①データ登録!B752=\"\",\"\",①データ登録!B752)","v":""},{"$f":"IF(①データ登録!C752=\"\",\"\",①データ登録!C752)","v":""}]
[null,null,null,null,null,null,null,null,null,null,null,null,{"$f":"IF(①データ登録!A753=\"\",\"\",①データ登録!A753)","v":""},{"$f":"IF(①データ登録!B753=\"\",\"\",①データ登録!B753)","v":""},{"$f":"IF(①データ登録!C753=\"\",\"\",①データ登録!C753)","v":""}]
[null,null,null,null,null,null,null,null,null,null,null,null,{"$f":"IF(①データ登録!A754=\"\",\"\",①データ登録!A754)","v":""},{"$f":"IF(①データ登録!B754=\"\",\"\",①データ登録!B754)","v":""},{"$f":"IF(①データ登録!C754=\"\",\"\",①データ登録!C754)","v":""}]
[null,null,null,null,null,null,null,null,null,null,null,null,{"$f":"IF(①データ登録!A755=\"\",\"\",①データ登録!A755)","v":""},{"$f":"IF(①データ登録!B755=\"\",\"\",①データ登録!B755)","v":""},{"$f":"IF(①データ登録!C755=\"\",\"\",①データ登録!C755)","v":""}]
[null,null,null,null,null,null,null,null,null,null,null,null,{"$f":"IF(①データ登録!A756=\"\",\"\",①データ登録!A756)","v":""},{"$f":"IF(①データ登録!B756=\"\",\"\",①データ登録!B756)","v":""},{"$f":"IF(①データ登録!C756=\"\",\"\",①データ登録!C756)","v":""}]
[null,null,null,null,null,null,null,null,null,null,null,null,{"$f":"IF(①データ登録!A757=\"\",\"\",①データ登録!A757)","v":""},{"$f":"IF(①データ登録!B757=\"\",\"\",①データ登録!B757)","v":""},{"$f":"IF(①データ登録!C757=\"\",\"\",①データ登録!C757)","v":""}]
[null,null,null,null,null,null,null,null,null,null,null,null,{"$f":"IF(①データ登録!A758=\"\",\"\",①データ登録!A758)","v":""},{"$f":"IF(①データ登録!B758=\"\",\"\",①データ登録!B758)","v":""},{"$f":"IF(①データ登録!C758=\"\",\"\",①データ登録!C758)","v":""}]
[null,null,null,null,null,null,null,null,null,null,null,null,{"$f":"IF(①データ登録!A759=\"\",\"\",①データ登録!A759)","v":""},{"$f":"IF(①データ登録!B759=\"\",\"\",①データ登録!B759)","v":""},{"$f":"IF(①データ登録!C759=\"\",\"\",①データ登録!C759)","v":""}]
[null,null,null,null,null,null,null,null,null,null,null,null,{"$f":"IF(①データ登録!A760=\"\",\"\",①データ登録!A760)","v":""},{"$f":"IF(①データ登録!B760=\"\",\"\",①データ登録!B760)","v":""},{"$f":"IF(①データ登録!C760=\"\",\"\",①データ登録!C760)","v":""}]
[null,null,null,null,null,null,null,null,null,null,null,null,{"$f":"IF(①データ登録!A761=\"\",\"\",①データ登録!A761)","v":""},{"$f":"IF(①データ登録!B761=\"\",\"\",①データ登録!B761)","v":""},{"$f":"IF(①データ登録!C761=\"\",\"\",①データ登録!C761)","v":""}]
[null,null,null,null,null,null,null,null,null,null,null,null,{"$f":"IF(①データ登録!A762=\"\",\"\",①データ登録!A762)","v":""},{"$f":"IF(①データ登録!B762=\"\",\"\",①データ登録!B762)","v":""},{"$f":"IF(①データ登録!C762=\"\",\"\",①データ登録!C762)","v":""}]
[null,null,null,null,null,null,null,null,null,null,null,null,{"$f":"IF(①データ登録!A763=\"\",\"\",①データ登録!A763)","v":""},{"$f":"IF(①データ登録!B763=\"\",\"\",①データ登録!B763)","v":""},{"$f":"IF(①データ登録!C763=\"\",\"\",①データ登録!C763)","v":""}]
[null,null,null,null,null,null,null,null,null,null,null,null,{"$f":"IF(①データ登録!A764=\"\",\"\",①データ登録!A764)","v":""},{"$f":"IF(①データ登録!B764=\"\",\"\",①データ登録!B764)","v":""},{"$f":"IF(①データ登録!C764=\"\",\"\",①データ登録!C764)","v":""}]
[null,null,null,null,null,null,null,null,null,null,null,null,{"$f":"IF(①データ登録!A765=\"\",\"\",①データ登録!A765)","v":""},{"$f":"IF(①データ登録!B765=\"\",\"\",①データ登録!B765)","v":""},{"$f":"IF(①データ登録!C765=\"\",\"\",①データ登録!C765)","v":""}]
[null,null,null,null,null,null,null,null,null,null,null,null,{"$f":"IF(①データ登録!A766=\"\",\"\",①データ登録!A766)","v":""},{"$f":"IF(①データ登録!B766=\"\",\"\",①データ登録!B766)","v":""},{"$f":"IF(①データ登録!C766=\"\",\"\",①データ登録!C766)","v":""}]
[null,null,null,null,null,null,null,null,null,null,null,null,{"$f":"IF(①データ登録!A767=\"\",\"\",①データ登録!A767)","v":""},{"$f":"IF(①データ登録!B767=\"\",\"\",①データ登録!B767)","v":""},{"$f":"IF(①データ登録!C767=\"\",\"\",①データ登録!C767)","v":""}]
[null,null,null,null,null,null,null,null,null,null,null,null,{"$f":"IF(①データ登録!A768=\"\",\"\",①データ登録!A768)","v":""},{"$f":"IF(①データ登録!B768=\"\",\"\",①データ登録!B768)","v":""},{"$f":"IF(①データ登録!C768=\"\",\"\",①データ登録!C768)","v":""}]
[null,null,null,null,null,null,null,null,null,null,null,null,{"$f":"IF(①データ登録!A769=\"\",\"\",①データ登録!A769)","v":""},{"$f":"IF(①データ登録!B769=\"\",\"\",①データ登録!B769)","v":""},{"$f":"IF(①データ登録!C769=\"\",\"\",①データ登録!C769)","v":""}]
[null,null,null,null,null,null,null,null,null,null,null,null,{"$f":"IF(①データ登録!A770=\"\",\"\",①データ登録!A770)","v":""},{"$f":"IF(①データ登録!B770=\"\",\"\",①データ登録!B770)","v":""},{"$f":"IF(①データ登録!C770=\"\",\"\",①データ登録!C770)","v":""}]
[null,null,null,null,null,null,null,null,null,null,null,null,{"$f":"IF(①データ登録!A771=\"\",\"\",①データ登録!A771)","v":""},{"$f":"IF(①データ登録!B771=\"\",\"\",①データ登録!B771)","v":""},{"$f":"IF(①データ登録!C771=\"\",\"\",①データ登録!C771)","v":""}]
[null,null,null,null,null,null,null,null,null,null,null,null,{"$f":"IF(①データ登録!A772=\"\",\"\",①データ登録!A772)","v":""},{"$f":"IF(①データ登録!B772=\"\",\"\",①データ登録!B772)","v":""},{"$f":"IF(①データ登録!C772=\"\",\"\",①データ登録!C772)","v":""}]
[null,null,null,null,null,null,null,null,null,null,null,null,{"$f":"IF(①データ登録!A773=\"\",\"\",①データ登録!A773)","v":""},{"$f":"IF(①データ登録!B773=\"\",\"\",①データ登録!B773)","v":""},{"$f":"IF(①データ登録!C773=\"\",\"\",①データ登録!C773)","v":""}]
[null,null,null,null,null,null,null,null,null,null,null,null,{"$f":"IF(①データ登録!A774=\"\",\"\",①データ登録!A774)","v":""},{"$f":"IF(①データ登録!B774=\"\",\"\",①データ登録!B774)","v":""},{"$f":"IF(①データ登録!C774=\"\",\"\",①データ登録!C774)","v":""}]
[null,null,null,null,null,null,null,null,null,null,null,null,{"$f":"IF(①データ登録!A775=\"\",\"\",①データ登録!A775)","v":""},{"$f":"IF(①データ登録!B775=\"\",\"\",①データ登録!B775)","v":""},{"$f":"IF(①データ登録!C775=\"\",\"\",①データ登録!C775)","v":""}]
[null,null,null,null,null,null,null,null,null,null,null,null,{"$f":"IF(①データ登録!A776=\"\",\"\",①データ登録!A776)","v":""},{"$f":"IF(①データ登録!B776=\"\",\"\",①データ登録!B776)","v":""},{"$f":"IF(①データ登録!C776=\"\",\"\",①データ登録!C776)","v":""}]
[null,null,null,null,null,null,null,null,null,null,null,null,{"$f":"IF(①データ登録!A777=\"\",\"\",①データ登録!A777)","v":""},{"$f":"IF(①データ登録!B777=\"\",\"\",①データ登録!B777)","v":""},{"$f":"IF(①データ登録!C777=\"\",\"\",①データ登録!C777)","v":""}]
[null,null,null,null,null,null,null,null,null,null,null,null,{"$f":"IF(①データ登録!A778=\"\",\"\",①データ登録!A778)","v":""},{"$f":"IF(①データ登録!B778=\"\",\"\",①データ登録!B778)","v":""},{"$f":"IF(①データ登録!C778=\"\",\"\",①データ登録!C778)","v":""}]
[null,null,null,null,null,null,null,null,null,null,null,null,{"$f":"IF(①データ登録!A779=\"\",\"\",①データ登録!A779)","v":""},{"$f":"IF(①データ登録!B779=\"\",\"\",①データ登録!B779)","v":""},{"$f":"IF(①データ登録!C779=\"\",\"\",①データ登録!C779)","v":""}]
[null,null,null,null,null,null,null,null,null,null,null,null,{"$f":"IF(①データ登録!A780=\"\",\"\",①データ登録!A780)","v":""},{"$f":"IF(①データ登録!B780=\"\",\"\",①データ登録!B780)","v":""},{"$f":"IF(①データ登録!C780=\"\",\"\",①データ登録!C780)","v":""}]
[null,null,null,null,null,null,null,null,null,null,null,null,{"$f":"IF(①データ登録!A781=\"\",\"\",①データ登録!A781)","v":""},{"$f":"IF(①データ登録!B781=\"\",\"\",①データ登録!B781)","v":""},{"$f":"IF(①データ登録!C781=\"\",\"\",①データ登録!C781)","v":""}]
[null,null,null,null,null,null,null,null,null,null,null,null,{"$f":"IF(①データ登録!A782=\"\",\"\",①データ登録!A782)","v":""},{"$f":"IF(①データ登録!B782=\"\",\"\",①データ登録!B782)","v":""},{"$f":"IF(①データ登録!C782=\"\",\"\",①データ登録!C782)","v":""}]
[null,null,null,null,null,null,null,null,null,null,null,null,{"$f":"IF(①データ登録!A783=\"\",\"\",①データ登録!A783)","v":""},{"$f":"IF(①データ登録!B783=\"\",\"\",①データ登録!B783)","v":""},{"$f":"IF(①データ登録!C783=\"\",\"\",①データ登録!C783)","v":""}]
[null,null,null,null,null,null,null,null,null,null,null,null,{"$f":"IF(①データ登録!A784=\"\",\"\",①データ登録!A784)","v":""},{"$f":"IF(①データ登録!B784=\"\",\"\",①データ登録!B784)","v":""},{"$f":"IF(①データ登録!C784=\"\",\"\",①データ登録!C784)","v":""}]
[null,null,null,null,null,null,null,null,null,null,null,null,{"$f":"IF(①データ登録!A785=\"\",\"\",①データ登録!A785)","v":""},{"$f":"IF(①データ登録!B785=\"\",\"\",①データ登録!B785)","v":""},{"$f":"IF(①データ登録!C785=\"\",\"\",①データ登録!C785)","v":""}]
[null,null,null,null,null,null,null,null,null,null,null,null,{"$f":"IF(①データ登録!A786=\"\",\"\",①データ登録!A786)","v":""},{"$f":"IF(①データ登録!B786=\"\",\"\",①データ登録!B786)","v":""},{"$f":"IF(①データ登録!C786=\"\",\"\",①データ登録!C786)","v":""}]
[null,null,null,null,null,null,null,null,null,null,null,null,{"$f":"IF(①データ登録!A787=\"\",\"\",①データ登録!A787)","v":""},{"$f":"IF(①データ登録!B787=\"\",\"\",①データ登録!B787)","v":""},{"$f":"IF(①データ登録!C787=\"\",\"\",①データ登録!C787)","v":""}]
[null,null,null,null,null,null,null,null,null,null,null,null,{"$f":"IF(①データ登録!A788=\"\",\"\",①データ登録!A788)","v":""},{"$f":"IF(①データ登録!B788=\"\",\"\",①データ登録!B788)","v":""},{"$f":"IF(①データ登録!C788=\"\",\"\",①データ登録!C788)","v":""}]
[null,null,null,null,null,null,null,null,null,null,null,null,{"$f":"IF(①データ登録!A789=\"\",\"\",①データ登録!A789)","v":""},{"$f":"IF(①データ登録!B789=\"\",\"\",①データ登録!B789)","v":""},{"$f":"IF(①データ登録!C789=\"\",\"\",①データ登録!C789)","v":""}]
[null,null,null,null,null,null,null,null,null,null,null,null,{"$f":"IF(①データ登録!A790=\"\",\"\",①データ登録!A790)","v":""},{"$f":"IF(①データ登録!B790=\"\",\"\",①データ登録!B790)","v":""},{"$f":"IF(①データ登録!C790=\"\",\"\",①データ登録!C790)","v":""}]
[null,null,null,null,null,null,null,null,null,null,null,null,{"$f":"IF(①データ登録!A791=\"\",\"\",①データ登録!A791)","v":""},{"$f":"IF(①データ登録!B791=\"\",\"\",①データ登録!B791)","v":""},{"$f":"IF(①データ登録!C791=\"\",\"\",①データ登録!C791)","v":""}]
[null,null,null,null,null,null,null,null,null,null,null,null,{"$f":"IF(①データ登録!A792=\"\",\"\",①データ登録!A792)","v":""},{"$f":"IF(①データ登録!B792=\"\",\"\",①データ登録!B792)","v":""},{"$f":"IF(①データ登録!C792=\"\",\"\",①データ登録!C792)","v":""}]
[null,null,null,null,null,null,null,null,null,null,null,null,{"$f":"IF(①データ登録!A793=\"\",\"\",①データ登録!A793)","v":""},{"$f":"IF(①データ登録!B793=\"\",\"\",①データ登録!B793)","v":""},{"$f":"IF(①データ登録!C793=\"\",\"\",①データ登録!C793)","v":""}]
[null,null,null,null,null,null,null,null,null,null,null,null,{"$f":"IF(①データ登録!A794=\"\",\"\",①データ登録!A794)","v":""},{"$f":"IF(①データ登録!B794=\"\",\"\",①データ登録!B794)","v":""},{"$f":"IF(①データ登録!C794=\"\",\"\",①データ登録!C794)","v":""}]
[null,null,null,null,null,null,null,null,null,null,null,null,{"$f":"IF(①データ登録!A795=\"\",\"\",①データ登録!A795)","v":""},{"$f":"IF(①データ登録!B795=\"\",\"\",①データ登録!B795)","v":""},{"$f":"IF(①データ登録!C795=\"\",\"\",①データ登録!C795)","v":""}]
[null,null,null,null,null,null,null,null,null,null,null,null,{"$f":"IF(①データ登録!A796=\"\",\"\",①データ登録!A796)","v":""},{"$f":"IF(①データ登録!B796=\"\",\"\",①データ登録!B796)","v":""},{"$f":"IF(①データ登録!C796=\"\",\"\",①データ登録!C796)","v":""}]
[null,null,null,null,null,null,null,null,null,null,null,null,{"$f":"IF(①データ登録!A797=\"\",\"\",①データ登録!A797)","v":""},{"$f":"IF(①データ登録!B797=\"\",\"\",①データ登録!B797)","v":""},{"$f":"IF(①データ登録!C797=\"\",\"\",①データ登録!C797)","v":""}]
[null,null,null,null,null,null,null,null,null,null,null,null,{"$f":"IF(①データ登録!A798=\"\",\"\",①データ登録!A798)","v":""},{"$f":"IF(①データ登録!B798=\"\",\"\",①データ登録!B798)","v":""},{"$f":"IF(①データ登録!C798=\"\",\"\",①データ登録!C798)","v":""}]
[null,null,null,null,null,null,null,null,null,null,null,null,{"$f":"IF(①データ登録!A799=\"\",\"\",①データ登録!A799)","v":""},{"$f":"IF(①データ登録!B799=\"\",\"\",①データ登録!B799)","v":""},{"$f":"IF(①データ登録!C799=\"\",\"\",①データ登録!C799)","v":""}]
[null,null,null,null,null,null,null,null,null,null,null,null,{"$f":"IF(①データ登録!A800=\"\",\"\",①データ登録!A800)","v":""},{"$f":"IF(①データ登録!B800=\"\",\"\",①データ登録!B800)","v":""},{"$f":"IF(①データ登録!C800=\"\",\"\",①データ登録!C800)","v":""}]
[null,null,null,null,null,null,null,null,null,null,null,null,{"$f":"IF(①データ登録!A801=\"\",\"\",①データ登録!A801)","v":""},{"$f":"IF(①データ登録!B801=\"\",\"\",①データ登録!B801)","v":""},{"$f":"IF(①データ登録!C801=\"\",\"\",①データ登録!C801)","v":""}]
[null,null,null,null,null,null,null,null,null,null,null,null,{"$f":"IF(①データ登録!A802=\"\",\"\",①データ登録!A802)","v":""},{"$f":"IF(①データ登録!B802=\"\",\"\",①データ登録!B802)","v":""},{"$f":"IF(①データ登録!C802=\"\",\"\",①データ登録!C802)","v":""}]
[null,null,null,null,null,null,null,null,null,null,null,null,{"$f":"IF(①データ登録!A803=\"\",\"\",①データ登録!A803)","v":""},{"$f":"IF(①データ登録!B803=\"\",\"\",①データ登録!B803)","v":""},{"$f":"IF(①データ登録!C803=\"\",\"\",①データ登録!C803)","v":""}]
[null,null,null,null,null,null,null,null,null,null,null,null,{"$f":"IF(①データ登録!A804=\"\",\"\",①データ登録!A804)","v":""},{"$f":"IF(①データ登録!B804=\"\",\"\",①データ登録!B804)","v":""},{"$f":"IF(①データ登録!C804=\"\",\"\",①データ登録!C804)","v":""}]
[null,null,null,null,null,null,null,null,null,null,null,null,{"$f":"IF(①データ登録!A805=\"\",\"\",①データ登録!A805)","v":""},{"$f":"IF(①データ登録!B805=\"\",\"\",①データ登録!B805)","v":""},{"$f":"IF(①データ登録!C805=\"\",\"\",①データ登録!C805)","v":""}]
[null,null,null,null,null,null,null,null,null,null,null,null,{"$f":"IF(①データ登録!A806=\"\",\"\",①データ登録!A806)","v":""},{"$f":"IF(①データ登録!B806=\"\",\"\",①データ登録!B806)","v":""},{"$f":"IF(①データ登録!C806=\"\",\"\",①データ登録!C806)","v":""}]
[null,null,null,null,null,null,null,null,null,null,null,null,{"$f":"IF(①データ登録!A807=\"\",\"\",①データ登録!A807)","v":""},{"$f":"IF(①データ登録!B807=\"\",\"\",①データ登録!B807)","v":""},{"$f":"IF(①データ登録!C807=\"\",\"\",①データ登録!C807)","v":""}]
[null,null,null,null,null,null,null,null,null,null,null,null,{"$f":"IF(①データ登録!A808=\"\",\"\",①データ登録!A808)","v":""},{"$f":"IF(①データ登録!B808=\"\",\"\",①データ登録!B808)","v":""},{"$f":"IF(①データ登録!C808=\"\",\"\",①データ登録!C808)","v":""}]
[null,null,null,null,null,null,null,null,null,null,null,null,{"$f":"IF(①データ登録!A809=\"\",\"\",①データ登録!A809)","v":""},{"$f":"IF(①データ登録!B809=\"\",\"\",①データ登録!B809)","v":""},{"$f":"IF(①データ登録!C809=\"\",\"\",①データ登録!C809)","v":""}]
[null,null,null,null,null,null,null,null,null,null,null,null,{"$f":"IF(①データ登録!A810=\"\",\"\",①データ登録!A810)","v":""},{"$f":"IF(①データ登録!B810=\"\",\"\",①データ登録!B810)","v":""},{"$f":"IF(①データ登録!C810=\"\",\"\",①データ登録!C810)","v":""}]
[null,null,null,null,null,null,null,null,null,null,null,null,{"$f":"IF(①データ登録!A811=\"\",\"\",①データ登録!A811)","v":""},{"$f":"IF(①データ登録!B811=\"\",\"\",①データ登録!B811)","v":""},{"$f":"IF(①データ登録!C811=\"\",\"\",①データ登録!C811)","v":""}]
[null,null,null,null,null,null,null,null,null,null,null,null,{"$f":"IF(①データ登録!A812=\"\",\"\",①データ登録!A812)","v":""},{"$f":"IF(①データ登録!B812=\"\",\"\",①データ登録!B812)","v":""},{"$f":"IF(①データ登録!C812=\"\",\"\",①データ登録!C812)","v":""}]
[null,null,null,null,null,null,null,null,null,null,null,null,{"$f":"IF(①データ登録!A813=\"\",\"\",①データ登録!A813)","v":""},{"$f":"IF(①データ登録!B813=\"\",\"\",①データ登録!B813)","v":""},{"$f":"IF(①データ登録!C813=\"\",\"\",①データ登録!C813)","v":""}]
[null,null,null,null,null,null,null,null,null,null,null,null,{"$f":"IF(①データ登録!A814=\"\",\"\",①データ登録!A814)","v":""},{"$f":"IF(①データ登録!B814=\"\",\"\",①データ登録!B814)","v":""},{"$f":"IF(①データ登録!C814=\"\",\"\",①データ登録!C814)","v":""}]
[null,null,null,null,null,null,null,null,null,null,null,null,{"$f":"IF(①データ登録!A815=\"\",\"\",①データ登録!A815)","v":""},{"$f":"IF(①データ登録!B815=\"\",\"\",①データ登録!B815)","v":""},{"$f":"IF(①データ登録!C815=\"\",\"\",①データ登録!C815)","v":""}]
[null,null,null,null,null,null,null,null,null,null,null,null,{"$f":"IF(①データ登録!A816=\"\",\"\",①データ登録!A816)","v":""},{"$f":"IF(①データ登録!B816=\"\",\"\",①データ登録!B816)","v":""},{"$f":"IF(①データ登録!C816=\"\",\"\",①データ登録!C816)","v":""}]
[null,null,null,null,null,null,null,null,null,null,null,null,{"$f":"IF(①データ登録!A817=\"\",\"\",①データ登録!A817)","v":""},{"$f":"IF(①データ登録!B817=\"\",\"\",①データ登録!B817)","v":""},{"$f":"IF(①データ登録!C817=\"\",\"\",①データ登録!C817)","v":""}]
[null,null,null,null,null,null,null,null,null,null,null,null,{"$f":"IF(①データ登録!A818=\"\",\"\",①データ登録!A818)","v":""},{"$f":"IF(①データ登録!B818=\"\",\"\",①データ登録!B818)","v":""},{"$f":"IF(①データ登録!C818=\"\",\"\",①データ登録!C818)","v":""}]
[null,null,null,null,null,null,null,null,null,null,null,null,{"$f":"IF(①データ登録!A819=\"\",\"\",①データ登録!A819)","v":""},{"$f":"IF(①データ登録!B819=\"\",\"\",①データ登録!B819)","v":""},{"$f":"IF(①データ登録!C819=\"\",\"\",①データ登録!C819)","v":""}]
[null,null,null,null,null,null,null,null,null,null,null,null,{"$f":"IF(①データ登録!A820=\"\",\"\",①データ登録!A820)","v":""},{"$f":"IF(①データ登録!B820=\"\",\"\",①データ登録!B820)","v":""},{"$f":"IF(①データ登録!C820=\"\",\"\",①データ登録!C820)","v":""}]
[null,null,null,null,null,null,null,null,null,null,null,null,{"$f":"IF(①データ登録!A821=\"\",\"\",①データ登録!A821)","v":""},{"$f":"IF(①データ登録!B821=\"\",\"\",①データ登録!B821)","v":""},{"$f":"IF(①データ登録!C821=\"\",\"\",①データ登録!C821)","v":""}]
[null,null,null,null,null,null,null,null,null,null,null,null,{"$f":"IF(①データ登録!A822=\"\",\"\",①データ登録!A822)","v":""},{"$f":"IF(①データ登録!B822=\"\",\"\",①データ登録!B822)","v":""},{"$f":"IF(①データ登録!C822=\"\",\"\",①データ登録!C822)","v":""}]
[null,null,null,null,null,null,null,null,null,null,null,null,{"$f":"IF(①データ登録!A823=\"\",\"\",①データ登録!A823)","v":""},{"$f":"IF(①データ登録!B823=\"\",\"\",①データ登録!B823)","v":""},{"$f":"IF(①データ登録!C823=\"\",\"\",①データ登録!C823)","v":""}]
[null,null,null,null,null,null,null,null,null,null,null,null,{"$f":"IF(①データ登録!A824=\"\",\"\",①データ登録!A824)","v":""},{"$f":"IF(①データ登録!B824=\"\",\"\",①データ登録!B824)","v":""},{"$f":"IF(①データ登録!C824=\"\",\"\",①データ登録!C824)","v":""}]
[null,null,null,null,null,null,null,null,null,null,null,null,{"$f":"IF(①データ登録!A825=\"\",\"\",①データ登録!A825)","v":""},{"$f":"IF(①データ登録!B825=\"\",\"\",①データ登録!B825)","v":""},{"$f":"IF(①データ登録!C825=\"\",\"\",①データ登録!C825)","v":""}]
[null,null,null,null,null,null,null,null,null,null,null,null,{"$f":"IF(①データ登録!A826=\"\",\"\",①データ登録!A826)","v":""},{"$f":"IF(①データ登録!B826=\"\",\"\",①データ登録!B826)","v":""},{"$f":"IF(①データ登録!C826=\"\",\"\",①データ登録!C826)","v":""}]
[null,null,null,null,null,null,null,null,null,null,null,null,{"$f":"IF(①データ登録!A827=\"\",\"\",①データ登録!A827)","v":""},{"$f":"IF(①データ登録!B827=\"\",\"\",①データ登録!B827)","v":""},{"$f":"IF(①データ登録!C827=\"\",\"\",①データ登録!C827)","v":""}]
[null,null,null,null,null,null,null,null,null,null,null,null,{"$f":"IF(①データ登録!A828=\"\",\"\",①データ登録!A828)","v":""},{"$f":"IF(①データ登録!B828=\"\",\"\",①データ登録!B828)","v":""},{"$f":"IF(①データ登録!C828=\"\",\"\",①データ登録!C828)","v":""}]
[null,null,null,null,null,null,null,null,null,null,null,null,{"$f":"IF(①データ登録!A829=\"\",\"\",①データ登録!A829)","v":""},{"$f":"IF(①データ登録!B829=\"\",\"\",①データ登録!B829)","v":""},{"$f":"IF(①データ登録!C829=\"\",\"\",①データ登録!C829)","v":""}]
[null,null,null,null,null,null,null,null,null,null,null,null,{"$f":"IF(①データ登録!A830=\"\",\"\",①データ登録!A830)","v":""},{"$f":"IF(①データ登録!B830=\"\",\"\",①データ登録!B830)","v":""},{"$f":"IF(①データ登録!C830=\"\",\"\",①データ登録!C830)","v":""}]
[null,null,null,null,null,null,null,null,null,null,null,null,{"$f":"IF(①データ登録!A831=\"\",\"\",①データ登録!A831)","v":""},{"$f":"IF(①データ登録!B831=\"\",\"\",①データ登録!B831)","v":""},{"$f":"IF(①データ登録!C831=\"\",\"\",①データ登録!C831)","v":""}]
[null,null,null,null,null,null,null,null,null,null,null,null,{"$f":"IF(①データ登録!A832=\"\",\"\",①データ登録!A832)","v":""},{"$f":"IF(①データ登録!B832=\"\",\"\",①データ登録!B832)","v":""},{"$f":"IF(①データ登録!C832=\"\",\"\",①データ登録!C832)","v":""}]
[null,null,null,null,null,null,null,null,null,null,null,null,{"$f":"IF(①データ登録!A833=\"\",\"\",①データ登録!A833)","v":""},{"$f":"IF(①データ登録!B833=\"\",\"\",①データ登録!B833)","v":""},{"$f":"IF(①データ登録!C833=\"\",\"\",①データ登録!C833)","v":""}]
[null,null,null,null,null,null,null,null,null,null,null,null,{"$f":"IF(①データ登録!A834=\"\",\"\",①データ登録!A834)","v":""},{"$f":"IF(①データ登録!B834=\"\",\"\",①データ登録!B834)","v":""},{"$f":"IF(①データ登録!C834=\"\",\"\",①データ登録!C834)","v":""}]
[null,null,null,null,null,null,null,null,null,null,null,null,{"$f":"IF(①データ登録!A835=\"\",\"\",①データ登録!A835)","v":""},{"$f":"IF(①データ登録!B835=\"\",\"\",①データ登録!B835)","v":""},{"$f":"IF(①データ登録!C835=\"\",\"\",①データ登録!C835)","v":""}]
[null,null,null,null,null,null,null,null,null,null,null,null,{"$f":"IF(①データ登録!A836=\"\",\"\",①データ登録!A836)","v":""},{"$f":"IF(①データ登録!B836=\"\",\"\",①データ登録!B836)","v":""},{"$f":"IF(①データ登録!C836=\"\",\"\",①データ登録!C836)","v":""}]
[null,null,null,null,null,null,null,null,null,null,null,null,{"$f":"IF(①データ登録!A837=\"\",\"\",①データ登録!A837)","v":""},{"$f":"IF(①データ登録!B837=\"\",\"\",①データ登録!B837)","v":""},{"$f":"IF(①データ登録!C837=\"\",\"\",①データ登録!C837)","v":""}]
[null,null,null,null,null,null,null,null,null,null,null,null,{"$f":"IF(①データ登録!A838=\"\",\"\",①データ登録!A838)","v":""},{"$f":"IF(①データ登録!B838=\"\",\"\",①データ登録!B838)","v":""},{"$f":"IF(①データ登録!C838=\"\",\"\",①データ登録!C838)","v":""}]
[null,null,null,null,null,null,null,null,null,null,null,null,{"$f":"IF(①データ登録!A839=\"\",\"\",①データ登録!A839)","v":""},{"$f":"IF(①データ登録!B839=\"\",\"\",①データ登録!B839)","v":""},{"$f":"IF(①データ登録!C839=\"\",\"\",①データ登録!C839)","v":""}]
[null,null,null,null,null,null,null,null,null,null,null,null,{"$f":"IF(①データ登録!A840=\"\",\"\",①データ登録!A840)","v":""},{"$f":"IF(①データ登録!B840=\"\",\"\",①データ登録!B840)","v":""},{"$f":"IF(①データ登録!C840=\"\",\"\",①データ登録!C840)","v":""}]
[null,null,null,null,null,null,null,null,null,null,null,null,{"$f":"IF(①データ登録!A841=\"\",\"\",①データ登録!A841)","v":""},{"$f":"IF(①データ登録!B841=\"\",\"\",①データ登録!B841)","v":""},{"$f":"IF(①データ登録!C841=\"\",\"\",①データ登録!C841)","v":""}]
[null,null,null,null,null,null,null,null,null,null,null,null,{"$f":"IF(①データ登録!A842=\"\",\"\",①データ登録!A842)","v":""},{"$f":"IF(①データ登録!B842=\"\",\"\",①データ登録!B842)","v":""},{"$f":"IF(①データ登録!C842=\"\",\"\",①データ登録!C842)","v":""}]
[null,null,null,null,null,null,null,null,null,null,null,null,{"$f":"IF(①データ登録!A843=\"\",\"\",①データ登録!A843)","v":""},{"$f":"IF(①データ登録!B843=\"\",\"\",①データ登録!B843)","v":""},{"$f":"IF(①データ登録!C843=\"\",\"\",①データ登録!C843)","v":""}]
[null,null,null,null,null,null,null,null,null,null,null,null,{"$f":"IF(①データ登録!A844=\"\",\"\",①データ登録!A844)","v":""},{"$f":"IF(①データ登録!B844=\"\",\"\",①データ登録!B844)","v":""},{"$f":"IF(①データ登録!C844=\"\",\"\",①データ登録!C844)","v":""}]
[null,null,null,null,null,null,null,null,null,null,null,null,{"$f":"IF(①データ登録!A845=\"\",\"\",①データ登録!A845)","v":""},{"$f":"IF(①データ登録!B845=\"\",\"\",①データ登録!B845)","v":""},{"$f":"IF(①データ登録!C845=\"\",\"\",①データ登録!C845)","v":""}]
[null,null,null,null,null,null,null,null,null,null,null,null,{"$f":"IF(①データ登録!A846=\"\",\"\",①データ登録!A846)","v":""},{"$f":"IF(①データ登録!B846=\"\",\"\",①データ登録!B846)","v":""},{"$f":"IF(①データ登録!C846=\"\",\"\",①データ登録!C846)","v":""}]
[null,null,null,null,null,null,null,null,null,null,null,null,{"$f":"IF(①データ登録!A847=\"\",\"\",①データ登録!A847)","v":""},{"$f":"IF(①データ登録!B847=\"\",\"\",①データ登録!B847)","v":""},{"$f":"IF(①データ登録!C847=\"\",\"\",①データ登録!C847)","v":""}]
[null,null,null,null,null,null,null,null,null,null,null,null,{"$f":"IF(①データ登録!A848=\"\",\"\",①データ登録!A848)","v":""},{"$f":"IF(①データ登録!B848=\"\",\"\",①データ登録!B848)","v":""},{"$f":"IF(①データ登録!C848=\"\",\"\",①データ登録!C848)","v":""}]
[null,null,null,null,null,null,null,null,null,null,null,null,{"$f":"IF(①データ登録!A849=\"\",\"\",①データ登録!A849)","v":""},{"$f":"IF(①データ登録!B849=\"\",\"\",①データ登録!B849)","v":""},{"$f":"IF(①データ登録!C849=\"\",\"\",①データ登録!C849)","v":""}]
[null,null,null,null,null,null,null,null,null,null,null,null,{"$f":"IF(①データ登録!A850=\"\",\"\",①データ登録!A850)","v":""},{"$f":"IF(①データ登録!B850=\"\",\"\",①データ登録!B850)","v":""},{"$f":"IF(①データ登録!C850=\"\",\"\",①データ登録!C850)","v":""}]
[null,null,null,null,null,null,null,null,null,null,null,null,{"$f":"IF(①データ登録!A851=\"\",\"\",①データ登録!A851)","v":""},{"$f":"IF(①データ登録!B851=\"\",\"\",①データ登録!B851)","v":""},{"$f":"IF(①データ登録!C851=\"\",\"\",①データ登録!C851)","v":""}]
[null,null,null,null,null,null,null,null,null,null,null,null,{"$f":"IF(①データ登録!A852=\"\",\"\",①データ登録!A852)","v":""},{"$f":"IF(①データ登録!B852=\"\",\"\",①データ登録!B852)","v":""},{"$f":"IF(①データ登録!C852=\"\",\"\",①データ登録!C852)","v":""}]
[null,null,null,null,null,null,null,null,null,null,null,null,{"$f":"IF(①データ登録!A853=\"\",\"\",①データ登録!A853)","v":""},{"$f":"IF(①データ登録!B853=\"\",\"\",①データ登録!B853)","v":""},{"$f":"IF(①データ登録!C853=\"\",\"\",①データ登録!C853)","v":""}]
[null,null,null,null,null,null,null,null,null,null,null,null,{"$f":"IF(①データ登録!A854=\"\",\"\",①データ登録!A854)","v":""},{"$f":"IF(①データ登録!B854=\"\",\"\",①データ登録!B854)","v":""},{"$f":"IF(①データ登録!C854=\"\",\"\",①データ登録!C854)","v":""}]
[null,null,null,null,null,null,null,null,null,null,null,null,{"$f":"IF(①データ登録!A855=\"\",\"\",①データ登録!A855)","v":""},{"$f":"IF(①データ登録!B855=\"\",\"\",①データ登録!B855)","v":""},{"$f":"IF(①データ登録!C855=\"\",\"\",①データ登録!C855)","v":""}]
[null,null,null,null,null,null,null,null,null,null,null,null,{"$f":"IF(①データ登録!A856=\"\",\"\",①データ登録!A856)","v":""},{"$f":"IF(①データ登録!B856=\"\",\"\",①データ登録!B856)","v":""},{"$f":"IF(①データ登録!C856=\"\",\"\",①データ登録!C856)","v":""}]
[null,null,null,null,null,null,null,null,null,null,null,null,{"$f":"IF(①データ登録!A857=\"\",\"\",①データ登録!A857)","v":""},{"$f":"IF(①データ登録!B857=\"\",\"\",①データ登録!B857)","v":""},{"$f":"IF(①データ登録!C857=\"\",\"\",①データ登録!C857)","v":""}]
[null,null,null,null,null,null,null,null,null,null,null,null,{"$f":"IF(①データ登録!A858=\"\",\"\",①データ登録!A858)","v":""},{"$f":"IF(①データ登録!B858=\"\",\"\",①データ登録!B858)","v":""},{"$f":"IF(①データ登録!C858=\"\",\"\",①データ登録!C858)","v":""}]
[null,null,null,null,null,null,null,null,null,null,null,null,{"$f":"IF(①データ登録!A859=\"\",\"\",①データ登録!A859)","v":""},{"$f":"IF(①データ登録!B859=\"\",\"\",①データ登録!B859)","v":""},{"$f":"IF(①データ登録!C859=\"\",\"\",①データ登録!C859)","v":""}]
[null,null,null,null,null,null,null,null,null,null,null,null,{"$f":"IF(①データ登録!A860=\"\",\"\",①データ登録!A860)","v":""},{"$f":"IF(①データ登録!B860=\"\",\"\",①データ登録!B860)","v":""},{"$f":"IF(①データ登録!C860=\"\",\"\",①データ登録!C860)","v":""}]
[null,null,null,null,null,null,null,null,null,null,null,null,{"$f":"IF(①データ登録!A861=\"\",\"\",①データ登録!A861)","v":""},{"$f":"IF(①データ登録!B861=\"\",\"\",①データ登録!B861)","v":""},{"$f":"IF(①データ登録!C861=\"\",\"\",①データ登録!C861)","v":""}]
[null,null,null,null,null,null,null,null,null,null,null,null,{"$f":"IF(①データ登録!A862=\"\",\"\",①データ登録!A862)","v":""},{"$f":"IF(①データ登録!B862=\"\",\"\",①データ登録!B862)","v":""},{"$f":"IF(①データ登録!C862=\"\",\"\",①データ登録!C862)","v":""}]
[null,null,null,null,null,null,null,null,null,null,null,null,{"$f":"IF(①データ登録!A863=\"\",\"\",①データ登録!A863)","v":""},{"$f":"IF(①データ登録!B863=\"\",\"\",①データ登録!B863)","v":""},{"$f":"IF(①データ登録!C863=\"\",\"\",①データ登録!C863)","v":""}]
[null,null,null,null,null,null,null,null,null,null,null,null,{"$f":"IF(①データ登録!A864=\"\",\"\",①データ登録!A864)","v":""},{"$f":"IF(①データ登録!B864=\"\",\"\",①データ登録!B864)","v":""},{"$f":"IF(①データ登録!C864=\"\",\"\",①データ登録!C864)","v":""}]
[null,null,null,null,null,null,null,null,null,null,null,null,{"$f":"IF(①データ登録!A865=\"\",\"\",①データ登録!A865)","v":""},{"$f":"IF(①データ登録!B865=\"\",\"\",①データ登録!B865)","v":""},{"$f":"IF(①データ登録!C865=\"\",\"\",①データ登録!C865)","v":""}]
[null,null,null,null,null,null,null,null,null,null,null,null,{"$f":"IF(①データ登録!A866=\"\",\"\",①データ登録!A866)","v":""},{"$f":"IF(①データ登録!B866=\"\",\"\",①データ登録!B866)","v":""},{"$f":"IF(①データ登録!C866=\"\",\"\",①データ登録!C866)","v":""}]
[null,null,null,null,null,null,null,null,null,null,null,null,{"$f":"IF(①データ登録!A867=\"\",\"\",①データ登録!A867)","v":""},{"$f":"IF(①データ登録!B867=\"\",\"\",①データ登録!B867)","v":""},{"$f":"IF(①データ登録!C867=\"\",\"\",①データ登録!C867)","v":""}]
[null,null,null,null,null,null,null,null,null,null,null,null,{"$f":"IF(①データ登録!A868=\"\",\"\",①データ登録!A868)","v":""},{"$f":"IF(①データ登録!B868=\"\",\"\",①データ登録!B868)","v":""},{"$f":"IF(①データ登録!C868=\"\",\"\",①データ登録!C868)","v":""}]
[null,null,null,null,null,null,null,null,null,null,null,null,{"$f":"IF(①データ登録!A869=\"\",\"\",①データ登録!A869)","v":""},{"$f":"IF(①データ登録!B869=\"\",\"\",①データ登録!B869)","v":""},{"$f":"IF(①データ登録!C869=\"\",\"\",①データ登録!C869)","v":""}]
[null,null,null,null,null,null,null,null,null,null,null,null,{"$f":"IF(①データ登録!A870=\"\",\"\",①データ登録!A870)","v":""},{"$f":"IF(①データ登録!B870=\"\",\"\",①データ登録!B870)","v":""},{"$f":"IF(①データ登録!C870=\"\",\"\",①データ登録!C870)","v":""}]
[null,null,null,null,null,null,null,null,null,null,null,null,{"$f":"IF(①データ登録!A871=\"\",\"\",①データ登録!A871)","v":""},{"$f":"IF(①データ登録!B871=\"\",\"\",①データ登録!B871)","v":""},{"$f":"IF(①データ登録!C871=\"\",\"\",①データ登録!C871)","v":""}]
[null,null,null,null,null,null,null,null,null,null,null,null,{"$f":"IF(①データ登録!A872=\"\",\"\",①データ登録!A872)","v":""},{"$f":"IF(①データ登録!B872=\"\",\"\",①データ登録!B872)","v":""},{"$f":"IF(①データ登録!C872=\"\",\"\",①データ登録!C872)","v":""}]
[null,null,null,null,null,null,null,null,null,null,null,null,{"$f":"IF(①データ登録!A873=\"\",\"\",①データ登録!A873)","v":""},{"$f":"IF(①データ登録!B873=\"\",\"\",①データ登録!B873)","v":""},{"$f":"IF(①データ登録!C873=\"\",\"\",①データ登録!C873)","v":""}]
[null,null,null,null,null,null,null,null,null,null,null,null,{"$f":"IF(①データ登録!A874=\"\",\"\",①データ登録!A874)","v":""},{"$f":"IF(①データ登録!B874=\"\",\"\",①データ登録!B874)","v":""},{"$f":"IF(①データ登録!C874=\"\",\"\",①データ登録!C874)","v":""}]
[null,null,null,null,null,null,null,null,null,null,null,null,{"$f":"IF(①データ登録!A875=\"\",\"\",①データ登録!A875)","v":""},{"$f":"IF(①データ登録!B875=\"\",\"\",①データ登録!B875)","v":""},{"$f":"IF(①データ登録!C875=\"\",\"\",①データ登録!C875)","v":""}]
[null,null,null,null,null,null,null,null,null,null,null,null,{"$f":"IF(①データ登録!A876=\"\",\"\",①データ登録!A876)","v":""},{"$f":"IF(①データ登録!B876=\"\",\"\",①データ登録!B876)","v":""},{"$f":"IF(①データ登録!C876=\"\",\"\",①データ登録!C876)","v":""}]
[null,null,null,null,null,null,null,null,null,null,null,null,{"$f":"IF(①データ登録!A877=\"\",\"\",①データ登録!A877)","v":""},{"$f":"IF(①データ登録!B877=\"\",\"\",①データ登録!B877)","v":""},{"$f":"IF(①データ登録!C877=\"\",\"\",①データ登録!C877)","v":""}]
[null,null,null,null,null,null,null,null,null,null,null,null,{"$f":"IF(①データ登録!A878=\"\",\"\",①データ登録!A878)","v":""},{"$f":"IF(①データ登録!B878=\"\",\"\",①データ登録!B878)","v":""},{"$f":"IF(①データ登録!C878=\"\",\"\",①データ登録!C878)","v":""}]
[null,null,null,null,null,null,null,null,null,null,null,null,{"$f":"IF(①データ登録!A879=\"\",\"\",①データ登録!A879)","v":""},{"$f":"IF(①データ登録!B879=\"\",\"\",①データ登録!B879)","v":""},{"$f":"IF(①データ登録!C879=\"\",\"\",①データ登録!C879)","v":""}]
[null,null,null,null,null,null,null,null,null,null,null,null,{"$f":"IF(①データ登録!A880=\"\",\"\",①データ登録!A880)","v":""},{"$f":"IF(①データ登録!B880=\"\",\"\",①データ登録!B880)","v":""},{"$f":"IF(①データ登録!C880=\"\",\"\",①データ登録!C880)","v":""}]
[null,null,null,null,null,null,null,null,null,null,null,null,{"$f":"IF(①データ登録!A881=\"\",\"\",①データ登録!A881)","v":""},{"$f":"IF(①データ登録!B881=\"\",\"\",①データ登録!B881)","v":""},{"$f":"IF(①データ登録!C881=\"\",\"\",①データ登録!C881)","v":""}]
[null,null,null,null,null,null,null,null,null,null,null,null,{"$f":"IF(①データ登録!A882=\"\",\"\",①データ登録!A882)","v":""},{"$f":"IF(①データ登録!B882=\"\",\"\",①データ登録!B882)","v":""},{"$f":"IF(①データ登録!C882=\"\",\"\",①データ登録!C882)","v":""}]
[null,null,null,null,null,null,null,null,null,null,null,null,{"$f":"IF(①データ登録!A883=\"\",\"\",①データ登録!A883)","v":""},{"$f":"IF(①データ登録!B883=\"\",\"\",①データ登録!B883)","v":""},{"$f":"IF(①データ登録!C883=\"\",\"\",①データ登録!C883)","v":""}]
[null,null,null,null,null,null,null,null,null,null,null,null,{"$f":"IF(①データ登録!A884=\"\",\"\",①データ登録!A884)","v":""},{"$f":"IF(①データ登録!B884=\"\",\"\",①データ登録!B884)","v":""},{"$f":"IF(①データ登録!C884=\"\",\"\",①データ登録!C884)","v":""}]
[null,null,null,null,null,null,null,null,null,null,null,null,{"$f":"IF(①データ登録!A885=\"\",\"\",①データ登録!A885)","v":""},{"$f":"IF(①データ登録!B885=\"\",\"\",①データ登録!B885)","v":""},{"$f":"IF(①データ登録!C885=\"\",\"\",①データ登録!C885)","v":""}]
[null,null,null,null,null,null,null,null,null,null,null,null,{"$f":"IF(①データ登録!A886=\"\",\"\",①データ登録!A886)","v":""},{"$f":"IF(①データ登録!B886=\"\",\"\",①データ登録!B886)","v":""},{"$f":"IF(①データ登録!C886=\"\",\"\",①データ登録!C886)","v":""}]
[null,null,null,null,null,null,null,null,null,null,null,null,{"$f":"IF(①データ登録!A887=\"\",\"\",①データ登録!A887)","v":""},{"$f":"IF(①データ登録!B887=\"\",\"\",①データ登録!B887)","v":""},{"$f":"IF(①データ登録!C887=\"\",\"\",①データ登録!C887)","v":""}]
[null,null,null,null,null,null,null,null,null,null,null,null,{"$f":"IF(①データ登録!A888=\"\",\"\",①データ登録!A888)","v":""},{"$f":"IF(①データ登録!B888=\"\",\"\",①データ登録!B888)","v":""},{"$f":"IF(①データ登録!C888=\"\",\"\",①データ登録!C888)","v":""}]
[null,null,null,null,null,null,null,null,null,null,null,null,{"$f":"IF(①データ登録!A889=\"\",\"\",①データ登録!A889)","v":""},{"$f":"IF(①データ登録!B889=\"\",\"\",①データ登録!B889)","v":""},{"$f":"IF(①データ登録!C889=\"\",\"\",①データ登録!C889)","v":""}]
[null,null,null,null,null,null,null,null,null,null,null,null,{"$f":"IF(①データ登録!A890=\"\",\"\",①データ登録!A890)","v":""},{"$f":"IF(①データ登録!B890=\"\",\"\",①データ登録!B890)","v":""},{"$f":"IF(①データ登録!C890=\"\",\"\",①データ登録!C890)","v":""}]
[null,null,null,null,null,null,null,null,null,null,null,null,{"$f":"IF(①データ登録!A891=\"\",\"\",①データ登録!A891)","v":""},{"$f":"IF(①データ登録!B891=\"\",\"\",①データ登録!B891)","v":""},{"$f":"IF(①データ登録!C891=\"\",\"\",①データ登録!C891)","v":""}]
[null,null,null,null,null,null,null,null,null,null,null,null,{"$f":"IF(①データ登録!A892=\"\",\"\",①データ登録!A892)","v":""},{"$f":"IF(①データ登録!B892=\"\",\"\",①データ登録!B892)","v":""},{"$f":"IF(①データ登録!C892=\"\",\"\",①データ登録!C892)","v":""}]
[null,null,null,null,null,null,null,null,null,null,null,null,{"$f":"IF(①データ登録!A893=\"\",\"\",①データ登録!A893)","v":""},{"$f":"IF(①データ登録!B893=\"\",\"\",①データ登録!B893)","v":""},{"$f":"IF(①データ登録!C893=\"\",\"\",①データ登録!C893)","v":""}]
[null,null,null,null,null,null,null,null,null,null,null,null,{"$f":"IF(①データ登録!A894=\"\",\"\",①データ登録!A894)","v":""},{"$f":"IF(①データ登録!B894=\"\",\"\",①データ登録!B894)","v":""},{"$f":"IF(①データ登録!C894=\"\",\"\",①データ登録!C894)","v":""}]
[null,null,null,null,null,null,null,null,null,null,null,null,{"$f":"IF(①データ登録!A895=\"\",\"\",①データ登録!A895)","v":""},{"$f":"IF(①データ登録!B895=\"\",\"\",①データ登録!B895)","v":""},{"$f":"IF(①データ登録!C895=\"\",\"\",①データ登録!C895)","v":""}]
[null,null,null,null,null,null,null,null,null,null,null,null,{"$f":"IF(①データ登録!A896=\"\",\"\",①データ登録!A896)","v":""},{"$f":"IF(①データ登録!B896=\"\",\"\",①データ登録!B896)","v":""},{"$f":"IF(①データ登録!C896=\"\",\"\",①データ登録!C896)","v":""}]
[null,null,null,null,null,null,null,null,null,null,null,null,{"$f":"IF(①データ登録!A897=\"\",\"\",①データ登録!A897)","v":""},{"$f":"IF(①データ登録!B897=\"\",\"\",①データ登録!B897)","v":""},{"$f":"IF(①データ登録!C897=\"\",\"\",①データ登録!C897)","v":""}]
[null,null,null,null,null,null,null,null,null,null,null,null,{"$f":"IF(①データ登録!A898=\"\",\"\",①データ登録!A898)","v":""},{"$f":"IF(①データ登録!B898=\"\",\"\",①データ登録!B898)","v":""},{"$f":"IF(①データ登録!C898=\"\",\"\",①データ登録!C898)","v":""}]
[null,null,null,null,null,null,null,null,null,null,null,null,{"$f":"IF(①データ登録!A899=\"\",\"\",①データ登録!A899)","v":""},{"$f":"IF(①データ登録!B899=\"\",\"\",①データ登録!B899)","v":""},{"$f":"IF(①データ登録!C899=\"\",\"\",①データ登録!C899)","v":""}]
[null,null,null,null,null,null,null,null,null,null,null,null,{"$f":"IF(①データ登録!A900=\"\",\"\",①データ登録!A900)","v":""},{"$f":"IF(①データ登録!B900=\"\",\"\",①データ登録!B900)","v":""},{"$f":"IF(①データ登録!C900=\"\",\"\",①データ登録!C900)","v":""}]
[null,null,null,null,null,null,null,null,null,null,null,null,{"$f":"IF(①データ登録!A901=\"\",\"\",①データ登録!A901)","v":""},{"$f":"IF(①データ登録!B901=\"\",\"\",①データ登録!B901)","v":""},{"$f":"IF(①データ登録!C901=\"\",\"\",①データ登録!C901)","v":""}]
[null,null,null,null,null,null,null,null,null,null,null,null,{"$f":"IF(①データ登録!A902=\"\",\"\",①データ登録!A902)","v":""},{"$f":"IF(①データ登録!B902=\"\",\"\",①データ登録!B902)","v":""},{"$f":"IF(①データ登録!C902=\"\",\"\",①データ登録!C902)","v":""}]
[null,null,null,null,null,null,null,null,null,null,null,null,{"$f":"IF(①データ登録!A903=\"\",\"\",①データ登録!A903)","v":""},{"$f":"IF(①データ登録!B903=\"\",\"\",①データ登録!B903)","v":""},{"$f":"IF(①データ登録!C903=\"\",\"\",①データ登録!C903)","v":""}]
[null,null,null,null,null,null,null,null,null,null,null,null,{"$f":"IF(①データ登録!A904=\"\",\"\",①データ登録!A904)","v":""},{"$f":"IF(①データ登録!B904=\"\",\"\",①データ登録!B904)","v":""},{"$f":"IF(①データ登録!C904=\"\",\"\",①データ登録!C904)","v":""}]
[null,null,null,null,null,null,null,null,null,null,null,null,{"$f":"IF(①データ登録!A905=\"\",\"\",①データ登録!A905)","v":""},{"$f":"IF(①データ登録!B905=\"\",\"\",①データ登録!B905)","v":""},{"$f":"IF(①データ登録!C905=\"\",\"\",①データ登録!C905)","v":""}]
[null,null,null,null,null,null,null,null,null,null,null,null,{"$f":"IF(①データ登録!A906=\"\",\"\",①データ登録!A906)","v":""},{"$f":"IF(①データ登録!B906=\"\",\"\",①データ登録!B906)","v":""},{"$f":"IF(①データ登録!C906=\"\",\"\",①データ登録!C906)","v":""}]
[null,null,null,null,null,null,null,null,null,null,null,null,{"$f":"IF(①データ登録!A907=\"\",\"\",①データ登録!A907)","v":""},{"$f":"IF(①データ登録!B907=\"\",\"\",①データ登録!B907)","v":""},{"$f":"IF(①データ登録!C907=\"\",\"\",①データ登録!C907)","v":""}]
[null,null,null,null,null,null,null,null,null,null,null,null,{"$f":"IF(①データ登録!A908=\"\",\"\",①データ登録!A908)","v":""},{"$f":"IF(①データ登録!B908=\"\",\"\",①データ登録!B908)","v":""},{"$f":"IF(①データ登録!C908=\"\",\"\",①データ登録!C908)","v":""}]
[null,null,null,null,null,null,null,null,null,null,null,null,{"$f":"IF(①データ登録!A909=\"\",\"\",①データ登録!A909)","v":""},{"$f":"IF(①データ登録!B909=\"\",\"\",①データ登録!B909)","v":""},{"$f":"IF(①データ登録!C909=\"\",\"\",①データ登録!C909)","v":""}]
[null,null,null,null,null,null,null,null,null,null,null,null,{"$f":"IF(①データ登録!A910=\"\",\"\",①データ登録!A910)","v":""},{"$f":"IF(①データ登録!B910=\"\",\"\",①データ登録!B910)","v":""},{"$f":"IF(①データ登録!C910=\"\",\"\",①データ登録!C910)","v":""}]
[null,null,null,null,null,null,null,null,null,null,null,null,{"$f":"IF(①データ登録!A911=\"\",\"\",①データ登録!A911)","v":""},{"$f":"IF(①データ登録!B911=\"\",\"\",①データ登録!B911)","v":""},{"$f":"IF(①データ登録!C911=\"\",\"\",①データ登録!C911)","v":""}]
[null,null,null,null,null,null,null,null,null,null,null,null,{"$f":"IF(①データ登録!A912=\"\",\"\",①データ登録!A912)","v":""},{"$f":"IF(①データ登録!B912=\"\",\"\",①データ登録!B912)","v":""},{"$f":"IF(①データ登録!C912=\"\",\"\",①データ登録!C912)","v":""}]
[null,null,null,null,null,null,null,null,null,null,null,null,{"$f":"IF(①データ登録!A913=\"\",\"\",①データ登録!A913)","v":""},{"$f":"IF(①データ登録!B913=\"\",\"\",①データ登録!B913)","v":""},{"$f":"IF(①データ登録!C913=\"\",\"\",①データ登録!C913)","v":""}]
[null,null,null,null,null,null,null,null,null,null,null,null,{"$f":"IF(①データ登録!A914=\"\",\"\",①データ登録!A914)","v":""},{"$f":"IF(①データ登録!B914=\"\",\"\",①データ登録!B914)","v":""},{"$f":"IF(①データ登録!C914=\"\",\"\",①データ登録!C914)","v":""}]
[null,null,null,null,null,null,null,null,null,null,null,null,{"$f":"IF(①データ登録!A915=\"\",\"\",①データ登録!A915)","v":""},{"$f":"IF(①データ登録!B915=\"\",\"\",①データ登録!B915)","v":""},{"$f":"IF(①データ登録!C915=\"\",\"\",①データ登録!C915)","v":""}]
[null,null,null,null,null,null,null,null,null,null,null,null,{"$f":"IF(①データ登録!A916=\"\",\"\",①データ登録!A916)","v":""},{"$f":"IF(①データ登録!B916=\"\",\"\",①データ登録!B916)","v":""},{"$f":"IF(①データ登録!C916=\"\",\"\",①データ登録!C916)","v":""}]
[null,null,null,null,null,null,null,null,null,null,null,null,{"$f":"IF(①データ登録!A917=\"\",\"\",①データ登録!A917)","v":""},{"$f":"IF(①データ登録!B917=\"\",\"\",①データ登録!B917)","v":""},{"$f":"IF(①データ登録!C917=\"\",\"\",①データ登録!C917)","v":""}]
[null,null,null,null,null,null,null,null,null,null,null,null,{"$f":"IF(①データ登録!A918=\"\",\"\",①データ登録!A918)","v":""},{"$f":"IF(①データ登録!B918=\"\",\"\",①データ登録!B918)","v":""},{"$f":"IF(①データ登録!C918=\"\",\"\",①データ登録!C918)","v":""}]
[null,null,null,null,null,null,null,null,null,null,null,null,{"$f":"IF(①データ登録!A919=\"\",\"\",①データ登録!A919)","v":""},{"$f":"IF(①データ登録!B919=\"\",\"\",①データ登録!B919)","v":""},{"$f":"IF(①データ登録!C919=\"\",\"\",①データ登録!C919)","v":""}]
[null,null,null,null,null,null,null,null,null,null,null,null,{"$f":"IF(①データ登録!A920=\"\",\"\",①データ登録!A920)","v":""},{"$f":"IF(①データ登録!B920=\"\",\"\",①データ登録!B920)","v":""},{"$f":"IF(①データ登録!C920=\"\",\"\",①データ登録!C920)","v":""}]
[null,null,null,null,null,null,null,null,null,null,null,null,{"$f":"IF(①データ登録!A921=\"\",\"\",①データ登録!A921)","v":""},{"$f":"IF(①データ登録!B921=\"\",\"\",①データ登録!B921)","v":""},{"$f":"IF(①データ登録!C921=\"\",\"\",①データ登録!C921)","v":""}]
[null,null,null,null,null,null,null,null,null,null,null,null,{"$f":"IF(①データ登録!A922=\"\",\"\",①データ登録!A922)","v":""},{"$f":"IF(①データ登録!B922=\"\",\"\",①データ登録!B922)","v":""},{"$f":"IF(①データ登録!C922=\"\",\"\",①データ登録!C922)","v":""}]
[null,null,null,null,null,null,null,null,null,null,null,null,{"$f":"IF(①データ登録!A923=\"\",\"\",①データ登録!A923)","v":""},{"$f":"IF(①データ登録!B923=\"\",\"\",①データ登録!B923)","v":""},{"$f":"IF(①データ登録!C923=\"\",\"\",①データ登録!C923)","v":""}]
[null,null,null,null,null,null,null,null,null,null,null,null,{"$f":"IF(①データ登録!A924=\"\",\"\",①データ登録!A924)","v":""},{"$f":"IF(①データ登録!B924=\"\",\"\",①データ登録!B924)","v":""},{"$f":"IF(①データ登録!C924=\"\",\"\",①データ登録!C924)","v":""}]
[null,null,null,null,null,null,null,null,null,null,null,null,{"$f":"IF(①データ登録!A925=\"\",\"\",①データ登録!A925)","v":""},{"$f":"IF(①データ登録!B925=\"\",\"\",①データ登録!B925)","v":""},{"$f":"IF(①データ登録!C925=\"\",\"\",①データ登録!C925)","v":""}]
[null,null,null,null,null,null,null,null,null,null,null,null,{"$f":"IF(①データ登録!A926=\"\",\"\",①データ登録!A926)","v":""},{"$f":"IF(①データ登録!B926=\"\",\"\",①データ登録!B926)","v":""},{"$f":"IF(①データ登録!C926=\"\",\"\",①データ登録!C926)","v":""}]
[null,null,null,null,null,null,null,null,null,null,null,null,{"$f":"IF(①データ登録!A927=\"\",\"\",①データ登録!A927)","v":""},{"$f":"IF(①データ登録!B927=\"\",\"\",①データ登録!B927)","v":""},{"$f":"IF(①データ登録!C927=\"\",\"\",①データ登録!C927)","v":""}]
[null,null,null,null,null,null,null,null,null,null,null,null,{"$f":"IF(①データ登録!A928=\"\",\"\",①データ登録!A928)","v":""},{"$f":"IF(①データ登録!B928=\"\",\"\",①データ登録!B928)","v":""},{"$f":"IF(①データ登録!C928=\"\",\"\",①データ登録!C928)","v":""}]
[null,null,null,null,null,null,null,null,null,null,null,null,{"$f":"IF(①データ登録!A929=\"\",\"\",①データ登録!A929)","v":""},{"$f":"IF(①データ登録!B929=\"\",\"\",①データ登録!B929)","v":""},{"$f":"IF(①データ登録!C929=\"\",\"\",①データ登録!C929)","v":""}]
[null,null,null,null,null,null,null,null,null,null,null,null,{"$f":"IF(①データ登録!A930=\"\",\"\",①データ登録!A930)","v":""},{"$f":"IF(①データ登録!B930=\"\",\"\",①データ登録!B930)","v":""},{"$f":"IF(①データ登録!C930=\"\",\"\",①データ登録!C930)","v":""}]
[null,null,null,null,null,null,null,null,null,null,null,null,{"$f":"IF(①データ登録!A931=\"\",\"\",①データ登録!A931)","v":""},{"$f":"IF(①データ登録!B931=\"\",\"\",①データ登録!B931)","v":""},{"$f":"IF(①データ登録!C931=\"\",\"\",①データ登録!C931)","v":""}]
[null,null,null,null,null,null,null,null,null,null,null,null,{"$f":"IF(①データ登録!A932=\"\",\"\",①データ登録!A932)","v":""},{"$f":"IF(①データ登録!B932=\"\",\"\",①データ登録!B932)","v":""},{"$f":"IF(①データ登録!C932=\"\",\"\",①データ登録!C932)","v":""}]
[null,null,null,null,null,null,null,null,null,null,null,null,{"$f":"IF(①データ登録!A933=\"\",\"\",①データ登録!A933)","v":""},{"$f":"IF(①データ登録!B933=\"\",\"\",①データ登録!B933)","v":""},{"$f":"IF(①データ登録!C933=\"\",\"\",①データ登録!C933)","v":""}]
[null,null,null,null,null,null,null,null,null,null,null,null,{"$f":"IF(①データ登録!A934=\"\",\"\",①データ登録!A934)","v":""},{"$f":"IF(①データ登録!B934=\"\",\"\",①データ登録!B934)","v":""},{"$f":"IF(①データ登録!C934=\"\",\"\",①データ登録!C934)","v":""}]
[null,null,null,null,null,null,null,null,null,null,null,null,{"$f":"IF(①データ登録!A935=\"\",\"\",①データ登録!A935)","v":""},{"$f":"IF(①データ登録!B935=\"\",\"\",①データ登録!B935)","v":""},{"$f":"IF(①データ登録!C935=\"\",\"\",①データ登録!C935)","v":""}]
[null,null,null,null,null,null,null,null,null,null,null,null,{"$f":"IF(①データ登録!A936=\"\",\"\",①データ登録!A936)","v":""},{"$f":"IF(①データ登録!B936=\"\",\"\",①データ登録!B936)","v":""},{"$f":"IF(①データ登録!C936=\"\",\"\",①データ登録!C936)","v":""}]
[null,null,null,null,null,null,null,null,null,null,null,null,{"$f":"IF(①データ登録!A937=\"\",\"\",①データ登録!A937)","v":""},{"$f":"IF(①データ登録!B937=\"\",\"\",①データ登録!B937)","v":""},{"$f":"IF(①データ登録!C937=\"\",\"\",①データ登録!C937)","v":""}]
[null,null,null,null,null,null,null,null,null,null,null,null,{"$f":"IF(①データ登録!A938=\"\",\"\",①データ登録!A938)","v":""},{"$f":"IF(①データ登録!B938=\"\",\"\",①データ登録!B938)","v":""},{"$f":"IF(①データ登録!C938=\"\",\"\",①データ登録!C938)","v":""}]
[null,null,null,null,null,null,null,null,null,null,null,null,{"$f":"IF(①データ登録!A939=\"\",\"\",①データ登録!A939)","v":""},{"$f":"IF(①データ登録!B939=\"\",\"\",①データ登録!B939)","v":""},{"$f":"IF(①データ登録!C939=\"\",\"\",①データ登録!C939)","v":""}]
[null,null,null,null,null,null,null,null,null,null,null,null,{"$f":"IF(①データ登録!A940=\"\",\"\",①データ登録!A940)","v":""},{"$f":"IF(①データ登録!B940=\"\",\"\",①データ登録!B940)","v":""},{"$f":"IF(①データ登録!C940=\"\",\"\",①データ登録!C940)","v":""}]
[null,null,null,null,null,null,null,null,null,null,null,null,{"$f":"IF(①データ登録!A941=\"\",\"\",①データ登録!A941)","v":""},{"$f":"IF(①データ登録!B941=\"\",\"\",①データ登録!B941)","v":""},{"$f":"IF(①データ登録!C941=\"\",\"\",①データ登録!C941)","v":""}]
[null,null,null,null,null,null,null,null,null,null,null,null,{"$f":"IF(①データ登録!A942=\"\",\"\",①データ登録!A942)","v":""},{"$f":"IF(①データ登録!B942=\"\",\"\",①データ登録!B942)","v":""},{"$f":"IF(①データ登録!C942=\"\",\"\",①データ登録!C942)","v":""}]
[null,null,null,null,null,null,null,null,null,null,null,null,{"$f":"IF(①データ登録!A943=\"\",\"\",①データ登録!A943)","v":""},{"$f":"IF(①データ登録!B943=\"\",\"\",①データ登録!B943)","v":""},{"$f":"IF(①データ登録!C943=\"\",\"\",①データ登録!C943)","v":""}]
[null,null,null,null,null,null,null,null,null,null,null,null,{"$f":"IF(①データ登録!A944=\"\",\"\",①データ登録!A944)","v":""},{"$f":"IF(①データ登録!B944=\"\",\"\",①データ登録!B944)","v":""},{"$f":"IF(①データ登録!C944=\"\",\"\",①データ登録!C944)","v":""}]
[null,null,null,null,null,null,null,null,null,null,null,null,{"$f":"IF(①データ登録!A945=\"\",\"\",①データ登録!A945)","v":""},{"$f":"IF(①データ登録!B945=\"\",\"\",①データ登録!B945)","v":""},{"$f":"IF(①データ登録!C945=\"\",\"\",①データ登録!C945)","v":""}]
[null,null,null,null,null,null,null,null,null,null,null,null,{"$f":"IF(①データ登録!A946=\"\",\"\",①データ登録!A946)","v":""},{"$f":"IF(①データ登録!B946=\"\",\"\",①データ登録!B946)","v":""},{"$f":"IF(①データ登録!C946=\"\",\"\",①データ登録!C946)","v":""}]
[null,null,null,null,null,null,null,null,null,null,null,null,{"$f":"IF(①データ登録!A947=\"\",\"\",①データ登録!A947)","v":""},{"$f":"IF(①データ登録!B947=\"\",\"\",①データ登録!B947)","v":""},{"$f":"IF(①データ登録!C947=\"\",\"\",①データ登録!C947)","v":""}]
[null,null,null,null,null,null,null,null,null,null,null,null,{"$f":"IF(①データ登録!A948=\"\",\"\",①データ登録!A948)","v":""},{"$f":"IF(①データ登録!B948=\"\",\"\",①データ登録!B948)","v":""},{"$f":"IF(①データ登録!C948=\"\",\"\",①データ登録!C948)","v":""}]
[null,null,null,null,null,null,null,null,null,null,null,null,{"$f":"IF(①データ登録!A949=\"\",\"\",①データ登録!A949)","v":""},{"$f":"IF(①データ登録!B949=\"\",\"\",①データ登録!B949)","v":""},{"$f":"IF(①データ登録!C949=\"\",\"\",①データ登録!C949)","v":""}]
[null,null,null,null,null,null,null,null,null,null,null,null,{"$f":"IF(①データ登録!A950=\"\",\"\",①データ登録!A950)","v":""},{"$f":"IF(①データ登録!B950=\"\",\"\",①データ登録!B950)","v":""},{"$f":"IF(①データ登録!C950=\"\",\"\",①データ登録!C950)","v":""}]
[null,null,null,null,null,null,null,null,null,null,null,null,{"$f":"IF(①データ登録!A951=\"\",\"\",①データ登録!A951)","v":""},{"$f":"IF(①データ登録!B951=\"\",\"\",①データ登録!B951)","v":""},{"$f":"IF(①データ登録!C951=\"\",\"\",①データ登録!C951)","v":""}]
[null,null,null,null,null,null,null,null,null,null,null,null,{"$f":"IF(①データ登録!A952=\"\",\"\",①データ登録!A952)","v":""},{"$f":"IF(①データ登録!B952=\"\",\"\",①データ登録!B952)","v":""},{"$f":"IF(①データ登録!C952=\"\",\"\",①データ登録!C952)","v":""}]
[null,null,null,null,null,null,null,null,null,null,null,null,{"$f":"IF(①データ登録!A953=\"\",\"\",①データ登録!A953)","v":""},{"$f":"IF(①データ登録!B953=\"\",\"\",①データ登録!B953)","v":""},{"$f":"IF(①データ登録!C953=\"\",\"\",①データ登録!C953)","v":""}]
[null,null,null,null,null,null,null,null,null,null,null,null,{"$f":"IF(①データ登録!A954=\"\",\"\",①データ登録!A954)","v":""},{"$f":"IF(①データ登録!B954=\"\",\"\",①データ登録!B954)","v":""},{"$f":"IF(①データ登録!C954=\"\",\"\",①データ登録!C954)","v":""}]
[null,null,null,null,null,null,null,null,null,null,null,null,{"$f":"IF(①データ登録!A955=\"\",\"\",①データ登録!A955)","v":""},{"$f":"IF(①データ登録!B955=\"\",\"\",①データ登録!B955)","v":""},{"$f":"IF(①データ登録!C955=\"\",\"\",①データ登録!C955)","v":""}]
[null,null,null,null,null,null,null,null,null,null,null,null,{"$f":"IF(①データ登録!A956=\"\",\"\",①データ登録!A956)","v":""},{"$f":"IF(①データ登録!B956=\"\",\"\",①データ登録!B956)","v":""},{"$f":"IF(①データ登録!C956=\"\",\"\",①データ登録!C956)","v":""}]
[null,null,null,null,null,null,null,null,null,null,null,null,{"$f":"IF(①データ登録!A957=\"\",\"\",①データ登録!A957)","v":""},{"$f":"IF(①データ登録!B957=\"\",\"\",①データ登録!B957)","v":""},{"$f":"IF(①データ登録!C957=\"\",\"\",①データ登録!C957)","v":""}]
[null,null,null,null,null,null,null,null,null,null,null,null,{"$f":"IF(①データ登録!A958=\"\",\"\",①データ登録!A958)","v":""},{"$f":"IF(①データ登録!B958=\"\",\"\",①データ登録!B958)","v":""},{"$f":"IF(①データ登録!C958=\"\",\"\",①データ登録!C958)","v":""}]
[null,null,null,null,null,null,null,null,null,null,null,null,{"$f":"IF(①データ登録!A959=\"\",\"\",①データ登録!A959)","v":""},{"$f":"IF(①データ登録!B959=\"\",\"\",①データ登録!B959)","v":""},{"$f":"IF(①データ登録!C959=\"\",\"\",①データ登録!C959)","v":""}]
[null,null,null,null,null,null,null,null,null,null,null,null,{"$f":"IF(①データ登録!A960=\"\",\"\",①データ登録!A960)","v":""},{"$f":"IF(①データ登録!B960=\"\",\"\",①データ登録!B960)","v":""},{"$f":"IF(①データ登録!C960=\"\",\"\",①データ登録!C960)","v":""}]
[null,null,null,null,null,null,null,null,null,null,null,null,{"$f":"IF(①データ登録!A961=\"\",\"\",①データ登録!A961)","v":""},{"$f":"IF(①データ登録!B961=\"\",\"\",①データ登録!B961)","v":""},{"$f":"IF(①データ登録!C961=\"\",\"\",①データ登録!C961)","v":""}]
[null,null,null,null,null,null,null,null,null,null,null,null,{"$f":"IF(①データ登録!A962=\"\",\"\",①データ登録!A962)","v":""},{"$f":"IF(①データ登録!B962=\"\",\"\",①データ登録!B962)","v":""},{"$f":"IF(①データ登録!C962=\"\",\"\",①データ登録!C962)","v":""}]
[null,null,null,null,null,null,null,null,null,null,null,null,{"$f":"IF(①データ登録!A963=\"\",\"\",①データ登録!A963)","v":""},{"$f":"IF(①データ登録!B963=\"\",\"\",①データ登録!B963)","v":""},{"$f":"IF(①データ登録!C963=\"\",\"\",①データ登録!C963)","v":""}]
[null,null,null,null,null,null,null,null,null,null,null,null,{"$f":"IF(①データ登録!A964=\"\",\"\",①データ登録!A964)","v":""},{"$f":"IF(①データ登録!B964=\"\",\"\",①データ登録!B964)","v":""},{"$f":"IF(①データ登録!C964=\"\",\"\",①データ登録!C964)","v":""}]
[null,null,null,null,null,null,null,null,null,null,null,null,{"$f":"IF(①データ登録!A965=\"\",\"\",①データ登録!A965)","v":""},{"$f":"IF(①データ登録!B965=\"\",\"\",①データ登録!B965)","v":""},{"$f":"IF(①データ登録!C965=\"\",\"\",①データ登録!C965)","v":""}]
[null,null,null,null,null,null,null,null,null,null,null,null,{"$f":"IF(①データ登録!A966=\"\",\"\",①データ登録!A966)","v":""},{"$f":"IF(①データ登録!B966=\"\",\"\",①データ登録!B966)","v":""},{"$f":"IF(①データ登録!C966=\"\",\"\",①データ登録!C966)","v":""}]
[null,null,null,null,null,null,null,null,null,null,null,null,{"$f":"IF(①データ登録!A967=\"\",\"\",①データ登録!A967)","v":""},{"$f":"IF(①データ登録!B967=\"\",\"\",①データ登録!B967)","v":""},{"$f":"IF(①データ登録!C967=\"\",\"\",①データ登録!C967)","v":""}]
[null,null,null,null,null,null,null,null,null,null,null,null,{"$f":"IF(①データ登録!A968=\"\",\"\",①データ登録!A968)","v":""},{"$f":"IF(①データ登録!B968=\"\",\"\",①データ登録!B968)","v":""},{"$f":"IF(①データ登録!C968=\"\",\"\",①データ登録!C968)","v":""}]
[null,null,null,null,null,null,null,null,null,null,null,null,{"$f":"IF(①データ登録!A969=\"\",\"\",①データ登録!A969)","v":""},{"$f":"IF(①データ登録!B969=\"\",\"\",①データ登録!B969)","v":""},{"$f":"IF(①データ登録!C969=\"\",\"\",①データ登録!C969)","v":""}]
[null,null,null,null,null,null,null,null,null,null,null,null,{"$f":"IF(①データ登録!A970=\"\",\"\",①データ登録!A970)","v":""},{"$f":"IF(①データ登録!B970=\"\",\"\",①データ登録!B970)","v":""},{"$f":"IF(①データ登録!C970=\"\",\"\",①データ登録!C970)","v":""}]
[null,null,null,null,null,null,null,null,null,null,null,null,{"$f":"IF(①データ登録!A971=\"\",\"\",①データ登録!A971)","v":""},{"$f":"IF(①データ登録!B971=\"\",\"\",①データ登録!B971)","v":""},{"$f":"IF(①データ登録!C971=\"\",\"\",①データ登録!C971)","v":""}]
[null,null,null,null,null,null,null,null,null,null,null,null,{"$f":"IF(①データ登録!A972=\"\",\"\",①データ登録!A972)","v":""},{"$f":"IF(①データ登録!B972=\"\",\"\",①データ登録!B972)","v":""},{"$f":"IF(①データ登録!C972=\"\",\"\",①データ登録!C972)","v":""}]
[null,null,null,null,null,null,null,null,null,null,null,null,{"$f":"IF(①データ登録!A973=\"\",\"\",①データ登録!A973)","v":""},{"$f":"IF(①データ登録!B973=\"\",\"\",①データ登録!B973)","v":""},{"$f":"IF(①データ登録!C973=\"\",\"\",①データ登録!C973)","v":""}]
[null,null,null,null,null,null,null,null,null,null,null,null,{"$f":"IF(①データ登録!A974=\"\",\"\",①データ登録!A974)","v":""},{"$f":"IF(①データ登録!B974=\"\",\"\",①データ登録!B974)","v":""},{"$f":"IF(①データ登録!C974=\"\",\"\",①データ登録!C974)","v":""}]
[null,null,null,null,null,null,null,null,null,null,null,null,{"$f":"IF(①データ登録!A975=\"\",\"\",①データ登録!A975)","v":""},{"$f":"IF(①データ登録!B975=\"\",\"\",①データ登録!B975)","v":""},{"$f":"IF(①データ登録!C975=\"\",\"\",①データ登録!C975)","v":""}]
[null,null,null,null,null,null,null,null,null,null,null,null,{"$f":"IF(①データ登録!A976=\"\",\"\",①データ登録!A976)","v":""},{"$f":"IF(①データ登録!B976=\"\",\"\",①データ登録!B976)","v":""},{"$f":"IF(①データ登録!C976=\"\",\"\",①データ登録!C976)","v":""}]
[null,null,null,null,null,null,null,null,null,null,null,null,{"$f":"IF(①データ登録!A977=\"\",\"\",①データ登録!A977)","v":""},{"$f":"IF(①データ登録!B977=\"\",\"\",①データ登録!B977)","v":""},{"$f":"IF(①データ登録!C977=\"\",\"\",①データ登録!C977)","v":""}]
[null,null,null,null,null,null,null,null,null,null,null,null,{"$f":"IF(①データ登録!A978=\"\",\"\",①データ登録!A978)","v":""},{"$f":"IF(①データ登録!B978=\"\",\"\",①データ登録!B978)","v":""},{"$f":"IF(①データ登録!C978=\"\",\"\",①データ登録!C978)","v":""}]
[null,null,null,null,null,null,null,null,null,null,null,null,{"$f":"IF(①データ登録!A979=\"\",\"\",①データ登録!A979)","v":""},{"$f":"IF(①データ登録!B979=\"\",\"\",①データ登録!B979)","v":""},{"$f":"IF(①データ登録!C979=\"\",\"\",①データ登録!C979)","v":""}]
[null,null,null,null,null,null,null,null,null,null,null,null,{"$f":"IF(①データ登録!A980=\"\",\"\",①データ登録!A980)","v":""},{"$f":"IF(①データ登録!B980=\"\",\"\",①データ登録!B980)","v":""},{"$f":"IF(①データ登録!C980=\"\",\"\",①データ登録!C980)","v":""}]
[null,null,null,null,null,null,null,null,null,null,null,null,{"$f":"IF(①データ登録!A981=\"\",\"\",①データ登録!A981)","v":""},{"$f":"IF(①データ登録!B981=\"\",\"\",①データ登録!B981)","v":""},{"$f":"IF(①データ登録!C981=\"\",\"\",①データ登録!C981)","v":""}]
[null,null,null,null,null,null,null,null,null,null,null,null,{"$f":"IF(①データ登録!A982=\"\",\"\",①データ登録!A982)","v":""},{"$f":"IF(①データ登録!B982=\"\",\"\",①データ登録!B982)","v":""},{"$f":"IF(①データ登録!C982=\"\",\"\",①データ登録!C982)","v":""}]
[null,null,null,null,null,null,null,null,null,null,null,null,{"$f":"IF(①データ登録!A983=\"\",\"\",①データ登録!A983)","v":""},{"$f":"IF(①データ登録!B983=\"\",\"\",①データ登録!B983)","v":""},{"$f":"IF(①データ登録!C983=\"\",\"\",①データ登録!C983)","v":""}]
[null,null,null,null,null,null,null,null,null,null,null,null,{"$f":"IF(①データ登録!A984=\"\",\"\",①データ登録!A984)","v":""},{"$f":"IF(①データ登録!B984=\"\",\"\",①データ登録!B984)","v":""},{"$f":"IF(①データ登録!C984=\"\",\"\",①データ登録!C984)","v":""}]
[null,null,null,null,null,null,null,null,null,null,null,null,{"$f":"IF(①データ登録!A985=\"\",\"\",①データ登録!A985)","v":""},{"$f":"IF(①データ登録!B985=\"\",\"\",①データ登録!B985)","v":""},{"$f":"IF(①データ登録!C985=\"\",\"\",①データ登録!C985)","v":""}]
[null,null,null,null,null,null,null,null,null,null,null,null,{"$f":"IF(①データ登録!A986=\"\",\"\",①データ登録!A986)","v":""},{"$f":"IF(①データ登録!B986=\"\",\"\",①データ登録!B986)","v":""},{"$f":"IF(①データ登録!C986=\"\",\"\",①データ登録!C986)","v":""}]
[null,null,null,null,null,null,null,null,null,null,null,null,{"$f":"IF(①データ登録!A987=\"\",\"\",①データ登録!A987)","v":""},{"$f":"IF(①データ登録!B987=\"\",\"\",①データ登録!B987)","v":""},{"$f":"IF(①データ登録!C987=\"\",\"\",①データ登録!C987)","v":""}]
[null,null,null,null,null,null,null,null,null,null,null,null,{"$f":"IF(①データ登録!A988=\"\",\"\",①データ登録!A988)","v":""},{"$f":"IF(①データ登録!B988=\"\",\"\",①データ登録!B988)","v":""},{"$f":"IF(①データ登録!C988=\"\",\"\",①データ登録!C988)","v":""}]
[null,null,null,null,null,null,null,null,null,null,null,null,{"$f":"IF(①データ登録!A989=\"\",\"\",①データ登録!A989)","v":""},{"$f":"IF(①データ登録!B989=\"\",\"\",①データ登録!B989)","v":""},{"$f":"IF(①データ登録!C989=\"\",\"\",①データ登録!C989)","v":""}]
[null,null,null,null,null,null,null,null,null,null,null,null,{"$f":"IF(①データ登録!A990=\"\",\"\",①データ登録!A990)","v":""},{"$f":"IF(①データ登録!B990=\"\",\"\",①データ登録!B990)","v":""},{"$f":"IF(①データ登録!C990=\"\",\"\",①データ登録!C990)","v":""}]
[null,null,null,null,null,null,null,null,null,null,null,null,{"$f":"IF(①データ登録!A991=\"\",\"\",①データ登録!A991)","v":""},{"$f":"IF(①データ登録!B991=\"\",\"\",①データ登録!B991)","v":""},{"$f":"IF(①データ登録!C991=\"\",\"\",①データ登録!C991)","v":""}]
[null,null,null,null,null,null,null,null,null,null,null,null,{"$f":"IF(①データ登録!A992=\"\",\"\",①データ登録!A992)","v":""},{"$f":"IF(①データ登録!B992=\"\",\"\",①データ登録!B992)","v":""},{"$f":"IF(①データ登録!C992=\"\",\"\",①データ登録!C992)","v":""}]
[null,null,null,null,null,null,null,null,null,null,null,null,{"$f":"IF(①データ登録!A993=\"\",\"\",①データ登録!A993)","v":""},{"$f":"IF(①データ登録!B993=\"\",\"\",①データ登録!B993)","v":""},{"$f":"IF(①データ登録!C993=\"\",\"\",①データ登録!C993)","v":""}]
[null,null,null,null,null,null,null,null,null,null,null,null,{"$f":"IF(①データ登録!A994=\"\",\"\",①データ登録!A994)","v":""},{"$f":"IF(①データ登録!B994=\"\",\"\",①データ登録!B994)","v":""},{"$f":"IF(①データ登録!C994=\"\",\"\",①データ登録!C994)","v":""}]
[null,null,null,null,null,null,null,null,null,null,null,null,{"$f":"IF(①データ登録!A995=\"\",\"\",①データ登録!A995)","v":""},{"$f":"IF(①データ登録!B995=\"\",\"\",①データ登録!B995)","v":""},{"$f":"IF(①データ登録!C995=\"\",\"\",①データ登録!C995)","v":""}]
[null,null,null,null,null,null,null,null,null,null,null,null,{"$f":"IF(①データ登録!A996=\"\",\"\",①データ登録!A996)","v":""},{"$f":"IF(①データ登録!B996=\"\",\"\",①データ登録!B996)","v":""},{"$f":"IF(①データ登録!C996=\"\",\"\",①データ登録!C996)","v":""}]
[null,null,null,null,null,null,null,null,null,null,null,null,{"$f":"IF(①データ登録!A997=\"\",\"\",①データ登録!A997)","v":""},{"$f":"IF(①データ登録!B997=\"\",\"\",①データ登録!B997)","v":""},{"$f":"IF(①データ登録!C997=\"\",\"\",①データ登録!C997)","v":""}]
[null,null,null,null,null,null,null,null,null,null,null,null,{"$f":"IF(①データ登録!A998=\"\",\"\",①データ登録!A998)","v":""},{"$f":"IF(①データ登録!B998=\"\",\"\",①データ登録!B998)","v":""},{"$f":"IF(①データ登録!C998=\"\",\"\",①データ登録!C998)","v":""}]
[null,null,null,null,null,null,null,null,null,null,null,null,{"$f":"IF(①データ登録!A999=\"\",\"\",①データ登録!A999)","v":""},{"$f":"IF(①データ登録!B999=\"\",\"\",①データ登録!B999)","v":""},{"$f":"IF(①データ登録!C999=\"\",\"\",①データ登録!C999)","v":""}]
[null,null,null,null,null,null,null,null,null,null,null,null,{"$f":"IF(①データ登録!A1000=\"\",\"\",①データ登録!A1000)","v":""},{"$f":"IF(①データ登録!B1000=\"\",\"\",①データ登録!B1000)","v":""},{"$f":"IF(①データ登録!C1000=\"\",\"\",①データ登録!C1000)","v":""}]
[null,null,null,null,null,null,null,null,null,null,null,null,{"$f":"IF(①データ登録!A1001=\"\",\"\",①データ登録!A1001)","v":""},{"$f":"IF(①データ登録!B1001=\"\",\"\",①データ登録!B1001)","v":""},{"$f":"IF(①データ登録!C1001=\"\",\"\",①データ登録!C1001)","v":""}]
[null,null,null,null,null,null,null,null,null,null,null,null,{"$f":"IF(①データ登録!A1002=\"\",\"\",①データ登録!A1002)","v":""},{"$f":"IF(①データ登録!B1002=\"\",\"\",①データ登録!B1002)","v":""},{"$f":"IF(①データ登録!C1002=\"\",\"\",①データ登録!C1002)","v":""}]
[null,null,null,null,null,null,null,null,null,null,null,null,{"$f":"IF(①データ登録!A1003=\"\",\"\",①データ登録!A1003)","v":""},{"$f":"IF(①データ登録!B1003=\"\",\"\",①データ登録!B1003)","v":""},{"$f":"IF(①データ登録!C1003=\"\",\"\",①データ登録!C1003)","v":""}]
[null,null,null,null,null,null,null,null,null,null,null,null,{"$f":"IF(①データ登録!A1004=\"\",\"\",①データ登録!A1004)","v":""},{"$f":"IF(①データ登録!B1004=\"\",\"\",①データ登録!B1004)","v":""},{"$f":"IF(①データ登録!C1004=\"\",\"\",①データ登録!C1004)","v":""}]
[null,null,null,null,null,null,null,null,null,null,null,null,{"$f":"IF(①データ登録!A1005=\"\",\"\",①データ登録!A1005)","v":""},{"$f":"IF(①データ登録!B1005=\"\",\"\",①データ登録!B1005)","v":""},{"$f":"IF(①データ登録!C1005=\"\",\"\",①データ登録!C1005)","v":""}]
[null,null,null,null,null,null,null,null,null,null,null,null,{"$f":"IF(①データ登録!A1006=\"\",\"\",①データ登録!A1006)","v":""},{"$f":"IF(①データ登録!B1006=\"\",\"\",①データ登録!B1006)","v":""},{"$f":"IF(①データ登録!C1006=\"\",\"\",①データ登録!C1006)","v":""}]
[null,null,null,null,null,null,null,null,null,null,null,null,{"$f":"IF(①データ登録!A1007=\"\",\"\",①データ登録!A1007)","v":""},{"$f":"IF(①データ登録!B1007=\"\",\"\",①データ登録!B1007)","v":""},{"$f":"IF(①データ登録!C1007=\"\",\"\",①データ登録!C1007)","v":""}]
[null,null,null,null,null,null,null,null,null,null,null,null,{"$f":"IF(①データ登録!A1008=\"\",\"\",①データ登録!A1008)","v":""},{"$f":"IF(①データ登録!B1008=\"\",\"\",①データ登録!B1008)","v":""},{"$f":"IF(①データ登録!C1008=\"\",\"\",①データ登録!C1008)","v":""}]
[null,null,null,null,null,null,null,null,null,null,null,null,{"$f":"IF(①データ登録!A1009=\"\",\"\",①データ登録!A1009)","v":""},{"$f":"IF(①データ登録!B1009=\"\",\"\",①データ登録!B1009)","v":""},{"$f":"IF(①データ登録!C1009=\"\",\"\",①データ登録!C1009)","v":""}]
[null,null,null,null,null,null,null,null,null,null,null,null,{"$f":"IF(①データ登録!A1010=\"\",\"\",①データ登録!A1010)","v":""},{"$f":"IF(①データ登録!B1010=\"\",\"\",①データ登録!B1010)","v":""},{"$f":"IF(①データ登録!C1010=\"\",\"\",①データ登録!C1010)","v":""}]